{"text_format":"1","workbook":"xlsx","n_sheets":3,"sheets":["結果表","集計表","集計元"],"not_rendered":{"charts":0,"images":0,"macros":0,"external_links":0,"defined_names":4,"comments":0,"pivot_tables":0},"unopened":[],"bounds":{"document_bytes":16777216,"sheet_cells":100000,"rows_first":2000,"rows_last":500,"rows_between":2000,"halvings":0,"cell_chars":16384,"cell_head_chars":4096},"cells_cut":0,"cells_raw":0,"read":"whole","date_system":"1900"}

{"sheet":"結果表","index":0,"n_rows":25,"n_cols":10,"rows_kept":25,"cut":false,"hidden":false,"merged":[[4,8,4,9]]}
["県下主要生活物資価格調査結果"]
["2014-07-01"]
[null,null,"今月平均","前月平均","対","前年同月","対前年"]
["品目","規格","価格","価格","前月比","価格","同月比"]
[null,null,"(円)","(円)","(%)","(円)","(%)",null,"確認欄"]
["食パン","１斤  袋入り\n４～８枚切り",{"$f":"集計表!D19","v":158},157,{"$f":"C6/D6*100","v":100.63694267515923},154,{"$f":"C6/F6*100","v":102.59740259740259},null,{"$f":"IF(E6<95,\"注意\",IF(E6>105,\"注意\",\"\"))","v":""},{"$f":"IF(G6<95,\"注意\",IF(G6>105,\"注意\",\"\"))","v":""}]
["うるち米","国産米  精米\n単一原料米コシヒカリ ５ｋｇ",{"$f":"集計表!I19","v":2055},2087,{"$f":"C7/D7*100","v":98.466698610445619},2220,{"$f":"C7/F7*100","v":92.567567567567565},null,"",{"$f":"IF(G7<95,\"注意\",IF(G7>105,\"注意\",\"\"))","v":"注意"}]
["みそ","並　袋入り　1kg",{"$f":"集計表!N19","v":289},285,101.40350877192984,284,101.7605633802817,null,"",""]
["マーガリン","植物性ｿﾌﾄﾀｲﾌﾟ\nプラ容器入り　320g",{"$f":"集計表!S19","v":225},224,100.44642857142858,220,102.27272727272727,null,"",""]
["砂糖","上白\n1kg袋入り",{"$f":"集計表!X19","v":200},199,100.50251256281406,192,104.16666666666667,null,"",""]
["しょうゆ","こいくち特級\n本醸造　1Lポリ容器入り",{"$f":"集計表!AC19","v":263},263,100,252,104.36507936507937,null,"",""]
["食用油","キャノーラ油\nポリ容器入り1kg",{"$f":"集計表!AH19","v":321},333,96.396396396396398,323,99.380804953560371,null,"",""]
["マヨネーズ","500g\nポリ容器入り",{"$f":"集計表!AM19","v":280},273,102.56410256410255,263,{"$f":"C13/F13*100","v":106.46387832699619},null,"","注意"]
["小麦粉","薄力粉　袋入り　１kg",{"$f":"集計表!AR19","v":227},226,100.44247787610618,206,{"$f":"C14/F14*100","v":110.19417475728154},null,""]
["キャベツ","国産　１玉",{"$f":"集計表!AW19","v":172},151,113.90728476821192,181,{"$f":"C15/F15*100","v":95.027624309392266},null,"注意"]
["大根","国産　青首大根　１本",{"$f":"集計表!BB19","v":171},158,108.22784810126582,174,{"$f":"C16/F16*100","v":98.275862068965509},null,"注意"]
["牛乳","1000mL\n紙パック入り",{"$f":"集計表!BG19","v":188},188,{"$f":"C17/D17*100","v":100},178,{"$f":"C17/F17*100","v":105.61797752808988},null,"","注意"]
["豚肉","国産　スライス\n(切り落としも可)　もも肉100g",{"$f":"集計表!BL19","v":164},164,100,146,112.32876712328768,null,"","注意"]
["鶏卵","Lサイズ\n10個パック",{"$f":"集計表!BQ19","v":212},214,99.065420560747668,183,115.84699453551912,null,"","注意"]
["台所用洗剤","食器・野菜・果物洗い用\n250又は260ml",{"$f":"集計表!BV19","v":163},163,100,161,101.24223602484473,null,"",""]
["洗たく用合成洗剤","衣料用洗剤液体\n1kgまたは0.9ｋｇ",{"$f":"集計表!CA19","v":330},329,100.30395136778117,319,103.44827586206897,null,"",""]
["ティッシュペーパー","スリムサイズ360又は400枚\n5箱セット",{"$f":"集計表!CF19","v":263},262,100.38167938931298,245,107.34693877551021,null,"","注意"]
["ガソリン","現金売り\n（セルフ含む）　　１L",{"$f":"集計表!CK19","v":170},167,101.79640718562875,151,112.58278145695364,null,"","注意"]
["灯油","店頭渡し\n18L",{"$f":"集計表!CP19","v":""},"",null,"",null,null,{"$f":"IF(E24<95,\"注意\",IF(E24>105,\"注意\",\"\"))","v":"注意"},{"$f":"IF(G24<95,\"注意\",IF(G24>105,\"注意\",\"\"))","v":"注意"}]
[null,null,null,"※灯油(店頭)は10月～3月に実施"]

{"sheet":"集計表","index":1,"n_rows":20,"n_cols":131,"rows_kept":20,"cut":false,"hidden":false,"merged":[[0,31,0,60],[0,61,0,90],[1,27,1,28],[1,29,1,30],[0,0,0,30],[1,94,1,95],[1,89,1,93],[1,68,1,69],[2,76,2,80],[2,81,2,85],[2,86,2,90],[2,91,2,95],[2,31,2,35],[2,36,2,40],[2,71,2,75],[2,41,2,45],[2,56,2,60],[2,61,2,65],[2,66,2,70],[2,46,2,50],[2,51,2,55],[2,21,2,25],[2,1,2,5],[2,6,2,10],[2,11,2,15],[2,16,2,20],[2,26,2,30]]}
[{"$f":"結果表!A2","v":"2014-07-01"},null,null,null,null,null,null,null,null,null,null,null,null,null,null,null,null,null,null,null,null,null,null,null,null,null,null,null,null,null,null,{"$f":"A1","v":"2014-07-01"},null,null,null,null,null,null,null,null,null,null,null,null,null,null,null,null,null,null,null,null,null,null,null,null,null,null,null,null,null,{"$f":"A1","v":"2014-07-01"}]
["2014-07-01",null,null,null,null,null,null,null,null,null,null,null,null,null,null,null,null,null,null,null,null,null,null,null,null,null,null,null,null,"(1/3)",null,null,null,null,null,null,null,null,null,null,null,null,null,null,null,null,null,null,null,null,null,null,null,null,null,null,null,null,null,null,null,null,null,null,null,null,null,null,null,null,"(2/3)",null,null,null,null,null,null,null,null,null,null,null,null,null,null,null,null,null,null,"灯油(店頭)は10月～3月に実施",null,null,null,null,"(3/3)"]
["市","食パン",null,null,null,null,"うるち米",null,null,null,null,"味噌",null,null,null,null,"マーガリン",null,null,null,null,"砂糖",null,null,null,null,"醤油",null,null,null,null,"食用油",null,null,null,null,"マヨネーズ",null,null,null,null,"小麦粉",null,null,null,null,"キャベツ",null,null,null,null,"大根",null,null,null,null,"牛乳",null,null,null,null,"豚肉",null,null,null,null,"鶏卵",null,null,null,null,"台所用洗剤",null,null,null,null,"洗濯用洗剤",null,null,null,null,"ティッシュﾍﾟｰﾊﾟｰ",null,null,null,null," ガソリン",null,null,null,null,"灯油(店頭）"]
[null,"店数","集計値","平均","高値","安値","店数","集計値","平均","高値","安値","店数","集計値","平均","高値","安値","店数","集計値","平均","高値","安値","店数","集計値","平均","高値","安値","店数","集計値","平均","高値","安値","店数","集計値","平均","高値","安値","店数","集計値","平均","高値","安値","店数","集計値","平均","高値","安値","店数","集計値","平均","高値","安値","店数","集計値","平均","高値","安値","店数","集計値","平均","高値","安値","店数","集計値","平均","高値","安値","店数","集計値","平均","高値","安値","店数","集計値","平均","高値","安値","店数","集計値","平均","高値","安値","店数","集計値","平均","高値","安値","店数","集計値","平均","高値","安値","店数","集計値","平均","高値","安値"]
["伊東市",{"$f":"集計元!B6","v":10},{"$f":"集計元!C6","v":1648},{"$f":"集計元!D6","v":164.8},{"$f":"集計元!E6","v":199},{"$f":"集計元!F6","v":150},{"$f":"集計元!B7","v":12},{"$f":"集計元!C7","v":27125},{"$f":"集計元!D7","v":2260.4166666666665},{"$f":"集計元!E7","v":2484},{"$f":"集計元!F7","v":1880},{"$f":"集計元!B8","v":14},{"$f":"集計元!C8","v":3850},{"$f":"集計元!D8","v":275},{"$f":"集計元!E8","v":368},{"$f":"集計元!F8","v":183},{"$f":"集計元!B9","v":12},{"$f":"集計元!C9","v":2769},{"$f":"集計元!D9","v":230.75},{"$f":"集計元!E9","v":280},{"$f":"集計元!F9","v":204},{"$f":"集計元!B10","v":15},{"$f":"集計元!C10","v":3036},{"$f":"集計元!D10","v":202.4},{"$f":"集計元!E10","v":258},{"$f":"集計元!F10","v":160},{"$f":"集計元!B11","v":14},{"$f":"集計元!C11","v":3660},{"$f":"集計元!D11","v":261.42857142857144},{"$f":"集計元!E11","v":390},{"$f":"集計元!F11","v":214},{"$f":"集計元!B12","v":13},{"$f":"集計元!C12","v":4728},{"$f":"集計元!D12","v":363.69230769230768},{"$f":"集計元!E12","v":538},{"$f":"集計元!F12","v":278},{"$f":"集計元!B13","v":15},{"$f":"集計元!C13","v":4243},{"$f":"集計元!D13","v":282.86666666666667},{"$f":"集計元!E13","v":370},{"$f":"集計元!F13","v":228},{"$f":"集計元!B14","v":11},{"$f":"集計元!C14","v":2519},{"$f":"集計元!D14","v":229},{"$f":"集計元!E14","v":275},{"$f":"集計元!F14","v":170},{"$f":"集計元!B15","v":14},{"$f":"集計元!C15","v":2625},{"$f":"集計元!D15","v":187.5},{"$f":"集計元!E15","v":270},{"$f":"集計元!F15","v":98},{"$f":"集計元!B16","v":13},{"$f":"集計元!C16","v":2398},{"$f":"集計元!D16","v":184.46153846153845},{"$f":"集計元!E16","v":213},{"$f":"集計元!F16","v":90},{"$f":"集計元!B17","v":14},{"$f":"集計元!C17","v":3063},{"$f":"集計元!D17","v":218.78571428571428},{"$f":"集計元!E17","v":275},{"$f":"集計元!F17","v":179},{"$f":"集計元!B18","v":9},{"$f":"集計元!C18","v":1411},{"$f":"集計元!D18","v":156.77777777777777},{"$f":"集計元!E18","v":213},{"$f":"集計元!F18","v":127},{"$f":"集計元!B19","v":13},{"$f":"集計元!C19","v":2868},{"$f":"集計元!D19","v":220.61538461538461},{"$f":"集計元!E19","v":250},{"$f":"集計元!F19","v":188},{"$f":"集計元!B20","v":13},{"$f":"集計元!C20","v":2118},{"$f":"集計元!D20","v":162.92307692307693},{"$f":"集計元!E20","v":198},{"$f":"集計元!F20","v":108},{"$f":"集計元!B21","v":12},{"$f":"集計元!C21","v":4293},{"$f":"集計元!D21","v":357.75},{"$f":"集計元!E21","v":425},{"$f":"集計元!F21","v":258},{"$f":"集計元!B22","v":14},{"$f":"集計元!C22","v":4064},{"$f":"集計元!D22","v":290.28571428571428},{"$f":"集計元!E22","v":410},{"$f":"集計元!F22","v":198},{"$f":"集計元!B23","v":7},{"$f":"集計元!C23","v":1206},{"$f":"集計元!D23","v":172.28571428571428},{"$f":"集計元!E23","v":174},{"$f":"集計元!F23","v":169},{"$f":"集計元!B24","v":""},{"$f":"集計元!C24","v":""},{"$f":"集計元!D24","v":""},{"$f":"集計元!E24","v":""},{"$f":"集計元!F24","v":""},null,{"$f":"E5-D5","v":34.199999999999989},{"$f":"D5-F5","v":14.800000000000011},{"$f":"J5-I5","v":223.58333333333348},{"$f":"I5-K5","v":380.41666666666652},{"$f":"O5-N5","v":93},{"$f":"N5-P5","v":92},{"$f":"T5-S5","v":49.25},{"$f":"S5-U5","v":26.75},{"$f":"Y5-X5","v":55.599999999999994},{"$f":"X5-Z5","v":42.400000000000006},{"$f":"AD5-AC5","v":128.57142857142856},{"$f":"AC5-AE5","v":47.428571428571445},{"$f":"AI5-AH5","v":174.30769230769232},{"$f":"AH5-AJ5","v":85.692307692307679},{"$f":"AN5-AM5","v":87.133333333333326},{"$f":"AM5-AO5","v":54.866666666666674},{"$f":"AS5-AR5","v":46},{"$f":"AR5-AT5","v":59},{"$f":"BH5-BG5","v":56.214285714285722},{"$f":"BG5-BI5","v":39.785714285714278},{"$f":"BM5-BL5","v":56.222222222222229},{"$f":"BL5-BN5","v":29.777777777777771},{"$f":"BR5-BQ5","v":29.384615384615387},{"$f":"BQ5-BS5","v":32.615384615384613},{"$f":"BW5-BV5","v":35.076923076923066},{"$f":"BV5-BX5","v":54.923076923076934},{"$f":"CB5-CA5","v":67.25},{"$f":"CA5-CC5","v":99.75},{"$f":"CG5-CF5","v":119.71428571428572},{"$f":"CF5-CH5","v":92.285714285714278},{"$f":"CL5-CK5","v":1.7142857142857224},{"$f":"CK5-CM5","v":3.2857142857142776},{"$f":"CQ5-CP5","v":{"$error":"#VALUE!"}},{"$f":"CP5-CR5","v":{"$error":"#VALUE!"}}]
["熱海市",{"$f":"集計元!G6","v":7},{"$f":"集計元!H6","v":1220},{"$f":"集計元!I6","v":174.28571428571428},{"$f":"集計元!J6","v":227},{"$f":"集計元!K6","v":151},{"$f":"集計元!G7","v":6},{"$f":"集計元!H7","v":14286},{"$f":"集計元!I7","v":2381},{"$f":"集計元!J7","v":3296},{"$f":"集計元!K7","v":1831},{"$f":"集計元!G8","v":4},{"$f":"集計元!H8","v":979},{"$f":"集計元!I8","v":244.75},{"$f":"集計元!J8","v":307},{"$f":"集計元!K8","v":183},{"$f":"集計元!G9","v":5},{"$f":"集計元!H9","v":1219},{"$f":"集計元!I9","v":243.8},{"$f":"集計元!J9","v":306},{"$f":"集計元!K9","v":204},{"$f":"集計元!G10","v":7},{"$f":"集計元!H10","v":1642},{"$f":"集計元!I10","v":234.57142857142858},{"$f":"集計元!J10","v":278},{"$f":"集計元!K10","v":194},{"$f":"集計元!G11","v":7},{"$f":"集計元!H11","v":2247},{"$f":"集計元!I11","v":321},{"$f":"集計元!J11","v":380},{"$f":"集計元!K11","v":255},{"$f":"集計元!G12","v":6},{"$f":"集計元!H12","v":2296},{"$f":"集計元!I12","v":382.66666666666669},{"$f":"集計元!J12","v":422},{"$f":"集計元!K12","v":286},{"$f":"集計元!G13","v":4},{"$f":"集計元!H13","v":1249},{"$f":"集計元!I13","v":312.25},{"$f":"集計元!J13","v":397},{"$f":"集計元!K13","v":280},{"$f":"集計元!G14","v":5},{"$f":"集計元!H14","v":1270},{"$f":"集計元!I14","v":254},{"$f":"集計元!J14","v":295},{"$f":"集計元!K14","v":204},{"$f":"集計元!G15","v":7},{"$f":"集計元!H15","v":1230},{"$f":"集計元!I15","v":175.71428571428572},{"$f":"集計元!J15","v":258},{"$f":"集計元!K15","v":120},{"$f":"集計元!G16","v":7},{"$f":"集計元!H16","v":1306},{"$f":"集計元!I16","v":186.57142857142858},{"$f":"集計元!J16","v":248},{"$f":"集計元!K16","v":80},{"$f":"集計元!G17","v":7},{"$f":"集計元!H17","v":1657},{"$f":"集計元!I17","v":236.71428571428572},{"$f":"集計元!J17","v":292},{"$f":"集計元!K17","v":183},{"$f":"集計元!G18","v":6},{"$f":"集計元!H18","v":986},{"$f":"集計元!I18","v":164.33333333333334},{"$f":"集計元!J18","v":204},{"$f":"集計元!K18","v":128},{"$f":"集計元!G19","v":7},{"$f":"集計元!H19","v":1627},{"$f":"集計元!I19","v":232.42857142857142},{"$f":"集計元!J19","v":259},{"$f":"集計元!K19","v":203},{"$f":"集計元!G20","v":7},{"$f":"集計元!H20","v":1138},{"$f":"集計元!I20","v":162.57142857142858},{"$f":"集計元!J20","v":179},{"$f":"集計元!K20","v":130},{"$f":"集計元!G21","v":6},{"$f":"集計元!H21","v":2231},{"$f":"集計元!I21","v":371.83333333333331},{"$f":"集計元!J21","v":410},{"$f":"集計元!K21","v":306},{"$f":"集計元!G22","v":6},{"$f":"集計元!H22","v":2071},{"$f":"集計元!I22","v":345.16666666666669},{"$f":"集計元!J22","v":480},{"$f":"集計元!K22","v":188},{"$f":"集計元!G23","v":9},{"$f":"集計元!H23","v":1600},{"$f":"集計元!I23","v":177.77777777777777},{"$f":"集計元!J23","v":186},{"$f":"集計元!K23","v":173},{"$f":"集計元!G24","v":""},{"$f":"集計元!H24","v":""},{"$f":"集計元!I24","v":""},{"$f":"集計元!J24","v":""},{"$f":"集計元!K24","v":""},null,52.714285714285722,23.285714285714278,915,550,62.25,61.75,62.199999999999989,39.800000000000011,43.428571428571416,40.571428571428584,59,66,39.333333333333314,96.666666666666686,84.75,32.25,41,50,55.285714285714278,53.714285714285722,39.666666666666657,36.333333333333343,26.571428571428584,29.428571428571416,16.428571428571416,32.571428571428584,38.166666666666686,65.833333333333314,134.83333333333331,157.16666666666669,8.2222222222222285,4.7777777777777715,{"$error":"#VALUE!"},{"$error":"#VALUE!"}]
["裾野市",{"$f":"集計元!L6","v":8},{"$f":"集計元!M6","v":1294},{"$f":"集計元!N6","v":161.75},{"$f":"集計元!O6","v":179},{"$f":"集計元!P6","v":141},{"$f":"集計元!L7","v":10},{"$f":"集計元!M7","v":18480},{"$f":"集計元!N7","v":1848},{"$f":"集計元!O7","v":2448},{"$f":"集計元!P7","v":1410},{"$f":"集計元!L8","v":8},{"$f":"集計元!M8","v":2175},{"$f":"集計元!N8","v":271.875},{"$f":"集計元!O8","v":366},{"$f":"集計元!P8","v":183},{"$f":"集計元!L9","v":10},{"$f":"集計元!M9","v":2372},{"$f":"集計元!N9","v":237.2},{"$f":"集計元!O9","v":388},{"$f":"集計元!P9","v":180},{"$f":"集計元!L10","v":10},{"$f":"集計元!M10","v":1940},{"$f":"集計元!N10","v":194},{"$f":"集計元!O10","v":245},{"$f":"集計元!P10","v":122},{"$f":"集計元!L11","v":10},{"$f":"集計元!M11","v":2491},{"$f":"集計元!N11","v":249.1},{"$f":"集計元!O11","v":306},{"$f":"集計元!P11","v":213},{"$f":"集計元!L12","v":10},{"$f":"集計元!M12","v":3243},{"$f":"集計元!N12","v":324.3},{"$f":"集計元!O12","v":410},{"$f":"集計元!P12","v":179},{"$f":"集計元!L13","v":9},{"$f":"集計元!M13","v":2431},{"$f":"集計元!N13","v":270.11111111111109},{"$f":"集計元!O13","v":347},{"$f":"集計元!P13","v":208},{"$f":"集計元!L14","v":10},{"$f":"集計元!M14","v":2213},{"$f":"集計元!N14","v":221.3},{"$f":"集計元!O14","v":286},{"$f":"集計元!P14","v":158},{"$f":"集計元!L15","v":8},{"$f":"集計元!M15","v":1508},{"$f":"集計元!N15","v":188.5},{"$f":"集計元!O15","v":258},{"$f":"集計元!P15","v":108},{"$f":"集計元!L16","v":9},{"$f":"集計元!M16","v":1535},{"$f":"集計元!N16","v":170.55555555555554},{"$f":"集計元!O16","v":214},{"$f":"集計元!P16","v":129},{"$f":"集計元!L17","v":9},{"$f":"集計元!M17","v":1622},{"$f":"集計元!N17","v":180.22222222222223},{"$f":"集計元!O17","v":214},{"$f":"集計元!P17","v":163},{"$f":"集計元!L18","v":8},{"$f":"集計元!M18","v":1221},{"$f":"集計元!N18","v":152.625},{"$f":"集計元!O18","v":189},{"$f":"集計元!P18","v":122},{"$f":"集計元!L19","v":8},{"$f":"集計元!M19","v":1670},{"$f":"集計元!N19","v":208.75},{"$f":"集計元!O19","v":267},{"$f":"集計元!P19","v":182},{"$f":"集計元!L20","v":10},{"$f":"集計元!M20","v":1643},{"$f":"集計元!N20","v":164.3},{"$f":"集計元!O20","v":204},{"$f":"集計元!P20","v":131},{"$f":"集計元!L21","v":9},{"$f":"集計元!M21","v":2912},{"$f":"集計元!N21","v":323.55555555555554},{"$f":"集計元!O21","v":461},{"$f":"集計元!P21","v":235},{"$f":"集計元!L22","v":10},{"$f":"集計元!M22","v":2336},{"$f":"集計元!N22","v":233.6},{"$f":"集計元!O22","v":310},{"$f":"集計元!P22","v":174},{"$f":"集計元!L23","v":10},{"$f":"集計元!M23","v":1680},{"$f":"集計元!N23","v":168},{"$f":"集計元!O23","v":170},{"$f":"集計元!P23","v":164},{"$f":"集計元!L24","v":0},{"$f":"集計元!M24","v":0},{"$f":"集計元!N24","v":0},{"$f":"集計元!O24","v":0},{"$f":"集計元!P24","v":0},null,17.25,20.75,600,438,94.125,88.875,150.80000000000001,57.199999999999989,51,72,56.900000000000006,36.099999999999994,85.699999999999989,145.30000000000001,76.888888888888914,62.111111111111086,64.699999999999989,63.300000000000011,33.777777777777771,17.222222222222229,36.375,30.625,58.25,26.75,39.699999999999989,33.300000000000011,137.44444444444446,88.555555555555543,76.400000000000006,59.599999999999994,2,4,0,0]
["沼津市",{"$f":"集計元!Q6","v":13},{"$f":"集計元!R6","v":2028},{"$f":"集計元!S6","v":156},{"$f":"集計元!T6","v":181},{"$f":"集計元!U6","v":139},{"$f":"集計元!Q7","v":16},{"$f":"集計元!R7","v":32899},{"$f":"集計元!S7","v":2056.1875},{"$f":"集計元!T7","v":2354},{"$f":"集計元!U7","v":1621},{"$f":"集計元!Q8","v":15},{"$f":"集計元!R8","v":4264},{"$f":"集計元!S8","v":284.26666666666665},{"$f":"集計元!T8","v":486},{"$f":"集計元!U8","v":183},{"$f":"集計元!Q9","v":16},{"$f":"集計元!R9","v":3455},{"$f":"集計元!S9","v":215.9375},{"$f":"集計元!T9","v":246},{"$f":"集計元!U9","v":189},{"$f":"集計元!Q10","v":16},{"$f":"集計元!R10","v":3157},{"$f":"集計元!S10","v":197.3125},{"$f":"集計元!T10","v":225},{"$f":"集計元!U10","v":170},{"$f":"集計元!Q11","v":16},{"$f":"集計元!R11","v":4092},{"$f":"集計元!S11","v":255.75},{"$f":"集計元!T11","v":321},{"$f":"集計元!U11","v":192},{"$f":"集計元!Q12","v":16},{"$f":"集計元!R12","v":5379},{"$f":"集計元!S12","v":336.1875},{"$f":"集計元!T12","v":410},{"$f":"集計元!U12","v":267},{"$f":"集計元!Q13","v":15},{"$f":"集計元!R13","v":4262},{"$f":"集計元!S13","v":284.13333333333333},{"$f":"集計元!T13","v":311},{"$f":"集計元!U13","v":246},{"$f":"集計元!Q14","v":16},{"$f":"集計元!R14","v":3615},{"$f":"集計元!S14","v":225.9375},{"$f":"集計元!T14","v":278},{"$f":"集計元!U14","v":189},{"$f":"集計元!Q15","v":15},{"$f":"集計元!R15","v":2751},{"$f":"集計元!S15","v":183.4},{"$f":"集計元!T15","v":257},{"$f":"集計元!U15","v":104},{"$f":"集計元!Q16","v":16},{"$f":"集計元!R16","v":2893},{"$f":"集計元!S16","v":180.8125},{"$f":"集計元!T16","v":214},{"$f":"集計元!U16","v":129},{"$f":"集計元!Q17","v":16},{"$f":"集計元!R17","v":2912},{"$f":"集計元!S17","v":182},{"$f":"集計元!T17","v":235},{"$f":"集計元!U17","v":151},{"$f":"集計元!Q18","v":16},{"$f":"集計元!R18","v":2746},{"$f":"集計元!S18","v":171.625},{"$f":"集計元!T18","v":213},{"$f":"集計元!U18","v":94},{"$f":"集計元!Q19","v":16},{"$f":"集計元!R19","v":3439},{"$f":"集計元!S19","v":214.9375},{"$f":"集計元!T19","v":258},{"$f":"集計元!U19","v":163},{"$f":"集計元!Q20","v":16},{"$f":"集計元!R20","v":2580},{"$f":"集計元!S20","v":161.25},{"$f":"集計元!T20","v":267},{"$f":"集計元!U20","v":130},{"$f":"集計元!Q21","v":15},{"$f":"集計元!R21","v":4581},{"$f":"集計元!S21","v":305.39999999999998},{"$f":"集計元!T21","v":409},{"$f":"集計元!U21","v":165},{"$f":"集計元!Q22","v":16},{"$f":"集計元!R22","v":3891},{"$f":"集計元!S22","v":243.1875},{"$f":"集計元!T22","v":375},{"$f":"集計元!U22","v":178},{"$f":"集計元!Q23","v":15},{"$f":"集計元!R23","v":2519},{"$f":"集計元!S23","v":167.93333333333334},{"$f":"集計元!T23","v":173},{"$f":"集計元!U23","v":164},{"$f":"集計元!Q24","v":""},{"$f":"集計元!R24","v":""},{"$f":"集計元!S24","v":""},{"$f":"集計元!T24","v":""},{"$f":"集計元!U24","v":""},null,25,17,297.8125,435.1875,201.73333333333335,101.26666666666665,30.0625,26.9375,27.6875,27.3125,65.25,63.75,73.8125,69.1875,26.866666666666674,38.133333333333326,52.0625,36.9375,53,31,41.375,77.625,43.0625,51.9375,105.75,31.25,103.60000000000002,140.39999999999998,131.8125,65.1875,5.0666666666666629,3.9333333333333371,{"$error":"#VALUE!"},{"$error":"#VALUE!"}]
["富士市",{"$f":"集計元!V6","v":23},{"$f":"集計元!W6","v":3716},{"$f":"集計元!X6","v":161.56521739130434},{"$f":"集計元!Y6","v":204},{"$f":"集計元!Z6","v":131},{"$f":"集計元!V7","v":26},{"$f":"集計元!W7","v":56469},{"$f":"集計元!X7","v":2171.8846153846152},{"$f":"集計元!Y7","v":3161},{"$f":"集計元!Z7","v":1831},{"$f":"集計元!V8","v":23},{"$f":"集計元!W8","v":7083},{"$f":"集計元!X8","v":307.95652173913044},{"$f":"集計元!Y8","v":516},{"$f":"集計元!Z8","v":183},{"$f":"集計元!V9","v":22},{"$f":"集計元!W9","v":4936},{"$f":"集計元!X9","v":224.36363636363637},{"$f":"集計元!Y9","v":316},{"$f":"集計元!Z9","v":158},{"$f":"集計元!V10","v":27},{"$f":"集計元!W10","v":5692},{"$f":"集計元!X10","v":210.81481481481481},{"$f":"集計元!Y10","v":321},{"$f":"集計元!Z10","v":131},{"$f":"集計元!V11","v":26},{"$f":"集計元!W11","v":7249},{"$f":"集計元!X11","v":278.80769230769232},{"$f":"集計元!Y11","v":455},{"$f":"集計元!Z11","v":192},{"$f":"集計元!V12","v":25},{"$f":"集計元!W12","v":8182},{"$f":"集計元!X12","v":327.27999999999997},{"$f":"集計元!Y12","v":421},{"$f":"集計元!Z12","v":197},{"$f":"集計元!V13","v":23},{"$f":"集計元!W13","v":6724},{"$f":"集計元!X13","v":292.3478260869565},{"$f":"集計元!Y13","v":428},{"$f":"集計元!Z13","v":187},{"$f":"集計元!V14","v":24},{"$f":"集計元!W14","v":5764},{"$f":"集計元!X14","v":240.16666666666666},{"$f":"集計元!Y14","v":396},{"$f":"集計元!Z14","v":184},{"$f":"集計元!V15","v":24},{"$f":"集計元!W15","v":4151},{"$f":"集計元!X15","v":172.95833333333334},{"$f":"集計元!Y15","v":213},{"$f":"集計元!Z15","v":86},{"$f":"集計元!V16","v":24},{"$f":"集計元!W16","v":4487},{"$f":"集計元!X16","v":186.95833333333334},{"$f":"集計元!Y16","v":250},{"$f":"集計元!Z16","v":106},{"$f":"集計元!V17","v":25},{"$f":"集計元!W17","v":4892},{"$f":"集計元!X17","v":195.68},{"$f":"集計元!Y17","v":280},{"$f":"集計元!Z17","v":150},{"$f":"集計元!V18","v":9},{"$f":"集計元!W18","v":1431},{"$f":"集計元!X18","v":159},{"$f":"集計元!Y18","v":192},{"$f":"集計元!Z18","v":116},{"$f":"集計元!V19","v":21},{"$f":"集計元!W19","v":4584},{"$f":"集計元!X19","v":218.28571428571428},{"$f":"集計元!Y19","v":257},{"$f":"集計元!Z19","v":141},{"$f":"集計元!V20","v":23},{"$f":"集計元!W20","v":3729},{"$f":"集計元!X20","v":162.13043478260869},{"$f":"集計元!Y20","v":214},{"$f":"集計元!Z20","v":128},{"$f":"集計元!V21","v":15},{"$f":"集計元!W21","v":5102},{"$f":"集計元!X21","v":340.13333333333333},{"$f":"集計元!Y21","v":538},{"$f":"集計元!Z21","v":275},{"$f":"集計元!V22","v":24},{"$f":"集計元!W22","v":6673},{"$f":"集計元!X22","v":278.04166666666669},{"$f":"集計元!Y22","v":518},{"$f":"集計元!Z22","v":194},{"$f":"集計元!V23","v":27},{"$f":"集計元!W23","v":4507},{"$f":"集計元!X23","v":166.92592592592592},{"$f":"集計元!Y23","v":176},{"$f":"集計元!Z23","v":159},{"$f":"集計元!V24","v":""},{"$f":"集計元!W24","v":""},{"$f":"集計元!X24","v":""},null,null,null,42.434782608695656,30.565217391304344,989.11538461538476,340.88461538461524,208.04347826086956,124.95652173913044,91.636363636363626,66.363636363636374,110.18518518518519,79.81481481481481,176.19230769230768,86.807692307692321,93.720000000000027,130.27999999999997,135.6521739130435,105.3478260869565,155.83333333333334,56.166666666666657,84.32,45.680000000000007,33,43,38.714285714285722,77.285714285714278,51.869565217391312,34.130434782608688,197.86666666666667,65.133333333333326,239.95833333333331,84.041666666666686,9.0740740740740762,7.9259259259259238,{"$error":"#VALUE!"},{"$error":"#VALUE!"}]
["富士宮市",{"$f":"集計元!Q28","v":20},{"$f":"集計元!R28","v":2984},{"$f":"集計元!S28","v":149.19999999999999},{"$f":"集計元!T28","v":181},{"$f":"集計元!U28","v":110},{"$f":"集計元!Q29","v":19},{"$f":"集計元!R29","v":37898},{"$f":"集計元!S29","v":1994.6315789473683},{"$f":"集計元!T29","v":2550},{"$f":"集計元!U29","v":1680},{"$f":"集計元!Q30","v":18},{"$f":"集計元!R30","v":4727},{"$f":"集計元!S30","v":262.61111111111109},{"$f":"集計元!T30","v":410},{"$f":"集計元!U30","v":183},{"$f":"集計元!Q31","v":20},{"$f":"集計元!R31","v":4482},{"$f":"集計元!S31","v":224.1},{"$f":"集計元!T31","v":306},{"$f":"集計元!U31","v":163},{"$f":"集計元!Q32","v":20},{"$f":"集計元!R32","v":3842},{"$f":"集計元!S32","v":192.1},{"$f":"集計元!T32","v":235},{"$f":"集計元!U32","v":131},{"$f":"集計元!Q33","v":19},{"$f":"集計元!R33","v":4833},{"$f":"集計元!S33","v":254.36842105263159},{"$f":"集計元!T33","v":388},{"$f":"集計元!U33","v":158},{"$f":"集計元!Q34","v":20},{"$f":"集計元!R34","v":6545},{"$f":"集計元!S34","v":327.25},{"$f":"集計元!T34","v":462},{"$f":"集計元!U34","v":198},{"$f":"集計元!Q35","v":18},{"$f":"集計元!R35","v":4990},{"$f":"集計元!S35","v":277.22222222222223},{"$f":"集計元!T35","v":386},{"$f":"集計元!U35","v":213},{"$f":"集計元!Q36","v":20},{"$f":"集計元!R36","v":4688},{"$f":"集計元!S36","v":234.4},{"$f":"集計元!T36","v":286},{"$f":"集計元!U36","v":204},{"$f":"集計元!Q37","v":19},{"$f":"集計元!R37","v":3531},{"$f":"集計元!S37","v":185.84210526315789},{"$f":"集計元!T37","v":213},{"$f":"集計元!U37","v":98},{"$f":"集計元!Q38","v":18},{"$f":"集計元!R38","v":3196},{"$f":"集計元!S38","v":177.55555555555554},{"$f":"集計元!T38","v":216},{"$f":"集計元!U38","v":98},{"$f":"集計元!Q39","v":20},{"$f":"集計元!R39","v":3654},{"$f":"集計元!S39","v":182.7},{"$f":"集計元!T39","v":248},{"$f":"集計元!U39","v":152},{"$f":"集計元!Q40","v":15},{"$f":"集計元!R40","v":2609},{"$f":"集計元!S40","v":173.93333333333334},{"$f":"集計元!T40","v":213},{"$f":"集計元!U40","v":127},{"$f":"集計元!Q41","v":15},{"$f":"集計元!R41","v":3197},{"$f":"集計元!S41","v":213.13333333333333},{"$f":"集計元!T41","v":276},{"$f":"集計元!U41","v":148},{"$f":"集計元!Q42","v":21},{"$f":"集計元!R42","v":3372},{"$f":"集計元!S42","v":160.57142857142858},{"$f":"集計元!T42","v":204},{"$f":"集計元!U42","v":131},{"$f":"集計元!Q43","v":11},{"$f":"集計元!R43","v":3496},{"$f":"集計元!S43","v":317.81818181818181},{"$f":"集計元!T43","v":358},{"$f":"集計元!U43","v":235},{"$f":"集計元!Q44","v":20},{"$f":"集計元!R44","v":4931},{"$f":"集計元!S44","v":246.55},{"$f":"集計元!T44","v":429},{"$f":"集計元!U44","v":194},{"$f":"集計元!Q45","v":19},{"$f":"集計元!R45","v":3219},{"$f":"集計元!S45","v":169.42105263157896},{"$f":"集計元!T45","v":177},{"$f":"集計元!U45","v":157},{"$f":"集計元!Q46","v":""},{"$f":"集計元!R46","v":""},{"$f":"集計元!S46","v":""},{"$f":"集計元!T46","v":""},{"$f":"集計元!U46","v":""},null,31.800000000000011,39.199999999999989,555.36842105263167,314.63157894736833,147.38888888888891,79.611111111111086,81.900000000000006,61.099999999999994,42.900000000000006,61.099999999999994,133.63157894736841,96.368421052631589,134.75,129.25,108.77777777777777,64.222222222222229,51.599999999999994,30.400000000000006,65.300000000000011,30.699999999999989,39.066666666666663,46.933333333333337,62.866666666666674,65.133333333333326,43.428571428571416,29.571428571428584,40.181818181818187,82.818181818181813,182.45,52.550000000000011,7.5789473684210407,12.421052631578959,{"$error":"#VALUE!"},{"$error":"#VALUE!"}]
["東部計",{"$f":"SUM(B5:B10)","v":81},{"$f":"SUM(C5:C10)","v":12890},{"$f":"ROUND(C11/B11,0)","v":159},{"$f":"MAX(E5:E10)","v":227},{"$f":"MAX(F5:F10)","v":151},{"$f":"SUM(G5:G10)","v":89},{"$f":"SUM(H5:H10)","v":187157},{"$f":"ROUND(H11/G11,0)","v":2103},{"$f":"MAX(J5:J10)","v":3296},{"$f":"MIN(K5:K10)","v":1410},{"$f":"SUM(L5:L10)","v":82},{"$f":"SUM(M5:M10)","v":23078},{"$f":"ROUND(M11/L11,0)","v":281},{"$f":"MAX(O5:O10)","v":516},{"$f":"MIN(P5:P10)","v":183},{"$f":"SUM(Q5:Q10)","v":85},{"$f":"SUM(R5:R10)","v":19233},{"$f":"ROUND(R11/Q11,0)","v":226},{"$f":"MAX(T5:T10)","v":388},{"$f":"MIN(U5:U10)","v":158},{"$f":"SUM(V5:V10)","v":95},{"$f":"SUM(W5:W10)","v":19309},{"$f":"ROUND(W11/V11,0)","v":203},{"$f":"MAX(Y5:Y10)","v":321},{"$f":"MIN(Z5:Z10)","v":122},{"$f":"SUM(AA5:AA10)","v":92},{"$f":"SUM(AB5:AB10)","v":24572},{"$f":"ROUND(AB11/AA11,0)","v":267},{"$f":"MAX(AD5:AD10)","v":455},{"$f":"MIN(AE5:AE10)","v":158},{"$f":"SUM(AF5:AF10)","v":90},{"$f":"SUM(AG5:AG10)","v":30373},{"$f":"ROUND(AG11/AF11,0)","v":337},{"$f":"MAX(AI5:AI10)","v":538},{"$f":"MIN(AJ5:AJ10)","v":179},{"$f":"SUM(AK5:AK10)","v":84},{"$f":"SUM(AL5:AL10)","v":23899},{"$f":"ROUND(AL11/AK11,0)","v":285},{"$f":"MAX(AN5:AN10)","v":428},{"$f":"MIN(AO5:AO10)","v":187},{"$f":"SUM(AP5:AP10)","v":86},{"$f":"SUM(AQ5:AQ10)","v":20069},{"$f":"ROUND(AQ11/AP11,0)","v":233},{"$f":"MAX(AS5:AS10)","v":396},{"$f":"MIN(AT5:AT10)","v":158},{"$f":"SUM(AU5:AU10)","v":87},{"$f":"SUM(AV5:AV10)","v":15796},{"$f":"ROUND(AV11/AU11,0)","v":182},{"$f":"MAX(AX5:AX10)","v":270},{"$f":"MIN(AY5:AY10)","v":86},{"$f":"SUM(AZ5:AZ10)","v":87},{"$f":"SUM(BA5:BA10)","v":15815},{"$f":"ROUND(BA11/AZ11,0)","v":182},{"$f":"MAX(BC5:BC10)","v":250},{"$f":"MIN(BD5:BD10)","v":80},{"$f":"SUM(BE5:BE10)","v":91},{"$f":"SUM(BF5:BF10)","v":17800},{"$f":"ROUND(BF11/BE11,0)","v":196},{"$f":"MAX(BH5:BH10)","v":292},{"$f":"MIN(BI5:BI10)","v":150},{"$f":"SUM(BJ5:BJ10)","v":63},{"$f":"SUM(BK5:BK10)","v":10404},{"$f":"ROUND(BK11/BJ11,0)","v":165},{"$f":"MAX(BM5:BM10)","v":213},{"$f":"MIN(BN5:BN10)","v":94},{"$f":"SUM(BO5:BO10)","v":80},{"$f":"SUM(BP5:BP10)","v":17385},{"$f":"ROUND(BP11/BO11,0)","v":217},{"$f":"MAX(BR5:BR10)","v":276},{"$f":"MIN(BS5:BS10)","v":141},{"$f":"SUM(BT5:BT10)","v":90},{"$f":"SUM(BU5:BU10)","v":14580},{"$f":"ROUND(BU11/BT11,0)","v":162},{"$f":"MAX(BW5:BW10)","v":267},{"$f":"MIN(BX5:BX10)","v":108},{"$f":"SUM(BY5:BY10)","v":68},{"$f":"SUM(BZ5:BZ10)","v":22615},{"$f":"ROUND(BZ11/BY11,0)","v":333},{"$f":"MAX(CB5:CB10)","v":538},{"$f":"MIN(CC5:CC10)","v":165},{"$f":"SUM(CD5:CD10)","v":90},{"$f":"SUM(CE5:CE10)","v":23966},{"$f":"ROUND(CE11/CD11,0)","v":266},{"$f":"MAX(CG5:CG10)","v":518},{"$f":"MIN(CH5:CH10)","v":174},{"$f":"SUM(CI5:CI10)","v":87},{"$f":"SUM(CJ5:CJ10)","v":14731},{"$f":"ROUND(CJ11/CI11,0)","v":169},{"$f":"MAX(CL5:CL10)","v":186},{"$f":"MIN(CM5:CM10)","v":157},{"$f":"SUM(CN5:CN10)","v":0},{"$f":"SUM(CO5:CO10)","v":0},null,{"$f":"MAX(CQ5:CQ10)","v":0},{"$f":"MIN(CR5:CR10)","v":0},null,{"$f":"E11-D11","v":68},{"$f":"D11-F11","v":8},{"$f":"J11-I11","v":1193},{"$f":"I11-K11","v":693},{"$f":"O11-N11","v":235},{"$f":"N11-P11","v":98},{"$f":"T11-S11","v":162},{"$f":"S11-U11","v":68},{"$f":"Y11-X11","v":118},{"$f":"X11-Z11","v":81},{"$f":"AD11-AC11","v":188},{"$f":"AC11-AE11","v":109},{"$f":"AI11-AH11","v":201},{"$f":"AH11-AJ11","v":158},{"$f":"AN11-AM11","v":143},{"$f":"AM11-AO11","v":98},{"$f":"AS11-AR11","v":163},{"$f":"AR11-AT11","v":75},{"$f":"BH11-BG11","v":96},{"$f":"BG11-BI11","v":46},{"$f":"BM11-BL11","v":48},{"$f":"BL11-BN11","v":71},{"$f":"BR11-BQ11","v":59},{"$f":"BQ11-BS11","v":76},{"$f":"BW11-BV11","v":105},{"$f":"BV11-BX11","v":54},{"$f":"CB11-CA11","v":205},{"$f":"CA11-CC11","v":168},{"$f":"CG11-CF11","v":252},{"$f":"CF11-CH11","v":92},{"$f":"CL11-CK11","v":17},{"$f":"CK11-CM11","v":12},{"$f":"CQ11-CP11","v":0},{"$f":"CP11-CR11","v":0}]
["静岡市",{"$f":"集計元!B28","v":35},{"$f":"集計元!C28","v":5440},{"$f":"集計元!D28","v":155},{"$f":"集計元!E28","v":216},{"$f":"集計元!F28","v":78},{"$f":"集計元!B29","v":35},{"$f":"集計元!C29","v":71553},{"$f":"集計元!D29","v":2044},{"$f":"集計元!E29","v":2743},{"$f":"集計元!F29","v":1576},{"$f":"集計元!B30","v":34},{"$f":"集計元!C30","v":9765},{"$f":"集計元!D30","v":287},{"$f":"集計元!E30","v":358},{"$f":"集計元!F30","v":182},{"$f":"集計元!B31","v":34},{"$f":"集計元!C31","v":7486},{"$f":"集計元!D31","v":220},{"$f":"集計元!E31","v":289},{"$f":"集計元!F31","v":160},{"$f":"集計元!B32","v":38},{"$f":"集計元!C32","v":7512},{"$f":"集計元!D32","v":198},{"$f":"集計元!E32","v":307},{"$f":"集計元!F32","v":95},{"$f":"集計元!B33","v":35},{"$f":"集計元!C33","v":8725},{"$f":"集計元!D33","v":249},{"$f":"集計元!E33","v":368},{"$f":"集計元!F33","v":131},{"$f":"集計元!B34","v":32},{"$f":"集計元!C34","v":9749},{"$f":"集計元!D34","v":305},{"$f":"集計元!E34","v":399},{"$f":"集計元!F34","v":185},{"$f":"集計元!B35","v":31},{"$f":"集計元!C35","v":8500},{"$f":"集計元!D35","v":274},{"$f":"集計元!E35","v":378},{"$f":"集計元!F35","v":180},{"$f":"集計元!B36","v":36},{"$f":"集計元!C36","v":8145},{"$f":"集計元!D36","v":226},{"$f":"集計元!E36","v":328},{"$f":"集計元!F36","v":139},{"$f":"集計元!B37","v":37},{"$f":"集計元!C37","v":5552},{"$f":"集計元!D37","v":150},{"$f":"集計元!E37","v":276},{"$f":"集計元!F37","v":87},{"$f":"集計元!B38","v":38},{"$f":"集計元!C38","v":5327},{"$f":"集計元!D38","v":140},{"$f":"集計元!E38","v":378},{"$f":"集計元!F38","v":71},{"$f":"集計元!B39","v":35},{"$f":"集計元!C39","v":6400},{"$f":"集計元!D39","v":183},{"$f":"集計元!E39","v":236},{"$f":"集計元!F39","v":141},{"$f":"集計元!B40","v":33},{"$f":"集計元!C40","v":5263},{"$f":"集計元!D40","v":159},{"$f":"集計元!E40","v":298},{"$f":"集計元!F40","v":87},{"$f":"集計元!B41","v":36},{"$f":"集計元!C41","v":7127},{"$f":"集計元!D41","v":198},{"$f":"集計元!E41","v":236},{"$f":"集計元!F41","v":127},{"$f":"集計元!B42","v":35},{"$f":"集計元!C42","v":5710},{"$f":"集計元!D42","v":163},{"$f":"集計元!E42","v":224},{"$f":"集計元!F42","v":131},{"$f":"集計元!B43","v":23},{"$f":"集計元!C43","v":7781},{"$f":"集計元!D43","v":338},{"$f":"集計元!E43","v":510},{"$f":"集計元!F43","v":254},{"$f":"集計元!B44","v":32},{"$f":"集計元!C44","v":8464},{"$f":"集計元!D44","v":265},{"$f":"集計元!E44","v":408},{"$f":"集計元!F44","v":187},{"$f":"集計元!B45","v":39},{"$f":"集計元!C45","v":6621},{"$f":"集計元!D45","v":170},{"$f":"集計元!E45","v":174},{"$f":"集計元!F45","v":159},{"$f":"集計元!B46","v":0},{"$f":"集計元!C46","v":0},{"$f":"集計元!D46","v":0},{"$f":"集計元!E46","v":0},{"$f":"集計元!F46","v":0},null,61,77,699,468,71,105,69,60,109,103,119,118,94,120,104,94,102,87,53,42,139,72,38,71,61,32,172,84,143,78,4,11,0,0]
["藤枝市",{"$f":"集計元!G28","v":11},{"$f":"集計元!H28","v":1725},{"$f":"集計元!I28","v":156.81818181818181},{"$f":"集計元!J28","v":181},{"$f":"集計元!K28","v":100},{"$f":"集計元!G29","v":11},{"$f":"集計元!H29","v":22317},{"$f":"集計元!I29","v":2028.8181818181818},{"$f":"集計元!J29","v":2322},{"$f":"集計元!K29","v":1831},{"$f":"集計元!G30","v":11},{"$f":"集計元!H30","v":3214},{"$f":"集計元!I30","v":292.18181818181819},{"$f":"集計元!J30","v":340},{"$f":"集計元!K30","v":192},{"$f":"集計元!G31","v":11},{"$f":"集計元!H31","v":2459},{"$f":"集計元!I31","v":223.54545454545453},{"$f":"集計元!J31","v":278},{"$f":"集計元!K31","v":192},{"$f":"集計元!G32","v":11},{"$f":"集計元!H32","v":2214},{"$f":"集計元!I32","v":201.27272727272728},{"$f":"集計元!J32","v":224},{"$f":"集計元!K32","v":160},{"$f":"集計元!G33","v":10},{"$f":"集計元!H33","v":2427},{"$f":"集計元!I33","v":242.7},{"$f":"集計元!J33","v":306},{"$f":"集計元!K33","v":192},{"$f":"集計元!G34","v":11},{"$f":"集計元!H34","v":3295},{"$f":"集計元!I34","v":299.54545454545456},{"$f":"集計元!J34","v":359},{"$f":"集計元!K34","v":213},{"$f":"集計元!G35","v":11},{"$f":"集計元!H35","v":3091},{"$f":"集計元!I35","v":281},{"$f":"集計元!J35","v":312},{"$f":"集計元!K35","v":214},{"$f":"集計元!G36","v":11},{"$f":"集計元!H36","v":2578},{"$f":"集計元!I36","v":234.36363636363637},{"$f":"集計元!J36","v":286},{"$f":"集計元!K36","v":194},{"$f":"集計元!G37","v":11},{"$f":"集計元!H37","v":2078},{"$f":"集計元!I37","v":188.90909090909091},{"$f":"集計元!J37","v":214},{"$f":"集計元!K37","v":138},{"$f":"集計元!G38","v":11},{"$f":"集計元!H38","v":1978},{"$f":"集計元!I38","v":179.81818181818181},{"$f":"集計元!J38","v":214},{"$f":"集計元!K38","v":105},{"$f":"集計元!G39","v":11},{"$f":"集計元!H39","v":1953},{"$f":"集計元!I39","v":177.54545454545453},{"$f":"集計元!J39","v":205},{"$f":"集計元!K39","v":106},{"$f":"集計元!G40","v":11},{"$f":"集計元!H40","v":1858},{"$f":"集計元!I40","v":168.90909090909091},{"$f":"集計元!J40","v":321},{"$f":"集計元!K40","v":101},{"$f":"集計元!G41","v":11},{"$f":"集計元!H41","v":2226},{"$f":"集計元!I41","v":202.36363636363637},{"$f":"集計元!J41","v":235},{"$f":"集計元!K41","v":152},{"$f":"集計元!G42","v":11},{"$f":"集計元!H42","v":1828},{"$f":"集計元!I42","v":166.18181818181819},{"$f":"集計元!J42","v":204},{"$f":"集計元!K42","v":130},{"$f":"集計元!G43","v":10},{"$f":"集計元!H43","v":3218},{"$f":"集計元!I43","v":321.8},{"$f":"集計元!J43","v":410},{"$f":"集計元!K43","v":268},{"$f":"集計元!G44","v":11},{"$f":"集計元!H44","v":2778},{"$f":"集計元!I44","v":252.54545454545453},{"$f":"集計元!J44","v":306},{"$f":"集計元!K44","v":213},{"$f":"集計元!G45","v":11},{"$f":"集計元!H45","v":1892},{"$f":"集計元!I45","v":172},{"$f":"集計元!J45","v":184},{"$f":"集計元!K45","v":164},{"$f":"集計元!G46","v":""},{"$f":"集計元!H46","v":""},{"$f":"集計元!I46","v":""},{"$f":"集計元!J46","v":""},{"$f":"集計元!K46","v":""},null,24.181818181818187,56.818181818181813,293.18181818181824,197.81818181818176,47.818181818181813,100.18181818181819,54.454545454545467,31.545454545454533,22.72727272727272,41.27272727272728,63.300000000000011,50.699999999999989,59.454545454545439,86.545454545454561,31,67,51.636363636363626,40.363636363636374,27.454545454545467,71.545454545454533,152.09090909090909,67.909090909090907,32.636363636363626,50.363636363636374,37.818181818181813,36.181818181818187,88.199999999999989,53.800000000000011,53.454545454545467,39.545454545454533,12,8,{"$error":"#VALUE!"},{"$error":"#VALUE!"}]
["島田市",{"$f":"集計元!L28","v":13},{"$f":"集計元!M28","v":2119},{"$f":"集計元!N28","v":163},{"$f":"集計元!O28","v":172},{"$f":"集計元!P28","v":152},{"$f":"集計元!L29","v":12},{"$f":"集計元!M29","v":23921},{"$f":"集計元!N29","v":1993.4166666666667},{"$f":"集計元!O29","v":2463},{"$f":"集計元!P29","v":1680},{"$f":"集計元!L30","v":13},{"$f":"集計元!M30","v":4013},{"$f":"集計元!N30","v":308.69230769230768},{"$f":"集計元!O30","v":368},{"$f":"集計元!P30","v":276},{"$f":"集計元!L31","v":13},{"$f":"集計元!M31","v":2790},{"$f":"集計元!N31","v":214.61538461538461},{"$f":"集計元!O31","v":255},{"$f":"集計元!P31","v":168},{"$f":"集計元!L32","v":13},{"$f":"集計元!M32","v":2452},{"$f":"集計元!N32","v":188.61538461538461},{"$f":"集計元!O32","v":258},{"$f":"集計元!P32","v":159},{"$f":"集計元!L33","v":12},{"$f":"集計元!M33","v":3013},{"$f":"集計元!N33","v":251.08333333333334},{"$f":"集計元!O33","v":258},{"$f":"集計元!P33","v":214},{"$f":"集計元!L34","v":13},{"$f":"集計元!M34","v":3857},{"$f":"集計元!N34","v":296.69230769230768},{"$f":"集計元!O34","v":339},{"$f":"集計元!P34","v":248},{"$f":"集計元!L35","v":11},{"$f":"集計元!M35","v":3000},{"$f":"集計元!N35","v":272.72727272727275},{"$f":"集計元!O35","v":307},{"$f":"集計元!P35","v":210},{"$f":"集計元!L36","v":12},{"$f":"集計元!M36","v":2607},{"$f":"集計元!N36","v":217.25},{"$f":"集計元!O36","v":282},{"$f":"集計元!P36","v":192},{"$f":"集計元!L37","v":13},{"$f":"集計元!M37","v":2221},{"$f":"集計元!N37","v":170.84615384615384},{"$f":"集計元!O37","v":214},{"$f":"集計元!P37","v":98},{"$f":"集計元!L38","v":13},{"$f":"集計元!M38","v":2239},{"$f":"集計元!N38","v":172.23076923076923},{"$f":"集計元!O38","v":214},{"$f":"集計元!P38","v":83},{"$f":"集計元!L39","v":13},{"$f":"集計元!M39","v":2294},{"$f":"集計元!N39","v":176.46153846153845},{"$f":"集計元!O39","v":195},{"$f":"集計元!P39","v":152},{"$f":"集計元!L40","v":13},{"$f":"集計元!M40","v":2171},{"$f":"集計元!N40","v":167},{"$f":"集計元!O40","v":313},{"$f":"集計元!P40","v":102},{"$f":"集計元!L41","v":12},{"$f":"集計元!M41","v":2567},{"$f":"集計元!N41","v":213.91666666666666},{"$f":"集計元!O41","v":236},{"$f":"集計元!P41","v":152},{"$f":"集計元!L42","v":13},{"$f":"集計元!M42","v":2187},{"$f":"集計元!N42","v":168.23076923076923},{"$f":"集計元!O42","v":194},{"$f":"集計元!P42","v":139},{"$f":"集計元!L43","v":9},{"$f":"集計元!M43","v":3047},{"$f":"集計元!N43","v":338.55555555555554},{"$f":"集計元!O43","v":410},{"$f":"集計元!P43","v":247},{"$f":"集計元!L44","v":12},{"$f":"集計元!M44","v":3249},{"$f":"集計元!N44","v":270.75},{"$f":"集計元!O44","v":349},{"$f":"集計元!P44","v":198},{"$f":"集計元!L45","v":13},{"$f":"集計元!M45","v":2220},{"$f":"集計元!N45","v":170.76923076923077},{"$f":"集計元!O45","v":180},{"$f":"集計元!P45","v":166},{"$f":"集計元!L46","v":0},{"$f":"集計元!M46","v":0},{"$f":"集計元!N46","v":0},{"$f":"集計元!O46","v":0},{"$f":"集計元!P46","v":0},null,9,11,469.58333333333326,313.41666666666674,59.307692307692321,32.692307692307679,40.384615384615387,46.615384615384613,69.384615384615387,29.615384615384613,6.9166666666666572,37.083333333333343,42.307692307692321,48.692307692307679,34.272727272727252,62.727272727272748,64.75,25.25,18.538461538461547,24.461538461538453,146,65,22.083333333333343,61.916666666666657,25.769230769230774,29.230769230769226,71.444444444444457,91.555555555555543,78.25,72.75,9.2307692307692264,4.7692307692307736,0,0]
["中部計",{"$f":"SUM(B12:B14)","v":59},{"$f":"SUM(C12:C14)","v":9284},{"$f":"ROUND(C15/B15,0)","v":157},{"$f":"MAX(E12:E14)","v":216},{"$f":"MAX(F12:F14)","v":152},{"$f":"SUM(G12:G14)","v":58},{"$f":"SUM(H12:H14)","v":117791},{"$f":"ROUND(H15/G15,0)","v":2031},{"$f":"MAX(J12:J14)","v":2743},{"$f":"MIN(K12:K14)","v":1576},{"$f":"SUM(L12:L14)","v":58},{"$f":"SUM(M12:M14)","v":16992},{"$f":"ROUND(M15/L15,0)","v":293},{"$f":"MAX(O12:O14)","v":368},{"$f":"MIN(P12:P14)","v":182},{"$f":"SUM(Q12:Q14)","v":58},{"$f":"SUM(R12:R14)","v":12735},{"$f":"ROUND(R15/Q15,0)","v":220},{"$f":"MAX(T12:T14)","v":289},{"$f":"MIN(U12:U14)","v":160},{"$f":"SUM(V12:V14)","v":62},{"$f":"SUM(W12:W14)","v":12178},{"$f":"ROUND(W15/V15,0)","v":196},{"$f":"MAX(Y12:Y14)","v":307},{"$f":"MIN(Z12:Z14)","v":95},{"$f":"SUM(AA12:AA14)","v":57},{"$f":"SUM(AB12:AB14)","v":14165},{"$f":"ROUND(AB15/AA15,0)","v":249},{"$f":"MAX(AD12:AD14)","v":368},{"$f":"MIN(AE12:AE14)","v":131},{"$f":"SUM(AF12:AF14)","v":56},{"$f":"SUM(AG12:AG14)","v":16901},{"$f":"ROUND(AG15/AF15,0)","v":302},{"$f":"MAX(AI12:AI14)","v":399},{"$f":"MIN(AJ12:AJ14)","v":185},{"$f":"SUM(AK12:AK14)","v":53},{"$f":"SUM(AL12:AL14)","v":14591},{"$f":"ROUND(AL15/AK15,0)","v":275},{"$f":"MAX(AN12:AN14)","v":378},{"$f":"MIN(AO12:AO14)","v":180},{"$f":"SUM(AP12:AP14)","v":59},{"$f":"SUM(AQ12:AQ14)","v":13330},{"$f":"ROUND(AQ15/AP15,0)","v":226},{"$f":"MAX(AS12:AS14)","v":328},{"$f":"MIN(AT12:AT14)","v":139},{"$f":"SUM(AU12:AU14)","v":61},{"$f":"SUM(AV12:AV14)","v":9851},{"$f":"ROUND(AV15/AU15,0)","v":161},{"$f":"MAX(AX12:AX14)","v":276},{"$f":"MIN(AY12:AY14)","v":87},{"$f":"SUM(AZ12:AZ14)","v":62},{"$f":"SUM(BA12:BA14)","v":9544},{"$f":"ROUND(BA15/AZ15,0)","v":154},{"$f":"MAX(BC12:BC14)","v":378},{"$f":"MIN(BD12:BD14)","v":71},{"$f":"SUM(BE12:BE14)","v":59},{"$f":"SUM(BF12:BF14)","v":10647},{"$f":"ROUND(BF15/BE15,0)","v":180},{"$f":"MAX(BH12:BH14)","v":236},{"$f":"MIN(BI12:BI14)","v":106},{"$f":"SUM(BJ12:BJ14)","v":57},{"$f":"SUM(BK12:BK14)","v":9292},{"$f":"ROUND(BK15/BJ15,0)","v":163},{"$f":"MAX(BM12:BM14)","v":321},{"$f":"MIN(BN12:BN14)","v":87},{"$f":"SUM(BO12:BO14)","v":59},{"$f":"SUM(BP12:BP14)","v":11920},{"$f":"ROUND(BP15/BO15,0)","v":202},{"$f":"MAX(BR12:BR14)","v":236},{"$f":"MIN(BS12:BS14)","v":127},{"$f":"SUM(BT12:BT14)","v":59},{"$f":"SUM(BU12:BU14)","v":9725},{"$f":"ROUND(BU15/BT15,0)","v":165},{"$f":"MAX(BW12:BW14)","v":224},{"$f":"MIN(BX12:BX14)","v":130},{"$f":"SUM(BY12:BY14)","v":42},{"$f":"SUM(BZ12:BZ14)","v":14046},{"$f":"ROUND(BZ15/BY15,0)","v":334},{"$f":"MAX(CB12:CB14)","v":510},{"$f":"MIN(CC12:CC14)","v":247},{"$f":"SUM(CD12:CD14)","v":55},{"$f":"SUM(CE12:CE14)","v":14491},{"$f":"ROUND(CE15/CD15,0)","v":263},{"$f":"MAX(CG12:CG14)","v":408},{"$f":"MIN(CH12:CH14)","v":187},{"$f":"SUM(CI12:CI14)","v":63},{"$f":"SUM(CJ12:CJ14)","v":10733},{"$f":"ROUND(CJ15/CI15,0)","v":170},{"$f":"MAX(CL12:CL14)","v":184},{"$f":"MIN(CM12:CM14)","v":159},{"$f":"SUM(CN12:CN14)","v":0},{"$f":"SUM(CO12:CO14)","v":0},{"$f":"IF(CO15=CN15,\"\",ROUND(CO15/CN15,0))","v":""},{"$f":"MAX(CQ12:CQ14)","v":0},{"$f":"MIN(CR12:CR14)","v":0},null,59,5,712,455,75,111,69,60,111,101,119,118,97,117,103,95,102,87,56,74,158,76,34,75,59,35,176,87,145,76,14,11,{"$error":"#VALUE!"},{"$error":"#VALUE!"}]
["掛川市",{"$f":"集計元!V28","v":10},{"$f":"集計元!W28","v":1530},{"$f":"集計元!X28","v":153},{"$f":"集計元!Y28","v":163},{"$f":"集計元!Z28","v":97},{"$f":"集計元!V29","v":10},{"$f":"集計元!W29","v":19847},{"$f":"集計元!X29","v":1984.7},{"$f":"集計元!Y29","v":2267},{"$f":"集計元!Z29","v":1525},{"$f":"集計元!V30","v":10},{"$f":"集計元!W30","v":2858},{"$f":"集計元!X30","v":285.8},{"$f":"集計元!Y30","v":368},{"$f":"集計元!Z30","v":213},{"$f":"集計元!V31","v":10},{"$f":"集計元!W31","v":2251},{"$f":"集計元!X31","v":225.1},{"$f":"集計元!Y31","v":306},{"$f":"集計元!Z31","v":149},{"$f":"集計元!V32","v":10},{"$f":"集計元!W32","v":1924},{"$f":"集計元!X32","v":192.4},{"$f":"集計元!Y32","v":208},{"$f":"集計元!Z32","v":162},{"$f":"集計元!V33","v":10},{"$f":"集計元!W33","v":2614},{"$f":"集計元!X33","v":261.39999999999998},{"$f":"集計元!Y33","v":358},{"$f":"集計元!Z33","v":203},{"$f":"集計元!V34","v":10},{"$f":"集計元!W34","v":2987},{"$f":"集計元!X34","v":298.7},{"$f":"集計元!Y34","v":429},{"$f":"集計元!Z34","v":197},{"$f":"集計元!V35","v":7},{"$f":"集計元!W35","v":1715},{"$f":"集計元!X35","v":245},{"$f":"集計元!Y35","v":286},{"$f":"集計元!Z35","v":177},{"$f":"集計元!V36","v":9},{"$f":"集計元!W36","v":1892},{"$f":"集計元!X36","v":210.22222222222223},{"$f":"集計元!Y36","v":267},{"$f":"集計元!Z36","v":183},{"$f":"集計元!V37","v":10},{"$f":"集計元!W37","v":1684},{"$f":"集計元!X37","v":168.4},{"$f":"集計元!Y37","v":299},{"$f":"集計元!Z37","v":97},{"$f":"集計元!V38","v":10},{"$f":"集計元!W38","v":1736},{"$f":"集計元!X38","v":173.6},{"$f":"集計元!Y38","v":216},{"$f":"集計元!Z38","v":97},{"$f":"集計元!V39","v":10},{"$f":"集計元!W39","v":1823},{"$f":"集計元!X39","v":182.3},{"$f":"集計元!Y39","v":228},{"$f":"集計元!Z39","v":151},{"$f":"集計元!V40","v":9},{"$f":"集計元!W40","v":1430},{"$f":"集計元!X40","v":158.88888888888889},{"$f":"集計元!Y40","v":208},{"$f":"集計元!Z40","v":116},{"$f":"集計元!V41","v":9},{"$f":"集計元!W41","v":1895},{"$f":"集計元!X41","v":210.55555555555554},{"$f":"集計元!Y41","v":224},{"$f":"集計元!Z41","v":183},{"$f":"集計元!V42","v":10},{"$f":"集計元!W42","v":1600},{"$f":"集計元!X42","v":160},{"$f":"集計元!Y42","v":232},{"$f":"集計元!Z42","v":105},{"$f":"集計元!V43","v":8},{"$f":"集計元!W43","v":2227},{"$f":"集計元!X43","v":278.375},{"$f":"集計元!Y43","v":388},{"$f":"集計元!Z43","v":181},{"$f":"集計元!V44","v":9},{"$f":"集計元!W44","v":2080},{"$f":"集計元!X44","v":231.11111111111111},{"$f":"集計元!Y44","v":286},{"$f":"集計元!Z44","v":197},{"$f":"集計元!V45","v":10},{"$f":"集計元!W45","v":1717},{"$f":"集計元!X45","v":171.7},{"$f":"集計元!Y45","v":184},{"$f":"集計元!Z45","v":165},{"$f":"集計元!V46","v":""},{"$f":"集計元!W46","v":""},{"$f":"集計元!X46","v":""},{"$f":"集計元!Y46","v":""},{"$f":"集計元!Z46","v":""},null,10,56,282.29999999999995,459.70000000000005,82.199999999999989,72.800000000000011,80.900000000000006,76.099999999999994,15.599999999999994,30.400000000000006,96.600000000000023,58.399999999999977,130.30000000000001,101.69999999999999,41,68,56.777777777777771,27.222222222222229,45.699999999999989,31.300000000000011,49.111111111111114,42.888888888888886,13.444444444444457,27.555555555555543,72,55,109.625,97.375,54.888888888888886,34.111111111111114,12.300000000000011,6.6999999999999886,{"$error":"#VALUE!"},{"$error":"#VALUE!"}]
["浜松市",{"$f":"集計元!B50","v":27},{"$f":"集計元!C50","v":4239},{"$f":"集計元!D50","v":157},{"$f":"集計元!E50","v":201},{"$f":"集計元!F50","v":100},{"$f":"集計元!B51","v":27},{"$f":"集計元!C51","v":53336},{"$f":"集計元!D51","v":1975},{"$f":"集計元!E51","v":2786},{"$f":"集計元!F51","v":1566},{"$f":"集計元!B52","v":27},{"$f":"集計元!C52","v":8150},{"$f":"集計元!D52","v":302},{"$f":"集計元!E52","v":409},{"$f":"集計元!F52","v":203},{"$f":"集計元!B53","v":27},{"$f":"集計元!C53","v":6245},{"$f":"集計元!D53","v":231},{"$f":"集計元!E53","v":306},{"$f":"集計元!F53","v":181},{"$f":"集計元!B54","v":27},{"$f":"集計元!C54","v":5441},{"$f":"集計元!D54","v":202},{"$f":"集計元!E54","v":265},{"$f":"集計元!F54","v":162},{"$f":"集計元!B55","v":27},{"$f":"集計元!C55","v":7529},{"$f":"集計元!D55","v":279},{"$f":"集計元!E55","v":410},{"$f":"集計元!F55","v":192},{"$f":"集計元!B56","v":26},{"$f":"集計元!C56","v":8108},{"$f":"集計元!D56","v":312},{"$f":"集計元!E56","v":410},{"$f":"集計元!F56","v":213},{"$f":"集計元!B57","v":24},{"$f":"集計元!C57","v":6775},{"$f":"集計元!D57","v":282},{"$f":"集計元!E57","v":368},{"$f":"集計元!F57","v":239},{"$f":"集計元!B58","v":27},{"$f":"集計元!C58","v":5838},{"$f":"集計元!D58","v":216},{"$f":"集計元!E58","v":285},{"$f":"集計元!F58","v":190},{"$f":"集計元!B59","v":27},{"$f":"集計元!C59","v":4418},{"$f":"集計元!D59","v":164},{"$f":"集計元!E59","v":214},{"$f":"集計元!F59","v":100},{"$f":"集計元!B60","v":27},{"$f":"集計元!C60","v":4626},{"$f":"集計元!D60","v":171},{"$f":"集計元!E60","v":216},{"$f":"集計元!F60","v":97},{"$f":"集計元!B61","v":26},{"$f":"集計元!C61","v":4621},{"$f":"集計元!D61","v":178},{"$f":"集計元!E61","v":224},{"$f":"集計元!F61","v":159},{"$f":"集計元!B62","v":25},{"$f":"集計元!C62","v":4062},{"$f":"集計元!D62","v":162},{"$f":"集計元!E62","v":227},{"$f":"集計元!F62","v":105},{"$f":"集計元!B63","v":26},{"$f":"集計元!C63","v":5604},{"$f":"集計元!D63","v":216},{"$f":"集計元!E63","v":257},{"$f":"集計元!F63","v":163},{"$f":"集計元!B64","v":26},{"$f":"集計元!C64","v":4173},{"$f":"集計元!D64","v":161},{"$f":"集計元!E64","v":213},{"$f":"集計元!F64","v":122},{"$f":"集計元!B65","v":20},{"$f":"集計元!C65","v":6656},{"$f":"集計元!D65","v":333},{"$f":"集計元!E65","v":459},{"$f":"集計元!F65","v":197},{"$f":"集計元!B66","v":25},{"$f":"集計元!C66","v":6485},{"$f":"集計元!D66","v":259},{"$f":"集計元!E66","v":462},{"$f":"集計元!F66","v":187},{"$f":"集計元!B67","v":27},{"$f":"集計元!C67","v":4574},{"$f":"集計元!D67","v":169},{"$f":"集計元!E67","v":183},{"$f":"集計元!F67","v":160},{"$f":"集計元!B68","v":""},{"$f":"集計元!C68","v":""},{"$f":"集計元!D68","v":""},{"$f":"集計元!E68","v":""},{"$f":"集計元!F68","v":""},null,44,57,811,409,107,99,75,50,63,40,131,87,98,99,86,43,69,26,46,19,65,57,41,53,52,39,126,136,203,72,14,9,{"$error":"#VALUE!"},{"$error":"#VALUE!"}]
["西部計",{"$f":"SUM(B16:B17)","v":37},{"$f":"SUM(C16:C17)","v":5769},{"$f":"ROUND(C18/B18,0)","v":156},{"$f":"MAX(E16:E17)","v":201},{"$f":"MAX(F16:F17)","v":100},{"$f":"SUM(G16:G17)","v":37},{"$f":"SUM(H16:H17)","v":73183},{"$f":"ROUND(H18/G18,0)","v":1978},{"$f":"MAX(J16:J17)","v":2786},{"$f":"MIN(K16:K17)","v":1525},{"$f":"SUM(L16:L17)","v":37},{"$f":"SUM(M16:M17)","v":11008},{"$f":"ROUND(M18/L18,0)","v":298},{"$f":"MAX(O16:O17)","v":409},{"$f":"MIN(P16:P17)","v":203},{"$f":"SUM(Q16:Q17)","v":37},{"$f":"SUM(R16:R17)","v":8496},{"$f":"ROUND(R18/Q18,0)","v":230},{"$f":"MAX(T16:T17)","v":306},{"$f":"MIN(U16:U17)","v":149},{"$f":"SUM(V16:V17)","v":37},{"$f":"SUM(W16:W17)","v":7365},{"$f":"ROUND(W18/V18,0)","v":199},{"$f":"MAX(Y16:Y17)","v":265},{"$f":"MIN(Z16:Z17)","v":162},{"$f":"SUM(AA16:AA17)","v":37},{"$f":"SUM(AB16:AB17)","v":10143},{"$f":"ROUND(AB18/AA18,0)","v":274},{"$f":"MAX(AD16:AD17)","v":410},{"$f":"MIN(AE16:AE17)","v":192},{"$f":"SUM(AF16:AF17)","v":36},{"$f":"SUM(AG16:AG17)","v":11095},{"$f":"ROUND(AG18/AF18,0)","v":308},{"$f":"MAX(AI16:AI17)","v":429},{"$f":"MIN(AJ16:AJ17)","v":197},{"$f":"SUM(AK16:AK17)","v":31},{"$f":"SUM(AL16:AL17)","v":8490},{"$f":"ROUND(AL18/AK18,0)","v":274},{"$f":"MAX(AN16:AN17)","v":368},{"$f":"MIN(AO16:AO17)","v":177},{"$f":"SUM(AP16:AP17)","v":36},{"$f":"SUM(AQ16:AQ17)","v":7730},{"$f":"ROUND(AQ18/AP18,0)","v":215},{"$f":"MAX(AS16:AS17)","v":285},{"$f":"MIN(AT16:AT17)","v":183},{"$f":"SUM(AU16:AU17)","v":37},{"$f":"SUM(AV16:AV17)","v":6102},{"$f":"ROUND(AV18/AU18,0)","v":165},{"$f":"MAX(AX16:AX17)","v":299},{"$f":"MIN(AY16:AY17)","v":97},{"$f":"SUM(AZ16:AZ17)","v":37},{"$f":"SUM(BA16:BA17)","v":6362},{"$f":"ROUND(BA18/AZ18,0)","v":172},{"$f":"MAX(BC16:BC17)","v":216},{"$f":"MIN(BD16:BD17)","v":97},{"$f":"SUM(BE16:BE17)","v":36},{"$f":"SUM(BF16:BF17)","v":6444},{"$f":"ROUND(BF18/BE18,0)","v":179},{"$f":"MAX(BH16:BH17)","v":228},{"$f":"MIN(BI16:BI17)","v":151},{"$f":"SUM(BJ16:BJ17)","v":34},{"$f":"SUM(BK16:BK17)","v":5492},{"$f":"ROUND(BK18/BJ18,0)","v":162},{"$f":"MAX(BM16:BM17)","v":227},{"$f":"MIN(BN16:BN17)","v":105},{"$f":"SUM(BO16:BO17)","v":35},{"$f":"SUM(BP16:BP17)","v":7499},{"$f":"ROUND(BP18/BO18,0)","v":214},{"$f":"MAX(BR16:BR17)","v":257},{"$f":"MIN(BS16:BS17)","v":163},{"$f":"SUM(BT16:BT17)","v":36},{"$f":"SUM(BU16:BU17)","v":5773},{"$f":"ROUND(BU18/BT18,0)","v":160},{"$f":"MAX(BW16:BW17)","v":232},{"$f":"MIN(BX16:BX17)","v":105},{"$f":"SUM(BY16:BY17)","v":28},{"$f":"SUM(BZ16:BZ17)","v":8883},{"$f":"ROUND(BZ18/BY18,0)","v":317},{"$f":"MAX(CB16:CB17)","v":459},{"$f":"MIN(CC16:CC17)","v":181},{"$f":"SUM(CD16:CD17)","v":34},{"$f":"SUM(CE16:CE17)","v":8565},{"$f":"ROUND(CE18/CD18,0)","v":252},{"$f":"MAX(CG16:CG17)","v":462},{"$f":"MIN(CH16:CH17)","v":187},{"$f":"SUM(CI16:CI17)","v":37},{"$f":"SUM(CJ16:CJ17)","v":6291},{"$f":"ROUND(CJ18/CI18,0)","v":170},{"$f":"MAX(CL16:CL17)","v":184},{"$f":"MIN(CM16:CM17)","v":160},{"$f":"SUM(CN16:CN17)","v":0},{"$f":"SUM(CO16:CO17)","v":0},{"$f":"IF(CO18=CN18,\"\",ROUND(CO18/CN18,0))","v":""},{"$f":"MAX(CQ16:CQ17)","v":0},{"$f":"MIN(CR16:CR17)","v":0},null,45,56,808,453,111,95,76,81,66,37,136,82,121,111,94,97,70,32,49,28,65,57,43,51,72,55,142,136,210,65,14,10,{"$error":"#VALUE!"},{"$error":"#VALUE!"}]
["県計",{"$f":"B11+B15+B18","v":177},{"$f":"C11+C15+C18","v":27943},{"$f":"ROUND(C19/B19,0)","v":158},{"$f":"MAX(E11,E15,E18)","v":227},{"$f":"MAX(F11,F15,F18)","v":152},{"$f":"G11+G15+G18","v":184},{"$f":"H11+H15+H18","v":378131},{"$f":"ROUND(H19/G19,0)","v":2055},{"$f":"MAX(J11,J15,J18)","v":3296},{"$f":"IF(MIN(K11,K15,K18)>0,MIN(K11,K15,K18),IF(K11+K15+K18=MAX(K11,K15,K18),MAX(K11,K15,K18),K11+K15+K18-MAX(K11,K15,K18)))","v":1410},{"$f":"L11+L15+L18","v":177},{"$f":"M11+M15+M18","v":51078},{"$f":"ROUND(M19/L19,0)","v":289},{"$f":"MAX(O11,O15,O18)","v":516},{"$f":"IF(MIN(P11,P15,P18)>0,MIN(P11,P15,P18),IF(P11+P15+P18=MAX(P11,P15,P18),MAX(P11,P15,P18),P11+P15+P18-MAX(P11,P15,P18)))","v":182},{"$f":"Q11+Q15+Q18","v":180},{"$f":"R11+R15+R18","v":40464},{"$f":"ROUND(R19/Q19,0)","v":225},{"$f":"MAX(T11,T15,T18)","v":388},{"$f":"IF(MIN(U11,U15,U18)>0,MIN(U11,U15,U18),IF(U11+U15+U18=MAX(U11,U15,U18),MAX(U11,U15,U18),U11+U15+U18-MAX(U11,U15,U18)))","v":149},{"$f":"V11+V15+V18","v":194},{"$f":"W11+W15+W18","v":38852},{"$f":"ROUND(W19/V19,0)","v":200},{"$f":"MAX(Y11,Y15,Y18)","v":321},{"$f":"IF(MIN(Z11,Z15,Z18)>0,MIN(Z11,Z15,Z18),IF(Z11+Z15+Z18=MAX(Z11,Z15,Z18),MAX(Z11,Z15,Z18),Z11+Z15+Z18-MAX(Z11,Z15,Z18)))","v":95},{"$f":"AA11+AA15+AA18","v":186},{"$f":"AB11+AB15+AB18","v":48880},{"$f":"ROUND(AB19/AA19,0)","v":263},{"$f":"MAX(AD11,AD15,AD18)","v":455},{"$f":"IF(MIN(AE11,AE15,AE18)>0,MIN(AE11,AE15,AE18),IF(AE11+AE15+AE18=MAX(AE11,AE15,AE18),MAX(AE11,AE15,AE18),AE11+AE15+AE18-MAX(AE11,AE15,AE18)))","v":131},{"$f":"AF11+AF15+AF18","v":182},{"$f":"AG11+AG15+AG18","v":58369},{"$f":"ROUND(AG19/AF19,0)","v":321},{"$f":"MAX(AI11,AI15,AI18)","v":538},{"$f":"IF(MIN(AJ11,AJ15,AJ18)>0,MIN(AJ11,AJ15,AJ18),IF(AJ11+AJ15+AJ18=MAX(AJ11,AJ15,AJ18),MAX(AJ11,AJ15,AJ18),AJ11+AJ15+AJ18-MAX(AJ11,AJ15,AJ18)))","v":179},{"$f":"AK11+AK15+AK18","v":168},{"$f":"AL11+AL15+AL18","v":46980},{"$f":"ROUND(AL19/AK19,0)","v":280},{"$f":"MAX(AN11,AN15,AN18)","v":428},{"$f":"IF(MIN(AO11,AO15,AO18)>0,MIN(AO11,AO15,AO18),IF(AO11+AO15+AO18=MAX(AO11,AO15,AO18),MAX(AO11,AO15,AO18),AO11+AO15+AO18-MAX(AO11,AO15,AO18)))","v":177},{"$f":"AP11+AP15+AP18","v":181},{"$f":"AQ11+AQ15+AQ18","v":41129},{"$f":"ROUND(AQ19/AP19,0)","v":227},{"$f":"MAX(AS11,AS15,AS18)","v":396},{"$f":"IF(MIN(AT11,AT15,AT18)>0,MIN(AT11,AT15,AT18),IF(AT11+AT15+AT18=MAX(AT11,AT15,AT18),MAX(AT11,AT15,AT18),AT11+AT15+AT18-MAX(AT11,AT15,AT18)))","v":139},{"$f":"AU11+AU15+AU18","v":185},{"$f":"AV11+AV15+AV18","v":31749},{"$f":"ROUND(AV19/AU19,0)","v":172},{"$f":"MAX(AX11,AX15,AX18)","v":299},{"$f":"IF(MIN(AY11,AY15,AY18)>0,MIN(AY11,AY15,AY18),IF(AY11+AY15+AY18=MAX(AY11,AY15,AY18),MAX(AY11,AY15,AY18),AY11+AY15+AY18-MAX(AY11,AY15,AY18)))","v":86},{"$f":"AZ11+AZ15+AZ18","v":186},{"$f":"BA11+BA15+BA18","v":31721},{"$f":"ROUND(BA19/AZ19,0)","v":171},{"$f":"MAX(BC11,BC15,BC18)","v":378},{"$f":"IF(MIN(BD11,BD15,BD18)>0,MIN(BD11,BD15,BD18),IF(BD11+BD15+BD18=MAX(BD11,BD15,BD18),MAX(BD11,BD15,BD18),BD11+BD15+BD18-MAX(BD11,BD15,BD18)))","v":71},{"$f":"BE11+BE15+BE18","v":186},{"$f":"BF11+BF15+BF18","v":34891},{"$f":"ROUND(BF19/BE19,0)","v":188},{"$f":"MAX(BH11,BH15,BH18)","v":292},{"$f":"IF(MIN(BI11,BI15,BI18)>0,MIN(BI11,BI15,BI18),IF(BI11+BI15+BI18=MAX(BI11,BI15,BI18),MAX(BI11,BI15,BI18),BI11+BI15+BI18-MAX(BI11,BI15,BI18)))","v":106},{"$f":"BJ11+BJ15+BJ18","v":154},{"$f":"BK11+BK15+BK18","v":25188},{"$f":"ROUND(BK19/BJ19,0)","v":164},{"$f":"MAX(BM11,BM15,BM18)","v":321},{"$f":"IF(MIN(BN11,BN15,BN18)>0,MIN(BN11,BN15,BN18),IF(BN11+BN15+BN18=MAX(BN11,BN15,BN18),MAX(BN11,BN15,BN18),BN11+BN15+BN18-MAX(BN11,BN15,BN18)))","v":87},{"$f":"BO11+BO15+BO18","v":174},{"$f":"BP11+BP15+BP18","v":36804},{"$f":"ROUND(BP19/BO19,0)","v":212},{"$f":"MAX(BR11,BR15,BR18)","v":276},{"$f":"IF(MIN(BS11,BS15,BS18)>0,MIN(BS11,BS15,BS18),IF(BS11+BS15+BS18=MAX(BS11,BS15,BS18),MAX(BS11,BS15,BS18),BS11+BS15+BS18-MAX(BS11,BS15,BS18)))","v":127},{"$f":"BT11+BT15+BT18","v":185},{"$f":"BU11+BU15+BU18","v":30078},{"$f":"ROUND(BU19/BT19,0)","v":163},{"$f":"MAX(BW11,BW15,BW18)","v":267},{"$f":"IF(MIN(BX11,BX15,BX18)>0,MIN(BX11,BX15,BX18),IF(BX11+BX15+BX18=MAX(BX11,BX15,BX18),MAX(BX11,BX15,BX18),BX11+BX15+BX18-MAX(BX11,BX15,BX18)))","v":105},{"$f":"BY11+BY15+BY18","v":138},{"$f":"BZ11+BZ15+BZ18","v":45544},{"$f":"ROUND(BZ19/BY19,0)","v":330},{"$f":"MAX(CB11,CB15,CB18)","v":538},{"$f":"IF(MIN(CC11,CC15,CC18)>0,MIN(CC11,CC15,CC18),IF(CC11+CC15+CC18=MAX(CC11,CC15,CC18),MAX(CC11,CC15,CC18),CC11+CC15+CC18-MAX(CC11,CC15,CC18)))","v":165},{"$f":"CD11+CD15+CD18","v":179},{"$f":"CE11+CE15+CE18","v":47022},{"$f":"ROUND(CE19/CD19,0)","v":263},{"$f":"MAX(CG11,CG15,CG18)","v":518},{"$f":"IF(MIN(CH11,CH15,CH18)>0,MIN(CH11,CH15,CH18),IF(CH11+CH15+CH18=MAX(CH11,CH15,CH18),MAX(CH11,CH15,CH18),CH11+CH15+CH18-MAX(CH11,CH15,CH18)))","v":174},{"$f":"CI11+CI15+CI18","v":187},{"$f":"CJ11+CJ15+CJ18","v":31755},{"$f":"ROUND(CJ19/CI19,0)","v":170},{"$f":"MAX(CL11,CL15,CL18)","v":186},{"$f":"IF(MIN(CM11,CM15,CM18)>0,MIN(CM11,CM15,CM18),IF(CM11+CM15+CM18=MAX(CM11,CM15,CM18),MAX(CM11,CM15,CM18),CM11+CM15+CM18-MAX(CM11,CM15,CM18)))","v":157},{"$f":"CN11+CN15+CN18","v":0},{"$f":"CO11+CO15+CO18","v":0},{"$f":"IF(CO19=CN19,\"\",ROUND(CO19/CN19,0))","v":""},{"$f":"MAX(CQ11,CQ15,CQ18)","v":0},{"$f":"IF(MIN(CR11,CR15,CR18)>0,MIN(CR11,CR15,CR18),IF(CR11+CR15+CR18=MAX(CR11,CR15,CR18),MAX(CR11,CR15,CR18),CR11+CR15+CR18-MAX(CR11,CR15,CR18)))","v":0},null,69,6,1241,645,227,107,163,76,121,105,192,132,217,142,148,103,169,88,104,82,157,77,64,85,104,58,208,165,255,89,16,13,{"$error":"#VALUE!"},{"$error":"#VALUE!"}]
[null,{"$f":"COUNT(B16:B17,B12:B14,B6:B10)","v":10}]

{"sheet":"集計元","index":2,"n_rows":68,"n_cols":26,"rows_kept":68,"cut":false,"hidden":false,"merged":[[2,11,2,12],[24,21,24,22],[2,16,2,17],[46,1,46,2],[2,21,2,22],[24,1,24,2],[24,6,24,7],[24,11,24,12],[24,16,24,17],[2,1,2,2],[2,6,2,7]]}
[{"$f":"11-(COUNT(B6:Z6)+COUNT(B28:U28)+COUNT(B50:F50))/5","v":1}]
[]
[null,"伊東市",null,null,null,null,"熱海市",null,null,null,null,"裾野市",null,null,null,null,"沼津市",null,null,null,null,"富士市"]
[null,"店舗","価格","平均","高値","安値","店舗","価格","平均","高値","安値","店舗","価格","平均","高値","安値","店舗","価格","平均","高値","安値","店舗","価格","平均","高値","安値"]
[null,"数","集計値",null,null,null,"数","集計値",null,null,null,"数","集計値",null,null,null,"数","集計値",null,null,null,"数","集計値"]
["１  食パン",10,1648,164.8,199,150,7,1220,174.28571428571428,227,151,8,1294,161.75,179,141,13,2028,156,181,139,23,3716,161.56521739130434,204,131]
["２  うるち米",12,27125,2260.4166666666665,2484,1880,6,14286,2381,3296,1831,10,18480,1848,2448,1410,16,32899,2056.1875,2354,1621,26,56469,2171.8846153846152,3161,1831]
["３  み     そ",14,3850,275,368,183,4,979,244.75,307,183,8,2175,271.875,366,183,15,4264,284.26666666666665,486,183,23,7083,307.95652173913044,516,183]
["４  マーガリン",12,2769,230.75,280,204,5,1219,243.8,306,204,10,2372,237.2,388,180,16,3455,215.9375,246,189,22,4936,224.36363636363637,316,158]
["５  砂糖",15,3036,202.4,258,160,7,1642,234.57142857142858,278,194,10,1940,194,245,122,16,3157,197.3125,225,170,27,5692,210.81481481481481,321,131]
["６  しょうゆ",14,3660,261.42857142857144,390,214,7,2247,321,380,255,10,2491,249.1,306,213,16,4092,255.75,321,192,26,7249,278.80769230769232,455,192]
["７  食用油",13,4728,363.69230769230768,538,278,6,2296,382.66666666666669,422,286,10,3243,324.3,410,179,16,5379,336.1875,410,267,25,8182,327.27999999999997,421,197]
["８  マヨネーズ",15,4243,282.86666666666667,370,228,4,1249,312.25,397,280,9,2431,270.11111111111109,347,208,15,4262,284.13333333333333,311,246,23,6724,292.3478260869565,428,187]
["９  小麦粉",11,2519,229,275,170,5,1270,254,295,204,10,2213,221.3,286,158,16,3615,225.9375,278,189,24,5764,240.16666666666666,396,184]
["10　キャベツ",14,2625,187.5,270,98,7,1230,175.71428571428572,258,120,8,1508,188.5,258,108,15,2751,183.4,257,104,24,4151,172.95833333333334,213,86]
["11　大根",13,2398,184.46153846153845,213,90,7,1306,186.57142857142858,248,80,9,1535,170.55555555555554,214,129,16,2893,180.8125,214,129,24,4487,186.95833333333334,250,106]
["12  牛乳",14,3063,218.78571428571428,275,179,7,1657,236.71428571428572,292,183,9,1622,180.22222222222223,214,163,16,2912,182,235,151,25,4892,195.68,280,150]
["13  豚肉",9,1411,156.77777777777777,213,127,6,986,164.33333333333334,204,128,8,1221,152.625,189,122,16,2746,171.625,213,94,9,1431,159,192,116]
["14  鶏卵",13,2868,220.61538461538461,250,188,7,1627,232.42857142857142,259,203,8,1670,208.75,267,182,16,3439,214.9375,258,163,21,4584,218.28571428571428,257,141]
["15  台所用洗剤",13,2118,162.92307692307693,198,108,7,1138,162.57142857142858,179,130,10,1643,164.3,204,131,16,2580,161.25,267,130,23,3729,162.13043478260869,214,128]
["16  合成洗剤",12,4293,357.75,425,258,6,2231,371.83333333333331,410,306,9,2912,323.55555555555554,461,235,15,4581,305.39999999999998,409,165,15,5102,340.13333333333333,538,275]
["17  ﾃｨｯｼｭﾍﾟｰﾊﾟｰ",14,4064,290.28571428571428,410,198,6,2071,345.16666666666669,480,188,10,2336,233.6,310,174,16,3891,243.1875,375,178,24,6673,278.04166666666669,518,194]
["18  ガソリン",7,1206,172.28571428571428,174,169,9,1600,177.77777777777777,186,173,10,1680,168,170,164,15,2519,167.93333333333334,173,164,27,4507,166.92592592592592,176,159]
["19  家庭用灯油","","","","","","","","","","",null,null,null,null,null,"","","","","","","","","",""]
[null,"静岡市",null,null,null,null,"藤枝市",null,null,null,null,"島田市",null,null,null,null,"富士宮市",null,null,null,null,"掛川市"]
[null,"店舗","価格","平均","高値","安値","店舗","価格","平均","高値","安値","店舗","価格","平均","高値","安値","店舗","価格","平均","高値","安値","店舗","価格","平均","高値","安値"]
[null,"数","集計値",null,null,null,"数","集計値",null,null,null,"数","集計値",null,null,null,"数","集計値",null,null,null,"数","集計値"]
["１  食パン",35,5440,155,216,78,11,1725,156.81818181818181,181,100,13,2119,163,172,152,20,2984,149.19999999999999,181,110,10,1530,153,163,97]
["２  うるち米",35,71553,2044,2743,1576,11,22317,2028.8181818181818,2322,1831,12,23921,1993.4166666666667,2463,1680,19,37898,1994.6315789473683,2550,1680,10,19847,1984.7,2267,1525]
["３  み     そ",34,9765,287,358,182,11,3214,292.18181818181819,340,192,13,4013,308.69230769230768,368,276,18,4727,262.61111111111109,410,183,10,2858,285.8,368,213]
["４  マーガリン",34,7486,220,289,160,11,2459,223.54545454545453,278,192,13,2790,214.61538461538461,255,168,20,4482,224.1,306,163,10,2251,225.1,306,149]
["５  砂糖",38,7512,198,307,95,11,2214,201.27272727272728,224,160,13,2452,188.61538461538461,258,159,20,3842,192.1,235,131,10,1924,192.4,208,162]
["６  しょうゆ",35,8725,249,368,131,10,2427,242.7,306,192,12,3013,251.08333333333334,258,214,19,4833,254.36842105263159,388,158,10,2614,261.39999999999998,358,203]
["７  食用油",32,9749,305,399,185,11,3295,299.54545454545456,359,213,13,3857,296.69230769230768,339,248,20,6545,327.25,462,198,10,2987,298.7,429,197]
["８  マヨネーズ",31,8500,274,378,180,11,3091,281,312,214,11,3000,272.72727272727275,307,210,18,4990,277.22222222222223,386,213,7,1715,245,286,177]
["９  小麦粉",36,8145,226,328,139,11,2578,234.36363636363637,286,194,12,2607,217.25,282,192,20,4688,234.4,286,204,9,1892,210.22222222222223,267,183]
["10　キャベツ",37,5552,150,276,87,11,2078,188.90909090909091,214,138,13,2221,170.84615384615384,214,98,19,3531,185.84210526315789,213,98,10,1684,168.4,299,97]
["11　大根",38,5327,140,378,71,11,1978,179.81818181818181,214,105,13,2239,172.23076923076923,214,83,18,3196,177.55555555555554,216,98,10,1736,173.6,216,97]
["12  牛乳",35,6400,183,236,141,11,1953,177.54545454545453,205,106,13,2294,176.46153846153845,195,152,20,3654,182.7,248,152,10,1823,182.3,228,151]
["13  豚肉",33,5263,159,298,87,11,1858,168.90909090909091,321,101,13,2171,167,313,102,15,2609,173.93333333333334,213,127,9,1430,158.88888888888889,208,116]
["14  鶏卵",36,7127,198,236,127,11,2226,202.36363636363637,235,152,12,2567,213.91666666666666,236,152,15,3197,213.13333333333333,276,148,9,1895,210.55555555555554,224,183]
["15  台所用洗剤",35,5710,163,224,131,11,1828,166.18181818181819,204,130,13,2187,168.23076923076923,194,139,21,3372,160.57142857142858,204,131,10,1600,160,232,105]
["16  合成洗剤",23,7781,338,510,254,10,3218,321.8,410,268,9,3047,338.55555555555554,410,247,11,3496,317.81818181818181,358,235,8,2227,278.375,388,181]
["17  ﾃｨｯｼｭﾍﾟｰﾊﾟｰ",32,8464,265,408,187,11,2778,252.54545454545453,306,213,12,3249,270.75,349,198,20,4931,246.55,429,194,9,2080,231.11111111111111,286,197]
["18  ガソリン",39,6621,170,174,159,11,1892,172,184,164,13,2220,170.76923076923077,180,166,19,3219,169.42105263157896,177,157,10,1717,171.7,184,165]
["19  家庭用灯油",null,null,null,null,null,"","","","","",null,null,null,null,null,"","","","","","","","","",""]
[null,"浜松市"]
[null,"店舗","価格","平均","高値","安値"]
[null,"数","集計値"]
["１  食パン",27,4239,157,201,100]
["２  うるち米",27,53336,1975,2786,1566]
["３  み     そ",27,8150,302,409,203]
["４  マーガリン",27,6245,231,306,181]
["５  砂糖",27,5441,202,265,162]
["６  しょうゆ",27,7529,279,410,192]
["７  食用油",26,8108,312,410,213]
["８  マヨネーズ",24,6775,282,368,239]
["９  小麦粉",27,5838,216,285,190]
["10　キャベツ",27,4418,164,214,100]
["11　大根",27,4626,171,216,97]
["12  牛乳",26,4621,178,224,159]
["13  豚肉",25,4062,162,227,105]
["14  鶏卵",26,5604,216,257,163]
["15  台所用洗剤",26,4173,161,213,122]
["16  合成洗剤",20,6656,333,459,197]
["17  ﾃｨｯｼｭﾍﾟｰﾊﾟｰ",25,6485,259,462,187]
["18  ガソリン",27,4574,169,183,160]
["19  家庭用灯油","","","","",""]