{"text_format":"1","workbook":"xlsx","n_sheets":12,"sheets":["説明","入力","結果","間接1次","間接2次","波及合計","グラフ","登録","各種係数","投入係数","逆行列係数","需要増加額"],"not_rendered":{"charts":2,"images":0,"macros":1,"external_links":0,"defined_names":11,"comments":3,"pivot_tables":0},"unopened":[],"bounds":{"document_bytes":16777216,"sheet_cells":100000,"rows_first":2000,"rows_last":500,"rows_between":2000,"halvings":0,"cell_chars":16384,"cell_head_chars":4096},"cells_cut":0,"cells_raw":0,"read":"whole","date_system":"1900"}

{"sheet":"説明","index":0,"n_rows":113,"n_cols":3,"rows_kept":113,"cut":false,"hidden":false,"merged":[]}
[]
["【令和2年静岡県産業連関表　一般経済波及効果分析表（37部門）】"]
[]
["【はじめに】"]
["　この分析表は、「令和2年静岡県産業連関表」を使って、様々な産業の需要増加に伴う"]
["経済波及効果を算定するものです。この分析表の特徴は次のとおりです。"]
[]
["・37部門の産業から、該当する部門を選んで最終需要の増加額を入力するだけで、"]
["　経済波及効果を簡単に算定できます。"]
["・直接効果、間接1次効果、間接2次効果やそれらから成る経済波及効果を算定できます。(＊注)"]
["・生産者価格や県内需要額が不明でも、県内需要相当額を模擬算定できます。"]
["・生産波及に伴う雇用創出効果も算定できます。"]
["・複数件の入力データを登録・呼出できます。"]
["・分析用シートは、見やすくわかりやすいフローチャート方式で作成しています。"]
[]
[null,"＊注"]
[null,"直接効果：","需要増加額のうち、商業マージン等を調整し、県外に流出する分を除いた純増加額。"]
[null,"間接1次効果：","直接効果が生じたことによって、そこから波及的に生じる新たな生産増加額。"]
[null,"間接2次効果：","直接効果と間接1次効果による雇用者所得額の増加から2次波及的に生じる生産増加額。"]
[]
[]
["【シートの構成】"]
["　この分析表は、次の12種類のシートにより構成されています。"]
[]
[null,"シート名","シートの機能"]
[null,"【説明】","このシートです。"]
[null,"【入力】","需要増加額の入力シートです。利用者が入力作業を行うのはこのシートだけです。"]
[null,"【結果】","波及効果分析の算定結果が表示されます。"]
[null,"【間接1次】","直接効果→間接1次分の波及効果分析が実行されます。"]
[null,"【間接2次】","間接2次分の波及効果分析が実行されます。"]
[null,"【波及合計】","直接効果・間接1次・間接2次の合計と雇用創出効果の計算が実行されます。"]
[null,"【グラフ】","波及効果と雇用創出効果の部門別グラフが表示されます。"]
[null,"【登録】","入力データを保存しておくためのシートです。"]
[null,"【各種係数】","自給率、雇用者所得率、民間消費支出構成比等の各種係数とその説明です。"]
[null,"【投入係数】","間接1次効果の計算に必要な投入係数表です。"]
[null,"【逆行列係数】","間接1次・間接2次効果の計算に必要な逆行列係数表です。"]
[null,"【需要増加額】","間接1次分の波及効果計算を行うためのシートです。"]
[]
[]
["【分析の手順】"]
["　具体的な波及効果分析は、次の手順により行います。"]
[]
["1. 需要増加額の算定"]
["　事前に行います。事業等の実施により増加する需要増加額（消費・投資）を推計し、当てはまる"]
["産業部門別に割り振ります。"]
[]
["2. 需要増加額の入力"]
["　推計した需要増加額を「入力」シートに入力します。入力内訳は次の3種類です。"]
[]
["(1)県内・県外の内訳不明"]
["　需要額のうち、「県内財の需要につながる部分」と「県外財の需要につながる部分」との"]
["区別が困難な場合は、この欄に全額を入力します（自給率を適用して前者（県内需要分）を"]
["模擬算定します）。"]
[]
["（例：需要額は1億円だが、県内・県外財に使われる額の割り振りがわからない。）"]
[]
["(2)県内需要のみ(購入者価格)"]
["　全ての需要額が「県内財の需要につながる」場合は、ここに入力します。"]
[]
["（例：需要額は1億円で、全てが県内財の購入に使われる。）"]
[]
["(3)県内需要のみ(生産者価格)"]
["　財・サービスに含まれる商業・運輸マージンの調整が済んでいる場合、また工場での生産"]
["などマージンの計算が不要な場合は、ここに入力します。"]
[]
["（例：ある産業が工場で1億円の生産を行う。生産段階のため、消費者がそれを購入する際の商業・運輸"]
["　マージンの調整は不要。）"]
[]
["　入力内訳は把握している数値に応じて上記の3つを使い分けることができます。なお、部門ごと"]
["に異なる内訳を使っても、あるいは1つの部門で複数の内訳を同時に使っても構いません。"]
[]
["3. 分析結果の表示"]
["　需要増加額の入力が完了した時点で、「結果」シートに表示されているデータが波及効果の"]
["分析結果になります。必要に応じて「入力」シートと「結果」シートを印刷して御利用ください。"]
[]
["　波及効果分析のフローチャートは「間接1次・間接2次・波及合計」の各シートに記録されて"]
["います。これらのシートを見れば、波及効果分析の各段階で、どのような計算が行われている"]
["のかを把握できます。"]
[]
["【入力データの登録・呼出】"]
["　「入力」シートに入力されたデータは、[登録]ボタンを押すことで「登録」シートに保存する"]
["ことができます。上書き登録、名前を変えて登録も可能です。「登録」シートには何件でも入力"]
["データを保存することができます。"]
[]
["　また、一度登録したデータは、「入力」シートのタイトル欄をクリックしてリストボタンを"]
["押すことで、いつでも呼び出すことができます。"]
[]
["【補足】"]
["　「各種係数」シートにある「平均消費性向」については、必要に応じて値を変更することが"]
["できます。値が大きいほど間接2次効果が大きくなります（データの登録にも反映されます）。"]
[]
["　この分析表はMicrosoft Excel 2016, 2019(32bit)で動作します。これ以外のバージョンでは"]
["動作確認しておりませんので御注意ください。"]
[]
["　なお、公共事業の経済波及効果分析については、より精度の高い分析を行うための専用表"]
["【公共波及分析R02】を用意してありますので、本表と併せて御活用ください。"]
[]
["【著作権・免責事項等】"]
["1.本分析表の著作権は静岡県に帰属します。"]
["2.本分析表の分析結果は実際の経済波及効果を保証するものではありません。産業連関表を"]
["　使った分析手法の一例として御活用ください。"]
["3.本分析表の分析結果及び本分析表の使用によって生じたあらゆる結果について、静岡県は"]
["　責任を負いません。"]
["4.前記1～3に同意した方は、本分析表の使用、流用、再配布(無償に限る)を自由に行えます。"]
[]
["【問い合わせ先】"]
[]
[null,"〒420-8601　静岡県静岡市葵区追手町9番6号"]
[null,"静岡県企画部統計活用課　管理・普及班"]
[null,"Tel : 054-221-2241,2242"]
[null,"Fax : 054-251-3609"]
[null,"Mail-Address : toukei_katsuyo@pref.shizuoka.lg.jp"]
[null,"HomePage-URL : https://toukei.pref.shizuoka.jp/"]

{"sheet":"入力","index":1,"n_rows":45,"n_cols":7,"rows_kept":45,"cut":false,"hidden":false,"merged":[[2,3,2,5]]}
[]
[null,null,null,"タイトル：",{"$f":"D3","v":0}]
[null,"最終需要増加額入力",null,null,null,null,"登録"]
[]
[null,null,"単位:百万円"]
[null,null,null,"最終需要増加額内訳"]
[null,"37部門",null,"県内・県外の\n内訳不明","県内需要のみ\n(購入者価格)","県内需要のみ\n(生産者価格)","増加額合計"]
[null,"01","農林漁業",null,null,null,{"$f":"SUM(D8:F8)","v":0}]
[null,"06","鉱業",null,null,null,{"$f":"SUM(D9:F9)","v":0}]
[null,"11","飲食料品",null,null,null,0]
[null,"15","繊維製品",null,null,null,0]
[null,"16","パルプ・紙・木製品",null,null,null,0]
[null,"20","化学製品",null,null,null,0]
[null,"21","石油・石炭製品",null,null,null,0]
[null,"22","プラスチック・ゴム製品",null,null,null,0]
[null,"25","窯業・土石製品",null,null,null,0]
[null,"26","鉄鋼",null,null,null,0]
[null,"27","非鉄金属",null,null,null,0]
[null,"28","金属製品",null,null,null,0]
[null,"29","はん用機械",null,null,null,0]
[null,"30","生産用機械",null,null,null,0]
[null,"31","業務用機械",null,null,null,0]
[null,"32","電子部品",null,null,null,0]
[null,"33","電気機械",null,null,null,0]
[null,"34","情報通信機器",null,null,null,0]
[null,"35","輸送機械",null,null,null,0]
[null,"39","その他の製造工業製品",null,null,null,0]
[null,"41","建設",null,null,null,0]
[null,"46","電気・ガス・熱供給",null,null,null,0]
[null,"47","水道",null,null,null,0]
[null,"48","廃棄物処理",null,null,null,0]
[null,"51","商業",null,null,null,0]
[null,"53","金融・保険",null,null,null,0]
[null,"55","不動産",null,null,null,0]
[null,"57","運輸・郵便",null,null,null,0]
[null,"59","情報通信",null,null,null,0]
[null,"61","公務",null,null,null,0]
[null,"63","教育・研究",null,null,null,0]
[null,"64","医療・福祉",null,null,null,0]
[null,"65","他に分類されない会員制団体",null,null,null,0]
[null,"66","対事業所サービス",null,null,null,0]
[null,"67","対個人サービス",null,null,null,0]
[null,"68","事務用品",null,null,null,0]
[null,"69","分類不明",null,null,null,0]
[null,null,"増加額合計",{"$f":"SUM(D8:D44)","v":0},{"$f":"SUM(E8:E44)","v":0},{"$f":"SUM(F8:F44)","v":0},{"$f":"SUM(G8:G44)","v":0}]

{"sheet":"結果","index":2,"n_rows":32,"n_cols":5,"rows_kept":32,"cut":false,"hidden":false,"merged":[]}
[]
[null,{"$f":"\"波及効果算定結果(37部門)\"&IF(入力!D3=\"\",\"\",\"　－　\")&入力!D3","v":"波及効果算定結果(37部門)"}]
[]
[]
[null,"1.最終需要増加額",null,null,"単位:百万円"]
[null,{"$f":"入力!D7","v":"県内・県外の\n内訳不明"},{"$f":"入力!E7","v":"県内需要のみ\n(購入者価格)"},{"$f":"入力!F7","v":"県内需要のみ\n(生産者価格)"},"需要額計(f)"]
[null,{"$f":"入力!D45","v":0},{"$f":"入力!E45","v":0},{"$f":"入力!F45","v":0},{"$f":"SUM(B7:D7)","v":0}]
[]
[]
[null,"2.生産誘発額",null,null,"単位:百万円"]
[null,"直接効果(F)","間接1次(X1)","間接2次(X2)","生産誘発額計(X)"]
[null,{"$f":"波及合計!E45","v":0},{"$f":"波及合計!G45","v":0},{"$f":"波及合計!I45","v":0},{"$f":"SUM(B12:D12)","v":0}]
[]
[]
[null,"3.波及効果倍率","単位:倍"]
[null,"生産誘発額計\n÷需要額計(X/f)","生産誘発額計\n÷直接効果(X/F)"]
[null,{"$f":"IF(E7=0,0,E12/E7)","v":0},{"$f":"IF(B12=0,0,E12/B12)","v":0},"X/f:需要額全体に対する波及効果倍率\nX/F:直接効果分に対する波及効果倍率"]
[]
[]
[null,"4.雇用誘発人数",{"$f":"波及合計!M45","v":0},"人"]
[]
[]
[null,"【参考】"]
[null,"種類","数値","計算方法"]
[null,{"$f":"波及合計!O5","v":"粗付加価値誘発額"},{"$f":"ROUND(波及合計!O45,1)","v":0},{"$f":"波及合計!K5&\"×\"&各種係数!H5&\"(単位：百万円)\"","v":"生産誘発額×粗付加価値率(単位：百万円)"}]
[null,"県内総生産への寄与",{"$f":"ROUND(C25/C32,3)","v":0},{"$f":"B25&\"÷\"&B32&\"(単位：%)\"","v":"粗付加価値誘発額÷県内総生産(単位：%)"}]
[]
[]
[null,"【参照値】"]
[null,"種類","数値","摘要"]
[null,{"$f":"各種係数!L6","v":"平均消費性向"},{"$f":"各種係数!L8","v":0.61399999999999999},{"$f":"VLOOKUP(C31,各種係数!L9:M14,2,FALSE)","v":"総務省　家計調査年報(令和6年・東海)"}]
[null,{"$f":"各種係数!L16","v":"県内総生産"},{"$f":"各種係数!L17","v":182711},{"$f":"各種係数!M17","v":"令和4年度静岡県の県民経済計算(単位：億円)"}]

{"sheet":"間接1次","index":3,"n_rows":45,"n_cols":31,"rows_kept":45,"cut":false,"hidden":false,"merged":[]}
[null,null,null,null,"← 県内・県外の内訳不明 →",null,null,null,null,null,null,null,null,"+","← 県内需要のみ(購入者価格) →",null,null,null,null,null,null,"+","生産者価格","=","直接効果","→","波及効果計算",null,null,"→","第1次波及効果"]
[null,"波及効果計算"]
[null,"（間接1次フローチャート）",null,null,null,null,null,null,null,null,null,null,"×自給率",null,null,null,null,null,null,null,null,null,null,null,null,null,"×投入係数",null,"×自給率",null,"×逆行列係数"]
[null,null,"単位:百万円",null,null,null,null,null,null,null,null,null,"↓",null,null,null,null,null,null,null,null,null,null,null,null,null,"↓",null,"↓",null,"↓"]
[null,null,null,null,"需要増加額",null,{"$f":"各種係数!D5","v":"商業マージン"},null,{"$f":"各種係数!E5","v":"運輸マージン"},null,{"$f":"$E5","v":"需要増加額"},null,"県内需要",null,{"$f":"$E5","v":"需要増加額"},null,{"$f":"各種係数!D5","v":"商業マージン"},null,{"$f":"各種係数!E5","v":"運輸マージン"},null,{"$f":"$M5","v":"県内需要"},null,{"$f":"$M5","v":"県内需要"},null,{"$f":"Y1","v":"直接効果"},null,"需要増加額",null,{"$f":"$AA5","v":"需要増加額"},null,"生産誘発額"]
[null,"37部門",null,null,"(内訳不明)","-",null,"-",null,"=",{"$f":"$E6","v":"(内訳不明)"},null,{"$f":"$E6","v":"(内訳不明)"},null,"(県内のみ)","-",null,"-",null,"=",{"$f":"$O6","v":"(県内のみ)"},null,{"$f":"\"(\"&W1&\")\"","v":"(生産者価格)"},null,"(県内需要計)",null,"(誘発分)",null,"(県内誘発分)",null,"(間接1次)"]
[null,null,null,null,"f1",null,{"$f":"各種係数!D7","v":"cm"},null,{"$f":"各種係数!E7","v":"tm"},null,"(マージン調整)",null,"F1",null,"f2",null,{"$f":"各種係数!D7","v":"cm"},null,{"$f":"各種係数!E7","v":"tm"},null,"F2",null,"f3=F3",null,"F",null,{"$f":"\"α\"&Y7","v":"αF"},null,{"$f":"\"(\"&各種係数!F7&\")×\"&AA7","v":"(1-M)×αF"},null,"X1"]
[null,"01","農林漁業",null,{"$f":"入力!D8","v":0},null,{"$f":"E8*各種係数!$D8","v":0},null,{"$f":"E8*各種係数!$E8","v":0},null,{"$f":"E8-G8-I8","v":0},null,{"$f":"各種係数!$F8*K8","v":0},null,{"$f":"入力!E8","v":0},null,{"$f":"O8*各種係数!$D8","v":0},null,{"$f":"O8*各種係数!$E8","v":0},null,{"$f":"O8-Q8-S8","v":0},null,{"$f":"入力!F8","v":0},null,{"$f":"M8+U8+W8","v":0},null,{"$f":"需要増加額!AO8","v":0},null,{"$f":"各種係数!$F8*AA8","v":0},null,{"$f":"MMULT(逆行列係数!D8:AN44,間接1次!AC8:AC44)","v":0}]
[null,"06","鉱業",null,{"$f":"入力!D9","v":0},null,{"$f":"E9*各種係数!$D9","v":0},null,{"$f":"E9*各種係数!$E9","v":0},null,0,null,{"$f":"各種係数!$F9*K9","v":0},null,{"$f":"入力!E9","v":0},null,{"$f":"O9*各種係数!$D9","v":0},null,{"$f":"O9*各種係数!$E9","v":0},null,{"$f":"O9-Q9-S9","v":0},null,{"$f":"入力!F9","v":0},null,{"$f":"M9+U9+W9","v":0},null,{"$f":"需要増加額!AO9","v":0},null,{"$f":"各種係数!$F9*AA9","v":0},null,0]
[null,"11","飲食料品",null,{"$f":"入力!D10","v":0},null,{"$f":"E10*各種係数!$D10","v":0},null,{"$f":"E10*各種係数!$E10","v":0},null,0,null,{"$f":"各種係数!$F10*K10","v":0},null,{"$f":"入力!E10","v":0},null,{"$f":"O10*各種係数!$D10","v":0},null,{"$f":"O10*各種係数!$E10","v":0},null,0,null,{"$f":"入力!F10","v":0},null,0,null,{"$f":"需要増加額!AO10","v":0},null,{"$f":"各種係数!$F10*AA10","v":0},null,0]
[null,"15","繊維製品",null,{"$f":"入力!D11","v":0},null,{"$f":"E11*各種係数!$D11","v":0},null,{"$f":"E11*各種係数!$E11","v":0},null,0,null,{"$f":"各種係数!$F11*K11","v":0},null,{"$f":"入力!E11","v":0},null,{"$f":"O11*各種係数!$D11","v":0},null,{"$f":"O11*各種係数!$E11","v":0},null,0,null,{"$f":"入力!F11","v":0},null,0,null,{"$f":"需要増加額!AO11","v":0},null,{"$f":"各種係数!$F11*AA11","v":0},null,0]
[null,"16","パルプ・紙・木製品",null,{"$f":"入力!D12","v":0},null,{"$f":"E12*各種係数!$D12","v":0},null,{"$f":"E12*各種係数!$E12","v":0},null,0,null,{"$f":"各種係数!$F12*K12","v":0},null,{"$f":"入力!E12","v":0},null,{"$f":"O12*各種係数!$D12","v":0},null,{"$f":"O12*各種係数!$E12","v":0},null,0,null,{"$f":"入力!F12","v":0},null,0,null,{"$f":"需要増加額!AO12","v":0},null,{"$f":"各種係数!$F12*AA12","v":0},null,0]
[null,"20","化学製品",null,{"$f":"入力!D13","v":0},null,{"$f":"E13*各種係数!$D13","v":0},null,{"$f":"E13*各種係数!$E13","v":0},null,0,null,{"$f":"各種係数!$F13*K13","v":0},null,{"$f":"入力!E13","v":0},null,{"$f":"O13*各種係数!$D13","v":0},null,{"$f":"O13*各種係数!$E13","v":0},null,0,null,{"$f":"入力!F13","v":0},null,0,null,{"$f":"需要増加額!AO13","v":0},null,{"$f":"各種係数!$F13*AA13","v":0},null,0]
[null,"21","石油・石炭製品",null,{"$f":"入力!D14","v":0},null,{"$f":"E14*各種係数!$D14","v":0},null,{"$f":"E14*各種係数!$E14","v":0},null,0,null,{"$f":"各種係数!$F14*K14","v":0},null,{"$f":"入力!E14","v":0},null,{"$f":"O14*各種係数!$D14","v":0},null,{"$f":"O14*各種係数!$E14","v":0},null,0,null,{"$f":"入力!F14","v":0},null,0,null,{"$f":"需要増加額!AO14","v":0},null,{"$f":"各種係数!$F14*AA14","v":0},null,0]
[null,"22","プラスチック・ゴム製品",null,{"$f":"入力!D15","v":0},null,{"$f":"E15*各種係数!$D15","v":0},null,{"$f":"E15*各種係数!$E15","v":0},null,0,null,{"$f":"各種係数!$F15*K15","v":0},null,{"$f":"入力!E15","v":0},null,{"$f":"O15*各種係数!$D15","v":0},null,{"$f":"O15*各種係数!$E15","v":0},null,0,null,{"$f":"入力!F15","v":0},null,0,null,{"$f":"需要増加額!AO15","v":0},null,{"$f":"各種係数!$F15*AA15","v":0},null,0]
[null,"25","窯業・土石製品",null,{"$f":"入力!D16","v":0},null,{"$f":"E16*各種係数!$D16","v":0},null,{"$f":"E16*各種係数!$E16","v":0},null,0,null,{"$f":"各種係数!$F16*K16","v":0},null,{"$f":"入力!E16","v":0},null,{"$f":"O16*各種係数!$D16","v":0},null,{"$f":"O16*各種係数!$E16","v":0},null,0,null,{"$f":"入力!F16","v":0},null,0,null,{"$f":"需要増加額!AO16","v":0},null,{"$f":"各種係数!$F16*AA16","v":0},null,0]
[null,"26","鉄鋼",null,{"$f":"入力!D17","v":0},null,{"$f":"E17*各種係数!$D17","v":0},null,{"$f":"E17*各種係数!$E17","v":0},null,0,null,{"$f":"各種係数!$F17*K17","v":0},null,{"$f":"入力!E17","v":0},null,{"$f":"O17*各種係数!$D17","v":0},null,{"$f":"O17*各種係数!$E17","v":0},null,0,null,{"$f":"入力!F17","v":0},null,0,null,{"$f":"需要増加額!AO17","v":0},null,{"$f":"各種係数!$F17*AA17","v":0},null,0]
[null,"27","非鉄金属",null,{"$f":"入力!D18","v":0},null,{"$f":"E18*各種係数!$D18","v":0},null,{"$f":"E18*各種係数!$E18","v":0},null,0,null,{"$f":"各種係数!$F18*K18","v":0},null,{"$f":"入力!E18","v":0},null,{"$f":"O18*各種係数!$D18","v":0},null,{"$f":"O18*各種係数!$E18","v":0},null,0,null,{"$f":"入力!F18","v":0},null,0,null,{"$f":"需要増加額!AO18","v":0},null,{"$f":"各種係数!$F18*AA18","v":0},null,0]
[null,"28","金属製品",null,{"$f":"入力!D19","v":0},null,{"$f":"E19*各種係数!$D19","v":0},null,{"$f":"E19*各種係数!$E19","v":0},null,0,null,{"$f":"各種係数!$F19*K19","v":0},null,{"$f":"入力!E19","v":0},null,{"$f":"O19*各種係数!$D19","v":0},null,{"$f":"O19*各種係数!$E19","v":0},null,0,null,{"$f":"入力!F19","v":0},null,0,null,{"$f":"需要増加額!AO19","v":0},null,{"$f":"各種係数!$F19*AA19","v":0},null,0]
[null,"29","はん用機械",null,{"$f":"入力!D20","v":0},null,{"$f":"E20*各種係数!$D20","v":0},null,{"$f":"E20*各種係数!$E20","v":0},null,0,null,{"$f":"各種係数!$F20*K20","v":0},null,{"$f":"入力!E20","v":0},null,{"$f":"O20*各種係数!$D20","v":0},null,{"$f":"O20*各種係数!$E20","v":0},null,0,null,{"$f":"入力!F20","v":0},null,0,null,{"$f":"需要増加額!AO20","v":0},null,{"$f":"各種係数!$F20*AA20","v":0},null,0]
[null,"30","生産用機械",null,{"$f":"入力!D21","v":0},null,{"$f":"E21*各種係数!$D21","v":0},null,{"$f":"E21*各種係数!$E21","v":0},null,0,null,{"$f":"各種係数!$F21*K21","v":0},null,{"$f":"入力!E21","v":0},null,{"$f":"O21*各種係数!$D21","v":0},null,{"$f":"O21*各種係数!$E21","v":0},null,0,null,{"$f":"入力!F21","v":0},null,0,null,{"$f":"需要増加額!AO21","v":0},null,{"$f":"各種係数!$F21*AA21","v":0},null,0]
[null,"31","業務用機械",null,{"$f":"入力!D22","v":0},null,{"$f":"E22*各種係数!$D22","v":0},null,{"$f":"E22*各種係数!$E22","v":0},null,0,null,{"$f":"各種係数!$F22*K22","v":0},null,{"$f":"入力!E22","v":0},null,{"$f":"O22*各種係数!$D22","v":0},null,{"$f":"O22*各種係数!$E22","v":0},null,0,null,{"$f":"入力!F22","v":0},null,0,null,{"$f":"需要増加額!AO22","v":0},null,{"$f":"各種係数!$F22*AA22","v":0},null,0]
[null,"32","電子部品",null,{"$f":"入力!D23","v":0},null,{"$f":"E23*各種係数!$D23","v":0},null,{"$f":"E23*各種係数!$E23","v":0},null,0,null,{"$f":"各種係数!$F23*K23","v":0},null,{"$f":"入力!E23","v":0},null,{"$f":"O23*各種係数!$D23","v":0},null,{"$f":"O23*各種係数!$E23","v":0},null,0,null,{"$f":"入力!F23","v":0},null,0,null,{"$f":"需要増加額!AO23","v":0},null,{"$f":"各種係数!$F23*AA23","v":0},null,0]
[null,"33","電気機械",null,{"$f":"入力!D24","v":0},null,{"$f":"E24*各種係数!$D24","v":0},null,{"$f":"E24*各種係数!$E24","v":0},null,0,null,{"$f":"各種係数!$F24*K24","v":0},null,{"$f":"入力!E24","v":0},null,{"$f":"O24*各種係数!$D24","v":0},null,{"$f":"O24*各種係数!$E24","v":0},null,0,null,{"$f":"入力!F24","v":0},null,0,null,{"$f":"需要増加額!AO24","v":0},null,{"$f":"各種係数!$F24*AA24","v":0},null,0]
[null,"34","情報通信機器",null,{"$f":"入力!D25","v":0},null,{"$f":"E25*各種係数!$D25","v":0},null,{"$f":"E25*各種係数!$E25","v":0},null,0,null,{"$f":"各種係数!$F25*K25","v":0},null,{"$f":"入力!E25","v":0},null,{"$f":"O25*各種係数!$D25","v":0},null,{"$f":"O25*各種係数!$E25","v":0},null,0,null,{"$f":"入力!F25","v":0},null,0,null,{"$f":"需要増加額!AO25","v":0},null,{"$f":"各種係数!$F25*AA25","v":0},null,0]
[null,"35","輸送機械",null,{"$f":"入力!D26","v":0},null,{"$f":"E26*各種係数!$D26","v":0},null,{"$f":"E26*各種係数!$E26","v":0},null,0,null,{"$f":"各種係数!$F26*K26","v":0},null,{"$f":"入力!E26","v":0},null,{"$f":"O26*各種係数!$D26","v":0},null,{"$f":"O26*各種係数!$E26","v":0},null,0,null,{"$f":"入力!F26","v":0},null,0,null,{"$f":"需要増加額!AO26","v":0},null,{"$f":"各種係数!$F26*AA26","v":0},null,0]
[null,"39","その他の製造工業製品",null,{"$f":"入力!D27","v":0},null,{"$f":"E27*各種係数!$D27","v":0},null,{"$f":"E27*各種係数!$E27","v":0},null,0,null,{"$f":"各種係数!$F27*K27","v":0},null,{"$f":"入力!E27","v":0},null,{"$f":"O27*各種係数!$D27","v":0},null,{"$f":"O27*各種係数!$E27","v":0},null,0,null,{"$f":"入力!F27","v":0},null,0,null,{"$f":"需要増加額!AO27","v":0},null,{"$f":"各種係数!$F27*AA27","v":0},null,0]
[null,"41","建設",null,{"$f":"入力!D28","v":0},null,{"$f":"E28*各種係数!$D28","v":0},null,{"$f":"E28*各種係数!$E28","v":0},null,0,null,{"$f":"各種係数!$F28*K28","v":0},null,{"$f":"入力!E28","v":0},null,{"$f":"O28*各種係数!$D28","v":0},null,{"$f":"O28*各種係数!$E28","v":0},null,0,null,{"$f":"入力!F28","v":0},null,0,null,{"$f":"需要増加額!AO28","v":0},null,{"$f":"各種係数!$F28*AA28","v":0},null,0]
[null,"46","電気・ガス・熱供給",null,{"$f":"入力!D29","v":0},null,{"$f":"E29*各種係数!$D29","v":0},null,{"$f":"E29*各種係数!$E29","v":0},null,0,null,{"$f":"各種係数!$F29*K29","v":0},null,{"$f":"入力!E29","v":0},null,{"$f":"O29*各種係数!$D29","v":0},null,{"$f":"O29*各種係数!$E29","v":0},null,0,null,{"$f":"入力!F29","v":0},null,0,null,{"$f":"需要増加額!AO29","v":0},null,{"$f":"各種係数!$F29*AA29","v":0},null,0]
[null,"47","水道",null,{"$f":"入力!D30","v":0},null,{"$f":"E30*各種係数!$D30","v":0},null,{"$f":"E30*各種係数!$E30","v":0},null,0,null,{"$f":"各種係数!$F30*K30","v":0},null,{"$f":"入力!E30","v":0},null,{"$f":"O30*各種係数!$D30","v":0},null,{"$f":"O30*各種係数!$E30","v":0},null,0,null,{"$f":"入力!F30","v":0},null,0,null,{"$f":"需要増加額!AO30","v":0},null,{"$f":"各種係数!$F30*AA30","v":0},null,0]
[null,"48","廃棄物処理",null,{"$f":"入力!D31","v":0},null,{"$f":"E31*各種係数!$D31","v":0},null,{"$f":"E31*各種係数!$E31","v":0},null,0,null,{"$f":"各種係数!$F31*K31","v":0},null,{"$f":"入力!E31","v":0},null,{"$f":"O31*各種係数!$D31","v":0},null,{"$f":"O31*各種係数!$E31","v":0},null,0,null,{"$f":"入力!F31","v":0},null,0,null,{"$f":"需要増加額!AO31","v":0},null,{"$f":"各種係数!$F31*AA31","v":0},null,0]
[null,"51","商業",null,{"$f":"入力!D32","v":0},"+",{"$f":"G45","v":0},null,{"$f":"E32*各種係数!$E32","v":0},null,{"$f":"E32+G32-I32","v":0},null,{"$f":"各種係数!$F32*K32","v":0},null,{"$f":"入力!E32","v":0},"+",{"$f":"Q45","v":0},null,{"$f":"O32*各種係数!$E32","v":0},null,{"$f":"O32+Q32-S32","v":0},null,{"$f":"入力!F32","v":0},null,0,null,{"$f":"需要増加額!AO32","v":0},null,{"$f":"各種係数!$F32*AA32","v":0},null,0]
[null,"53","金融・保険",null,{"$f":"入力!D33","v":0},null,{"$f":"E33*各種係数!$D33","v":0},null,{"$f":"E33*各種係数!$E33","v":0},null,{"$f":"E33-G33-I33","v":0},null,{"$f":"各種係数!$F33*K33","v":0},null,{"$f":"入力!E33","v":0},null,{"$f":"O33*各種係数!$D33","v":0},null,{"$f":"O33*各種係数!$E33","v":0},null,0,null,{"$f":"入力!F33","v":0},null,0,null,{"$f":"需要増加額!AO33","v":0},null,{"$f":"各種係数!$F33*AA33","v":0},null,0]
[null,"55","不動産",null,{"$f":"入力!D34","v":0},null,{"$f":"E34*各種係数!$D34","v":0},null,{"$f":"E34*各種係数!$E34","v":0},null,0,null,{"$f":"各種係数!$F34*K34","v":0},null,{"$f":"入力!E34","v":0},null,{"$f":"O34*各種係数!$D34","v":0},null,{"$f":"O34*各種係数!$E34","v":0},null,0,null,{"$f":"入力!F34","v":0},null,0,null,{"$f":"需要増加額!AO34","v":0},null,{"$f":"各種係数!$F34*AA34","v":0},null,0]
[null,"57","運輸・郵便",null,{"$f":"入力!D35","v":0},null,{"$f":"E35*各種係数!$D35","v":0},"+",{"$f":"I45","v":0},null,{"$f":"E35-G35+I35","v":0},null,{"$f":"各種係数!$F35*K35","v":0},null,{"$f":"入力!E35","v":0},null,{"$f":"O35*各種係数!$D35","v":0},"+",{"$f":"S45","v":0},null,{"$f":"O35-Q35+S35","v":0},null,{"$f":"入力!F35","v":0},null,0,null,{"$f":"需要増加額!AO35","v":0},null,{"$f":"各種係数!$F35*AA35","v":0},null,0]
[null,"59","情報通信",null,{"$f":"入力!D36","v":0},null,{"$f":"E36*各種係数!$D36","v":0},null,{"$f":"E36*各種係数!$E36","v":0},null,0,null,{"$f":"各種係数!$F36*K36","v":0},null,{"$f":"入力!E36","v":0},null,{"$f":"O36*各種係数!$D36","v":0},null,{"$f":"O36*各種係数!$E36","v":0},null,0,null,{"$f":"入力!F36","v":0},null,0,null,{"$f":"需要増加額!AO36","v":0},null,{"$f":"各種係数!$F36*AA36","v":0},null,0]
[null,"61","公務",null,{"$f":"入力!D37","v":0},null,{"$f":"E37*各種係数!$D37","v":0},null,{"$f":"E37*各種係数!$E37","v":0},null,0,null,{"$f":"各種係数!$F37*K37","v":0},null,{"$f":"入力!E37","v":0},null,{"$f":"O37*各種係数!$D37","v":0},null,{"$f":"O37*各種係数!$E37","v":0},null,0,null,{"$f":"入力!F37","v":0},null,0,null,{"$f":"需要増加額!AO37","v":0},null,{"$f":"各種係数!$F37*AA37","v":0},null,0]
[null,"63","教育・研究",null,{"$f":"入力!D38","v":0},null,{"$f":"E38*各種係数!$D38","v":0},null,{"$f":"E38*各種係数!$E38","v":0},null,0,null,{"$f":"各種係数!$F38*K38","v":0},null,{"$f":"入力!E38","v":0},null,{"$f":"O38*各種係数!$D38","v":0},null,{"$f":"O38*各種係数!$E38","v":0},null,0,null,{"$f":"入力!F38","v":0},null,0,null,{"$f":"需要増加額!AO38","v":0},null,{"$f":"各種係数!$F38*AA38","v":0},null,0]
[null,"64","医療・福祉",null,{"$f":"入力!D39","v":0},null,{"$f":"E39*各種係数!$D39","v":0},null,{"$f":"E39*各種係数!$E39","v":0},null,0,null,{"$f":"各種係数!$F39*K39","v":0},null,{"$f":"入力!E39","v":0},null,{"$f":"O39*各種係数!$D39","v":0},null,{"$f":"O39*各種係数!$E39","v":0},null,0,null,{"$f":"入力!F39","v":0},null,0,null,{"$f":"需要増加額!AO39","v":0},null,{"$f":"各種係数!$F39*AA39","v":0},null,0]
[null,"65","他に分類されない会員制団体",null,{"$f":"入力!D40","v":0},null,{"$f":"E40*各種係数!$D40","v":0},null,{"$f":"E40*各種係数!$E40","v":0},null,0,null,{"$f":"各種係数!$F40*K40","v":0},null,{"$f":"入力!E40","v":0},null,{"$f":"O40*各種係数!$D40","v":0},null,{"$f":"O40*各種係数!$E40","v":0},null,0,null,{"$f":"入力!F40","v":0},null,0,null,{"$f":"需要増加額!AO40","v":0},null,{"$f":"各種係数!$F40*AA40","v":0},null,0]
[null,"66","対事業所サービス",null,{"$f":"入力!D41","v":0},null,{"$f":"E41*各種係数!$D41","v":0},null,{"$f":"E41*各種係数!$E41","v":0},null,0,null,{"$f":"各種係数!$F41*K41","v":0},null,{"$f":"入力!E41","v":0},null,{"$f":"O41*各種係数!$D41","v":0},null,{"$f":"O41*各種係数!$E41","v":0},null,0,null,{"$f":"入力!F41","v":0},null,0,null,{"$f":"需要増加額!AO41","v":0},null,{"$f":"各種係数!$F41*AA41","v":0},null,0]
[null,"67","対個人サービス",null,{"$f":"入力!D42","v":0},null,{"$f":"E42*各種係数!$D42","v":0},null,{"$f":"E42*各種係数!$E42","v":0},null,0,null,{"$f":"各種係数!$F42*K42","v":0},null,{"$f":"入力!E42","v":0},null,{"$f":"O42*各種係数!$D42","v":0},null,{"$f":"O42*各種係数!$E42","v":0},null,0,null,{"$f":"入力!F42","v":0},null,0,null,{"$f":"需要増加額!AO42","v":0},null,{"$f":"各種係数!$F42*AA42","v":0},null,0]
[null,"68","事務用品",null,{"$f":"入力!D43","v":0},null,{"$f":"E43*各種係数!$D43","v":0},null,{"$f":"E43*各種係数!$E43","v":0},null,0,null,{"$f":"各種係数!$F43*K43","v":0},null,{"$f":"入力!E43","v":0},null,{"$f":"O43*各種係数!$D43","v":0},null,{"$f":"O43*各種係数!$E43","v":0},null,0,null,{"$f":"入力!F43","v":0},null,0,null,{"$f":"需要増加額!AO43","v":0},null,{"$f":"各種係数!$F43*AA43","v":0},null,0]
[null,"69","分類不明",null,{"$f":"入力!D44","v":0},null,{"$f":"E44*各種係数!$D44","v":0},null,{"$f":"E44*各種係数!$E44","v":0},null,0,null,{"$f":"各種係数!$F44*K44","v":0},null,{"$f":"入力!E44","v":0},null,{"$f":"O44*各種係数!$D44","v":0},null,{"$f":"O44*各種係数!$E44","v":0},null,0,null,{"$f":"入力!F44","v":0},null,0,null,{"$f":"需要増加額!AO44","v":0},null,{"$f":"各種係数!$F44*AA44","v":0},null,0]
[null,null,"合計",null,{"$f":"SUM(E8:E44)","v":0},null,{"$f":"SUM(G8:G31,G33:G44)","v":0},null,{"$f":"SUM(I8:I34,I36:I44)","v":0},null,{"$f":"SUM(K8:K44)","v":0},null,{"$f":"SUM(M8:M44)","v":0},null,{"$f":"SUM(O8:O44)","v":0},null,{"$f":"SUM(Q8:Q31,Q33:Q44)","v":0},null,{"$f":"SUM(S8:S34,S36:S44)","v":0},null,{"$f":"SUM(U8:U44)","v":0},null,{"$f":"SUM(W8:W44)","v":0},null,{"$f":"SUM(Y8:Y44)","v":0},null,{"$f":"SUM(AA8:AA44)","v":0},null,{"$f":"SUM(AC8:AC44)","v":0},null,{"$f":"SUM(AE8:AE44)","v":0}]

{"sheet":"間接2次","index":4,"n_rows":45,"n_cols":19,"rows_kept":45,"cut":false,"hidden":false,"merged":[]}
[null,null,null,null,"← 雇用者所得誘発額 →",null,null,null,null,null,null,null,null,"→","波及効果計算",null,null,"→","第2次波及効果"]
[null,"波及効果計算"]
[null,"（間接2次フローチャート）",null,null,null,null,null,null,null,null,"×雇用者所得率",null,"×平均消費性向",null,"×民間消費構成比",null,"×自給率",null,"×逆行列係数"]
[null,null,"単位:百万円",null,null,null,null,null,null,null,"↓",null,"↓",null,"↓",null,"↓",null,"↓"]
[null,null,null,null,{"$f":"間接1次!Y5","v":"直接効果"},null,{"$f":"間接1次!AE5","v":"生産誘発額"},null,{"$f":"E5&\"＋\"","v":"直接効果＋"},null,"雇用者所得",null,"民間消費支出",null,"需要増加額",null,"需要増加額",null,"生産誘発額"]
[null,"37部門",null,null,{"$f":"間接1次!Y6","v":"(県内需要計)"},"+",{"$f":"間接1次!AE6","v":"(間接1次)"},"=",{"$f":"G5","v":"生産誘発額"},null,"誘発額",null,"増加額",null,"(誘発分)",null,"(県内誘発分)",null,"(間接2次)"]
[null,null,null,null,{"$f":"間接1次!Y7","v":"F"},null,{"$f":"間接1次!AE7","v":"X1"},null,{"$f":"\"Δ\"&G7","v":"ΔX1"},null,{"$f":"各種係数!I7&I7","v":"wΔX1"},null,{"$f":"各種係数!L7&K7","v":"kwΔX1"},null,{"$f":"各種係数!J7&M7","v":"ckwΔX1"},null,{"$f":"\"(\"&各種係数!F7&\")×\"&O7","v":"(1-M)×ckwΔX1"},null,"X2"]
[null,"01","農林漁業",null,{"$f":"間接1次!Y8","v":0},null,{"$f":"間接1次!AE8","v":0},null,{"$f":"E8+G8","v":0},null,{"$f":"各種係数!$I8*I8","v":0},null,{"$f":"各種係数!$L$8*K8","v":0},null,{"$f":"各種係数!$J8*M$45","v":0},null,{"$f":"各種係数!$F8*O8","v":0},null,{"$f":"MMULT(逆行列係数!D8:AN44,間接2次!Q8:Q44)","v":0}]
[null,"06","鉱業",null,{"$f":"間接1次!Y9","v":0},null,{"$f":"間接1次!AE9","v":0},null,{"$f":"E9+G9","v":0},null,{"$f":"各種係数!$I9*I9","v":0},null,{"$f":"各種係数!$L$8*K9","v":0},null,{"$f":"各種係数!$J9*M$45","v":0},null,{"$f":"各種係数!$F9*O9","v":0},null,0]
[null,"11","飲食料品",null,{"$f":"間接1次!Y10","v":0},null,{"$f":"間接1次!AE10","v":0},null,0,null,{"$f":"各種係数!$I10*I10","v":0},null,{"$f":"各種係数!$L$8*K10","v":0},null,{"$f":"各種係数!$J10*M$45","v":0},null,{"$f":"各種係数!$F10*O10","v":0},null,0]
[null,"15","繊維製品",null,{"$f":"間接1次!Y11","v":0},null,{"$f":"間接1次!AE11","v":0},null,0,null,{"$f":"各種係数!$I11*I11","v":0},null,{"$f":"各種係数!$L$8*K11","v":0},null,{"$f":"各種係数!$J11*M$45","v":0},null,{"$f":"各種係数!$F11*O11","v":0},null,0]
[null,"16","パルプ・紙・木製品",null,{"$f":"間接1次!Y12","v":0},null,{"$f":"間接1次!AE12","v":0},null,0,null,{"$f":"各種係数!$I12*I12","v":0},null,{"$f":"各種係数!$L$8*K12","v":0},null,{"$f":"各種係数!$J12*M$45","v":0},null,{"$f":"各種係数!$F12*O12","v":0},null,0]
[null,"20","化学製品",null,{"$f":"間接1次!Y13","v":0},null,{"$f":"間接1次!AE13","v":0},null,0,null,{"$f":"各種係数!$I13*I13","v":0},null,{"$f":"各種係数!$L$8*K13","v":0},null,{"$f":"各種係数!$J13*M$45","v":0},null,{"$f":"各種係数!$F13*O13","v":0},null,0]
[null,"21","石油・石炭製品",null,{"$f":"間接1次!Y14","v":0},null,{"$f":"間接1次!AE14","v":0},null,0,null,{"$f":"各種係数!$I14*I14","v":0},null,{"$f":"各種係数!$L$8*K14","v":0},null,{"$f":"各種係数!$J14*M$45","v":0},null,{"$f":"各種係数!$F14*O14","v":0},null,0]
[null,"22","プラスチック・ゴム製品",null,{"$f":"間接1次!Y15","v":0},null,{"$f":"間接1次!AE15","v":0},null,0,null,{"$f":"各種係数!$I15*I15","v":0},null,{"$f":"各種係数!$L$8*K15","v":0},null,{"$f":"各種係数!$J15*M$45","v":0},null,{"$f":"各種係数!$F15*O15","v":0},null,0]
[null,"25","窯業・土石製品",null,{"$f":"間接1次!Y16","v":0},null,{"$f":"間接1次!AE16","v":0},null,0,null,{"$f":"各種係数!$I16*I16","v":0},null,{"$f":"各種係数!$L$8*K16","v":0},null,{"$f":"各種係数!$J16*M$45","v":0},null,{"$f":"各種係数!$F16*O16","v":0},null,0]
[null,"26","鉄鋼",null,{"$f":"間接1次!Y17","v":0},null,{"$f":"間接1次!AE17","v":0},null,0,null,{"$f":"各種係数!$I17*I17","v":0},null,{"$f":"各種係数!$L$8*K17","v":0},null,{"$f":"各種係数!$J17*M$45","v":0},null,{"$f":"各種係数!$F17*O17","v":0},null,0]
[null,"27","非鉄金属",null,{"$f":"間接1次!Y18","v":0},null,{"$f":"間接1次!AE18","v":0},null,0,null,{"$f":"各種係数!$I18*I18","v":0},null,{"$f":"各種係数!$L$8*K18","v":0},null,{"$f":"各種係数!$J18*M$45","v":0},null,{"$f":"各種係数!$F18*O18","v":0},null,0]
[null,"28","金属製品",null,{"$f":"間接1次!Y19","v":0},null,{"$f":"間接1次!AE19","v":0},null,0,null,{"$f":"各種係数!$I19*I19","v":0},null,{"$f":"各種係数!$L$8*K19","v":0},null,{"$f":"各種係数!$J19*M$45","v":0},null,{"$f":"各種係数!$F19*O19","v":0},null,0]
[null,"29","はん用機械",null,{"$f":"間接1次!Y20","v":0},null,{"$f":"間接1次!AE20","v":0},null,0,null,{"$f":"各種係数!$I20*I20","v":0},null,{"$f":"各種係数!$L$8*K20","v":0},null,{"$f":"各種係数!$J20*M$45","v":0},null,{"$f":"各種係数!$F20*O20","v":0},null,0]
[null,"30","生産用機械",null,{"$f":"間接1次!Y21","v":0},null,{"$f":"間接1次!AE21","v":0},null,0,null,{"$f":"各種係数!$I21*I21","v":0},null,{"$f":"各種係数!$L$8*K21","v":0},null,{"$f":"各種係数!$J21*M$45","v":0},null,{"$f":"各種係数!$F21*O21","v":0},null,0]
[null,"31","業務用機械",null,{"$f":"間接1次!Y22","v":0},null,{"$f":"間接1次!AE22","v":0},null,0,null,{"$f":"各種係数!$I22*I22","v":0},null,{"$f":"各種係数!$L$8*K22","v":0},null,{"$f":"各種係数!$J22*M$45","v":0},null,{"$f":"各種係数!$F22*O22","v":0},null,0]
[null,"32","電子部品",null,{"$f":"間接1次!Y23","v":0},null,{"$f":"間接1次!AE23","v":0},null,0,null,{"$f":"各種係数!$I23*I23","v":0},null,{"$f":"各種係数!$L$8*K23","v":0},null,{"$f":"各種係数!$J23*M$45","v":0},null,{"$f":"各種係数!$F23*O23","v":0},null,0]
[null,"33","電気機械",null,{"$f":"間接1次!Y24","v":0},null,{"$f":"間接1次!AE24","v":0},null,0,null,{"$f":"各種係数!$I24*I24","v":0},null,{"$f":"各種係数!$L$8*K24","v":0},null,{"$f":"各種係数!$J24*M$45","v":0},null,{"$f":"各種係数!$F24*O24","v":0},null,0]
[null,"34","情報通信機器",null,{"$f":"間接1次!Y25","v":0},null,{"$f":"間接1次!AE25","v":0},null,0,null,{"$f":"各種係数!$I25*I25","v":0},null,{"$f":"各種係数!$L$8*K25","v":0},null,{"$f":"各種係数!$J25*M$45","v":0},null,{"$f":"各種係数!$F25*O25","v":0},null,0]
[null,"35","輸送機械",null,{"$f":"間接1次!Y26","v":0},null,{"$f":"間接1次!AE26","v":0},null,0,null,{"$f":"各種係数!$I26*I26","v":0},null,{"$f":"各種係数!$L$8*K26","v":0},null,{"$f":"各種係数!$J26*M$45","v":0},null,{"$f":"各種係数!$F26*O26","v":0},null,0]
[null,"39","その他の製造工業製品",null,{"$f":"間接1次!Y27","v":0},null,{"$f":"間接1次!AE27","v":0},null,0,null,{"$f":"各種係数!$I27*I27","v":0},null,{"$f":"各種係数!$L$8*K27","v":0},null,{"$f":"各種係数!$J27*M$45","v":0},null,{"$f":"各種係数!$F27*O27","v":0},null,0]
[null,"41","建設",null,{"$f":"間接1次!Y28","v":0},null,{"$f":"間接1次!AE28","v":0},null,0,null,{"$f":"各種係数!$I28*I28","v":0},null,{"$f":"各種係数!$L$8*K28","v":0},null,{"$f":"各種係数!$J28*M$45","v":0},null,{"$f":"各種係数!$F28*O28","v":0},null,0]
[null,"46","電気・ガス・熱供給",null,{"$f":"間接1次!Y29","v":0},null,{"$f":"間接1次!AE29","v":0},null,0,null,{"$f":"各種係数!$I29*I29","v":0},null,{"$f":"各種係数!$L$8*K29","v":0},null,{"$f":"各種係数!$J29*M$45","v":0},null,{"$f":"各種係数!$F29*O29","v":0},null,0]
[null,"47","水道",null,{"$f":"間接1次!Y30","v":0},null,{"$f":"間接1次!AE30","v":0},null,0,null,{"$f":"各種係数!$I30*I30","v":0},null,{"$f":"各種係数!$L$8*K30","v":0},null,{"$f":"各種係数!$J30*M$45","v":0},null,{"$f":"各種係数!$F30*O30","v":0},null,0]
[null,"48","廃棄物処理",null,{"$f":"間接1次!Y31","v":0},null,{"$f":"間接1次!AE31","v":0},null,0,null,{"$f":"各種係数!$I31*I31","v":0},null,{"$f":"各種係数!$L$8*K31","v":0},null,{"$f":"各種係数!$J31*M$45","v":0},null,{"$f":"各種係数!$F31*O31","v":0},null,0]
[null,"51","商業",null,{"$f":"間接1次!Y32","v":0},null,{"$f":"間接1次!AE32","v":0},null,0,null,{"$f":"各種係数!$I32*I32","v":0},null,{"$f":"各種係数!$L$8*K32","v":0},null,{"$f":"各種係数!$J32*M$45","v":0},null,{"$f":"各種係数!$F32*O32","v":0},null,0]
[null,"53","金融・保険",null,{"$f":"間接1次!Y33","v":0},null,{"$f":"間接1次!AE33","v":0},null,0,null,{"$f":"各種係数!$I33*I33","v":0},null,{"$f":"各種係数!$L$8*K33","v":0},null,{"$f":"各種係数!$J33*M$45","v":0},null,{"$f":"各種係数!$F33*O33","v":0},null,0]
[null,"55","不動産",null,{"$f":"間接1次!Y34","v":0},null,{"$f":"間接1次!AE34","v":0},null,0,null,{"$f":"各種係数!$I34*I34","v":0},null,{"$f":"各種係数!$L$8*K34","v":0},null,{"$f":"各種係数!$J34*M$45","v":0},null,{"$f":"各種係数!$F34*O34","v":0},null,0]
[null,"57","運輸・郵便",null,{"$f":"間接1次!Y35","v":0},null,{"$f":"間接1次!AE35","v":0},null,0,null,{"$f":"各種係数!$I35*I35","v":0},null,{"$f":"各種係数!$L$8*K35","v":0},null,{"$f":"各種係数!$J35*M$45","v":0},null,{"$f":"各種係数!$F35*O35","v":0},null,0]
[null,"59","情報通信",null,{"$f":"間接1次!Y36","v":0},null,{"$f":"間接1次!AE36","v":0},null,0,null,{"$f":"各種係数!$I36*I36","v":0},null,{"$f":"各種係数!$L$8*K36","v":0},null,{"$f":"各種係数!$J36*M$45","v":0},null,{"$f":"各種係数!$F36*O36","v":0},null,0]
[null,"61","公務",null,{"$f":"間接1次!Y37","v":0},null,{"$f":"間接1次!AE37","v":0},null,0,null,{"$f":"各種係数!$I37*I37","v":0},null,{"$f":"各種係数!$L$8*K37","v":0},null,{"$f":"各種係数!$J37*M$45","v":0},null,{"$f":"各種係数!$F37*O37","v":0},null,0]
[null,"63","教育・研究",null,{"$f":"間接1次!Y38","v":0},null,{"$f":"間接1次!AE38","v":0},null,0,null,{"$f":"各種係数!$I38*I38","v":0},null,{"$f":"各種係数!$L$8*K38","v":0},null,{"$f":"各種係数!$J38*M$45","v":0},null,{"$f":"各種係数!$F38*O38","v":0},null,0]
[null,"64","医療・福祉",null,{"$f":"間接1次!Y39","v":0},null,{"$f":"間接1次!AE39","v":0},null,0,null,{"$f":"各種係数!$I39*I39","v":0},null,{"$f":"各種係数!$L$8*K39","v":0},null,{"$f":"各種係数!$J39*M$45","v":0},null,{"$f":"各種係数!$F39*O39","v":0},null,0]
[null,"65","他に分類されない会員制団体",null,{"$f":"間接1次!Y40","v":0},null,{"$f":"間接1次!AE40","v":0},null,0,null,{"$f":"各種係数!$I40*I40","v":0},null,{"$f":"各種係数!$L$8*K40","v":0},null,{"$f":"各種係数!$J40*M$45","v":0},null,{"$f":"各種係数!$F40*O40","v":0},null,0]
[null,"66","対事業所サービス",null,{"$f":"間接1次!Y41","v":0},null,{"$f":"間接1次!AE41","v":0},null,0,null,{"$f":"各種係数!$I41*I41","v":0},null,{"$f":"各種係数!$L$8*K41","v":0},null,{"$f":"各種係数!$J41*M$45","v":0},null,{"$f":"各種係数!$F41*O41","v":0},null,0]
[null,"67","対個人サービス",null,{"$f":"間接1次!Y42","v":0},null,{"$f":"間接1次!AE42","v":0},null,0,null,{"$f":"各種係数!$I42*I42","v":0},null,{"$f":"各種係数!$L$8*K42","v":0},null,{"$f":"各種係数!$J42*M$45","v":0},null,{"$f":"各種係数!$F42*O42","v":0},null,0]
[null,"68","事務用品",null,{"$f":"間接1次!Y43","v":0},null,{"$f":"間接1次!AE43","v":0},null,0,null,{"$f":"各種係数!$I43*I43","v":0},null,{"$f":"各種係数!$L$8*K43","v":0},null,{"$f":"各種係数!$J43*M$45","v":0},null,{"$f":"各種係数!$F43*O43","v":0},null,0]
[null,"69","分類不明",null,{"$f":"間接1次!Y44","v":0},null,{"$f":"間接1次!AE44","v":0},null,0,null,{"$f":"各種係数!$I44*I44","v":0},null,{"$f":"各種係数!$L$8*K44","v":0},null,{"$f":"各種係数!$J44*M$45","v":0},null,{"$f":"各種係数!$F44*O44","v":0},null,0]
[null,null,"合計",null,{"$f":"SUM(E8:E44)","v":0},null,{"$f":"SUM(G8:G44)","v":0},null,{"$f":"SUM(I8:I44)","v":0},null,{"$f":"SUM(K8:K44)","v":0},null,{"$f":"SUM(M8:M44)","v":0},null,{"$f":"SUM(O8:O44)","v":0},null,{"$f":"SUM(Q8:Q44)","v":0},null,{"$f":"SUM(S8:S44)","v":0}]

{"sheet":"波及合計","index":5,"n_rows":45,"n_cols":15,"rows_kept":45,"cut":false,"hidden":false,"merged":[]}
[null,null,null,null,"波及効果合計（直接＋間接1次＋間接2次）",null,null,null,null,null,null,null,"雇用誘発人数",null,"粗付加価値誘発額"]
[null,"波及効果計算"]
[null,"（合計フローチャート）",null,null,null,null,null,null,null,null,null,null,"×雇用者係数",null,"合計×粗付加価値率"]
[null,null,"単位:百万円",null,null,null,null,null,null,null,null,null,"↓",null,"↓"]
[null,null,null,null,{"$f":"間接1次!Y5","v":"直接効果"},null,{"$f":"間接1次!AE5","v":"生産誘発額"},null,{"$f":"間接2次!S5","v":"生産誘発額"},null,"生産誘発額",null,"雇用誘発人数",null,"粗付加価値誘発額"]
[null,"37部門",null,null,{"$f":"間接1次!Y6","v":"(県内需要計)"},"+",{"$f":"間接1次!AE6","v":"(間接1次)"},"+",{"$f":"間接2次!S6","v":"(間接2次)"},"=","(合計)",null,"(人)"]
[null,null,null,null,{"$f":"間接1次!Y7","v":"F"},null,{"$f":"間接1次!AE7","v":"X1"},null,{"$f":"間接2次!S7","v":"X2"},null,"X",null,{"$f":"K7&各種係数!G7","v":"Xl"},null,{"$f":"K7&各種係数!H7","v":"Xv"}]
[null,"01","農林漁業",null,{"$f":"間接1次!Y8","v":0},null,{"$f":"間接1次!AE8","v":0},null,{"$f":"間接2次!S8","v":0},null,{"$f":"E8+G8+I8","v":0},null,{"$f":"K8*各種係数!$G8","v":0},null,{"$f":"K8*各種係数!$H8","v":0}]
[null,"06","鉱業",null,{"$f":"間接1次!Y9","v":0},null,{"$f":"間接1次!AE9","v":0},null,{"$f":"間接2次!S9","v":0},null,{"$f":"E9+G9+I9","v":0},null,{"$f":"K9*各種係数!$G9","v":0},null,{"$f":"K9*各種係数!$H9","v":0}]
[null,"11","飲食料品",null,{"$f":"間接1次!Y10","v":0},null,{"$f":"間接1次!AE10","v":0},null,{"$f":"間接2次!S10","v":0},null,0,null,{"$f":"K10*各種係数!$G10","v":0},null,{"$f":"K10*各種係数!$H10","v":0}]
[null,"15","繊維製品",null,{"$f":"間接1次!Y11","v":0},null,{"$f":"間接1次!AE11","v":0},null,{"$f":"間接2次!S11","v":0},null,0,null,{"$f":"K11*各種係数!$G11","v":0},null,{"$f":"K11*各種係数!$H11","v":0}]
[null,"16","パルプ・紙・木製品",null,{"$f":"間接1次!Y12","v":0},null,{"$f":"間接1次!AE12","v":0},null,{"$f":"間接2次!S12","v":0},null,0,null,{"$f":"K12*各種係数!$G12","v":0},null,{"$f":"K12*各種係数!$H12","v":0}]
[null,"20","化学製品",null,{"$f":"間接1次!Y13","v":0},null,{"$f":"間接1次!AE13","v":0},null,{"$f":"間接2次!S13","v":0},null,0,null,{"$f":"K13*各種係数!$G13","v":0},null,{"$f":"K13*各種係数!$H13","v":0}]
[null,"21","石油・石炭製品",null,{"$f":"間接1次!Y14","v":0},null,{"$f":"間接1次!AE14","v":0},null,{"$f":"間接2次!S14","v":0},null,0,null,{"$f":"K14*各種係数!$G14","v":0},null,{"$f":"K14*各種係数!$H14","v":0}]
[null,"22","プラスチック・ゴム製品",null,{"$f":"間接1次!Y15","v":0},null,{"$f":"間接1次!AE15","v":0},null,{"$f":"間接2次!S15","v":0},null,0,null,{"$f":"K15*各種係数!$G15","v":0},null,{"$f":"K15*各種係数!$H15","v":0}]
[null,"25","窯業・土石製品",null,{"$f":"間接1次!Y16","v":0},null,{"$f":"間接1次!AE16","v":0},null,{"$f":"間接2次!S16","v":0},null,0,null,{"$f":"K16*各種係数!$G16","v":0},null,{"$f":"K16*各種係数!$H16","v":0}]
[null,"26","鉄鋼",null,{"$f":"間接1次!Y17","v":0},null,{"$f":"間接1次!AE17","v":0},null,{"$f":"間接2次!S17","v":0},null,0,null,{"$f":"K17*各種係数!$G17","v":0},null,{"$f":"K17*各種係数!$H17","v":0}]
[null,"27","非鉄金属",null,{"$f":"間接1次!Y18","v":0},null,{"$f":"間接1次!AE18","v":0},null,{"$f":"間接2次!S18","v":0},null,0,null,{"$f":"K18*各種係数!$G18","v":0},null,{"$f":"K18*各種係数!$H18","v":0}]
[null,"28","金属製品",null,{"$f":"間接1次!Y19","v":0},null,{"$f":"間接1次!AE19","v":0},null,{"$f":"間接2次!S19","v":0},null,0,null,{"$f":"K19*各種係数!$G19","v":0},null,{"$f":"K19*各種係数!$H19","v":0}]
[null,"29","はん用機械",null,{"$f":"間接1次!Y20","v":0},null,{"$f":"間接1次!AE20","v":0},null,{"$f":"間接2次!S20","v":0},null,0,null,{"$f":"K20*各種係数!$G20","v":0},null,{"$f":"K20*各種係数!$H20","v":0}]
[null,"30","生産用機械",null,{"$f":"間接1次!Y21","v":0},null,{"$f":"間接1次!AE21","v":0},null,{"$f":"間接2次!S21","v":0},null,0,null,{"$f":"K21*各種係数!$G21","v":0},null,{"$f":"K21*各種係数!$H21","v":0}]
[null,"31","業務用機械",null,{"$f":"間接1次!Y22","v":0},null,{"$f":"間接1次!AE22","v":0},null,{"$f":"間接2次!S22","v":0},null,0,null,{"$f":"K22*各種係数!$G22","v":0},null,{"$f":"K22*各種係数!$H22","v":0}]
[null,"32","電子部品",null,{"$f":"間接1次!Y23","v":0},null,{"$f":"間接1次!AE23","v":0},null,{"$f":"間接2次!S23","v":0},null,0,null,{"$f":"K23*各種係数!$G23","v":0},null,{"$f":"K23*各種係数!$H23","v":0}]
[null,"33","電気機械",null,{"$f":"間接1次!Y24","v":0},null,{"$f":"間接1次!AE24","v":0},null,{"$f":"間接2次!S24","v":0},null,0,null,{"$f":"K24*各種係数!$G24","v":0},null,{"$f":"K24*各種係数!$H24","v":0}]
[null,"34","情報通信機器",null,{"$f":"間接1次!Y25","v":0},null,{"$f":"間接1次!AE25","v":0},null,{"$f":"間接2次!S25","v":0},null,0,null,{"$f":"K25*各種係数!$G25","v":0},null,{"$f":"K25*各種係数!$H25","v":0}]
[null,"35","輸送機械",null,{"$f":"間接1次!Y26","v":0},null,{"$f":"間接1次!AE26","v":0},null,{"$f":"間接2次!S26","v":0},null,0,null,{"$f":"K26*各種係数!$G26","v":0},null,{"$f":"K26*各種係数!$H26","v":0}]
[null,"39","その他の製造工業製品",null,{"$f":"間接1次!Y27","v":0},null,{"$f":"間接1次!AE27","v":0},null,{"$f":"間接2次!S27","v":0},null,0,null,{"$f":"K27*各種係数!$G27","v":0},null,{"$f":"K27*各種係数!$H27","v":0}]
[null,"41","建設",null,{"$f":"間接1次!Y28","v":0},null,{"$f":"間接1次!AE28","v":0},null,{"$f":"間接2次!S28","v":0},null,0,null,{"$f":"K28*各種係数!$G28","v":0},null,{"$f":"K28*各種係数!$H28","v":0}]
[null,"46","電気・ガス・熱供給",null,{"$f":"間接1次!Y29","v":0},null,{"$f":"間接1次!AE29","v":0},null,{"$f":"間接2次!S29","v":0},null,0,null,{"$f":"K29*各種係数!$G29","v":0},null,{"$f":"K29*各種係数!$H29","v":0}]
[null,"47","水道",null,{"$f":"間接1次!Y30","v":0},null,{"$f":"間接1次!AE30","v":0},null,{"$f":"間接2次!S30","v":0},null,0,null,{"$f":"K30*各種係数!$G30","v":0},null,{"$f":"K30*各種係数!$H30","v":0}]
[null,"48","廃棄物処理",null,{"$f":"間接1次!Y31","v":0},null,{"$f":"間接1次!AE31","v":0},null,{"$f":"間接2次!S31","v":0},null,0,null,{"$f":"K31*各種係数!$G31","v":0},null,{"$f":"K31*各種係数!$H31","v":0}]
[null,"51","商業",null,{"$f":"間接1次!Y32","v":0},null,{"$f":"間接1次!AE32","v":0},null,{"$f":"間接2次!S32","v":0},null,0,null,{"$f":"K32*各種係数!$G32","v":0},null,{"$f":"K32*各種係数!$H32","v":0}]
[null,"53","金融・保険",null,{"$f":"間接1次!Y33","v":0},null,{"$f":"間接1次!AE33","v":0},null,{"$f":"間接2次!S33","v":0},null,0,null,{"$f":"K33*各種係数!$G33","v":0},null,{"$f":"K33*各種係数!$H33","v":0}]
[null,"55","不動産",null,{"$f":"間接1次!Y34","v":0},null,{"$f":"間接1次!AE34","v":0},null,{"$f":"間接2次!S34","v":0},null,0,null,{"$f":"K34*各種係数!$G34","v":0},null,{"$f":"K34*各種係数!$H34","v":0}]
[null,"57","運輸・郵便",null,{"$f":"間接1次!Y35","v":0},null,{"$f":"間接1次!AE35","v":0},null,{"$f":"間接2次!S35","v":0},null,0,null,{"$f":"K35*各種係数!$G35","v":0},null,{"$f":"K35*各種係数!$H35","v":0}]
[null,"59","情報通信",null,{"$f":"間接1次!Y36","v":0},null,{"$f":"間接1次!AE36","v":0},null,{"$f":"間接2次!S36","v":0},null,0,null,{"$f":"K36*各種係数!$G36","v":0},null,{"$f":"K36*各種係数!$H36","v":0}]
[null,"61","公務",null,{"$f":"間接1次!Y37","v":0},null,{"$f":"間接1次!AE37","v":0},null,{"$f":"間接2次!S37","v":0},null,0,null,{"$f":"K37*各種係数!$G37","v":0},null,{"$f":"K37*各種係数!$H37","v":0}]
[null,"63","教育・研究",null,{"$f":"間接1次!Y38","v":0},null,{"$f":"間接1次!AE38","v":0},null,{"$f":"間接2次!S38","v":0},null,0,null,{"$f":"K38*各種係数!$G38","v":0},null,{"$f":"K38*各種係数!$H38","v":0}]
[null,"64","医療・福祉",null,{"$f":"間接1次!Y39","v":0},null,{"$f":"間接1次!AE39","v":0},null,{"$f":"間接2次!S39","v":0},null,0,null,{"$f":"K39*各種係数!$G39","v":0},null,{"$f":"K39*各種係数!$H39","v":0}]
[null,"65","他に分類されない会員制団体",null,{"$f":"間接1次!Y40","v":0},null,{"$f":"間接1次!AE40","v":0},null,{"$f":"間接2次!S40","v":0},null,0,null,{"$f":"K40*各種係数!$G40","v":0},null,{"$f":"K40*各種係数!$H40","v":0}]
[null,"66","対事業所サービス",null,{"$f":"間接1次!Y41","v":0},null,{"$f":"間接1次!AE41","v":0},null,{"$f":"間接2次!S41","v":0},null,0,null,{"$f":"K41*各種係数!$G41","v":0},null,{"$f":"K41*各種係数!$H41","v":0}]
[null,"67","対個人サービス",null,{"$f":"間接1次!Y42","v":0},null,{"$f":"間接1次!AE42","v":0},null,{"$f":"間接2次!S42","v":0},null,0,null,{"$f":"K42*各種係数!$G42","v":0},null,{"$f":"K42*各種係数!$H42","v":0}]
[null,"68","事務用品",null,{"$f":"間接1次!Y43","v":0},null,{"$f":"間接1次!AE43","v":0},null,{"$f":"間接2次!S43","v":0},null,0,null,{"$f":"K43*各種係数!$G43","v":0},null,{"$f":"K43*各種係数!$H43","v":0}]
[null,"69","分類不明",null,{"$f":"間接1次!Y44","v":0},null,{"$f":"間接1次!AE44","v":0},null,{"$f":"間接2次!S44","v":0},null,0,null,{"$f":"K44*各種係数!$G44","v":0},null,{"$f":"K44*各種係数!$H44","v":0}]
[null,null,"合計",null,{"$f":"SUM(E8:E44)","v":0},null,{"$f":"SUM(G8:G44)","v":0},null,{"$f":"SUM(I8:I44)","v":0},null,{"$f":"SUM(K8:K44)","v":0},null,{"$f":"SUM(M8:M44)","v":0},null,{"$f":"SUM(O8:O44)","v":0}]

{"sheet":"グラフ","index":6,"n_rows":2,"n_cols":2,"rows_kept":2,"cut":false,"hidden":false,"merged":[]}
[]
[null,"波及効果・雇用者誘発人数グラフ（一般波及37部門）"]

{"sheet":"登録","index":7,"n_rows":7,"n_cols":77,"rows_kept":7,"cut":false,"hidden":false,"merged":[]}
[]
[]
["【データ登録シート】",null,"＊登録データの編集及び登録行の挿入・削除は自由に行えます。"]
[]
[]
["登録名","平均消費性向","県内・県外の内訳不明→",null,null,null,null,null,null,null,null,null,null,null,null,null,null,null,null,null,null,null,null,null,null,null,null,null,null,null,null,null,null,null,null,null,null,null,null,"県内需要のみ(購入者価格)→",null,null,null,null,null,null,null,null,null,null,null,null,null,null,null,null,null,null,null,null,null,null,null,null,null,null,null,null,null,null,null,null,null,null,null,null,"県内需要のみ(生産者価格)→"]
["新規入力…"]

{"sheet":"各種係数","index":8,"n_rows":44,"n_cols":13,"rows_kept":44,"cut":false,"hidden":false,"merged":[]}
[]
[null,"各種係数"]
[]
[]
[null,null,null,"商業マージン","運輸マージン","県内自給率","雇用者係数","粗付加価値率","雇用者所得率","民間消費支出"]
[null,"37部門",null,null,null,null,null,null,null,"構成比",null,"平均消費性向","種別（必要に応じて変更可能）"]
[null,null,null,"cm","tm","1-M","l","v","w","c",null,"k"]
[null,"01","農林漁業",0.23807402745164494,5.1044566559345417E-2,0.2957090559434149,0.10746369148465144,{"$f":"投入係数!D$52","v":0.49840455506846509},{"$f":"投入係数!D$47","v":0.18395919173881542},1.4456424706091032E-2,null,0.61399999999999999,"←クリックしてリストボタンで選択。"]
[null,"06","鉱業",1.2770746140326476E-2,7.5258892106161573E-2,1.7703913643808633E-2,5.7638238050609185E-2,{"$f":"投入係数!E$52","v":0.55607622617931896},{"$f":"投入係数!E$47","v":0.26944704779756329},0,null,0.64800000000000002,"総務省　家計調査年報(令和3年・東海)"]
[null,"11","飲食料品",0.31897309753028824,3.4974624312594543E-2,0.26940458913430632,2.8025385181082774E-2,{"$f":"投入係数!F$52","v":0.39582886943132006},{"$f":"投入係数!F$47","v":0.12670914485558749},0.11739246115865412,null,0.64600000000000002,"総務省　家計調査年報(令和4年・東海)"]
[null,"15","繊維製品",0.43288750810537346,3.183006861955693E-2,0.12754680971785215,8.2283470011478205E-2,{"$f":"投入係数!G$52","v":0.43887021591490655},{"$f":"投入係数!G$47","v":0.25617937120489093},8.7681266883590826E-3,null,0.64100000000000001,"総務省　家計調査年報(令和5年・東海)"]
[null,"16","パルプ・紙・木製品",0.22777229487782319,6.8733174530178617E-2,0.32064653848123303,3.2096391633622934E-2,{"$f":"投入係数!H$52","v":0.37589999875515534},{"$f":"投入係数!H$47","v":0.16368654045218503},1.9326895396613538E-3,null,0.61399999999999999,"総務省　家計調査年報(令和6年・東海)"]
[null,"20","化学製品",0.20916491869327739,2.9710701750742453E-2,0.27125103683351048,1.506872594343894E-2,{"$f":"投入係数!I$52","v":0.39150694430231053},{"$f":"投入係数!I$47","v":0.12074024594236039},1.1153856219413259E-2,null,null,"その他(ユーザー定義1)"]
[null,"21","石油・石炭製品",0.1825013255026714,2.3247277621436437E-2,4.2902649518280489E-2,2.1447110787304768E-2,{"$f":"投入係数!J$52","v":0.33547417327138562},{"$f":"投入係数!J$47","v":2.6965473262275667E-2},2.413993643482534E-2,null,null,"その他(ユーザー定義2)"]
[null,"22","プラスチック・ゴム製品",0.18507577961222504,3.2262756151137946E-2,0.34561954128329575,4.203671036706557E-2,{"$f":"投入係数!K$52","v":0.44409322220091463},{"$f":"投入係数!K$47","v":0.24010393581988521},3.2247840208898546E-3]
[null,"25","窯業・土石製品",0.17883092711958865,6.6266390469080241E-2,0.23114060386906632,3.8415667971041588E-2,{"$f":"投入係数!L$52","v":0.5009928693925445},{"$f":"投入係数!L$47","v":0.22303456990703133},5.1323208267543667E-4,null,"県内総生産","名目値（県内総生産への寄与を計算）"]
[null,"26","鉄鋼",4.4136106688233465E-2,3.2261733262567295E-2,0.13442660243297933,3.1667856483969553E-2,{"$f":"投入係数!M$52","v":0.40777399897330596},{"$f":"投入係数!M$47","v":0.14587076488706366},1.4539152483723418E-7,null,182711,"令和4年度静岡県の県民経済計算(単位：億円)"]
[null,"27","非鉄金属",8.3708278944950448E-2,3.285179864509119E-2,0.33616639353495414,2.6386893479336947E-2,{"$f":"投入係数!N$52","v":0.22281407933085268},{"$f":"投入係数!N$47","v":0.13104778830296107},6.4946394144792512E-4]
[null,"28","金属製品",0.10045502275113755,4.5405048030179286E-2,0.3111695840541191,6.484238133778647E-2,{"$f":"投入係数!O$52","v":0.5013451738685889},{"$f":"投入係数!O$47","v":0.30544564903358529},1.142341210646149E-3,null,"係数","説明"]
[null,"29","はん用機械",0.12361904485748253,1.523762577203004E-2,0.16035741383247515,2.7517962004439855E-2,{"$f":"投入係数!P$52","v":0.47369181954452416},{"$f":"投入係数!P$47","v":0.21037793993441026},5.8883567559079844E-5,null,"投入係数","各産業が1単位の生産を行うために必要な原材料等の"]
[null,"30","生産用機械",0.13307588939694828,1.3002141799019451E-2,0.51005646966830065,5.0566251337831471E-2,{"$f":"投入係数!Q$52","v":0.49748096123276964},{"$f":"投入係数!Q$47","v":0.33110212582966159},2.0064030427538317E-5,null,null,"投入割合。"]
[null,"31","業務用機械",0.20693439316644918,1.5492150116660735E-2,5.2735244988864172E-2,4.3039073700492113E-2,{"$f":"投入係数!R$52","v":0.44246638309049385},{"$f":"投入係数!R$47","v":0.29755068984889721},3.4690417826164078E-4,null,"逆行列係数","各産業に1単位の最終需要が発生したとき、それぞれの"]
[null,"32","電子部品",6.7975530575738172E-2,1.0992469247587287E-2,0.1374208654930188,6.2877927974409248E-2,{"$f":"投入係数!S$52","v":0.34502613208958688},{"$f":"投入係数!S$47","v":0.23680884105601502},7.0645741918412086E-4,null,null,"産業の生産額がどれだけ誘発されるかを示す係数。"]
[null,"33","電気機械",0.18806433917009355,1.1047533625104607E-2,0.48333126081009281,2.8053203459899197E-2,{"$f":"投入係数!T$52","v":0.36257515125661949},{"$f":"投入係数!T$47","v":0.18640096961817898},1.2895065120863974E-2,null,"商業マージン","購入者価格と生産者価格との差額のうち、商業部門に"]
[null,"34","情報通信機器",0.19345981196454648,8.7422352933258854E-3,8.1529975146996447E-2,1.5806454448752099E-2,{"$f":"投入係数!U$52","v":0.33621542262095766},{"$f":"投入係数!U$47","v":0.17922434141988686},1.27518544688993E-2,null,null,"投入された金額及びその割合。"]
[null,"35","輸送機械",9.5804938719456903E-2,1.8393663790497412E-2,0.31148105607065169,2.9202536634381271E-2,{"$f":"投入係数!V$52","v":0.23514475393354586},{"$f":"投入係数!V$47","v":0.16043715604842396},2.1816579867926338E-2,null,"運輸マージン","購入者価格と生産者価格との差額のうち、運輸部門に"]
[null,"39","その他の製造工業製品",0.31022632680150286,4.8668136516007113E-2,0.40976678716529635,6.5462073237324461E-2,{"$f":"投入係数!W$52","v":0.46297126432097457},{"$f":"投入係数!W$47","v":0.26617655448966121},1.1635102166624504E-2,null,null,"投入された金額及びその割合。"]
[null,"41","建設",0,0,1,6.9165848347588585E-2,{"$f":"投入係数!X$52","v":0.48692505902462296},{"$f":"投入係数!X$47","v":0.34485393143468479},0,null,"県内自給率","県内で発生した需要のうち、移輸入分を含まず、県内で"]
[null,"46","電気・ガス・熱供給",0,0,0.69752878848649602,1.1418636888121366E-2,{"$f":"投入係数!Y$52","v":0.42238790654990893},{"$f":"投入係数!Y$47","v":7.8166776699818585E-2},2.8450504363199659E-2,null,null,"生産された財・サービスのみによって賄われる割合。"]
[null,"47","水道",0,0,1,1.5235815249115185E-2,{"$f":"投入係数!Z$52","v":0.47675380909453646},{"$f":"投入係数!Z$47","v":0.1198442372205063},7.9091535596207026E-3,null,"雇用者係数","各産業が生産を1単位増加したときに、新たな雇用者が"]
[null,"48","廃棄物処理",0,0,1,8.9991166965508851E-2,{"$f":"投入係数!AA$52","v":0.64981170397325771},{"$f":"投入係数!AA$47","v":0.45479837515338722},4.1349349663709406E-3,null,null,"何人必要になるかを示す係数。"]
[null,"51","商業",-33.737100093545365,0,0.50597007993588705,0.12458892171038653,{"$f":"投入係数!AB$52","v":0.69396058146290829},{"$f":"投入係数!AB$47","v":0.43770530488068576},0.20838618315261165,null,"粗付加価値率","生産活動によって新たに生じた価値が生産額の何割を"]
[null,"53","金融・保険",0,0,0.89637602663961435,4.1376480992819618E-2,{"$f":"投入係数!AC$52","v":0.63345056135397915},{"$f":"投入係数!AC$47","v":0.30446627062848791},6.4186578035993119E-2,null,null,"占めるかを示す率。"]
[null,"55","不動産",0,0,0.98413283969013976,8.8823306500694747E-3,{"$f":"投入係数!AD$52","v":0.81928869057383769},{"$f":"投入係数!AD$47","v":5.3747662324879424E-2},5.5130139953881808E-2,null,"雇用者所得率","生産活動によって新たに生じた雇用者所得が生産額"]
[null,"57","運輸・郵便",0,-0.42498356018896843,0.60967323353495761,6.2305213772656964E-2,{"$f":"投入係数!AE$52","v":0.5196974512662601},{"$f":"投入係数!AE$47","v":0.32093044801970322},5.0763596288445158E-2,null,null,"の何割を占めるかを示す率。"]
[null,"59","情報通信",3.4860379552901444E-2,4.8157032464409928E-3,0.45032814570532687,3.3652671050356797E-2,{"$f":"投入係数!AF$52","v":0.50378329911313646},{"$f":"投入係数!AF$47","v":0.16943528328838206},6.8934047496503337E-2,null,"民間消費支出","各産業が生産した財・サービスのうち、最終的に民間"]
[null,"61","公務",0,0,1,5.0260758210595141E-2,{"$f":"投入係数!AG$52","v":0.70834320688417818},{"$f":"投入係数!AG$47","v":0.33886316660976279},5.0040855018479262E-3,null,"構成比","消費に回された金額の産業別構成比。"]
[null,"63","教育・研究",0,1.4608411105731505E-5,0.99198187595847687,6.9648894233121247E-2,{"$f":"投入係数!AH$52","v":0.65336181109280822},{"$f":"投入係数!AH$47","v":0.46857372385971485},3.4575267738492989E-2,null,"平均消費性向","雇用者所得のうち、消費に回される金額の平均割合。"]
[null,"64","医療・福祉",0,0,0.97483231659566472,0.10381025574959019,{"$f":"投入係数!AI$52","v":0.59390747436356228},{"$f":"投入係数!AI$47","v":0.51425250194355665},7.2693872328794207E-2,null,null,"消費転換係数とも言う。"]
[null,"65","他に分類されない会員制団体",0,0,0.82804643320750215,0.11506945475653711,{"$f":"投入係数!AJ$52","v":0.61727245114913432},{"$f":"投入係数!AJ$47","v":0.53205764233404207},1.4065321504278873E-2]
[null,"66","対事業所サービス",0,0,0.57783802248151939,0.13429880845691561,{"$f":"投入係数!AK$52","v":0.6038486326372049},{"$f":"投入係数!AK$47","v":0.36096827845490354},1.8431138212091341E-2]
[null,"67","対個人サービス",2.4990378704198883E-5,9.9961514816795531E-6,0.81383491025400478,0.1396151950405172,{"$f":"投入係数!AL$52","v":0.54538930594980362},{"$f":"投入係数!AL$47","v":0.31383342069879122},0.1237184464043222]
[null,"68","事務用品",0,0,1,0,{"$f":"投入係数!AM$52","v":0},{"$f":"投入係数!AM$47","v":0},0]
[null,"69","分類不明",1.5758226488978715E-2,3.6042864060296005E-2,0.51683443248871919,6.8758295700969421E-4,{"$f":"投入係数!AN$52","v":0.65002619357048586},{"$f":"投入係数!AN$47","v":7.4198325626378941E-3},1.2358279611164906E-5]

{"sheet":"投入係数","index":9,"n_rows":53,"n_cols":57,"rows_kept":53,"cut":false,"hidden":false,"merged":[]}
[]
[]
[null,null,null,"3-2　投入係数表　【統合大分類】"]
[]
[null,null,null,null,null,null,null,null,null,null,null,null,null,null,null,null,null,null,null,null,null,null,null,null,null,null,null,null,null,null,null,null,null,null,null,null,null,null,null,null,null,"（参考）最終需要項目の商品別構成"]
[null,null,null,"01","06","11","15","16","20","21","22","25","26","27","28","29","30","31","32","33","34","35","39","41","46","47","48","51","53","55","57","59","61","63","64","65","66","67","68","69",70,71,72,73,74,75,76,78,79,80,81,82,83,84,85,87,88]
[null,"37部門",null,"農林漁業","鉱業","飲食料品","繊維製品","パルプ・紙・木製品","化学製品","石油・石炭製品","プラスチック・ゴム製品","窯業・土石製品","鉄鋼","非鉄金属","金属製品","はん用機械","生産用機械","業務用機械","電子部品","電気機械","情報通信機器","輸送機械","その他の製造工業製品","建設","電気・ガス・熱供給","水道","廃棄物処理","商業","金融・保険","不動産","運輸・郵便","情報通信","公務","教育・研究","医療・福祉","他に分類されない会員制団体","対事業所サービス","対個人サービス","事務用品","分類不明","平均","家計外消費支出（列）","民間消費支出","一般政府消費支出","県内総固定資本形成（公的）","県内総固定資本形成（民間）","在庫純増","県内最終需要計","県内需要合計","輸出","移出","最終需要計","需要合計","（控除）輸入計","（控除）移入計","（控除）輸移入計","最終需要部門計"]
[null,"01","農林漁業",0.10035568175996604,0,0.13776570052695228,5.9200243440253398E-3,9.9692906396299172E-3,2.4548339699899959E-3,0,6.5518682158827246E-3,1.482856884968989E-4,0,1.2073241109868908E-5,0,0,0,0,0,0,0,2.7696151065886372E-7,4.37406100320855E-3,8.9746341474264369E-4,0,0,0,1.5089379896997355E-4,0,4.9214213064733093E-6,5.7905295246232616E-5,0,2.9983354402281831E-5,1.4882590394678316E-3,1.9699643372780335E-3,2.2003982315817894E-3,7.2860661932489964E-6,1.6842390698903514E-2,0,0,1.1420433110661651E-2,5.5755510738659513E-3,1.1773562903857386E-2,0,0,1.0865010879822314E-3,-0.13359246662502025,null,null,4.0024625759393489E-4,1.043106381452086E-2,8.0698927181956284E-3]
[null,"06","鉱業",2.9274218927246247E-5,0,1.8521410387242743E-4,3.0430031674896606E-4,2.9684757451592298E-3,1.6969241389319426E-3,0.46752300264188756,9.3979113776957083E-5,4.2596675821696128E-2,3.0479979466119098E-4,8.3493706219409422E-2,9.0156359814032013E-5,2.6631563729332003E-5,5.7703642336338043E-5,1.8240319862249105E-4,9.802758186592922E-5,1.7851020308921139E-5,0,8.4473260750953438E-5,4.7272460531570668E-4,1.8510877990571631E-3,0.22681607942522036,0,0,1.8802965603735022E-6,8.9967782537073475E-7,4.1011844220610914E-7,4.503745185818092E-6,0,7.73763984575015E-6,6.4371065720926975E-5,5.4296185692955073E-6,3.3748439134690019E-5,2.6494786157269078E-6,6.9086358812094605E-6,0,1.3348646497617393E-4,5.3754860843797363E-3,-5.3196682951136491E-4,-1.9774366193080464E-5,0,0,-3.3901730403565537E-5,-2.7532912241734343E-3,null,null,3.6244809872671982E-6,2.6440105216547576E-4,9.9093548034666077E-5]
[null,"11","飲食料品",8.3383953336895036E-2,0,0.19699154188925649,2.8216938462176855E-3,1.8366246707146462E-3,1.1792878500603786E-2,0,1.6509844312168137E-5,4.1906825009993168E-4,0,0,0,0,0,0,0,0,0,0,1.3801385028757414E-3,2.4466164962005159E-5,0,0,0,1.3867187132754577E-4,0,0,1.5248394414841255E-4,0,6.838139213681695E-4,5.7328871131057555E-3,6.9884127003714356E-3,1.633424454118997E-3,3.3118482696586345E-6,0.10115192867524317,0,3.8534771964820018E-3,1.8649873337281846E-2,7.0330728491537348E-2,9.5606455537219207E-2,0,0,0,0.27697184239143008,null,null,1.5637046545067056E-2,0.14622647768489522,8.9129329407612271E-2]
[null,"15","繊維製品",5.9609628290605175E-3,2.0306154326772885E-3,8.3845698493228787E-4,0.18754581794541958,5.2168567289120919E-3,1.3775104212601771E-3,1.8219914366402479E-4,3.7769443834144642E-3,3.2558379430840845E-3,8.9835728952772072E-4,1.803742221814415E-3,1.1720326775824163E-3,1.396254841237835E-3,9.672229572567139E-4,2.1815422555249929E-3,3.3793719011675602E-3,2.3587968904753725E-3,1.4681512283678466E-3,1.5221804625811151E-3,1.0326587498879316E-2,3.6037548890626232E-3,1.9360671892757367E-4,8.0541475165146965E-4,2.6869208310413405E-3,4.2236161487389789E-3,1.3648112610874046E-3,4.3472554873847566E-5,1.611053992184072E-3,6.7605754716306224E-4,4.047752844308047E-3,4.6669022647672053E-4,3.4438589779977047E-3,2.1248017279200837E-2,1.7824367387302771E-3,4.1037297134384199E-3,2.0059847057519672E-2,2.1408206647122234E-4,2.7037018727267665E-3,7.2219547424169474E-3,7.1409143832700814E-3,0,3.0371512625575849E-5,1.2020302857652558E-3,2.6838805210430115E-2,null,null,2.9244383737264479E-3,3.8388116827259454E-3,3.9786770733631601E-3]
[null,"16","パルプ・紙・木製品",2.7821485812981651E-2,6.248047485160887E-4,1.6411876218872228E-2,5.7125468553328633E-3,0.28729578562625741,2.3275646595701003E-2,2.2774892958003098E-4,5.8330549942914043E-3,1.1476022848890436E-2,1.0106519507186858E-3,4.5395386573107094E-3,3.9258996682655757E-3,2.1723746984926534E-3,1.1623162242033805E-3,8.1680152343151496E-3,4.7208019688065915E-3,7.1379459138706733E-3,5.2923774819008604E-3,1.5232883086237505E-3,5.9867582774350073E-2,4.4056334456923425E-2,3.6281899127027306E-3,3.243826385091699E-3,4.5011213134176784E-3,7.2005956779503267E-3,4.503787193805898E-3,5.2208077692837696E-4,9.585256539759706E-3,4.795596921851563E-3,1.1364658523445531E-3,9.1200925913409326E-3,6.1231289411009786E-3,1.8514393709290946E-2,3.6582675986649277E-3,4.8118648912623893E-3,0.43242823894491855,6.0194839866614279E-4,1.8651133244955809E-2,6.2287255354178802E-3,1.1483341517394871E-3,1.8455266825564236E-5,4.9974943502083897E-4,2.1367964444655098E-3,0.35348557414219939,null,null,1.4085250899518514E-2,6.689666063436922E-2,2.8688496553095615E-2]
[null,"20","化学製品",4.9301443950848588E-2,2.0306154326772885E-3,1.2271796249959143E-2,0.14523424208473382,3.5578618164964902E-2,0.27815911020641571,6.9691172451489475E-3,0.15697178975602261,3.262285146931776E-2,2.983829568788501E-3,1.7151246320679773E-2,9.0176849895807938E-3,8.411769629364723E-3,4.2082442018143672E-3,1.2512859425502886E-2,1.2800338453124758E-2,1.4059217374336512E-2,1.0307828235097606E-2,1.3178936523191373E-2,3.8258091333653918E-2,5.0300210965067878E-3,1.5740226248811739E-3,8.32754518450648E-3,1.5222358566411374E-2,8.9314086617741353E-6,2.6090656935751307E-5,3.4860067587519276E-5,6.9100318993837594E-4,3.4816367508221194E-4,9.4979529106583086E-4,1.5294565215292247E-2,0.15053666843540606,2.2273969828895414E-3,4.18087725561706E-3,8.5952066157097204E-3,9.3317078576969966E-3,3.6519881927443809E-3,3.423175149725028E-2,1.8561602095545283E-2,9.0838938734632384E-3,0,0,0,-0.25813840494204204,null,null,8.1536324289562895E-2,9.1736844614253771E-2,4.6425902985723147E-2]
[null,"21","石油・石炭製品",1.3912572545173779E-2,1.5463917525773196E-2,3.1259419589841552E-3,5.048618891516937E-3,3.7498551671108207E-3,4.445122552531152E-3,9.3058212626400655E-2,1.2674480479649077E-3,1.6356556161592716E-2,7.3151950718685832E-3,2.6778448781689238E-3,3.2804620923242104E-3,6.8290938420215641E-4,9.4798840981126791E-4,1.4008565654207313E-3,8.8224823679336299E-4,8.3468908754817466E-4,3.252790146683253E-4,1.5662173427758745E-3,1.5838991086152701E-3,1.0046140962921528E-2,3.1623721469629884E-2,1.0536893906926567E-2,1.1958913383827699E-2,1.3895391581160181E-3,3.7966404230645005E-4,3.5147150497063552E-4,8.3582433334920367E-2,6.6771115769191332E-4,9.8113273244111905E-3,3.2616819000793693E-3,1.9857595912978021E-3,3.1386048395261718E-3,2.0851396705770762E-3,3.539812309634697E-3,0,8.8755906146422061E-3,7.3185336978506214E-3,1.282780772429304E-3,1.9654654311516365E-2,0,0,0,8.7920223965202104E-4,null,null,0,3.5638444175092469E-4,5.7804456798362649E-3]
[null,"22","プラスチック・ゴム製品",1.1888992161827882E-2,2.6554201811933771E-3,2.4321153992816598E-2,8.6725590273455336E-3,2.3766957417694221E-2,4.2527300569548773E-2,1.8219914366402479E-4,0.19168818238044016,8.1428184596340561E-3,6.6574691991786448E-4,1.5514114826181548E-2,4.7352578984142723E-3,1.9062492866545429E-2,1.1384104295211835E-2,5.6464734165578324E-2,1.428107087394169E-2,4.8972119784039585E-2,4.469949054273243E-2,4.7741517361332295E-2,5.4996345893137073E-2,1.4138663102020572E-2,0,3.6613120132413142E-2,2.0157195447044387E-2,5.6653335364053618E-3,2.6027679487975355E-3,6.9104957511729385E-4,4.2045678270458903E-3,2.5647262503487598E-3,1.798034059156191E-3,6.4840974500689737E-3,2.2498364944408111E-3,7.3639094191893621E-3,1.1732553680092678E-2,2.5916020349386988E-3,4.610439986700654E-2,2.0476320004835734E-3,2.1942672040992837E-2,2.1143998033742858E-3,2.6263200129492494E-3,3.246759904497412E-5,0,-3.620573149895349E-6,0.21089285301126767,null,null,5.3524264087969259E-2,3.4930999352430388E-2,1.8410267202399487E-2]
[null,"25","窯業・土石製品",2.3931673973023805E-3,0,2.0900140544819999E-3,5.1177780544144297E-4,1.2237780652624181E-3,9.7573137988586703E-3,5.1471258085086999E-3,2.6364951378508501E-3,8.8120382190244095E-2,5.0933649897330598E-3,1.1189479860626505E-2,5.8827024778655892E-3,6.1138461304337905E-3,5.8266939797240389E-3,6.7160857732801206E-3,4.0903298370162468E-2,8.3493530851795287E-3,2.9538851061772244E-3,6.1934133013535108E-3,6.4279679090629999E-3,5.0636064684091764E-2,6.0018082867547832E-5,4.7807646267752375E-3,4.8660770955866796E-4,2.0307202852033821E-4,1.0796133904448817E-5,6.9310016732832444E-5,3.2813000639531816E-5,1.1923413530212738E-6,1.8957217622087868E-4,1.7245008506636334E-3,7.1522884608265364E-4,4.3872970875097025E-4,1.1843169412299277E-3,1.0380225411517215E-3,5.3862351767704755E-3,2.740250450831646E-3,6.1105222209316499E-3,9.6292729898892631E-4,4.1798510575792835E-4,0,0,0,2.8041924064690776E-2,null,null,9.0632736001607199E-3,7.3649781312153289E-3,3.7261680186309416E-3]
[null,"26","鉄鋼",6.5866992586304052E-5,1.8744142455482662E-3,0,2.2130932127197532E-4,4.3301442966483996E-3,1.9847065952420379E-5,0,2.0802403833331852E-3,7.3820484056064881E-3,0.38893255903490759,1.6854244589376997E-3,0.19424597523568718,6.9048035731949509E-2,8.7078917974272418E-2,1.8878731057427822E-2,8.6573832826857492E-3,4.3983682936332799E-2,9.037481812946984E-3,5.0025341978225286E-2,5.5232708195794922E-3,1.9341059451668759E-2,0,2.9556504647760357E-5,0,0,0,0,4.9927232345640569E-4,0,4.0622609190188283E-5,0,3.4552118168244134E-6,6.7496878269380039E-6,2.0268511410310845E-4,4.2315394772407944E-5,2.2165576859137761E-5,2.4909078087063398E-3,1.6529538715402935E-2,0,-1.1130481569757866E-4,0,-1.0768081749067801E-3,-8.8210327651995772E-4,3.5445732398602534E-2,null,null,1.0044990164711949E-3,4.0509550300334369E-3,1.5397430490075507E-3]
[null,"27","非鉄金属",0,0,1.0345660360913287E-3,1.3831832579498458E-5,1.1864327252426728E-3,6.3138478561137338E-3,0,2.346937868375901E-3,5.525253697471407E-3,3.104145277207392E-3,0.46583876427962595,5.0241680514546937E-2,3.6555625727612368E-2,1.9631603460569864E-2,6.6504206217760237E-2,6.2655102851570763E-2,6.9347520585611958E-2,4.2444515751856066E-2,2.7478459318508508E-2,1.5320080743536035E-2,9.1725876639372067E-3,5.420988129972062E-4,2.2167378485820266E-4,5.2892142343333471E-6,1.2221927642427764E-5,0,0,1.1581059049246524E-5,8.3463894711489159E-6,2.4180124517969218E-4,1.5449055773022474E-4,1.5997630711897034E-3,2.0924032263507813E-4,4.3186501436348596E-4,3.6529412221895024E-4,9.7528538180206143E-4,2.1710440152728663E-3,1.6435255624467838E-2,9.4272602698216565E-5,5.0217417380152242E-4,0,0,8.2285753406712484E-6,4.0952314846949403E-2,null,null,3.3153645373531246E-3,1.8241706792338528E-2,7.8446801090259321E-3]
[null,"28","金属製品",2.3053447405206422E-3,6.8728522336769758E-3,1.5874392152732633E-2,5.394414706004399E-4,7.0075179042178208E-3,1.4792266342663314E-2,8.1989614648811154E-4,7.9209153057686662E-3,8.92937732905239E-3,3.7057238193018479E-3,3.2984094712161858E-3,7.4294987511295152E-2,2.7438119659420345E-2,2.9181556267233812E-2,2.6010696123567222E-2,2.4305680956336451E-2,2.7475182465127417E-2,3.0778427847400185E-2,1.043729452917928E-2,1.2282689313978792E-2,9.204171258706341E-2,6.6794318030012915E-4,7.2413436387012866E-4,1.4809799856133372E-4,2.5905785860545925E-3,1.1425908382208331E-4,2.9774598904163524E-4,2.0080269607054666E-3,4.6620546903131804E-4,4.1725222868207682E-3,2.3431067922417416E-4,3.8106050322692103E-4,2.2273969828895414E-3,1.3995870787577389E-3,2.4162953994530086E-3,3.9898038346447968E-4,3.017297830970875E-3,1.3250239022484433E-2,2.5823959381975751E-3,9.3034248610199526E-4,5.4682272075745887E-6,7.4272153602544582E-4,2.451786308506405E-3,0.13194974665093356,null,null,2.5692392369742627E-2,2.4374041976206198E-2,1.2128291668549084E-2]
[null,"29","はん用機械",0,3.2802249297094657E-3,0,0,4.6921068229936214E-5,4.9617664881050955E-5,0,3.3273686229138861E-4,1.4183848464920765E-3,4.7324178644763862E-4,1.2073241109868908E-5,9.4459276986974452E-4,0.15088112430853046,4.0670076677149496E-2,8.0403329952794048E-3,2.2339969972603869E-3,1.5242924686545317E-2,1.8329912042796168E-3,8.4445564599887561E-3,3.1243292880061072E-4,6.04203064720791E-3,0,1.0285663617420605E-2,0,3.7605931207470044E-6,0,0,9.9082394087998031E-5,0,3.5593143290450687E-4,0,0,0,9.0949977181365421E-3,2.072590764362838E-5,0,0,5.8508012532841594E-3,0,4.7955798252680167E-5,0,6.778369408708065E-3,2.4584679116830301E-2,8.1974040397029227E-2,null,null,1.4990853363337131E-2,3.7121154164652399E-2,1.891850263485206E-2]
[null,"30","生産用機械",1.0977832097717342E-5,4.6860356138706655E-4,0,0,6.3199806187261021E-5,0,0,2.5996654851544749E-3,9.5418616945830588E-4,7.138732032854209E-4,1.183177628767153E-4,5.0200700350995096E-4,3.8920128135866627E-3,0.1200496800882591,9.7038501667165238E-4,2.4868049715462046E-3,1.7481688854253806E-3,8.3957151083310986E-4,8.6522775929829036E-4,1.2768997959677135E-4,5.8385166386603217E-5,9.6803359463786839E-6,2.8078679415372341E-4,0,2.8204448405602532E-6,0,0,5.7261903076830032E-5,3.5770240590638213E-6,2.3212919537250448E-5,0,0,0,1.4219751730606313E-2,8.6357948515118252E-6,0,0,3.622924512091754E-3,0,1.634049421943176E-5,0,4.7683274822154084E-3,5.0626145211973041E-2,0.16330024756484116,null,null,0.10177283720747202,3.2191401461544797E-2,2.5058441825415591E-2]
[null,"31","業務用機械",3.6592773659057808E-6,0,4.5395613694222408E-7,0,0,0,0,0,0,0,0,1.6392065420733096E-5,3.306118411541359E-3,5.2496575563606585E-3,5.9430610175180032E-2,1.5478039241988826E-5,5.1275516956314862E-4,4.8352285964210518E-4,2.8333162540401758E-4,9.2371474601919695E-5,1.5180143260516837E-4,0,9.6058640105221155E-5,2.1156856937333389E-5,8.4942397114872955E-4,1.2595489555190286E-5,0,3.1526216300726648E-5,3.4577899237616937E-5,4.2073416661266442E-3,0,1.1485124079124351E-2,0,4.2934800967854535E-3,8.6703380309178732E-4,2.3451180316967749E-2,0,1.8662832387642634E-3,1.8181144806084622E-4,2.8252477686640712E-4,1.7088210023670588E-6,2.2303734453581976E-2,1.9593554458192747E-2,-7.7184701881030049E-2,null,null,5.9389192108365768E-2,1.2437169938943671E-2,1.1785799169822296E-2]
[null,"32","電子部品",0,0,4.5395613694222408E-7,0,4.7878641050955327E-6,6.2022081101313694E-6,0,0,0,0,4.1531949417949045E-4,2.9751598738630568E-3,1.5630825654565791E-2,1.2167225155490707E-2,0.11555972245529297,0.30645485829855074,0.11963261369099391,0.30967441328896644,1.3078122533311545E-2,1.1109028224919108E-2,3.4808680150489159E-4,3.8721343785514732E-6,2.2167378485820267E-5,0,2.6324151845229028E-5,4.4084213443166001E-5,0,5.7905295246232619E-6,5.2224551262331788E-4,2.0756218886224778E-3,1.6794411046589847E-3,2.4680084405888667E-6,0,1.4484699592179004E-2,2.2453066613930744E-5,3.2051424138313196E-2,0,1.3654399405611558E-2,5.3870058684695183E-5,5.7535116965376032E-4,0,0,0,-2.7417227736516971E-2,null,null,2.3394471423815223E-2,6.9832839233184528E-3,4.6227512690307192E-3]
[null,"33","電気機械",2.3419375141796997E-4,0,9.0791227388444816E-7,0,4.2133204124840685E-5,4.9617664881050948E-6,0,2.6669748504271603E-5,3.2236019238456281E-5,0,1.1107381821079396E-4,4.7741890537885139E-4,3.2032064402730119E-2,2.5911683201507989E-2,1.4698049745000328E-2,8.3271851121899873E-3,0.12147742430705724,1.9235418489035021E-2,4.7210582145399256E-2,1.5567310278499997E-3,7.798034032435462E-3,3.8721343785514732E-6,2.2167378485820266E-4,0,1.8990995259772373E-4,2.6990334761122041E-6,1.886544834148102E-5,1.9559121949838573E-4,7.9886870652425346E-5,1.8550991530185985E-3,4.7312733304881324E-4,6.1206609326603899E-5,0,7.3059372828669479E-3,1.3126408174297976E-4,0,2.2919374175154391E-4,1.3302525190954007E-2,5.5755510738659513E-3,1.0501964589201751E-2,0,1.1347901535556067E-2,2.7965307009791676E-2,0.17975058420675136,null,null,3.4726152339007027E-2,0.10305784567529815,5.0834888542110386E-2]
[null,"34","情報通信機器",1.0977832097717342E-5,0,1.0894947286613378E-5,0,2.8727184630573193E-6,5.2718768936116636E-5,4.5549785916006198E-5,5.0799520960517346E-6,4.5130426933838797E-5,0,2.4146482219737817E-6,3.6882147196649465E-5,2.4729309177236861E-4,2.4180573931417847E-4,2.1888383834698927E-5,3.6115424897973924E-5,2.646875425115893E-5,2.2571726220565545E-2,4.1114936257308325E-3,2.9884888841797548E-5,1.7092952521182694E-3,1.161640313565442E-5,7.3891261619400893E-6,2.6446071171666736E-5,2.11533363042019E-4,1.0796133904448817E-4,5.2905279044588078E-5,9.1361688055167022E-5,1.2758052477327629E-4,2.2323090954989183E-3,1.4354747655766713E-4,1.7769660772239841E-5,5.3997502615504031E-5,1.2233967508118997E-3,8.2903630574513519E-5,0,0,8.714661389613369E-4,2.5251590008450865E-3,1.0385331351476098E-2,0,3.6171091013759676E-2,2.3842790764115381E-2,3.9031952060341039E-2,null,null,2.5469227897526602E-2,1.3172791329742349E-2,1.3391582006481112E-2]
[null,"35","輸送機械",7.2673248486888808E-3,1.5620118712902218E-4,0,0,0,0,0,0,0,0,0,0,0,6.4573123566854482E-5,0,0,0,0,0.41620778760375671,0,0,0,0,0,0,0,0,1.0879118192428304E-2,0,9.169103217213927E-3,9.526917726697192E-5,0,0,3.293898052037085E-2,7.5131415208152876E-5,0,0,4.7431054252344389E-2,0,1.7767800866685605E-2,0,2.8302108197133205E-2,3.1865322578256222E-2,4.4839314222253068E-2,null,null,0.42146707599138616,0.1819560042546618,0.11178893521307179]
[null,"39","その他の製造工業製品",2.034558215443614E-3,2.6554201811933771E-3,5.3249054863322882E-3,6.8329252942722378E-3,1.4433495131220992E-2,4.5046637503884136E-3,5.6026236676687616E-3,4.1007913295377629E-3,6.318259770737431E-3,3.3688398357289528E-3,2.4658387642796258E-2,2.1186744556297523E-3,1.5199013871240194E-3,2.9607464103525829E-3,4.293771295573439E-3,2.0688979120125064E-3,3.5892861869420401E-3,4.9011635318267936E-3,1.112000465295338E-3,4.1773640984679922E-2,3.149462689654482E-3,7.7597572946171527E-3,3.169935123472298E-3,5.3632632336140145E-3,5.3381619349003725E-3,1.4049368920989394E-2,5.4135634371206406E-5,1.7686850736877051E-3,1.151444044612644E-2,6.699828901438911E-3,2.2084425227535624E-2,3.4685390624035932E-3,3.8574465930950694E-2,5.652000256999426E-3,5.2566083261152479E-3,0.1289149950127452,7.5054653892263833E-4,6.2196242259367233E-3,1.7854557575308658E-2,9.475828915972798E-3,0,4.2699585704957322E-3,5.5710746486480611E-3,2.1748686980865781E-3,null,null,2.8893326864497741E-2,1.5086586430066495E-2,1.169222587070412E-2]
[null,"41","建設",2.9054662285291901E-3,2.4992189940643548E-3,6.1556452169365592E-4,3.8729131222595683E-3,6.747058096900624E-3,2.9119367077066779E-3,2.1408399380522911E-3,4.8742140361616388E-3,6.4020734207574179E-3,3.9784394250513347E-3,3.8972422302656837E-3,4.5877293096276747E-3,2.035412370741803E-3,2.0690877466315498E-3,2.305576430588287E-3,5.0871155642003268E-3,2.508376129615643E-3,2.6637713903919611E-3,8.3559287765779195E-4,2.0321724412422333E-3,8.5131133083704309E-4,2.4804892829000738E-2,4.8480056748488924E-2,2.9513815427580077E-3,3.7497814155248565E-3,3.4673583389788118E-3,1.3751681485613045E-2,1.0861103211685031E-2,5.0889128946947967E-3,7.897228667568746E-3,7.0112964783233655E-3,2.8910250873057986E-3,1.532179136714927E-3,1.4691358924205703E-3,3.0432541056727674E-3,0,1.4519801331842315E-2,4.8198967979626453E-3,0,0,0,0.66859847893942681,0.37963980563446759,0,null,null,0,0,5.5464176056790694E-2]
[null,"46","電気・ガス・熱供給",1.0827801725715206E-2,1.2183692596063731E-2,1.4223807638810707E-2,2.9918253869455163E-2,5.9223963834389694E-2,1.8873939499940769E-2,9.5199052564452942E-3,2.7594299785753021E-2,4.8940724407824328E-2,5.1246470739219716E-2,3.1363865755217449E-2,1.9297559016558035E-2,1.2516834952786042E-2,1.0804320079356246E-2,1.1702989223619025E-2,2.8489910898087431E-2,9.2400574433522484E-3,5.5824911976861237E-3,1.2247791924356273E-2,1.7216412780951915E-2,2.9175901717191149E-3,9.667751509648391E-2,5.2270678469564187E-2,6.8125079338213518E-2,2.5258963843777439E-2,5.0831797133446509E-3,4.0294136946750223E-3,1.2276565984370717E-2,7.2744745947827911E-3,1.0640221992887175E-2,1.1450325170438489E-2,1.2311906906721621E-2,3.9485673787587328E-3,5.2148362854044861E-3,2.9954118021953916E-2,0,2.7352132257382053E-3,1.6337972753356633E-2,5.5890185885371254E-4,2.3170583984397433E-2,0,0,0,0,null,null,0,0,6.6326976061152707E-3]
[null,"47","水道",4.3911328390869374E-4,4.6860356138706655E-4,1.7858634427307097E-3,1.8258019004937964E-3,3.4108743884700573E-3,2.7302120100798286E-3,1.5031429352282044E-3,6.5912378446271252E-4,8.9616133482908463E-4,9.785677618069815E-4,5.843448697176552E-4,5.2864410981864223E-4,5.0409745630521292E-4,5.6741914964065739E-4,4.0858316491437996E-4,1.3104739891550538E-3,4.9121083470755411E-4,2.593440792625837E-4,3.7943726960264332E-4,4.618573730095985E-4,9.0024366076105341E-4,8.7897450393118446E-4,8.3807468928724482E-2,8.1453899208733544E-3,2.606091032677674E-3,1.1821766625371454E-3,4.4374815446701009E-4,4.7823339951694119E-3,2.6768063375327594E-3,3.6531332121747893E-3,7.8667879417544852E-3,4.4641336673371425E-3,2.1194019776585335E-3,8.2001363156747786E-4,8.1444181244608033E-3,0,7.9840017731032332E-4,2.574471342740004E-3,2.356815067455414E-4,6.4413517756729587E-3,-1.6941251417467022E-3,0,0,0,null,null,0,0,1.6768010083022511E-3]
[null,"48","廃棄物処理",1.4637109463623124E-4,9.372071227741331E-4,1.363230279237499E-3,1.1065466063598766E-4,1.6278737957324809E-3,2.5720557032714786E-3,1.3664935774801857E-4,1.0032905389702175E-4,3.417018039276366E-3,2.4063141683778235E-5,5.3363725705620575E-4,1.1474445794513166E-4,6.0111243846206527E-4,3.2973509906478882E-5,2.3712415820923837E-4,1.0834627469392178E-3,3.7179366436511613E-4,2.9011371578526308E-4,5.2761167780513546E-4,3.4503462571893536E-4,2.4327152661084675E-3,1.5138109352946984E-2,2.9187048339663351E-3,0,1.5235102880426302E-3,4.5802598089624107E-3,1.9685685225893237E-5,9.4025331636493712E-3,8.2223859704347035E-3,2.7764586176512975E-2,6.4886034246694384E-3,5.0144995495884593E-3,5.3997502615504031E-5,1.7142126643753092E-3,2.2256170491316278E-2,0,1.2499874069372663E-2,4.135736933197535E-3,0,3.367562721743763E-3,7.7771861459729578E-3,0,0,0,null,null,0,0,1.7338322915867275E-3]
[null,"51","商業",5.8661875452835577E-2,9.0596688534832857E-3,6.4288814157620833E-2,6.8163270951768398E-2,6.7155539510890955E-2,5.3135557321117466E-2,1.1660745194497587E-2,5.5139070038569535E-2,3.1139994584348768E-2,3.5557302361396301E-2,3.1933722735603264E-2,2.8815202001471189E-2,3.7381204203221656E-2,3.7471646216221045E-2,4.911753332506439E-2,4.1305727390454176E-2,5.2811320255306521E-2,4.8334703314768988E-2,4.1210211016974974E-2,6.3806954485314288E-2,4.9643516855519508E-2,5.3570979127259633E-3,1.7785626671789793E-2,1.7454406973300047E-2,9.305587677288462E-3,5.2244291319278567E-3,1.3923521112897406E-3,2.6343692376188829E-2,6.5054144220840692E-3,9.0627106693348634E-3,2.2896788076933725E-2,4.1642212816367832E-2,3.5105126387904556E-2,2.0991819072404289E-2,6.0002366207789315E-2,0.23883409065720934,4.0448917500327418E-3,3.471765589017637E-2,0.14643902077700827,0.16971332023804547,9.1592805726874353E-5,2.1701826294275108E-2,4.0923338313267131E-2,-7.3343976307813336E-2,null,null,2.2550485136780145E-2,5.5565912446556669E-2,7.9322319341726233E-2]
[null,"53","金融・保険",6.8684636158051508E-3,4.5142143080287411E-2,6.3099903034969148E-3,1.7912223190450504E-2,9.5058253942566697E-3,9.3361838681807491E-3,3.9172815887765326E-3,4.9173936289780788E-3,1.1256817918068934E-2,7.3873844969199179E-3,8.5116349824575811E-3,1.1552308105261647E-2,5.0257565266353683E-3,7.6649671570102372E-3,1.5445902859352541E-2,7.5016896859505834E-3,7.7165651928494967E-3,8.092414405464687E-3,5.2146313226850861E-3,2.3111886307015612E-2,1.0482083538608165E-2,1.9380032564650124E-2,1.7527007256121892E-2,2.6710531883383404E-2,1.8084692317672343E-2,7.7798740271108918E-2,7.7536992683486988E-2,2.6712999481425911E-2,6.8833866309918135E-3,1.8222141836741604E-2,7.2436760255759122E-3,7.7559633253945727E-3,2.5176335594478755E-2,1.0538301194053775E-2,1.2893241713307156E-2,0,3.4439507963852874E-2,1.8160099227928578E-2,2.3568150674554141E-5,5.2274661920503021E-2,0,0,0,0,null,null,3.4396324569165712E-3,1.3636476074571581E-2,2.081465733782982E-2]
[null,"55","不動産",5.4157305015405555E-4,4.8422368009996873E-3,2.8699106977487406E-3,3.9559041177365589E-3,2.5797011798254729E-3,4.0593452080809811E-3,9.1099571832012392E-4,4.2773196648755599E-3,4.248707335628538E-3,1.8528619096509239E-3,1.5912531782807222E-3,4.5672392278517581E-3,2.5547278634637772E-3,3.4306189265199071E-3,2.24355934305664E-3,2.0018264086305547E-3,2.7035062481648845E-3,2.6417930785900471E-3,8.2008303306089548E-4,3.3960100956588126E-3,5.1957237592040045E-3,8.4393168780529364E-3,1.2265949428820547E-3,1.5497397706596707E-3,3.4998900026512181E-2,1.7627387632488806E-2,4.747982217264346E-2,2.5660409892283284E-2,2.1847270611408801E-2,3.5989697332545383E-3,1.3727129764987677E-2,1.8612238853856881E-2,1.6928217069960515E-2,1.0549561478170615E-2,3.245158989301114E-2,0,1.9013006115191262E-2,1.3371220156986895E-2,0,0.23107057352884933,2.2009614510487717E-4,0,2.626363762934086E-2,0,null,null,0,0,6.8813221666712832E-2]
[null,"57","運輸・郵便",7.9505119329034896E-2,0.30084348641049674,3.6951121634823156E-2,3.0457695340055605E-2,4.4222628020304376E-2,2.6859282441734907E-2,3.6485378518720961E-2,1.8911391665576593E-2,8.1718308769486672E-2,3.695296457905544E-2,3.3988588372502952E-2,2.995649955638973E-2,2.0698431781347254E-2,2.0638669408963573E-2,2.506584755470272E-2,1.5751484601930626E-2,2.1578805791363429E-2,2.0453016962861049E-2,1.8528448101567327E-2,0.10937054273674945,4.6809334064352684E-2,3.4611073142682344E-2,2.3733873232151564E-2,8.0353742647992221E-2,5.6308771019365177E-2,3.6233624738980973E-2,2.9401391121755961E-3,8.1757773142494633E-2,2.1191482867247098E-2,3.6778936596811897E-2,3.1617780060804908E-2,1.7850117847403039E-2,4.2043805473996824E-2,1.6477107511205638E-2,4.3885382276412796E-2,6.1553806937825556E-2,5.2460180735636353E-2,3.3071916489959614E-2,3.3520644016551575E-2,4.1342752878324771E-2,4.5796402863437178E-4,2.3938274042158421E-3,4.2591105963314382E-3,-4.7453784040165661E-2,null,null,3.9619719454815926E-2,4.7149964705572062E-2,3.4859897775827368E-2]
[null,"59","情報通信",4.0508200440576994E-3,2.6554201811933771E-3,4.5767857726515034E-3,3.8175857919415745E-3,4.7007249783827939E-3,1.3731688755830852E-2,1.2753940056481736E-3,3.7705944432943998E-3,5.1448686704576229E-3,4.4276180698151948E-3,2.2528667911015385E-3,7.2391458914312524E-3,8.1340404647588325E-3,8.0963705782866689E-3,5.6909797970217208E-3,5.7526712516058464E-3,7.7405717374028739E-3,2.0246420831923059E-2,2.5931906242989411E-3,5.4879523145846404E-3,8.3134916442486155E-3,1.2251433173736861E-2,3.3930867335628889E-2,9.6686836203613586E-3,4.024445735581416E-2,5.548583052408932E-2,2.7908559992125726E-3,9.6984935615745602E-3,0.21627760568317583,2.9193147933034597E-2,4.3182042017569436E-2,1.3224082826363266E-2,6.2947588674023822E-2,5.4156005275111926E-2,2.4099912692114051E-2,0,4.3234502977000031E-2,2.1815061392301171E-2,1.9416789277164819E-2,5.614108335345306E-2,5.2358275512526687E-4,8.0293996242215573E-2,8.6310843320355227E-2,3.3548506513037643E-3,null,null,2.4227066484890317E-3,1.1917951144124292E-2,3.2236018479490446E-2]
[null,"61","公務",0,0,0,0,0,0,0,0,0,0,0,0,0,0,0,0,0,0,0,0,0,0,0,0,0,0,0,0,0,0,0,0,0,0,0,0,0.10098880728584238,1.2028218572143034E-3,0,4.0754139858290026E-3,0.32788583982058744,0,0,0,null,null,0,0,3.3656923777283493E-2]
[null,"63","教育・研究",4.0252051024963592E-5,0,2.2198455096474759E-4,0,2.1832660319235628E-4,5.1106194827482481E-4,4.5549785916006198E-5,1.6001849102562963E-4,2.51440950059959E-4,1.6844199178644764E-4,1.9317185775790254E-5,4.8561493808921789E-4,8.122626937446261E-4,3.8881263764723015E-4,3.86694781079681E-4,1.5736006562688638E-3,1.3382109707446399E-3,2.2198094919933008E-3,2.2212313154840871E-4,5.4336161530541001E-5,1.6069821986407933E-4,7.0085632251781662E-4,1.1822601859104143E-4,2.4330385477933398E-4,2.2093484584388649E-4,2.1592267808897634E-4,1.2303553266183273E-6,9.5286380288522789E-4,5.5014630028401568E-3,1.6442484672219069E-4,1.2874213144185393E-6,1.0266915112849686E-4,0,4.9611487079486349E-4,5.1814769109070956E-4,0,2.445572782865375E-3,5.0477301023381003E-4,0,2.8158697458946582E-2,0.15557208934809846,0.10177908037820817,0.25698433246340835,0,null,null,3.0393861993226363E-4,9.1573846443928714E-5,5.246637609611654E-2]
[null,"64","医療・福祉",0,0,0,0,1.9151456420382129E-6,7.4426497321576431E-6,0,0,0,0,0,0,0,0,0,0,0,0,0,2.7168080765270498E-6,1.1120984073638709E-6,1.9360671892757368E-5,1.1822601859104143E-4,0,1.9273039743828396E-5,1.0976069469522964E-4,9.4327241707405098E-6,8.8659440943676161E-4,4.1493479085140324E-4,1.9344099614375376E-5,1.6092766430231744E-5,1.4368745141108382E-2,6.7496878269380039E-6,2.2520568233678716E-5,2.5216520966414531E-4,0,1.284492398827334E-4,9.4457078185310585E-4,7.4121833871472767E-2,5.9203149878920489E-2,0.50910767417841596,0,0,0,null,null,5.177829981810283E-7,2.8020122656532711E-3,6.9286168145969204E-2]
[null,"65","他に分類されない会員制団体",3.9227453362509976E-3,1.4058106841611997E-3,1.5439048217405042E-3,7.8841445703141204E-4,5.2858019720254678E-4,1.1449276171302508E-3,2.7329871549603714E-4,4.5211573654860434E-4,8.7037251943831962E-4,4.7324178644763862E-4,1.3811787829690033E-3,2.5612602219895461E-4,3.0588253197689902E-3,4.5201186496798135E-4,6.4205925915116846E-4,3.4051686332375414E-4,3.1146952676945161E-4,2.6373974162296647E-4,9.6936528730602305E-5,7.4983902912146574E-4,9.0802834961260055E-4,2.1567788488531707E-3,8.5418298432027428E-3,1.8565141962510049E-3,6.026350475997074E-4,3.0858949410216201E-3,2.0300862889202401E-4,1.3556273009312457E-3,1.0075284433029763E-3,2.901614942156306E-6,3.2488076869351843E-3,1.056307612572035E-3,0,1.8745061206267872E-3,2.7755444652759007E-3,0,2.3423096684498443E-4,1.1189480034903042E-3,0,1.1455041675956869E-2,0,0,0,0,null,null,4.4736451042840848E-4,2.9731193901804333E-3,4.5348336850601131E-3]
[null,"66","対事業所サービス",1.8329320325822056E-2,2.1399562636676039E-2,4.8171555471624113E-2,2.7470019502883938E-2,2.2147701777350912E-2,6.9525512472950621E-2,1.2753940056481734E-2,4.4171453463193844E-2,5.9655977202687192E-2,1.9611460472279262E-2,2.0877048527185318E-2,3.1519892795892152E-2,4.6226687870464071E-2,3.6474197541550055E-2,3.8720551003582397E-2,4.8095427271273278E-2,4.1897575769886806E-2,4.184670567084401E-2,2.9630450256327878E-2,4.0782006036747545E-2,9.8935054565108357E-2,8.1022475804000307E-2,0.14524805296525634,6.2132399610713832E-2,7.8186961647591063E-2,0.11990096346498319,2.3753239935693428E-2,0.14853222944394187,0.15910364546445271,9.1532410555301397E-2,0.10678001123918808,4.7304317780766811E-2,7.5562755222570957E-2,0.14875166503171758,3.8272115622930106E-2,0,2.8142976597052217E-2,6.6302161377614244E-2,7.5047725505115971E-3,1.5010638490602499E-2,0,1.1095265771443324E-2,1.5604341133035327E-2,0,null,null,1.0426078451373187E-2,8.6707654836385064E-3,1.0513500327523481E-2]
[null,"67","対個人サービス",1.3173398517260812E-3,1.5620118712902218E-4,2.8145280490417891E-4,1.5215015837448303E-4,1.0246029184904439E-4,3.1879349686075235E-4,4.5549785916006198E-5,9.6519089824982944E-5,2.0631052312612019E-4,8.0210472279260777E-5,6.7610150215265883E-5,1.0245040887958184E-4,1.5218036416761145E-4,1.7860651199342727E-4,1.2403417506329391E-4,3.3019817049576158E-4,1.7050802157141917E-4,1.8461781913607653E-4,1.0773802764629799E-4,1.1274753517587256E-3,3.0527101282138254E-4,1.006754938423383E-4,3.7684543425894456E-4,6.875978504633352E-5,6.3083949600530997E-4,2.6630463630973746E-4,7.4518520948850032E-4,5.8870383500336495E-4,5.4847702238978594E-3,4.5748795587997762E-4,7.7766684497451869E-3,2.3139059935584981E-2,2.3623907394283014E-3,1.9076246033233736E-3,1.7190413231419441E-2,0,3.4001269380723549E-3,2.9036072236626499E-3,0.57756446730929156,0.10075844759147627,0,0,0,0,null,null,3.0052125214426882E-3,1.9761767116405104E-2,4.299515295051886E-2]
[null,"68","事務用品",5.7084726908130181E-4,7.8100593564511096E-4,6.0058396917456246E-4,1.0235556108828859E-3,6.65513110608279E-4,6.8658443779154256E-4,4.5549785916006198E-5,1.739883592897719E-4,9.6708057715368849E-4,4.4917864476386036E-4,4.4912456928712343E-4,5.8601633879120816E-4,1.0709693128295656E-3,1.2227676590319252E-3,1.2403417506329391E-3,1.4600950351609458E-3,8.4700013603708577E-4,9.0550644623885147E-4,3.2653762106680037E-4,1.3774216947992142E-3,6.9672965221346508E-4,5.2273814110444889E-5,8.7191688710893051E-4,2.8350188296026742E-3,1.9837128711940447E-3,3.3728921673148843E-3,3.0758883165458187E-4,2.1347752180777757E-3,1.9900177181925061E-3,2.5582571740011433E-3,4.7583091780909218E-3,2.3949553907474364E-3,4.4682933414329591E-3,1.518151246811518E-3,1.7858823752926454E-3,0,1.1081895205569156E-4,1.3533508264514376E-3,0,0,0,0,0,0,null,null,0,0,0]
[null,"69","分類不明",6.4878987697509494E-3,3.4364261168384879E-3,4.1182900743398573E-3,2.2822523756172454E-3,2.537567975700632E-3,8.5776538163116832E-4,4.0539309465245513E-3,2.3596377486160306E-3,1.0147898856266038E-2,1.0467466632443531E-2,7.2125542390356857E-3,5.0876873049600342E-3,7.1182365339400259E-3,5.2647704150677946E-3,2.1669499996351937E-3,5.8300614478157904E-4,2.9318761976341859E-3,2.9538851061772244E-3,1.0499610869077523E-3,1.8908984212628267E-3,1.442558449112045E-2,3.1267485106803148E-3,6.923611213737863E-3,7.515973426987687E-3,4.1070377619958224E-3,9.6949282461950368E-3,3.1657042553889562E-3,2.786531485682594E-3,4.9362932015080737E-3,3.8301317236463241E-4,4.0708261961914212E-3,2.9226155953453359E-3,1.2601667172893254E-2,3.7655714826018674E-3,5.1158448700356057E-3,4.8764269090103071E-4,0,4.0593625299138077E-3,0,1.0064797164142751E-5,0,0,0,0,null,null,4.9448276326288202E-4,2.6710895141720765E-2,1.107930890818485E-2]
[null,"70","内生部門計",0.50159544493153496,0.44392377382068104,0.60417113056867988,0.5611297840850934,0.62410000124484466,0.60849305569768952,0.66452582672861438,0.55590677779908537,0.49900713060745555,0.59222600102669409,0.77718592066914727,0.4986548261314111,0.52630818045547578,0.50251903876723036,0.55753361690950609,0.65497386791041312,0.63742484874338046,0.6637845773790424,0.76485524606645416,0.53702873567902543,0.51307494097537698,0.57761209345009112,0.52324619090546354,0.35018829602674229,0.30603941853709166,0.36654943864602085,0.18071130942616229,0.4803025487337399,0.49621670088686348,0.29165679311582182,0.34663818890719172,0.40609252563643766,0.38272754885086563,0.3961513673627951,0.45461069405019644,1,0.34997380642951409,0.49283184528237772,1,1,1,1,1,1,null,null,1,1,1]
[null,"71","家計外消費支出（行）",7.8564685045997111E-3,1.0153077163386441E-2,5.2132322766445015E-3,9.0321866744124922E-3,1.0865578800103802E-2,8.8251219199059257E-3,3.3706841577844583E-3,1.3513942563521626E-2,1.2036929583639576E-2,2.7191350102669406E-3,6.8093079859660646E-3,1.0802371112263108E-2,1.1999421714616163E-2,1.0908736194060097E-2,1.162273181622513E-2,1.0396083024202495E-2,9.4813539937349083E-3,1.2602363987217414E-2,5.1592390205533138E-3,1.3195536827691881E-2,1.2080724999193729E-2,5.630083386413842E-3,8.7043906187654254E-3,1.726928447509838E-2,1.3746378078750581E-2,2.4337184854103744E-2,1.6019226352570622E-3,8.3924074576873144E-3,4.9827945142759027E-3,9.9515720466154117E-3,3.0492573832003106E-3,8.5323987808038296E-3,3.5051128885289058E-2,8.6068312831888601E-3,1.4749937606382197E-2,0,1.9897039119090077E-3,8.9096770988621957E-3]
[null,"91","雇用者所得",0.18395919173881542,0.26944704779756329,0.12670914485558749,0.25617937120489093,0.16368654045218503,0.12074024594236039,2.6965473262275667E-2,0.24010393581988521,0.22303456990703133,0.14587076488706366,0.13104778830296107,0.30544564903358529,0.21037793993441026,0.33110212582966159,0.29755068984889721,0.23680884105601502,0.18640096961817898,0.17922434141988686,0.16043715604842396,0.26617655448966121,0.34485393143468479,7.8166776699818585E-2,0.1198442372205063,0.45479837515338722,0.43770530488068576,0.30446627062848791,5.3747662324879424E-2,0.32093044801970322,0.16943528328838206,0.33886316660976279,0.46857372385971485,0.51425250194355665,0.53205764233404207,0.36096827845490354,0.31383342069879122,0,7.4198325626378941E-3,0.25724536905935536]
[null,"92","営業余剰",0.19300126610996859,0.1162136832239925,8.9331758408175574E-2,2.0028493575113767E-2,8.6559795156022121E-2,6.8383685959875429E-2,0.11952263824360025,6.14394806256977E-2,0.11234252704602014,0.18822189425051336,2.7073035864770043E-2,5.8122165965564368E-2,0.10979242598327538,3.4317180435167897E-2,-1.7649333498712234E-2,-5.9487264153377052E-2,3.7345565591111914E-3,-2.879158846050717E-3,-1.373036689091317E-2,4.4072060617421804E-2,3.8870063534182014E-2,7.115434134026187E-2,0.13140083053778059,5.716582744467482E-2,8.8425646492964874E-2,0.22396669752561607,0.35446331900652911,2.1070450155765245E-2,0.14420534025845191,0,2.6606492594430743E-2,1.3925490825178622E-2,-8.7948432385002197E-3,7.3182573584300775E-2,2.4087822579321936E-2,0,0.57553570888868744,7.9423619837138332E-2]
[null,"93","資本減耗引当",0.15181609935669904,0.10793502030615433,6.378673867016274E-2,0.15833298753751884,7.7114296849489658E-2,0.18985455201760931,6.1173362485196323E-2,0.1045962136577052,0.11434760744265213,3.6712333162217656E-2,5.3865972535791125E-2,8.7695500992744466E-2,0.12187364464363164,0.10965065940150331,0.17551200577853332,0.1753558659189054,0.17240576969598481,0.19683336483558025,9.8023879621449012E-2,0.11778993096590677,4.7261402066946102E-2,0.23146264067948213,0.21965655341599302,7.6926331824144212E-2,9.7008260142789723E-2,7.4959357054238882E-2,0.3383444338725024,0.13424506293018809,0.15567089470910447,0.35777492559775687,0.14613712453162003,5.8695657539148786E-2,4.4014714319462724E-2,0.1077410479085347,0.13214665997680425,0,3.5157312539668147E-2,0.1336322274303739]
[null,"94","間接税",2.6449256800766985E-2,5.2327397688222428E-2,0.11222113474507639,-4.7028230770294758E-3,3.7673787497354706E-2,3.7051991249924796E-3,0.1265373052746652,2.4440919522128908E-2,3.9231235413201296E-2,3.4249871663244356E-2,4.0228039378083207E-3,3.928563378896445E-2,1.9652191777694925E-2,1.150775495736113E-2,-2.4562414726504642E-2,-1.8042234409744975E-2,-9.4438052958437293E-3,-4.956548877567616E-2,-1.474210728935E-2,2.1737181420292927E-2,4.7960355915974293E-2,3.6171543297238588E-2,3.655400712311762E-2,4.365717429018745E-2,5.7792795079639962E-2,1.7101076104646926E-2,7.1347485153712392E-2,3.7825025639177952E-2,2.9494948049687247E-2,1.7535426300431278E-3,1.0982991233304559E-2,1.1099127559016252E-2,3.211501468057102E-2,5.3385006997935393E-2,6.0575782985929701E-2,0,3.2883005409979751E-2,3.0510644179994491E-2]
[null,"95","（控除）経常補助金",-6.4677727442384675E-2,0,-1.4331395243266014E-3,0,0,-1.8606624330394108E-6,-2.095290152136285E-3,-1.2699880240129336E-6,0,0,-4.8292964439475635E-6,-6.14702453277491E-6,-3.8045091041902865E-6,-5.4955849844131472E-6,-7.2961279448996414E-6,-5.1593464139962747E-6,-3.6933145466733394E-6,0,-3.0465766172475013E-6,0,-4.1014189263579555E-3,-1.9747885330612512E-4,-3.9406209821626494E-2,-5.2892142343333471E-6,-7.1780321192258445E-4,-1.1380024813114424E-2,-2.1613241904261952E-4,-2.7659429362617114E-3,-5.9617067651063686E-6,0,-1.987778509462225E-3,-1.2597702284141811E-2,-1.7171205831730284E-2,-3.5105591658381525E-5,-4.3178974257559126E-6,0,-2.9593697423963088E-3,-2.5533828881019599E-3]
[null,"96","粗付加価値部門計",0.49840455506846509,0.55607622617931896,0.39582886943132006,0.43887021591490655,0.37589999875515534,0.39150694430231053,0.33547417327138562,0.44409322220091463,0.5009928693925445,0.40777399897330596,0.22281407933085268,0.5013451738685889,0.47369181954452416,0.49748096123276964,0.44246638309049385,0.34502613208958688,0.36257515125661949,0.33621542262095766,0.23514475393354586,0.46297126432097457,0.48692505902462296,0.42238790654990893,0.47675380909453646,0.64981170397325771,0.69396058146290829,0.63345056135397915,0.81928869057383769,0.5196974512662601,0.50378329911313646,0.70834320688417818,0.65336181109280822,0.59390747436356228,0.61727245114913432,0.6038486326372049,0.54538930594980362,0,0.65002619357048586,0.50716815471762233]
[null,"97","県内生産額",1,1,1,1,1,1,1,1,1,1,1,1,1,1,1,1,1,1,1,1,1,1,1,1,1,1,1,1,1,1,1,1,1,1,1,1,1,1]

{"sheet":"逆行列係数","index":10,"n_rows":46,"n_cols":42,"rows_kept":46,"cut":false,"hidden":false,"merged":[]}
[]
[null,null,null,null,null,null,null,null,"^"]
[null,null,null,"3-3　逆行列係数表　【統合大分類】　[I-(I-M)A]-1"]
[]
[]
[null,null,null,"01","06","11","15","16","20","21","22","25","26","27","28","29","30","31","32","33","34","35","39","41","46","47","48","51","53","55","57","59","61","63","64","65","66","67","68","69"]
[null,"37部門",null,"農林漁業","鉱業","飲食料品","繊維製品","パルプ・紙・木製品","化学製品","石油・石炭製品","プラスチック・ゴム製品","窯業・土石製品","鉄鋼","非鉄金属","金属製品","はん用機械","生産用機械","業務用機械","電子部品","電気機械","情報通信機器","輸送機械","その他の製造工業製品","建設","電気・ガス・熱供給","水道","廃棄物処理","商業","金融・保険","不動産","運輸・郵便","情報通信","公務","教育・研究","医療・福祉","他に分類されない会員制団体","対事業所サービス","対個人サービス","事務用品","分類不明","行和","感応度係数"]
[null,"01","農林漁業",1.0316884569222458,2.1567476186113895E-5,4.4440893278219505E-2,1.9539252452535514E-3,3.4282613976274593E-3,1.0405239123881692E-3,1.0088098596268039E-5,2.2072700771130281E-3,9.7431541499190278E-5,1.3189476733909345E-5,5.7564930494247151E-5,2.1188073210407616E-5,3.2639483037740906E-5,2.3645338090131905E-5,6.9343656762460879E-5,3.5998715184652938E-5,6.6348056276762705E-5,5.8327255587430478E-5,5.7733995293614084E-5,1.5152248001216596E-3,3.5026202253290279E-4,2.7556626762667904E-5,7.5604264042264103E-5,4.1335535323045715E-5,7.8018603167622847E-5,3.211161745763395E-5,1.5754076675573387E-5,5.5556017940757795E-5,6.3284170593589655E-5,3.9428165768929951E-5,6.1171440992325839E-4,8.8123548886146603E-4,7.7064147142600497E-4,4.1950121182640802E-5,6.4669667940979629E-3,6.1011935873435028E-4,8.4589803414601936E-5,1.0970857502778271,0.85262233249339292]
[null,"06","鉱業",5.4235696915896193E-5,1.000060436967418,6.3967445674316211E-5,1.1232049677383644E-4,2.6911449163775247E-4,1.1450930237448556E-4,8.3443572106098804E-3,1.054334953235586E-4,9.4204546332069211E-4,1.8044255475377325E-4,1.8773385240262867E-3,1.0651837614607568E-4,7.4741791945110803E-5,6.1211678940117391E-5,9.5546608806035692E-5,1.505208836906346E-4,9.2106826831421894E-5,6.0527713942925773E-5,7.7902838759672747E-5,9.3075858165473266E-5,7.8154679698300502E-5,4.3296580630652719E-3,1.9093154286445847E-4,2.2058769103787065E-4,8.5470972402423468E-5,2.5306462810167754E-5,1.6867874983977074E-5,8.1385524500851233E-5,3.4603596412584461E-5,4.9220052963208383E-5,4.9762588481563591E-5,5.4195533810238199E-5,2.5537953944694013E-5,2.654666466646602E-5,1.1055507377764486E-4,6.0462253660245821E-5,3.0717351956327429E-5,1.0184063181070924,0.79147502385349933]
[null,"11","飲食料品",2.458079078782776E-2,2.8806192168966817E-5,1.0571418500805239,1.0326696395106575E-3,7.1581265353037741E-4,3.6832818674190082E-3,1.6125477191687073E-5,2.3851168628422897E-4,1.845385068203294E-4,2.0400657714834826E-5,4.474555972161068E-5,2.5468902445375255E-5,3.0630951212725892E-5,2.3438901651247857E-5,3.4520202862315869E-5,3.8223231232087368E-5,4.047453617513123E-5,3.709559298334729E-5,3.2199039031468935E-5,5.3277043130555367E-4,6.1265822435717921E-5,2.1832743790926091E-5,5.0683824573085094E-5,3.8278897628297824E-5,7.520457813512504E-5,3.4609226625493538E-5,2.6232988535812427E-5,8.3966838748115994E-5,1.7753554209456435E-4,2.2140933687207751E-4,1.8694679487098313E-3,2.7595917319576668E-3,5.7783706008698247E-4,7.245885546269839E-5,2.9370626633729715E-2,1.5616721924758786E-4,1.2209311511056959E-3,1.1253004552973525,0.87454995993570428]
[null,"15","繊維製品",8.7771925598630225E-4,3.4893826746636636E-4,2.1646871720776346E-4,1.0245740181350602,8.2509931451327961E-4,2.6819011508844818E-4,4.8272793422050785E-5,5.8718664986980615E-4,5.0045110245564765E-4,1.6195332297446461E-4,3.4362393859885824E-4,2.0288004919869561E-4,2.4902787378492107E-4,1.8829579384841506E-4,3.6362313031172965E-4,5.2275734664880883E-4,4.0393795673816069E-4,2.7541382173131181E-4,2.9010805369923242E-4,1.4716729262715489E-3,5.5453025689483225E-4,9.2758715147858923E-5,2.3373082151762712E-4,4.1985819645668756E-4,6.0678282815632958E-4,2.6347452932395005E-4,4.158526794103644E-5,2.9569673762727385E-4,1.6958714532041899E-4,5.9301922491106066E-4,1.5230655980766336E-4,5.2896215101040352E-4,2.8671449422641784E-3,3.0227129433889338E-4,6.2776375377551622E-4,2.9115957518032563E-3,1.3480247855252058E-4,1.0435155092197259,0.81098913848679433]
[null,"16","パルプ・紙・木製品",1.1050605954654657E-2,1.4582088755735851E-3,7.2002470672154328E-3,3.1429771655327836E-3,1.1024851735877612,9.6034846386616867E-3,3.8649989987554902E-4,3.130706174565524E-3,5.0770958137790244E-3,8.9845239205312455E-4,2.7430669842249292E-3,1.9800140148999142E-3,1.4411211189786289E-3,1.0886056763203999E-3,3.6960393758194662E-3,2.5563876481098781E-3,3.4240023883517377E-3,2.6493609972106811E-3,1.1847507879308411E-3,2.2584960216525698E-2,1.6305792954591888E-2,2.2705815026200738E-3,2.9330994688692401E-3,2.7516860083835388E-3,3.4257045465612454E-3,2.8963148924461843E-3,7.4968988934561885E-4,4.5574140180669612E-3,2.8630672822253494E-3,1.4289871941395034E-3,4.7876520383954803E-3,3.4231219022134002E-3,8.1055835139651061E-3,2.0742984169571932E-3,2.9156963247739909E-3,0.15475072086044944,1.0535956764211234E-3,1.4050747672684705,1.0919822129607211]
[null,"20","化学製品",1.5540475378220533E-2,8.8780175468013405E-4,5.1669745760823602E-3,4.405881811537931E-2,1.2299753328913334E-2,1.0827844412352656,2.1657582040325624E-3,4.9613363958266161E-2,1.0247291104920465E-2,1.1004344053713545E-3,6.6215787568599891E-3,3.0879833895172087E-3,3.2436328179861374E-3,1.8606308502088105E-3,5.1353265462353919E-3,4.6658037239117782E-3,5.7608572069556335E-3,4.3469787170935274E-3,5.765219263255082E-3,1.2938981228690447E-2,2.3722481803712782E-3,8.4772161569250486E-4,3.8192578652594127E-3,5.1032559098989384E-3,3.7846515223485529E-4,4.2070528468590468E-4,1.3172164556753244E-4,7.3806921334565207E-4,6.2175843984026342E-4,7.3466746354377698E-4,5.0728525896417938E-3,4.5185444955736689E-2,1.3860463053379476E-3,1.8277155439057505E-3,3.1972095363545644E-3,6.1490314238679756E-3,1.4232172080513382E-3,1.3567014928951819,1.0543879464997343]
[null,"21","石油・石炭製品",8.5717003566765653E-4,1.4019946974531952E-3,3.1516228005584322E-4,3.6761596754413803E-4,4.0090744073625781E-4,3.3557535371335999E-4,1.0041268316550946,1.7772476640933076E-4,1.0035340953858266E-3,5.0267797460086701E-4,3.0316542549794953E-4,2.7543638605598595E-4,1.286827088720798E-4,1.4022008088314251E-4,1.7037764406021639E-4,1.5305735552424918E-4,1.4471783174769903E-4,1.0638397784473626E-4,1.7492586630814093E-4,3.909362791057404E-4,6.0262307103827785E-4,1.6010664464635581E-3,6.8812884067783939E-4,8.0775004498400413E-4,2.4595516756257169E-4,1.4864791293602578E-4,5.2083853640394966E-5,3.8522330169517352E-3,1.3824809276852707E-4,5.6893736899694101E-4,2.7346643405199274E-4,1.9074849475793023E-4,2.7765869542518073E-4,1.692172282013728E-4,3.5431792458702201E-4,2.5756988389765963E-4,6.0102966747285975E-4,1.0223067799669749,0.7945063465080251]
[null,"22","プラスチック・ゴム製品",5.5615420175527744E-3,1.749604086840923E-3,1.0361072880349159E-2,4.4859690777812652E-3,1.0534079664996089E-2,1.7777636627616281E-2,3.4718693831981251E-4,1.0722110809505396,3.9155818840862933E-3,6.2555649330220571E-4,7.5225857356251953E-3,2.3297345607149866E-3,8.1090579619691877E-3,5.2838706287476186E-3,2.1897395144845139E-2,6.3320646527485654E-3,2.0111069514802425E-2,1.7627815038798848E-2,2.1339691873467355E-2,2.1746967769710721E-2,6.2274885707348654E-3,8.3200789624662851E-4,1.6004890078912946E-2,8.2753836380457402E-3,2.7616752947305671E-3,1.9168653926808969E-3,6.1134413464723281E-4,2.6849919602795489E-3,2.0716024815198779E-3,1.652630366487806E-3,3.5682148108805447E-3,2.1927957689239579E-3,3.7888461446566137E-3,5.4809557394369848E-3,2.1572533835172371E-3,2.0248586654219081E-2,1.4933598979193366E-3,1.3418384557166549,1.0428368371868273]
[null,"25","窯業・土石製品",7.1755742529809401E-4,1.038294252620665E-4,6.3054178050694584E-4,3.234941847180827E-4,5.1400152113235975E-4,2.6140080433206506E-3,1.2736036033184344E-3,8.9683609491356651E-4,1.0209732414956945,1.36913667703495E-3,3.2654986946033431E-3,1.6148280230242284E-3,1.6818987108050674E-3,1.6477950720701245E-3,1.9505156831569012E-3,1.0292284257836782E-2,2.4747541442793472E-3,1.3096706862092569E-3,1.8839894400245916E-3,1.7122662172016296E-3,1.2099149377852385E-2,3.8897513765121346E-4,1.971291553129831E-3,2.4820584015028293E-4,1.6021779292061999E-4,1.230684100581661E-4,2.1260503387617242E-4,2.3711952368235545E-4,1.5660309778072718E-4,2.1588400333608787E-4,5.9855827916844293E-4,3.7430505068611374E-4,2.1631270774166898E-4,4.3038325089360022E-4,3.8799973838754776E-4,1.5320478262715617E-3,8.8771694944326585E-4,1.0774901947534408,0.83739325103510676]
[null,"26","鉄鋼",1.0029918770576194E-4,3.9424964044840015E-4,1.8735480464194366E-4,8.3235276571718854E-5,8.0866521529320988E-4,2.0021220649787375E-4,3.2693689919657672E-5,4.6152305090622588E-4,1.2241972854043289E-3,1.0552460101734562,3.7586632016301457E-4,2.8258187718055883E-2,1.0463947100875531E-2,1.3633175639836976E-2,3.059704564578567E-3,1.6192121890939899E-3,7.0039895339764242E-3,1.7409399492871046E-3,8.5027469420237024E-3,9.8344479244674341E-4,3.6556734699878767E-3,1.3515941589807256E-4,2.8122552431847808E-4,5.5062475594665601E-5,7.3573716034263845E-5,5.9341933925706369E-5,6.6776726259978181E-5,2.0879957569583705E-4,7.5102602297455074E-5,1.358690454921584E-4,7.7490433414527946E-5,4.9568386019654993E-5,7.8543080624843482E-5,3.1798649337347654E-4,7.7257214191695721E-5,2.0821148539860074E-4,4.6785503525958126E-4,1.1404031518949698,0.88628732540302491]
[null,"27","非鉄金属",1.710115096431784E-4,1.3881572111028399E-4,6.3562724441387796E-4,2.0593557805869645E-4,7.3981114161355058E-4,2.937020451712151E-3,5.7040462287896429E-5,1.2813261779103581E-3,2.4591007085820985E-3,1.4106202672786745E-3,1.1858742255148487,2.0635484883303884E-2,1.5758099815035495E-2,9.1840517090169983E-3,2.7522126015325419E-2,2.6496266484655997E-2,3.017571967920241E-2,1.8657641915870687E-2,1.3631062008704573E-2,6.4920916081063276E-3,4.5077139027065276E-3,4.305996120945133E-4,5.0913640100566984E-4,1.256394978674443E-4,1.2254606116297341E-4,1.3645331034442188E-4,9.2448193305734761E-5,2.1597862587981591E-4,1.6319729442967215E-4,3.2077222176053554E-4,2.5742767305564986E-4,8.5967786293802712E-4,2.7898682970481251E-4,6.8518570781002993E-4,2.7698715861573206E-4,1.0422429435437124E-3,1.0266123470774006E-3,1.3755146845399839,1.0690089980791337]
[null,"28","金属製品",1.2374770176450535E-3,2.5528634908827956E-3,5.6106739225011302E-3,6.6577153775243037E-4,2.9672233644518369E-3,5.4348593891880683E-3,4.2875945750006059E-4,3.2465025350178096E-3,3.3653266411297869E-3,1.5149400929150094E-3,1.6181415811302748E-3,1.0240005306965003,9.3855723218315389E-3,1.0328365139627201E-2,8.8355803358277606E-3,8.5138300104319695E-3,9.8043362370958745E-3,1.0554726415546094E-2,4.3468917861320695E-3,4.4315145537457031E-3,2.9659975912429377E-2,1.1514788577403694E-3,2.0989040788442232E-3,3.8793183519989324E-4,1.114661547385275E-3,3.2987411477319222E-4,5.7768400399650199E-4,1.2013951991313176E-3,5.2243480947912274E-4,1.7321484697761535E-3,5.3220929171403375E-4,5.9707741738117682E-4,1.005228439846311E-3,8.455073238478163E-4,1.240542768714689E-3,1.0732034786656278E-3,1.6869993084781133E-3,1.1646011433842558,0.90509328285897173]
[null,"29","はん用機械",5.0122895320025636E-5,6.1547571455919294E-4,7.409394694923342E-5,5.6588974097614813E-5,7.3076450719962644E-5,1.1213830530485902E-4,3.1875257797727273E-5,1.4059005212869831E-4,3.3632261537824745E-4,1.2815028884304396E-4,5.3543893429722123E-5,2.1657046824615482E-4,1.0249196449302884,7.2152155031562351E-3,1.4165402302730523E-3,4.8112091013369196E-4,2.7433737918241556E-3,4.1242931730207005E-4,1.7218769966496599E-3,1.3200860779726272E-4,1.131535610606846E-3,1.3483029616252423E-4,2.0864301594502423E-3,1.0799349314165613E-4,1.0913976314741574E-4,1.5155871787232611E-4,5.4918122858652456E-5,2.1604455775187648E-4,2.0054080543757606E-4,1.9087095302023407E-4,1.4915987668117253E-4,7.9171703920437501E-5,1.0436732642932405E-4,1.7416870717688216E-3,8.7884047714286434E-5,4.5427329347560492E-5,8.584577070820719E-5,1.0476081647562179,0.81416982833599905]
[null,"30","生産用機械",2.0129407715452119E-4,5.6581457131577408E-4,3.3729568149575587E-4,2.2968989212553289E-4,2.7214971044004855E-4,4.6758340919759599E-4,1.0383053353811052E-4,1.8184929000790288E-3,9.3417335811648043E-4,5.7737518338240603E-4,2.8063310071546745E-4,5.1329629734295061E-4,2.4933475390519501E-3,1.0655195226729337,8.5863556166407295E-4,1.741995614840057E-3,1.3615686404730967E-3,8.3568143066634851E-4,8.3429381174933176E-4,4.3260708903048876E-4,6.2436438478200669E-4,5.0723690605308845E-4,1.0883912975421456E-3,4.2833368081949088E-4,4.7656933798820858E-4,7.0320033549688707E-4,1.8996567604319549E-4,8.7028835461967378E-4,9.2143984149000021E-4,5.4394414453738443E-4,6.1162760306327922E-4,3.1514330217472029E-4,4.7178808705638419E-4,8.5447666035293503E-3,3.0861730814260851E-4,1.9171375255933691E-4,2.8860333030032015E-4,1.0974652750215108,0.85291728780761211]
[null,"31","業務用機械",8.6947692204338553E-6,1.1937253332088996E-5,1.2604591371063447E-5,1.0185858861794104E-5,9.8168446782590399E-6,1.5955369581273983E-5,3.6428513626546538E-6,1.1581283798453487E-5,1.4827612982355132E-5,7.0490343604855505E-6,7.8746550324811246E-6,9.4182299925975261E-6,1.9167549094355936E-4,3.0785246537908711E-4,1.0031556077823487,1.4015337640490942E-5,4.1131183080659665E-5,3.7365109101090228E-5,2.7161541501862521E-5,1.8922831205772102E-5,2.7959598662914754E-5,1.5967184377251536E-5,3.5620543995502502E-5,1.8288428343399567E-5,6.2409846922032496E-5,2.7095573708930579E-5,6.8033423614245333E-6,3.1381239130552758E-5,3.3459238880239699E-5,2.4250316909517176E-4,2.5619141780443905E-5,6.3102668511235956E-4,2.1328963951951497E-5,2.566943850522438E-4,6.018296225799256E-5,1.2520296934590109E-3,3.2632557867206757E-5,1.0066983226507338,0.78237591889083391]
[null,"32","電子部品",6.946245018773413E-5,1.0207037777918615E-4,1.0397076312366004E-4,7.6994549553967506E-5,8.2862693383482501E-5,1.3937472431229382E-4,3.436689632454949E-5,9.8079221769543858E-5,1.3002103763990207E-4,5.6469566621232448E-5,1.5199904896077466E-4,5.1313663920160145E-4,2.6920332774529737E-3,2.2128277079474204E-3,1.6858301567722594E-2,1.0441507085552924,1.8342194780184753E-2,4.4781097109849066E-2,2.7285412971410827E-3,1.7423120446733757E-3,3.0985233976228292E-4,1.5559499380347902E-4,2.8475807742600753E-4,1.3991511789454832E-4,1.5928748304758512E-4,2.3924882063107981E-4,6.111500266046408E-5,2.6666631177418572E-4,3.6896916600483149E-4,5.0538111130109524E-4,4.6062828730602899E-4,1.1764322951854257E-4,1.8613044109155717E-4,2.4400418825139144E-3,1.0882201640450489E-4,4.7550502583244862E-3,1.2766303222487346E-4,1.1457535918808108,0.8904455278219684]
[null,"33","電気機械",3.2365808438721434E-4,2.4060320106334402E-4,2.046491412870595E-4,1.5528403630193113E-4,2.0058436875984524E-4,2.7171337801796223E-4,7.4244949991017183E-5,2.3612208990077076E-4,2.953720935233771E-4,1.3096968287684493E-4,2.1624097913428291E-4,4.1003202671643891E-4,1.7077510613714781E-2,1.4460134326935626E-2,7.8411246058974378E-3,4.6944019664425648E-3,1.0626969130676136,1.0279110909823398E-2,2.8042078166531627E-2,1.0363778700200727E-3,4.3575387649512666E-3,3.9252815188070024E-4,8.7086818382427569E-4,2.6421846968433833E-4,3.8807827587823528E-4,4.1442758600708561E-4,1.7510209731844229E-4,7.1295337472386555E-4,5.8093640270892501E-4,1.3690115637250563E-3,6.2399144349380088E-4,2.3316335651477581E-4,2.8932098580707641E-4,4.6266794670480138E-3,2.7038490693669423E-4,1.9203694014813873E-4,4.5439295824182847E-4,1.165102758487832,0.90548312316044011]
[null,"34","情報通信機器",6.3703923273024008E-6,7.3658529390251676E-6,6.8393667440417813E-6,5.1768812863579896E-6,5.9529894205129129E-6,1.2319436978089193E-5,5.978473853005839E-6,6.6287547204100656E-6,1.1617951280515983E-5,3.9883643441515927E-6,4.6512968154578211E-6,7.663227437640401E-6,2.5949577692587138E-5,2.5841699884476707E-5,6.9230778129452966E-6,9.07940488710174E-6,7.8716753372990257E-6,1.0018491549264863,3.9010251029854244E-4,9.23110567673302E-6,1.4889532702086722E-4,1.2384221254224901E-5,2.1533152077849536E-5,9.7872208280349179E-6,2.5574007156680098E-5,2.058008522293759E-5,1.005741189056641E-5,2.3186182297056087E-5,2.5607600104021391E-5,1.9264808666438849E-4,2.2176172063126807E-5,7.5617956725585739E-6,1.2647982768859523E-5,1.1609658035301564E-4,1.3289323882381687E-5,5.4957118366793169E-6,2.5929516426529834E-5,1.0031021573437422,0.7795810864437781]
[null,"35","輸送機械",3.1827305183694129E-3,1.2766590169247128E-3,7.218007022269684E-4,4.3783205302360957E-4,4.7862418251733933E-4,7.5807590403588877E-4,2.5461211634190853E-4,5.3137931459188337E-4,8.2760919283281437E-4,3.6120053829950279E-4,4.0610671984599514E-4,4.1923051859421058E-4,5.0353323935738625E-4,4.6524068201796154E-4,4.7388659661264039E-4,5.2466675496466058E-4,5.0776162989842706E-4,4.895959878784095E-4,1.1493583060880133,7.9150533073271418E-4,9.9271858608958015E-4,8.6816282726185474E-4,1.4481302432241376E-3,8.4684328742877166E-4,8.6733205515353512E-4,1.1760324494356734E-3,3.0653328707360919E-4,5.3795549265519748E-3,1.4673208293325844E-3,4.1867574600842833E-3,1.0506820345737363E-3,5.3744432012128732E-4,8.3379614719605898E-4,1.3053189236425905E-2,6.3267723830496734E-4,4.3071980013447716E-4,9.1563297199937768E-4,1.1977638847874714,0.93086637663940264]
[null,"39","その他の製造工業製品",1.4640224916702966E-3,1.8766296763330012E-3,2.8998747166629822E-3,3.5415714852686012E-3,7.255390204966624E-3,2.6878814302700349E-3,2.523868618397776E-3,2.3512586622335984E-3,3.3591197185753692E-3,1.9110139839481316E-3,1.2648795500875691E-2,1.5448402582090574E-3,1.3019167651158502E-3,1.8640653786501503E-3,2.6319687060264354E-3,1.7211182484712147E-3,2.413246922314486E-3,2.7800575105091383E-3,1.0944229831540298E-3,1.018318640863787,2.0463273834899942E-3,4.0246272860407781E-3,2.53281077645537E-3,3.1009251663178029E-3,2.9245704917873197E-3,7.0681042240238702E-3,6.6675616635761595E-4,1.6284124661080381E-3,6.0419235633135558E-3,3.5114599292118439E-3,1.0108393891019954E-2,2.1571614696589158E-3,1.7013394971360351E-2,3.1065903906469204E-3,3.0445137358490128E-3,5.5286312492914588E-2,1.2690311735211962E-3,1.2017210197035171,0.93394174390331575]
[null,"41","建設",4.4902863018831752E-3,5.5819660230954126E-3,2.1518908229069219E-3,5.6046203835163969E-3,9.886581347741813E-3,4.695409756515276E-3,2.9189553781080314E-3,6.6666953788950684E-3,8.8224568102772873E-3,5.9827769207903923E-3,6.2084674328428254E-3,6.0234871715276715E-3,3.248880560646848E-3,3.3159223160334379E-3,3.6649133682251558E-3,6.7997352813965895E-3,4.0227498585914496E-3,3.990866935487657E-3,2.1189333309227006E-3,4.2562869033522886E-3,1.0024447505560481,2.7627735410897455E-2,5.512956811274039E-2,5.8559682789483354E-3,5.8240436700859538E-3,5.0962917058650879E-3,1.5054127131216214E-2,1.3045672006383839E-2,7.0809208584887576E-3,9.2349018992352004E-3,8.7843091212361901E-3,4.5469176556899096E-3,3.1522352677799915E-3,2.6199710389511917E-3,5.6833775584835206E-3,2.9739990642203267E-3,1.677935980478908E-2,1.2913860314238159,1.0036267174039271]
[null,"46","電気・ガス・熱供給",1.1078024200347996E-2,1.200513541362949E-2,1.3891514783958624E-2,2.5272715517064812E-2,5.1194507654472615E-2,1.7966117799315128E-2,7.9577249172630565E-3,2.4328018950968564E-2,3.9651098712409072E-2,4.1626527926501386E-2,2.9574790599406819E-2,1.7508016810668249E-2,1.2009410615632725E-2,1.090283105428151E-2,1.1988560393939626E-2,2.4891837932614642E-2,1.0823143058996086E-2,7.5966048421819733E-3,1.313399500437485E-2,1.7092657783862139E-2,5.844593252493248E-3,1.0744208158599695,4.5034215919710463E-2,5.3037503289466284E-2,2.0586588236908773E-2,5.8127582987204931E-3,3.8793247021107272E-3,1.1998945035024968E-2,8.1218653649758853E-3,1.0778161044652115E-2,1.1136131793572883E-2,1.2259524628967892E-2,5.3045996426162477E-3,5.8327094537939557E-3,2.6449184785900214E-2,1.1624317925848716E-2,5.1036989269842995E-3,1.7177181721336061,1.3349593449007562]
[null,"47","水道",1.1366842844582174E-3,1.7589240842968855E-3,2.5274600097362401E-3,2.5508764712167294E-3,4.6271299129562529E-3,3.6758166188929739E-3,1.8669360797833922E-3,1.2347026933667501E-3,1.6143482170624297E-3,1.4620104613531863E-3,1.1370229686883473E-3,9.3433350174595726E-4,8.9565165944653234E-4,9.7088420431258116E-4,8.4563403333369263E-4,1.8460365493561586E-3,9.8432596481164993E-4,7.1711470881871513E-4,8.0568654144082632E-4,1.3236731568574225E-3,1.5331878089526213E-3,1.535990775381449E-3,1.092062612937418,9.455555940690091E-3,3.3284702630217667E-3,1.8533745063389335E-3,7.1969070710483968E-4,5.9287793891868003E-3,3.7372587462611356E-3,4.5995661650449536E-3,9.1339449207231919E-3,5.6014319201661998E-3,2.8510515064154546E-3,1.3173389299968455E-3,9.7691947866573332E-3,1.3838858919196745E-3,1.9042471426022043E-3,1.189630834459817,0.92454561243396582]
[null,"48","廃棄物処理",1.2312367899411311E-3,3.3951214907983573E-3,2.2652522660095726E-3,1.1486407975653289E-3,3.2481838666787626E-3,3.6532120741284606E-3,6.479605320241598E-4,1.0242509240790299E-3,5.0372513094738593E-3,1.1991682751724569E-3,1.6645123135865547E-3,8.940899486682075E-4,1.2714468558006938E-3,6.6050428207841143E-4,9.5224035032778721E-4,1.973587320035801E-3,1.090025053666271E-3,9.7997869196365093E-4,1.2056815139355355E-3,1.7875476035459385E-3,3.3839319998459688E-3,1.6976180992819414E-2,4.8679570731956327E-3,1.001785815077854,2.7128225094787042E-3,5.8710061963640993E-3,6.6723179604419216E-4,1.0688268254495653E-2,9.9692628693593931E-3,2.8634975807624748E-2,7.5799582153782954E-3,6.2898436683802971E-3,1.1940399223500631E-3,2.57312793696861E-3,2.3799064671786833E-2,1.3231772774550154E-3,1.6375824340617136E-2,1.1800223808694981,0.91707820880598367]
[null,"51","商業",3.4172005669605592E-2,8.5742419117697394E-3,3.8000296714167915E-2,3.832833721477899E-2,4.0226248443958668E-2,3.1931580504406976E-2,6.8640801542785256E-3,3.2846810282662259E-2,1.9022625166453713E-2,2.0371973379028359E-2,2.1395653279318014E-2,1.7210950217929111E-2,2.2131410225318629E-2,2.2740525338656292E-2,2.8371297379656449E-2,2.4528448876523733E-2,3.1779776065124624E-2,2.82119250823843E-2,2.7036331747138154E-2,3.7221981249165738E-2,2.8708081712264393E-2,5.4425849277522044E-3,1.4428346536896652E-2,1.1785757366683912E-2,1.0070582571479623,5.6027081324225387E-3,1.9224004453964373E-3,1.6895646729858108E-2,6.6339522353427056E-3,7.2282521895041321E-3,1.5129144937954343E-2,2.5086666811874395E-2,2.1124121767926801E-2,1.3642775815721864E-2,3.4393951695111072E-2,0.13075330977058539,4.8023947984856437E-3,1.8816048519240682,1.4623271857027678]
[null,"53","金融・保険",1.0539239272497964E-2,5.0711087935821353E-2,9.966150588559557E-3,2.1130223194109298E-2,1.4309469492754193E-2,1.3130198798496725E-2,5.6923472092538473E-3,8.3798487622724471E-3,1.5672557682197968E-2,1.0429729057806689E-2,1.29376410604035E-2,1.4214739547138772E-2,7.7428353937694979E-3,1.052270290850508E-2,1.791638416512142E-2,1.0467506712887504E-2,1.1033226121469184E-2,1.0863961210181218E-2,8.3091317963316022E-3,2.7553520814035476E-2,1.4382860286499733E-2,2.3751702087427374E-2,2.3263452708845406E-2,3.0079490426407337E-2,2.3129709440231728E-2,1.0794851503091902,7.9380461362969376E-2,3.2029632602847309E-2,1.2286225194752318E-2,2.1044501311102463E-2,1.1446522101931374E-2,1.2050155582998231E-2,2.8964379656454989E-2,1.3807716645142999E-2,1.9345142649541923E-2,7.7612212271482503E-3,3.9289413874759108E-2,1.7630202391918632,1.3701667606129753]
[null,"55","不動産",4.3908781775179352E-3,1.225429238854279E-2,6.4753437602239556E-3,7.5795608436086785E-3,6.7736262388588628E-3,7.8246475095431218E-3,2.3876644632920656E-3,7.6288882126027066E-3,8.3509822195311934E-3,4.5947772634938643E-3,4.6765256595173929E-3,7.1694217853270157E-3,5.1509239405156514E-3,6.1558707587471683E-3,5.1972427389486977E-3,4.7266688277459732E-3,5.880091770284283E-3,5.5974214830436866E-3,3.4090462545145559E-3,8.574462375763231E-3,9.1542122797693085E-3,1.2015541662302776E-2,5.8461026092430524E-3,5.5582204322853932E-3,3.9400828981236848E-2,2.2671448690862097E-2,1.0512433567768991,3.0976459348493732E-2,2.788856107786767E-2,6.5319913336220423E-3,1.7610911715047025E-2,2.280120489230365E-2,2.1479346445263853E-2,1.4181473491477374E-2,3.7860929457915436E-2,7.522655915170577E-3,2.3302591854565902E-2,1.4808441736359488,1.1508679363167293]
[null,"57","運輸・郵便",5.6702543071357525E-2,0.19624400488578328,3.1011239120564447E-2,2.4613301217287799E-2,3.6522801846525656E-2,2.2984372304251321E-2,2.6405603305363946E-2,1.7251590157963275E-2,5.7970501754513126E-2,2.8136299360372308E-2,3.0227164592879881E-2,2.3339177177625979E-2,1.7309128372030295E-2,1.7632815645214225E-2,2.0546821174326275E-2,1.5050236962610215E-2,1.9251407919922577E-2,1.7441367867491123E-2,1.7341226303724394E-2,7.6469137088552519E-2,3.5351840771561678E-2,2.8689153939252577E-2,2.3456875246941324E-2,5.592435052596946E-2,3.9460022828008944E-2,2.8513473674202729E-2,5.0663308710277768E-3,1.0572651009644429,1.9084052439458106E-2,2.8064351687048066E-2,2.5070563140225214E-2,1.6253488630513343E-2,3.2083387769115082E-2,1.4404191021680814E-2,3.489953989501323E-2,5.413170433542578E-2,3.9969524123931503E-2,2.2901386919921789,1.7798275046460637]
[null,"59","情報通信",4.53198146857995E-3,5.2143384878704617E-3,5.1984509137966142E-3,4.8475109970246453E-3,5.4075495358264346E-3,1.0473753246116619E-2,1.613953165558054E-3,4.7097029511090054E-3,5.7444891207056566E-3,4.2525050161316795E-3,3.4519707106394873E-3,5.6980103645704423E-3,6.4322235559929816E-3,6.4134775366674361E-3,5.3625507546890419E-3,5.4010131990473338E-3,6.6010634372498022E-3,1.2558209818307447E-2,3.5504465044369111E-3,6.2748401122947372E-3,7.8315906647058835E-3,9.6332863545778979E-3,2.3670636440713138E-2,8.3790486161925068E-3,2.3102143540518479E-2,3.3010259288810073E-2,4.571042077515213E-3,9.7480012191513751E-3,1.1122529466320916,1.7673771907157704E-2,2.5049554215456064E-2,9.6081622173834792E-3,3.4839285665926902E-2,3.0898521188066533E-2,1.5460737362349193E-2,4.398702571347367E-3,2.5810439971140416E-2,1.5096761708297191,1.1732753048306035]
[null,"61","公務",3.9534697814419008E-4,2.5829232420008515E-4,2.8272806145602955E-4,1.6800478254164842E-4,2.0066884996580893E-4,1.0008713254073176E-4,2.3153618434859454E-4,1.7284429135792912E-4,5.9610917430382208E-4,6.1163746046245815E-4,4.8593746589170985E-4,3.2822500289420497E-4,4.291261766269418E-4,3.4061297211814408E-4,1.6823215785016348E-4,8.7583203608115453E-5,2.1869170590181484E-4,2.0344405852594204E-4,1.0798637184014761E-4,1.6561066082440492E-4,8.1774611709525466E-4,2.4254734666727737E-4,5.0534191165441068E-4,4.5320844842424855E-4,2.7063076444211573E-4,5.9375979329268243E-4,2.3472502044708296E-4,2.2549975263003497E-4,3.4263902695522229E-4,1.000079848174168,2.7247961849132121E-4,2.0362474849183797E-4,7.1649210213411106E-4,2.5222419360618913E-4,3.4506172860649921E-4,1.0818428485581775E-4,0.10106029633245799,1.1122770143798231,0.86442852998423347]
[null,"63","教育・研究",1.7877800813799005E-4,2.6647854563920494E-4,3.5055862528123906E-4,1.2517450967355526E-4,3.8281538272051695E-4,6.9296838298250917E-4,1.0237235667098543E-4,2.9240673358468859E-4,4.2885812401693274E-4,2.9125270253303824E-4,1.3179114015465004E-4,5.9824776699419666E-4,9.6014711267874422E-4,5.4083959564495327E-4,5.2454534812999137E-4,1.7409993026036177E-3,1.5518923283732325E-3,2.4246504133299822E-3,3.7842141153894289E-4,2.3617163527169384E-4,3.3784341924686888E-4,8.8252464837227057E-4,4.089570373351829E-4,4.3162409865353659E-4,4.4554211859580104E-4,5.0849642864988923E-4,7.3035532562732325E-5,1.1413783262518545E-3,6.1751022128390702E-3,3.5060555193174714E-4,1.0002356019102971,2.5147017748490969E-4,2.8991587010616769E-4,7.6401078034176991E-4,7.1503705836441982E-4,1.7860451205719923E-4,2.6661188846758234E-3,1.0280552379937269,0.79897387668036435]
[null,"64","医療・福祉",5.5258257850585297E-5,1.8168912356850299E-4,3.3209300452250509E-5,2.8710146946159899E-5,4.1289640430913051E-5,3.6845852135796669E-5,2.5584709881720383E-5,2.0807296358729369E-5,5.8361751350117857E-5,3.0265880390088711E-5,3.1782560305174594E-5,2.6315907495765869E-5,2.0960762311319245E-5,2.1285934508737558E-5,2.4158217888612234E-5,1.8927439327643492E-5,2.3021346620550623E-5,2.3667958892347837E-5,1.9340209192810607E-5,7.8171187931803929E-5,4.0625966492971529E-5,5.4528727124479141E-5,1.6518152748879836E-4,6.0024709007296504E-5,6.884176583458718E-5,1.5930211467476261E-4,2.5978535683462064E-5,9.3869792244648698E-4,4.7986285597384623E-4,5.5993672449869629E-5,5.5000292998736888E-5,1.0142335636270643,5.6167728033583688E-5,5.2860928844376466E-5,2.9596584058630524E-4,5.4144326720465321E-5,1.811951921560238E-4,1.0177775892174199,0.79098639450772323]
[null,"65","他に分類されない会員制団体",3.5935132524503163E-3,1.63705283938184E-3,1.7115442098431714E-3,9.4557804403125659E-4,8.0312705301356635E-4,1.2980424321152413E-3,3.4297502562279612E-4,6.465536571821336E-4,1.0584691668701085E-3,6.1942550227725489E-4,1.5692569776371555E-3,4.2676084326317022E-4,2.7854614835547053E-3,5.9244861434081333E-4,7.7101462867457734E-4,5.4139353498021685E-4,5.0987481051464195E-4,4.3390866513571625E-4,2.7815815710973655E-4,9.7602210769984156E-4,1.0356140816640041E-3,2.1972599956586137E-3,8.1715292114331612E-3,1.9577787338199352E-3,8.0495107220888756E-4,3.0132851273487757E-3,4.5635203158146464E-4,1.5609032749629732E-3,1.2721411677772325E-3,3.2492433817598958E-4,3.0400053302624074E-3,1.198617110964388E-3,1.0003107391755597,1.8495287847996383E-3,2.7435707047051127E-3,3.4012754342624879E-4,5.0680126347913551E-4,1.0523247099535262,0.81783538662660771]
[null,"66","対事業所サービス",2.3532307585801777E-2,3.8663362748183175E-2,4.1102263591291904E-2,2.8532792109472141E-2,2.7723875950150006E-2,5.6455362273684223E-2,1.2770864820911124E-2,3.8839245011344878E-2,5.0864904923195411E-2,2.1171856475858043E-2,2.4308914504877495E-2,2.7755674675166452E-2,3.6863257012980065E-2,3.1451869174774369E-2,3.3347919672507692E-2,3.9494960741414523E-2,3.6631962089790478E-2,3.5693352499334259E-2,2.8781016684143578E-2,4.1503256474063777E-2,7.2229098144430404E-2,6.4073651973946932E-2,0.11493637348888625,5.3229168293848418E-2,6.0447123679335385E-2,9.0170337306668707E-2,2.4259172494653519E-2,0.10707846079807343,0.11803048356646384,6.7498480882729223E-2,7.7729957051910006E-2,3.9926652788033812E-2,5.9758987093327325E-2,1.1024601339872573,3.8304346393414089E-2,1.849347262614701E-2,3.6307336354012745E-2,2.8204222559420837,2.1919480786881373]
[null,"67","対個人サービス",1.2658325448944622E-3,3.5368593156362877E-4,4.4632800525538344E-4,2.6721763784007957E-4,2.4165633073318704E-4,4.7932582878924709E-4,9.9037288367506151E-5,2.3143978746222068E-4,3.6340263284758366E-4,1.8110227892293945E-4,1.898863785494833E-4,2.0797593584767477E-4,2.760973436490407E-4,2.8784438297760974E-4,2.385488270317211E-4,4.2480270993089126E-4,3.0369388841301596E-4,3.4083875646857462E-4,2.0991195056751485E-4,1.1327482154374795E-3,4.8283884830332784E-4,2.9474342841565184E-4,7.1565725171106526E-4,2.5686362464356097E-4,7.9427651911815223E-4,5.985749525021937E-4,7.4022459119779877E-4,8.0629430225453167E-4,5.325646512170404E-3,6.0739527153484566E-4,6.7236471748367849E-3,1.9544793470896965E-2,2.2926874485107549E-3,1.9282057964560748E-3,1.0144331317334867,2.2865810591876274E-4,3.0959938871133711E-3,1.0664110095746202,0.82878283867043967]
[null,"68","事務用品",9.2837203082888026E-4,1.496051955020132E-3,9.5204737686183148E-4,1.3619564726924005E-3,1.0517017608030648E-3,1.0621546892199466E-3,1.8103017714807517E-4,4.5070309700259568E-4,1.3496324803639428E-3,6.7792758727601768E-4,7.8206076431635923E-4,8.344583019519972E-4,1.3488994358692695E-3,1.5435839947687774E-3,1.5501027324451098E-3,1.7813524535702121E-3,1.2004491429087668E-3,1.2437965252688596E-3,6.1161995293287409E-4,1.8716579267528835E-3,1.0854731730277616E-3,4.2703780036963695E-4,1.4493764379073406E-3,3.2253096572282779E-3,2.3442221829389604E-3,3.9793276283173204E-3,6.7244534473339323E-4,2.6642685844166535E-3,2.5952147230126955E-3,2.9534055599766506E-3,5.1441542238692597E-3,2.7519569916370705E-3,4.897672186580675E-3,1.9050190367538398E-3,2.2523597325164496E-3,1.0006533243438436,7.9996979811511109E-4,1.0620800962632466,0.82541698198290647]
[null,"69","分類不明",3.914760345918194E-3,2.5576331787839145E-3,2.7995979857033644E-3,1.6635980467233523E-3,1.9870404984369066E-3,9.9107153783331179E-4,2.2926915424720893E-3,1.7115192861789561E-3,5.9027251665283364E-3,6.0564876138328614E-3,4.8117952766418446E-3,3.2501126779840564E-3,4.2492449228787059E-3,3.3727794324182954E-3,1.6658495369095022E-3,8.6725654022447047E-4,2.1655043937970466E-3,2.014520856257928E-3,1.0692904960695206E-3,1.6398912441420812E-3,8.0973935535318918E-3,2.4017250345452898E-3,5.0039397952693181E-3,4.4877096839204267E-3,2.679809492908582E-3,5.8794613903309428E-3,2.3242676763446544E-3,2.2329182677816193E-3,3.3928416045691519E-3,7.9066360237276434E-4,2.6981170073638464E-3,2.0163100640993915E-3,7.0947674439418408E-3,2.4975460190581776E-3,3.4168314081561928E-3,1.0712502480557972E-3,1.0007078907904443,1.1117768136624289,0.86403978890153188]
[null,null,"列和",1.2598807451082159,1.3549970315276851,1.2954978391233221,1.249688892536549,1.3489946343731203,1.3087097518419113,1.0926709544981232,1.2857876253707328,1.2784076736355077,1.2139157542930681,1.3680024208462604,1.2125924403756123,1.2229297695196548,1.2530008050921941,1.2392091025169545,1.2553558608796196,1.3016872745595953,1.2492250047567954,1.3498502295198842,1.325533148963874,1.2788757528525734,1.2889077394654884,1.4563415509453999,1.2693546776390716,1.2465995217343708,1.3090060364250284,1.1953562118928271,1.3285660204435097,1.3613661990903931,1.2248873397300182,1.2577434042787805,1.2557994255939402,1.2647210187427296,1.2571475773063325,1.3218769753066102,1.4941594850886295,1.3319742555267715]
[null,null,"影響力係数",0.97914174829601863,1.0530632899481092,1.006822291743152,0.97122094437537454,1.0483984058575258,1.0170901963586025,0.84919128485265938,0.9992758031513117,0.99354032471620957,0.94341912800683514,1.0631706907351308,0.94239068788842473,0.95042455186333596,0.97379486405985971,0.96307636405584629,0.97562514319539506,1.0116325364092194,0.9708604246250373,1.0490633488936734,1.0301648389660358,0.99390410192664658,1.001700662790991,1.1318252285745765,0.98650460616770064,0.96881997750599069,1.0173204599020631,0.92899520505706024,1.0325218962466221,1.0580132170636352,0.95194591706050213,0.97748067073406408,0.97596986846526579,0.98290346463872036,0.97701761177729385,1.0273233698184621,1.1612161993451988,1.0351706749274503]

{"sheet":"需要増加額","index":11,"n_rows":47,"n_cols":41,"rows_kept":47,"cut":false,"hidden":false,"merged":[]}
[]
[]
[null,null,null,"需要増加額計算"]
[]
[null,null,"単位:百万円"]
[null,null,null,"01","06","11","15","16","20","21","22","25","26","27","28","29","30","31","32","33","34","35","39","41","46","47","48","51","53","55","57","59","61","63","64","65","66","67","68","69",70]
[null,"37部門",null,"農林漁業","鉱業","飲食料品","繊維製品","パルプ・紙・木製品","化学製品","石油・石炭製品","プラスチック・ゴム製品","窯業・土石製品","鉄鋼","非鉄金属","金属製品","はん用機械","生産用機械","業務用機械","電子部品","電気機械","情報通信機器","輸送機械","その他の製造工業製品","建設","電気・ガス・熱供給","水道","廃棄物処理","商業","金融・保険","不動産","運輸・郵便","情報通信","公務","教育・研究","医療・福祉","他に分類されない会員制団体","対事業所サービス","対個人サービス","事務用品","分類不明","合計"]
[null,"01","農林漁業",{"$f":"投入係数!D8*D$47","v":0},{"$f":"投入係数!E8*E$47","v":0},{"$f":"投入係数!F8*F$47","v":0},{"$f":"投入係数!G8*G$47","v":0},{"$f":"投入係数!H8*H$47","v":0},{"$f":"投入係数!I8*I$47","v":0},{"$f":"投入係数!J8*J$47","v":0},{"$f":"投入係数!K8*K$47","v":0},{"$f":"投入係数!L8*L$47","v":0},{"$f":"投入係数!M8*M$47","v":0},{"$f":"投入係数!N8*N$47","v":0},{"$f":"投入係数!O8*O$47","v":0},{"$f":"投入係数!P8*P$47","v":0},{"$f":"投入係数!Q8*Q$47","v":0},{"$f":"投入係数!R8*R$47","v":0},{"$f":"投入係数!S8*S$47","v":0},{"$f":"投入係数!T8*T$47","v":0},{"$f":"投入係数!U8*U$47","v":0},{"$f":"投入係数!V8*V$47","v":0},{"$f":"投入係数!W8*W$47","v":0},{"$f":"投入係数!X8*X$47","v":0},{"$f":"投入係数!Y8*Y$47","v":0},{"$f":"投入係数!Z8*Z$47","v":0},{"$f":"投入係数!AA8*AA$47","v":0},{"$f":"投入係数!AB8*AB$47","v":0},{"$f":"投入係数!AC8*AC$47","v":0},{"$f":"投入係数!AD8*AD$47","v":0},{"$f":"投入係数!AE8*AE$47","v":0},{"$f":"投入係数!AF8*AF$47","v":0},{"$f":"投入係数!AG8*AG$47","v":0},{"$f":"投入係数!AH8*AH$47","v":0},{"$f":"投入係数!AI8*AI$47","v":0},{"$f":"投入係数!AJ8*AJ$47","v":0},{"$f":"投入係数!AK8*AK$47","v":0},{"$f":"投入係数!AL8*AL$47","v":0},{"$f":"投入係数!AM8*AM$47","v":0},{"$f":"投入係数!AN8*AN$47","v":0},{"$f":"SUM(D8:AN8)","v":0}]
[null,"06","鉱業",{"$f":"投入係数!D9*D$47","v":0},{"$f":"投入係数!E9*E$47","v":0},{"$f":"投入係数!F9*F$47","v":0},{"$f":"投入係数!G9*G$47","v":0},{"$f":"投入係数!H9*H$47","v":0},{"$f":"投入係数!I9*I$47","v":0},{"$f":"投入係数!J9*J$47","v":0},{"$f":"投入係数!K9*K$47","v":0},{"$f":"投入係数!L9*L$47","v":0},{"$f":"投入係数!M9*M$47","v":0},{"$f":"投入係数!N9*N$47","v":0},{"$f":"投入係数!O9*O$47","v":0},{"$f":"投入係数!P9*P$47","v":0},{"$f":"投入係数!Q9*Q$47","v":0},{"$f":"投入係数!R9*R$47","v":0},{"$f":"投入係数!S9*S$47","v":0},{"$f":"投入係数!T9*T$47","v":0},{"$f":"投入係数!U9*U$47","v":0},{"$f":"投入係数!V9*V$47","v":0},{"$f":"投入係数!W9*W$47","v":0},{"$f":"投入係数!X9*X$47","v":0},{"$f":"投入係数!Y9*Y$47","v":0},{"$f":"投入係数!Z9*Z$47","v":0},{"$f":"投入係数!AA9*AA$47","v":0},{"$f":"投入係数!AB9*AB$47","v":0},{"$f":"投入係数!AC9*AC$47","v":0},{"$f":"投入係数!AD9*AD$47","v":0},{"$f":"投入係数!AE9*AE$47","v":0},{"$f":"投入係数!AF9*AF$47","v":0},{"$f":"投入係数!AG9*AG$47","v":0},{"$f":"投入係数!AH9*AH$47","v":0},{"$f":"投入係数!AI9*AI$47","v":0},{"$f":"投入係数!AJ9*AJ$47","v":0},{"$f":"投入係数!AK9*AK$47","v":0},{"$f":"投入係数!AL9*AL$47","v":0},{"$f":"投入係数!AM9*AM$47","v":0},{"$f":"投入係数!AN9*AN$47","v":0},{"$f":"SUM(D9:AN9)","v":0}]
[null,"11","飲食料品",{"$f":"投入係数!D10*D$47","v":0},{"$f":"投入係数!E10*E$47","v":0},{"$f":"投入係数!F10*F$47","v":0},{"$f":"投入係数!G10*G$47","v":0},{"$f":"投入係数!H10*H$47","v":0},{"$f":"投入係数!I10*I$47","v":0},{"$f":"投入係数!J10*J$47","v":0},{"$f":"投入係数!K10*K$47","v":0},{"$f":"投入係数!L10*L$47","v":0},{"$f":"投入係数!M10*M$47","v":0},{"$f":"投入係数!N10*N$47","v":0},{"$f":"投入係数!O10*O$47","v":0},{"$f":"投入係数!P10*P$47","v":0},{"$f":"投入係数!Q10*Q$47","v":0},{"$f":"投入係数!R10*R$47","v":0},{"$f":"投入係数!S10*S$47","v":0},{"$f":"投入係数!T10*T$47","v":0},{"$f":"投入係数!U10*U$47","v":0},{"$f":"投入係数!V10*V$47","v":0},{"$f":"投入係数!W10*W$47","v":0},{"$f":"投入係数!X10*X$47","v":0},{"$f":"投入係数!Y10*Y$47","v":0},{"$f":"投入係数!Z10*Z$47","v":0},{"$f":"投入係数!AA10*AA$47","v":0},{"$f":"投入係数!AB10*AB$47","v":0},{"$f":"投入係数!AC10*AC$47","v":0},{"$f":"投入係数!AD10*AD$47","v":0},{"$f":"投入係数!AE10*AE$47","v":0},{"$f":"投入係数!AF10*AF$47","v":0},{"$f":"投入係数!AG10*AG$47","v":0},{"$f":"投入係数!AH10*AH$47","v":0},{"$f":"投入係数!AI10*AI$47","v":0},{"$f":"投入係数!AJ10*AJ$47","v":0},{"$f":"投入係数!AK10*AK$47","v":0},{"$f":"投入係数!AL10*AL$47","v":0},{"$f":"投入係数!AM10*AM$47","v":0},{"$f":"投入係数!AN10*AN$47","v":0},0]
[null,"15","繊維製品",{"$f":"投入係数!D11*D$47","v":0},{"$f":"投入係数!E11*E$47","v":0},{"$f":"投入係数!F11*F$47","v":0},{"$f":"投入係数!G11*G$47","v":0},{"$f":"投入係数!H11*H$47","v":0},{"$f":"投入係数!I11*I$47","v":0},{"$f":"投入係数!J11*J$47","v":0},{"$f":"投入係数!K11*K$47","v":0},{"$f":"投入係数!L11*L$47","v":0},{"$f":"投入係数!M11*M$47","v":0},{"$f":"投入係数!N11*N$47","v":0},{"$f":"投入係数!O11*O$47","v":0},{"$f":"投入係数!P11*P$47","v":0},{"$f":"投入係数!Q11*Q$47","v":0},{"$f":"投入係数!R11*R$47","v":0},{"$f":"投入係数!S11*S$47","v":0},{"$f":"投入係数!T11*T$47","v":0},{"$f":"投入係数!U11*U$47","v":0},{"$f":"投入係数!V11*V$47","v":0},{"$f":"投入係数!W11*W$47","v":0},{"$f":"投入係数!X11*X$47","v":0},{"$f":"投入係数!Y11*Y$47","v":0},{"$f":"投入係数!Z11*Z$47","v":0},{"$f":"投入係数!AA11*AA$47","v":0},{"$f":"投入係数!AB11*AB$47","v":0},{"$f":"投入係数!AC11*AC$47","v":0},{"$f":"投入係数!AD11*AD$47","v":0},{"$f":"投入係数!AE11*AE$47","v":0},{"$f":"投入係数!AF11*AF$47","v":0},{"$f":"投入係数!AG11*AG$47","v":0},{"$f":"投入係数!AH11*AH$47","v":0},{"$f":"投入係数!AI11*AI$47","v":0},{"$f":"投入係数!AJ11*AJ$47","v":0},{"$f":"投入係数!AK11*AK$47","v":0},{"$f":"投入係数!AL11*AL$47","v":0},{"$f":"投入係数!AM11*AM$47","v":0},{"$f":"投入係数!AN11*AN$47","v":0},0]
[null,"16","パルプ・紙・木製品",{"$f":"投入係数!D12*D$47","v":0},{"$f":"投入係数!E12*E$47","v":0},{"$f":"投入係数!F12*F$47","v":0},{"$f":"投入係数!G12*G$47","v":0},{"$f":"投入係数!H12*H$47","v":0},{"$f":"投入係数!I12*I$47","v":0},{"$f":"投入係数!J12*J$47","v":0},{"$f":"投入係数!K12*K$47","v":0},{"$f":"投入係数!L12*L$47","v":0},{"$f":"投入係数!M12*M$47","v":0},{"$f":"投入係数!N12*N$47","v":0},{"$f":"投入係数!O12*O$47","v":0},{"$f":"投入係数!P12*P$47","v":0},{"$f":"投入係数!Q12*Q$47","v":0},{"$f":"投入係数!R12*R$47","v":0},{"$f":"投入係数!S12*S$47","v":0},{"$f":"投入係数!T12*T$47","v":0},{"$f":"投入係数!U12*U$47","v":0},{"$f":"投入係数!V12*V$47","v":0},{"$f":"投入係数!W12*W$47","v":0},{"$f":"投入係数!X12*X$47","v":0},{"$f":"投入係数!Y12*Y$47","v":0},{"$f":"投入係数!Z12*Z$47","v":0},{"$f":"投入係数!AA12*AA$47","v":0},{"$f":"投入係数!AB12*AB$47","v":0},{"$f":"投入係数!AC12*AC$47","v":0},{"$f":"投入係数!AD12*AD$47","v":0},{"$f":"投入係数!AE12*AE$47","v":0},{"$f":"投入係数!AF12*AF$47","v":0},{"$f":"投入係数!AG12*AG$47","v":0},{"$f":"投入係数!AH12*AH$47","v":0},{"$f":"投入係数!AI12*AI$47","v":0},{"$f":"投入係数!AJ12*AJ$47","v":0},{"$f":"投入係数!AK12*AK$47","v":0},{"$f":"投入係数!AL12*AL$47","v":0},{"$f":"投入係数!AM12*AM$47","v":0},{"$f":"投入係数!AN12*AN$47","v":0},0]
[null,"20","化学製品",{"$f":"投入係数!D13*D$47","v":0},{"$f":"投入係数!E13*E$47","v":0},{"$f":"投入係数!F13*F$47","v":0},{"$f":"投入係数!G13*G$47","v":0},{"$f":"投入係数!H13*H$47","v":0},{"$f":"投入係数!I13*I$47","v":0},{"$f":"投入係数!J13*J$47","v":0},{"$f":"投入係数!K13*K$47","v":0},{"$f":"投入係数!L13*L$47","v":0},{"$f":"投入係数!M13*M$47","v":0},{"$f":"投入係数!N13*N$47","v":0},{"$f":"投入係数!O13*O$47","v":0},{"$f":"投入係数!P13*P$47","v":0},{"$f":"投入係数!Q13*Q$47","v":0},{"$f":"投入係数!R13*R$47","v":0},{"$f":"投入係数!S13*S$47","v":0},{"$f":"投入係数!T13*T$47","v":0},{"$f":"投入係数!U13*U$47","v":0},{"$f":"投入係数!V13*V$47","v":0},{"$f":"投入係数!W13*W$47","v":0},{"$f":"投入係数!X13*X$47","v":0},{"$f":"投入係数!Y13*Y$47","v":0},{"$f":"投入係数!Z13*Z$47","v":0},{"$f":"投入係数!AA13*AA$47","v":0},{"$f":"投入係数!AB13*AB$47","v":0},{"$f":"投入係数!AC13*AC$47","v":0},{"$f":"投入係数!AD13*AD$47","v":0},{"$f":"投入係数!AE13*AE$47","v":0},{"$f":"投入係数!AF13*AF$47","v":0},{"$f":"投入係数!AG13*AG$47","v":0},{"$f":"投入係数!AH13*AH$47","v":0},{"$f":"投入係数!AI13*AI$47","v":0},{"$f":"投入係数!AJ13*AJ$47","v":0},{"$f":"投入係数!AK13*AK$47","v":0},{"$f":"投入係数!AL13*AL$47","v":0},{"$f":"投入係数!AM13*AM$47","v":0},{"$f":"投入係数!AN13*AN$47","v":0},0]
[null,"21","石油・石炭製品",{"$f":"投入係数!D14*D$47","v":0},{"$f":"投入係数!E14*E$47","v":0},{"$f":"投入係数!F14*F$47","v":0},{"$f":"投入係数!G14*G$47","v":0},{"$f":"投入係数!H14*H$47","v":0},{"$f":"投入係数!I14*I$47","v":0},{"$f":"投入係数!J14*J$47","v":0},{"$f":"投入係数!K14*K$47","v":0},{"$f":"投入係数!L14*L$47","v":0},{"$f":"投入係数!M14*M$47","v":0},{"$f":"投入係数!N14*N$47","v":0},{"$f":"投入係数!O14*O$47","v":0},{"$f":"投入係数!P14*P$47","v":0},{"$f":"投入係数!Q14*Q$47","v":0},{"$f":"投入係数!R14*R$47","v":0},{"$f":"投入係数!S14*S$47","v":0},{"$f":"投入係数!T14*T$47","v":0},{"$f":"投入係数!U14*U$47","v":0},{"$f":"投入係数!V14*V$47","v":0},{"$f":"投入係数!W14*W$47","v":0},{"$f":"投入係数!X14*X$47","v":0},{"$f":"投入係数!Y14*Y$47","v":0},{"$f":"投入係数!Z14*Z$47","v":0},{"$f":"投入係数!AA14*AA$47","v":0},{"$f":"投入係数!AB14*AB$47","v":0},{"$f":"投入係数!AC14*AC$47","v":0},{"$f":"投入係数!AD14*AD$47","v":0},{"$f":"投入係数!AE14*AE$47","v":0},{"$f":"投入係数!AF14*AF$47","v":0},{"$f":"投入係数!AG14*AG$47","v":0},{"$f":"投入係数!AH14*AH$47","v":0},{"$f":"投入係数!AI14*AI$47","v":0},{"$f":"投入係数!AJ14*AJ$47","v":0},{"$f":"投入係数!AK14*AK$47","v":0},{"$f":"投入係数!AL14*AL$47","v":0},{"$f":"投入係数!AM14*AM$47","v":0},{"$f":"投入係数!AN14*AN$47","v":0},0]
[null,"22","プラスチック・ゴム製品",{"$f":"投入係数!D15*D$47","v":0},{"$f":"投入係数!E15*E$47","v":0},{"$f":"投入係数!F15*F$47","v":0},{"$f":"投入係数!G15*G$47","v":0},{"$f":"投入係数!H15*H$47","v":0},{"$f":"投入係数!I15*I$47","v":0},{"$f":"投入係数!J15*J$47","v":0},{"$f":"投入係数!K15*K$47","v":0},{"$f":"投入係数!L15*L$47","v":0},{"$f":"投入係数!M15*M$47","v":0},{"$f":"投入係数!N15*N$47","v":0},{"$f":"投入係数!O15*O$47","v":0},{"$f":"投入係数!P15*P$47","v":0},{"$f":"投入係数!Q15*Q$47","v":0},{"$f":"投入係数!R15*R$47","v":0},{"$f":"投入係数!S15*S$47","v":0},{"$f":"投入係数!T15*T$47","v":0},{"$f":"投入係数!U15*U$47","v":0},{"$f":"投入係数!V15*V$47","v":0},{"$f":"投入係数!W15*W$47","v":0},{"$f":"投入係数!X15*X$47","v":0},{"$f":"投入係数!Y15*Y$47","v":0},{"$f":"投入係数!Z15*Z$47","v":0},{"$f":"投入係数!AA15*AA$47","v":0},{"$f":"投入係数!AB15*AB$47","v":0},{"$f":"投入係数!AC15*AC$47","v":0},{"$f":"投入係数!AD15*AD$47","v":0},{"$f":"投入係数!AE15*AE$47","v":0},{"$f":"投入係数!AF15*AF$47","v":0},{"$f":"投入係数!AG15*AG$47","v":0},{"$f":"投入係数!AH15*AH$47","v":0},{"$f":"投入係数!AI15*AI$47","v":0},{"$f":"投入係数!AJ15*AJ$47","v":0},{"$f":"投入係数!AK15*AK$47","v":0},{"$f":"投入係数!AL15*AL$47","v":0},{"$f":"投入係数!AM15*AM$47","v":0},{"$f":"投入係数!AN15*AN$47","v":0},0]
[null,"25","窯業・土石製品",{"$f":"投入係数!D16*D$47","v":0},{"$f":"投入係数!E16*E$47","v":0},{"$f":"投入係数!F16*F$47","v":0},{"$f":"投入係数!G16*G$47","v":0},{"$f":"投入係数!H16*H$47","v":0},{"$f":"投入係数!I16*I$47","v":0},{"$f":"投入係数!J16*J$47","v":0},{"$f":"投入係数!K16*K$47","v":0},{"$f":"投入係数!L16*L$47","v":0},{"$f":"投入係数!M16*M$47","v":0},{"$f":"投入係数!N16*N$47","v":0},{"$f":"投入係数!O16*O$47","v":0},{"$f":"投入係数!P16*P$47","v":0},{"$f":"投入係数!Q16*Q$47","v":0},{"$f":"投入係数!R16*R$47","v":0},{"$f":"投入係数!S16*S$47","v":0},{"$f":"投入係数!T16*T$47","v":0},{"$f":"投入係数!U16*U$47","v":0},{"$f":"投入係数!V16*V$47","v":0},{"$f":"投入係数!W16*W$47","v":0},{"$f":"投入係数!X16*X$47","v":0},{"$f":"投入係数!Y16*Y$47","v":0},{"$f":"投入係数!Z16*Z$47","v":0},{"$f":"投入係数!AA16*AA$47","v":0},{"$f":"投入係数!AB16*AB$47","v":0},{"$f":"投入係数!AC16*AC$47","v":0},{"$f":"投入係数!AD16*AD$47","v":0},{"$f":"投入係数!AE16*AE$47","v":0},{"$f":"投入係数!AF16*AF$47","v":0},{"$f":"投入係数!AG16*AG$47","v":0},{"$f":"投入係数!AH16*AH$47","v":0},{"$f":"投入係数!AI16*AI$47","v":0},{"$f":"投入係数!AJ16*AJ$47","v":0},{"$f":"投入係数!AK16*AK$47","v":0},{"$f":"投入係数!AL16*AL$47","v":0},{"$f":"投入係数!AM16*AM$47","v":0},{"$f":"投入係数!AN16*AN$47","v":0},0]
[null,"26","鉄鋼",{"$f":"投入係数!D17*D$47","v":0},{"$f":"投入係数!E17*E$47","v":0},{"$f":"投入係数!F17*F$47","v":0},{"$f":"投入係数!G17*G$47","v":0},{"$f":"投入係数!H17*H$47","v":0},{"$f":"投入係数!I17*I$47","v":0},{"$f":"投入係数!J17*J$47","v":0},{"$f":"投入係数!K17*K$47","v":0},{"$f":"投入係数!L17*L$47","v":0},{"$f":"投入係数!M17*M$47","v":0},{"$f":"投入係数!N17*N$47","v":0},{"$f":"投入係数!O17*O$47","v":0},{"$f":"投入係数!P17*P$47","v":0},{"$f":"投入係数!Q17*Q$47","v":0},{"$f":"投入係数!R17*R$47","v":0},{"$f":"投入係数!S17*S$47","v":0},{"$f":"投入係数!T17*T$47","v":0},{"$f":"投入係数!U17*U$47","v":0},{"$f":"投入係数!V17*V$47","v":0},{"$f":"投入係数!W17*W$47","v":0},{"$f":"投入係数!X17*X$47","v":0},{"$f":"投入係数!Y17*Y$47","v":0},{"$f":"投入係数!Z17*Z$47","v":0},{"$f":"投入係数!AA17*AA$47","v":0},{"$f":"投入係数!AB17*AB$47","v":0},{"$f":"投入係数!AC17*AC$47","v":0},{"$f":"投入係数!AD17*AD$47","v":0},{"$f":"投入係数!AE17*AE$47","v":0},{"$f":"投入係数!AF17*AF$47","v":0},{"$f":"投入係数!AG17*AG$47","v":0},{"$f":"投入係数!AH17*AH$47","v":0},{"$f":"投入係数!AI17*AI$47","v":0},{"$f":"投入係数!AJ17*AJ$47","v":0},{"$f":"投入係数!AK17*AK$47","v":0},{"$f":"投入係数!AL17*AL$47","v":0},{"$f":"投入係数!AM17*AM$47","v":0},{"$f":"投入係数!AN17*AN$47","v":0},0]
[null,"27","非鉄金属",{"$f":"投入係数!D18*D$47","v":0},{"$f":"投入係数!E18*E$47","v":0},{"$f":"投入係数!F18*F$47","v":0},{"$f":"投入係数!G18*G$47","v":0},{"$f":"投入係数!H18*H$47","v":0},{"$f":"投入係数!I18*I$47","v":0},{"$f":"投入係数!J18*J$47","v":0},{"$f":"投入係数!K18*K$47","v":0},{"$f":"投入係数!L18*L$47","v":0},{"$f":"投入係数!M18*M$47","v":0},{"$f":"投入係数!N18*N$47","v":0},{"$f":"投入係数!O18*O$47","v":0},{"$f":"投入係数!P18*P$47","v":0},{"$f":"投入係数!Q18*Q$47","v":0},{"$f":"投入係数!R18*R$47","v":0},{"$f":"投入係数!S18*S$47","v":0},{"$f":"投入係数!T18*T$47","v":0},{"$f":"投入係数!U18*U$47","v":0},{"$f":"投入係数!V18*V$47","v":0},{"$f":"投入係数!W18*W$47","v":0},{"$f":"投入係数!X18*X$47","v":0},{"$f":"投入係数!Y18*Y$47","v":0},{"$f":"投入係数!Z18*Z$47","v":0},{"$f":"投入係数!AA18*AA$47","v":0},{"$f":"投入係数!AB18*AB$47","v":0},{"$f":"投入係数!AC18*AC$47","v":0},{"$f":"投入係数!AD18*AD$47","v":0},{"$f":"投入係数!AE18*AE$47","v":0},{"$f":"投入係数!AF18*AF$47","v":0},{"$f":"投入係数!AG18*AG$47","v":0},{"$f":"投入係数!AH18*AH$47","v":0},{"$f":"投入係数!AI18*AI$47","v":0},{"$f":"投入係数!AJ18*AJ$47","v":0},{"$f":"投入係数!AK18*AK$47","v":0},{"$f":"投入係数!AL18*AL$47","v":0},{"$f":"投入係数!AM18*AM$47","v":0},{"$f":"投入係数!AN18*AN$47","v":0},0]
[null,"28","金属製品",{"$f":"投入係数!D19*D$47","v":0},{"$f":"投入係数!E19*E$47","v":0},{"$f":"投入係数!F19*F$47","v":0},{"$f":"投入係数!G19*G$47","v":0},{"$f":"投入係数!H19*H$47","v":0},{"$f":"投入係数!I19*I$47","v":0},{"$f":"投入係数!J19*J$47","v":0},{"$f":"投入係数!K19*K$47","v":0},{"$f":"投入係数!L19*L$47","v":0},{"$f":"投入係数!M19*M$47","v":0},{"$f":"投入係数!N19*N$47","v":0},{"$f":"投入係数!O19*O$47","v":0},{"$f":"投入係数!P19*P$47","v":0},{"$f":"投入係数!Q19*Q$47","v":0},{"$f":"投入係数!R19*R$47","v":0},{"$f":"投入係数!S19*S$47","v":0},{"$f":"投入係数!T19*T$47","v":0},{"$f":"投入係数!U19*U$47","v":0},{"$f":"投入係数!V19*V$47","v":0},{"$f":"投入係数!W19*W$47","v":0},{"$f":"投入係数!X19*X$47","v":0},{"$f":"投入係数!Y19*Y$47","v":0},{"$f":"投入係数!Z19*Z$47","v":0},{"$f":"投入係数!AA19*AA$47","v":0},{"$f":"投入係数!AB19*AB$47","v":0},{"$f":"投入係数!AC19*AC$47","v":0},{"$f":"投入係数!AD19*AD$47","v":0},{"$f":"投入係数!AE19*AE$47","v":0},{"$f":"投入係数!AF19*AF$47","v":0},{"$f":"投入係数!AG19*AG$47","v":0},{"$f":"投入係数!AH19*AH$47","v":0},{"$f":"投入係数!AI19*AI$47","v":0},{"$f":"投入係数!AJ19*AJ$47","v":0},{"$f":"投入係数!AK19*AK$47","v":0},{"$f":"投入係数!AL19*AL$47","v":0},{"$f":"投入係数!AM19*AM$47","v":0},{"$f":"投入係数!AN19*AN$47","v":0},0]
[null,"29","はん用機械",{"$f":"投入係数!D20*D$47","v":0},{"$f":"投入係数!E20*E$47","v":0},{"$f":"投入係数!F20*F$47","v":0},{"$f":"投入係数!G20*G$47","v":0},{"$f":"投入係数!H20*H$47","v":0},{"$f":"投入係数!I20*I$47","v":0},{"$f":"投入係数!J20*J$47","v":0},{"$f":"投入係数!K20*K$47","v":0},{"$f":"投入係数!L20*L$47","v":0},{"$f":"投入係数!M20*M$47","v":0},{"$f":"投入係数!N20*N$47","v":0},{"$f":"投入係数!O20*O$47","v":0},{"$f":"投入係数!P20*P$47","v":0},{"$f":"投入係数!Q20*Q$47","v":0},{"$f":"投入係数!R20*R$47","v":0},{"$f":"投入係数!S20*S$47","v":0},{"$f":"投入係数!T20*T$47","v":0},{"$f":"投入係数!U20*U$47","v":0},{"$f":"投入係数!V20*V$47","v":0},{"$f":"投入係数!W20*W$47","v":0},{"$f":"投入係数!X20*X$47","v":0},{"$f":"投入係数!Y20*Y$47","v":0},{"$f":"投入係数!Z20*Z$47","v":0},{"$f":"投入係数!AA20*AA$47","v":0},{"$f":"投入係数!AB20*AB$47","v":0},{"$f":"投入係数!AC20*AC$47","v":0},{"$f":"投入係数!AD20*AD$47","v":0},{"$f":"投入係数!AE20*AE$47","v":0},{"$f":"投入係数!AF20*AF$47","v":0},{"$f":"投入係数!AG20*AG$47","v":0},{"$f":"投入係数!AH20*AH$47","v":0},{"$f":"投入係数!AI20*AI$47","v":0},{"$f":"投入係数!AJ20*AJ$47","v":0},{"$f":"投入係数!AK20*AK$47","v":0},{"$f":"投入係数!AL20*AL$47","v":0},{"$f":"投入係数!AM20*AM$47","v":0},{"$f":"投入係数!AN20*AN$47","v":0},0]
[null,"30","生産用機械",{"$f":"投入係数!D21*D$47","v":0},{"$f":"投入係数!E21*E$47","v":0},{"$f":"投入係数!F21*F$47","v":0},{"$f":"投入係数!G21*G$47","v":0},{"$f":"投入係数!H21*H$47","v":0},{"$f":"投入係数!I21*I$47","v":0},{"$f":"投入係数!J21*J$47","v":0},{"$f":"投入係数!K21*K$47","v":0},{"$f":"投入係数!L21*L$47","v":0},{"$f":"投入係数!M21*M$47","v":0},{"$f":"投入係数!N21*N$47","v":0},{"$f":"投入係数!O21*O$47","v":0},{"$f":"投入係数!P21*P$47","v":0},{"$f":"投入係数!Q21*Q$47","v":0},{"$f":"投入係数!R21*R$47","v":0},{"$f":"投入係数!S21*S$47","v":0},{"$f":"投入係数!T21*T$47","v":0},{"$f":"投入係数!U21*U$47","v":0},{"$f":"投入係数!V21*V$47","v":0},{"$f":"投入係数!W21*W$47","v":0},{"$f":"投入係数!X21*X$47","v":0},{"$f":"投入係数!Y21*Y$47","v":0},{"$f":"投入係数!Z21*Z$47","v":0},{"$f":"投入係数!AA21*AA$47","v":0},{"$f":"投入係数!AB21*AB$47","v":0},{"$f":"投入係数!AC21*AC$47","v":0},{"$f":"投入係数!AD21*AD$47","v":0},{"$f":"投入係数!AE21*AE$47","v":0},{"$f":"投入係数!AF21*AF$47","v":0},{"$f":"投入係数!AG21*AG$47","v":0},{"$f":"投入係数!AH21*AH$47","v":0},{"$f":"投入係数!AI21*AI$47","v":0},{"$f":"投入係数!AJ21*AJ$47","v":0},{"$f":"投入係数!AK21*AK$47","v":0},{"$f":"投入係数!AL21*AL$47","v":0},{"$f":"投入係数!AM21*AM$47","v":0},{"$f":"投入係数!AN21*AN$47","v":0},0]
[null,"31","業務用機械",{"$f":"投入係数!D22*D$47","v":0},{"$f":"投入係数!E22*E$47","v":0},{"$f":"投入係数!F22*F$47","v":0},{"$f":"投入係数!G22*G$47","v":0},{"$f":"投入係数!H22*H$47","v":0},{"$f":"投入係数!I22*I$47","v":0},{"$f":"投入係数!J22*J$47","v":0},{"$f":"投入係数!K22*K$47","v":0},{"$f":"投入係数!L22*L$47","v":0},{"$f":"投入係数!M22*M$47","v":0},{"$f":"投入係数!N22*N$47","v":0},{"$f":"投入係数!O22*O$47","v":0},{"$f":"投入係数!P22*P$47","v":0},{"$f":"投入係数!Q22*Q$47","v":0},{"$f":"投入係数!R22*R$47","v":0},{"$f":"投入係数!S22*S$47","v":0},{"$f":"投入係数!T22*T$47","v":0},{"$f":"投入係数!U22*U$47","v":0},{"$f":"投入係数!V22*V$47","v":0},{"$f":"投入係数!W22*W$47","v":0},{"$f":"投入係数!X22*X$47","v":0},{"$f":"投入係数!Y22*Y$47","v":0},{"$f":"投入係数!Z22*Z$47","v":0},{"$f":"投入係数!AA22*AA$47","v":0},{"$f":"投入係数!AB22*AB$47","v":0},{"$f":"投入係数!AC22*AC$47","v":0},{"$f":"投入係数!AD22*AD$47","v":0},{"$f":"投入係数!AE22*AE$47","v":0},{"$f":"投入係数!AF22*AF$47","v":0},{"$f":"投入係数!AG22*AG$47","v":0},{"$f":"投入係数!AH22*AH$47","v":0},{"$f":"投入係数!AI22*AI$47","v":0},{"$f":"投入係数!AJ22*AJ$47","v":0},{"$f":"投入係数!AK22*AK$47","v":0},{"$f":"投入係数!AL22*AL$47","v":0},{"$f":"投入係数!AM22*AM$47","v":0},{"$f":"投入係数!AN22*AN$47","v":0},0]
[null,"32","電子部品",{"$f":"投入係数!D23*D$47","v":0},{"$f":"投入係数!E23*E$47","v":0},{"$f":"投入係数!F23*F$47","v":0},{"$f":"投入係数!G23*G$47","v":0},{"$f":"投入係数!H23*H$47","v":0},{"$f":"投入係数!I23*I$47","v":0},{"$f":"投入係数!J23*J$47","v":0},{"$f":"投入係数!K23*K$47","v":0},{"$f":"投入係数!L23*L$47","v":0},{"$f":"投入係数!M23*M$47","v":0},{"$f":"投入係数!N23*N$47","v":0},{"$f":"投入係数!O23*O$47","v":0},{"$f":"投入係数!P23*P$47","v":0},{"$f":"投入係数!Q23*Q$47","v":0},{"$f":"投入係数!R23*R$47","v":0},{"$f":"投入係数!S23*S$47","v":0},{"$f":"投入係数!T23*T$47","v":0},{"$f":"投入係数!U23*U$47","v":0},{"$f":"投入係数!V23*V$47","v":0},{"$f":"投入係数!W23*W$47","v":0},{"$f":"投入係数!X23*X$47","v":0},{"$f":"投入係数!Y23*Y$47","v":0},{"$f":"投入係数!Z23*Z$47","v":0},{"$f":"投入係数!AA23*AA$47","v":0},{"$f":"投入係数!AB23*AB$47","v":0},{"$f":"投入係数!AC23*AC$47","v":0},{"$f":"投入係数!AD23*AD$47","v":0},{"$f":"投入係数!AE23*AE$47","v":0},{"$f":"投入係数!AF23*AF$47","v":0},{"$f":"投入係数!AG23*AG$47","v":0},{"$f":"投入係数!AH23*AH$47","v":0},{"$f":"投入係数!AI23*AI$47","v":0},{"$f":"投入係数!AJ23*AJ$47","v":0},{"$f":"投入係数!AK23*AK$47","v":0},{"$f":"投入係数!AL23*AL$47","v":0},{"$f":"投入係数!AM23*AM$47","v":0},{"$f":"投入係数!AN23*AN$47","v":0},0]
[null,"33","電気機械",{"$f":"投入係数!D24*D$47","v":0},{"$f":"投入係数!E24*E$47","v":0},{"$f":"投入係数!F24*F$47","v":0},{"$f":"投入係数!G24*G$47","v":0},{"$f":"投入係数!H24*H$47","v":0},{"$f":"投入係数!I24*I$47","v":0},{"$f":"投入係数!J24*J$47","v":0},{"$f":"投入係数!K24*K$47","v":0},{"$f":"投入係数!L24*L$47","v":0},{"$f":"投入係数!M24*M$47","v":0},{"$f":"投入係数!N24*N$47","v":0},{"$f":"投入係数!O24*O$47","v":0},{"$f":"投入係数!P24*P$47","v":0},{"$f":"投入係数!Q24*Q$47","v":0},{"$f":"投入係数!R24*R$47","v":0},{"$f":"投入係数!S24*S$47","v":0},{"$f":"投入係数!T24*T$47","v":0},{"$f":"投入係数!U24*U$47","v":0},{"$f":"投入係数!V24*V$47","v":0},{"$f":"投入係数!W24*W$47","v":0},{"$f":"投入係数!X24*X$47","v":0},{"$f":"投入係数!Y24*Y$47","v":0},{"$f":"投入係数!Z24*Z$47","v":0},{"$f":"投入係数!AA24*AA$47","v":0},{"$f":"投入係数!AB24*AB$47","v":0},{"$f":"投入係数!AC24*AC$47","v":0},{"$f":"投入係数!AD24*AD$47","v":0},{"$f":"投入係数!AE24*AE$47","v":0},{"$f":"投入係数!AF24*AF$47","v":0},{"$f":"投入係数!AG24*AG$47","v":0},{"$f":"投入係数!AH24*AH$47","v":0},{"$f":"投入係数!AI24*AI$47","v":0},{"$f":"投入係数!AJ24*AJ$47","v":0},{"$f":"投入係数!AK24*AK$47","v":0},{"$f":"投入係数!AL24*AL$47","v":0},{"$f":"投入係数!AM24*AM$47","v":0},{"$f":"投入係数!AN24*AN$47","v":0},0]
[null,"34","情報通信機器",{"$f":"投入係数!D25*D$47","v":0},{"$f":"投入係数!E25*E$47","v":0},{"$f":"投入係数!F25*F$47","v":0},{"$f":"投入係数!G25*G$47","v":0},{"$f":"投入係数!H25*H$47","v":0},{"$f":"投入係数!I25*I$47","v":0},{"$f":"投入係数!J25*J$47","v":0},{"$f":"投入係数!K25*K$47","v":0},{"$f":"投入係数!L25*L$47","v":0},{"$f":"投入係数!M25*M$47","v":0},{"$f":"投入係数!N25*N$47","v":0},{"$f":"投入係数!O25*O$47","v":0},{"$f":"投入係数!P25*P$47","v":0},{"$f":"投入係数!Q25*Q$47","v":0},{"$f":"投入係数!R25*R$47","v":0},{"$f":"投入係数!S25*S$47","v":0},{"$f":"投入係数!T25*T$47","v":0},{"$f":"投入係数!U25*U$47","v":0},{"$f":"投入係数!V25*V$47","v":0},{"$f":"投入係数!W25*W$47","v":0},{"$f":"投入係数!X25*X$47","v":0},{"$f":"投入係数!Y25*Y$47","v":0},{"$f":"投入係数!Z25*Z$47","v":0},{"$f":"投入係数!AA25*AA$47","v":0},{"$f":"投入係数!AB25*AB$47","v":0},{"$f":"投入係数!AC25*AC$47","v":0},{"$f":"投入係数!AD25*AD$47","v":0},{"$f":"投入係数!AE25*AE$47","v":0},{"$f":"投入係数!AF25*AF$47","v":0},{"$f":"投入係数!AG25*AG$47","v":0},{"$f":"投入係数!AH25*AH$47","v":0},{"$f":"投入係数!AI25*AI$47","v":0},{"$f":"投入係数!AJ25*AJ$47","v":0},{"$f":"投入係数!AK25*AK$47","v":0},{"$f":"投入係数!AL25*AL$47","v":0},{"$f":"投入係数!AM25*AM$47","v":0},{"$f":"投入係数!AN25*AN$47","v":0},0]
[null,"35","輸送機械",{"$f":"投入係数!D26*D$47","v":0},{"$f":"投入係数!E26*E$47","v":0},{"$f":"投入係数!F26*F$47","v":0},{"$f":"投入係数!G26*G$47","v":0},{"$f":"投入係数!H26*H$47","v":0},{"$f":"投入係数!I26*I$47","v":0},{"$f":"投入係数!J26*J$47","v":0},{"$f":"投入係数!K26*K$47","v":0},{"$f":"投入係数!L26*L$47","v":0},{"$f":"投入係数!M26*M$47","v":0},{"$f":"投入係数!N26*N$47","v":0},{"$f":"投入係数!O26*O$47","v":0},{"$f":"投入係数!P26*P$47","v":0},{"$f":"投入係数!Q26*Q$47","v":0},{"$f":"投入係数!R26*R$47","v":0},{"$f":"投入係数!S26*S$47","v":0},{"$f":"投入係数!T26*T$47","v":0},{"$f":"投入係数!U26*U$47","v":0},{"$f":"投入係数!V26*V$47","v":0},{"$f":"投入係数!W26*W$47","v":0},{"$f":"投入係数!X26*X$47","v":0},{"$f":"投入係数!Y26*Y$47","v":0},{"$f":"投入係数!Z26*Z$47","v":0},{"$f":"投入係数!AA26*AA$47","v":0},{"$f":"投入係数!AB26*AB$47","v":0},{"$f":"投入係数!AC26*AC$47","v":0},{"$f":"投入係数!AD26*AD$47","v":0},{"$f":"投入係数!AE26*AE$47","v":0},{"$f":"投入係数!AF26*AF$47","v":0},{"$f":"投入係数!AG26*AG$47","v":0},{"$f":"投入係数!AH26*AH$47","v":0},{"$f":"投入係数!AI26*AI$47","v":0},{"$f":"投入係数!AJ26*AJ$47","v":0},{"$f":"投入係数!AK26*AK$47","v":0},{"$f":"投入係数!AL26*AL$47","v":0},{"$f":"投入係数!AM26*AM$47","v":0},{"$f":"投入係数!AN26*AN$47","v":0},0]
[null,"39","その他の製造工業製品",{"$f":"投入係数!D27*D$47","v":0},{"$f":"投入係数!E27*E$47","v":0},{"$f":"投入係数!F27*F$47","v":0},{"$f":"投入係数!G27*G$47","v":0},{"$f":"投入係数!H27*H$47","v":0},{"$f":"投入係数!I27*I$47","v":0},{"$f":"投入係数!J27*J$47","v":0},{"$f":"投入係数!K27*K$47","v":0},{"$f":"投入係数!L27*L$47","v":0},{"$f":"投入係数!M27*M$47","v":0},{"$f":"投入係数!N27*N$47","v":0},{"$f":"投入係数!O27*O$47","v":0},{"$f":"投入係数!P27*P$47","v":0},{"$f":"投入係数!Q27*Q$47","v":0},{"$f":"投入係数!R27*R$47","v":0},{"$f":"投入係数!S27*S$47","v":0},{"$f":"投入係数!T27*T$47","v":0},{"$f":"投入係数!U27*U$47","v":0},{"$f":"投入係数!V27*V$47","v":0},{"$f":"投入係数!W27*W$47","v":0},{"$f":"投入係数!X27*X$47","v":0},{"$f":"投入係数!Y27*Y$47","v":0},{"$f":"投入係数!Z27*Z$47","v":0},{"$f":"投入係数!AA27*AA$47","v":0},{"$f":"投入係数!AB27*AB$47","v":0},{"$f":"投入係数!AC27*AC$47","v":0},{"$f":"投入係数!AD27*AD$47","v":0},{"$f":"投入係数!AE27*AE$47","v":0},{"$f":"投入係数!AF27*AF$47","v":0},{"$f":"投入係数!AG27*AG$47","v":0},{"$f":"投入係数!AH27*AH$47","v":0},{"$f":"投入係数!AI27*AI$47","v":0},{"$f":"投入係数!AJ27*AJ$47","v":0},{"$f":"投入係数!AK27*AK$47","v":0},{"$f":"投入係数!AL27*AL$47","v":0},{"$f":"投入係数!AM27*AM$47","v":0},{"$f":"投入係数!AN27*AN$47","v":0},0]
[null,"41","建設",{"$f":"投入係数!D28*D$47","v":0},{"$f":"投入係数!E28*E$47","v":0},{"$f":"投入係数!F28*F$47","v":0},{"$f":"投入係数!G28*G$47","v":0},{"$f":"投入係数!H28*H$47","v":0},{"$f":"投入係数!I28*I$47","v":0},{"$f":"投入係数!J28*J$47","v":0},{"$f":"投入係数!K28*K$47","v":0},{"$f":"投入係数!L28*L$47","v":0},{"$f":"投入係数!M28*M$47","v":0},{"$f":"投入係数!N28*N$47","v":0},{"$f":"投入係数!O28*O$47","v":0},{"$f":"投入係数!P28*P$47","v":0},{"$f":"投入係数!Q28*Q$47","v":0},{"$f":"投入係数!R28*R$47","v":0},{"$f":"投入係数!S28*S$47","v":0},{"$f":"投入係数!T28*T$47","v":0},{"$f":"投入係数!U28*U$47","v":0},{"$f":"投入係数!V28*V$47","v":0},{"$f":"投入係数!W28*W$47","v":0},{"$f":"投入係数!X28*X$47","v":0},{"$f":"投入係数!Y28*Y$47","v":0},{"$f":"投入係数!Z28*Z$47","v":0},{"$f":"投入係数!AA28*AA$47","v":0},{"$f":"投入係数!AB28*AB$47","v":0},{"$f":"投入係数!AC28*AC$47","v":0},{"$f":"投入係数!AD28*AD$47","v":0},{"$f":"投入係数!AE28*AE$47","v":0},{"$f":"投入係数!AF28*AF$47","v":0},{"$f":"投入係数!AG28*AG$47","v":0},{"$f":"投入係数!AH28*AH$47","v":0},{"$f":"投入係数!AI28*AI$47","v":0},{"$f":"投入係数!AJ28*AJ$47","v":0},{"$f":"投入係数!AK28*AK$47","v":0},{"$f":"投入係数!AL28*AL$47","v":0},{"$f":"投入係数!AM28*AM$47","v":0},{"$f":"投入係数!AN28*AN$47","v":0},0]
[null,"46","電気・ガス・熱供給",{"$f":"投入係数!D29*D$47","v":0},{"$f":"投入係数!E29*E$47","v":0},{"$f":"投入係数!F29*F$47","v":0},{"$f":"投入係数!G29*G$47","v":0},{"$f":"投入係数!H29*H$47","v":0},{"$f":"投入係数!I29*I$47","v":0},{"$f":"投入係数!J29*J$47","v":0},{"$f":"投入係数!K29*K$47","v":0},{"$f":"投入係数!L29*L$47","v":0},{"$f":"投入係数!M29*M$47","v":0},{"$f":"投入係数!N29*N$47","v":0},{"$f":"投入係数!O29*O$47","v":0},{"$f":"投入係数!P29*P$47","v":0},{"$f":"投入係数!Q29*Q$47","v":0},{"$f":"投入係数!R29*R$47","v":0},{"$f":"投入係数!S29*S$47","v":0},{"$f":"投入係数!T29*T$47","v":0},{"$f":"投入係数!U29*U$47","v":0},{"$f":"投入係数!V29*V$47","v":0},{"$f":"投入係数!W29*W$47","v":0},{"$f":"投入係数!X29*X$47","v":0},{"$f":"投入係数!Y29*Y$47","v":0},{"$f":"投入係数!Z29*Z$47","v":0},{"$f":"投入係数!AA29*AA$47","v":0},{"$f":"投入係数!AB29*AB$47","v":0},{"$f":"投入係数!AC29*AC$47","v":0},{"$f":"投入係数!AD29*AD$47","v":0},{"$f":"投入係数!AE29*AE$47","v":0},{"$f":"投入係数!AF29*AF$47","v":0},{"$f":"投入係数!AG29*AG$47","v":0},{"$f":"投入係数!AH29*AH$47","v":0},{"$f":"投入係数!AI29*AI$47","v":0},{"$f":"投入係数!AJ29*AJ$47","v":0},{"$f":"投入係数!AK29*AK$47","v":0},{"$f":"投入係数!AL29*AL$47","v":0},{"$f":"投入係数!AM29*AM$47","v":0},{"$f":"投入係数!AN29*AN$47","v":0},0]
[null,"47","水道",{"$f":"投入係数!D30*D$47","v":0},{"$f":"投入係数!E30*E$47","v":0},{"$f":"投入係数!F30*F$47","v":0},{"$f":"投入係数!G30*G$47","v":0},{"$f":"投入係数!H30*H$47","v":0},{"$f":"投入係数!I30*I$47","v":0},{"$f":"投入係数!J30*J$47","v":0},{"$f":"投入係数!K30*K$47","v":0},{"$f":"投入係数!L30*L$47","v":0},{"$f":"投入係数!M30*M$47","v":0},{"$f":"投入係数!N30*N$47","v":0},{"$f":"投入係数!O30*O$47","v":0},{"$f":"投入係数!P30*P$47","v":0},{"$f":"投入係数!Q30*Q$47","v":0},{"$f":"投入係数!R30*R$47","v":0},{"$f":"投入係数!S30*S$47","v":0},{"$f":"投入係数!T30*T$47","v":0},{"$f":"投入係数!U30*U$47","v":0},{"$f":"投入係数!V30*V$47","v":0},{"$f":"投入係数!W30*W$47","v":0},{"$f":"投入係数!X30*X$47","v":0},{"$f":"投入係数!Y30*Y$47","v":0},{"$f":"投入係数!Z30*Z$47","v":0},{"$f":"投入係数!AA30*AA$47","v":0},{"$f":"投入係数!AB30*AB$47","v":0},{"$f":"投入係数!AC30*AC$47","v":0},{"$f":"投入係数!AD30*AD$47","v":0},{"$f":"投入係数!AE30*AE$47","v":0},{"$f":"投入係数!AF30*AF$47","v":0},{"$f":"投入係数!AG30*AG$47","v":0},{"$f":"投入係数!AH30*AH$47","v":0},{"$f":"投入係数!AI30*AI$47","v":0},{"$f":"投入係数!AJ30*AJ$47","v":0},{"$f":"投入係数!AK30*AK$47","v":0},{"$f":"投入係数!AL30*AL$47","v":0},{"$f":"投入係数!AM30*AM$47","v":0},{"$f":"投入係数!AN30*AN$47","v":0},0]
[null,"48","廃棄物処理",{"$f":"投入係数!D31*D$47","v":0},{"$f":"投入係数!E31*E$47","v":0},{"$f":"投入係数!F31*F$47","v":0},{"$f":"投入係数!G31*G$47","v":0},{"$f":"投入係数!H31*H$47","v":0},{"$f":"投入係数!I31*I$47","v":0},{"$f":"投入係数!J31*J$47","v":0},{"$f":"投入係数!K31*K$47","v":0},{"$f":"投入係数!L31*L$47","v":0},{"$f":"投入係数!M31*M$47","v":0},{"$f":"投入係数!N31*N$47","v":0},{"$f":"投入係数!O31*O$47","v":0},{"$f":"投入係数!P31*P$47","v":0},{"$f":"投入係数!Q31*Q$47","v":0},{"$f":"投入係数!R31*R$47","v":0},{"$f":"投入係数!S31*S$47","v":0},{"$f":"投入係数!T31*T$47","v":0},{"$f":"投入係数!U31*U$47","v":0},{"$f":"投入係数!V31*V$47","v":0},{"$f":"投入係数!W31*W$47","v":0},{"$f":"投入係数!X31*X$47","v":0},{"$f":"投入係数!Y31*Y$47","v":0},{"$f":"投入係数!Z31*Z$47","v":0},{"$f":"投入係数!AA31*AA$47","v":0},{"$f":"投入係数!AB31*AB$47","v":0},{"$f":"投入係数!AC31*AC$47","v":0},{"$f":"投入係数!AD31*AD$47","v":0},{"$f":"投入係数!AE31*AE$47","v":0},{"$f":"投入係数!AF31*AF$47","v":0},{"$f":"投入係数!AG31*AG$47","v":0},{"$f":"投入係数!AH31*AH$47","v":0},{"$f":"投入係数!AI31*AI$47","v":0},{"$f":"投入係数!AJ31*AJ$47","v":0},{"$f":"投入係数!AK31*AK$47","v":0},{"$f":"投入係数!AL31*AL$47","v":0},{"$f":"投入係数!AM31*AM$47","v":0},{"$f":"投入係数!AN31*AN$47","v":0},0]
[null,"51","商業",{"$f":"投入係数!D32*D$47","v":0},{"$f":"投入係数!E32*E$47","v":0},{"$f":"投入係数!F32*F$47","v":0},{"$f":"投入係数!G32*G$47","v":0},{"$f":"投入係数!H32*H$47","v":0},{"$f":"投入係数!I32*I$47","v":0},{"$f":"投入係数!J32*J$47","v":0},{"$f":"投入係数!K32*K$47","v":0},{"$f":"投入係数!L32*L$47","v":0},{"$f":"投入係数!M32*M$47","v":0},{"$f":"投入係数!N32*N$47","v":0},{"$f":"投入係数!O32*O$47","v":0},{"$f":"投入係数!P32*P$47","v":0},{"$f":"投入係数!Q32*Q$47","v":0},{"$f":"投入係数!R32*R$47","v":0},{"$f":"投入係数!S32*S$47","v":0},{"$f":"投入係数!T32*T$47","v":0},{"$f":"投入係数!U32*U$47","v":0},{"$f":"投入係数!V32*V$47","v":0},{"$f":"投入係数!W32*W$47","v":0},{"$f":"投入係数!X32*X$47","v":0},{"$f":"投入係数!Y32*Y$47","v":0},{"$f":"投入係数!Z32*Z$47","v":0},{"$f":"投入係数!AA32*AA$47","v":0},{"$f":"投入係数!AB32*AB$47","v":0},{"$f":"投入係数!AC32*AC$47","v":0},{"$f":"投入係数!AD32*AD$47","v":0},{"$f":"投入係数!AE32*AE$47","v":0},{"$f":"投入係数!AF32*AF$47","v":0},{"$f":"投入係数!AG32*AG$47","v":0},{"$f":"投入係数!AH32*AH$47","v":0},{"$f":"投入係数!AI32*AI$47","v":0},{"$f":"投入係数!AJ32*AJ$47","v":0},{"$f":"投入係数!AK32*AK$47","v":0},{"$f":"投入係数!AL32*AL$47","v":0},{"$f":"投入係数!AM32*AM$47","v":0},{"$f":"投入係数!AN32*AN$47","v":0},0]
[null,"53","金融・保険",{"$f":"投入係数!D33*D$47","v":0},{"$f":"投入係数!E33*E$47","v":0},{"$f":"投入係数!F33*F$47","v":0},{"$f":"投入係数!G33*G$47","v":0},{"$f":"投入係数!H33*H$47","v":0},{"$f":"投入係数!I33*I$47","v":0},{"$f":"投入係数!J33*J$47","v":0},{"$f":"投入係数!K33*K$47","v":0},{"$f":"投入係数!L33*L$47","v":0},{"$f":"投入係数!M33*M$47","v":0},{"$f":"投入係数!N33*N$47","v":0},{"$f":"投入係数!O33*O$47","v":0},{"$f":"投入係数!P33*P$47","v":0},{"$f":"投入係数!Q33*Q$47","v":0},{"$f":"投入係数!R33*R$47","v":0},{"$f":"投入係数!S33*S$47","v":0},{"$f":"投入係数!T33*T$47","v":0},{"$f":"投入係数!U33*U$47","v":0},{"$f":"投入係数!V33*V$47","v":0},{"$f":"投入係数!W33*W$47","v":0},{"$f":"投入係数!X33*X$47","v":0},{"$f":"投入係数!Y33*Y$47","v":0},{"$f":"投入係数!Z33*Z$47","v":0},{"$f":"投入係数!AA33*AA$47","v":0},{"$f":"投入係数!AB33*AB$47","v":0},{"$f":"投入係数!AC33*AC$47","v":0},{"$f":"投入係数!AD33*AD$47","v":0},{"$f":"投入係数!AE33*AE$47","v":0},{"$f":"投入係数!AF33*AF$47","v":0},{"$f":"投入係数!AG33*AG$47","v":0},{"$f":"投入係数!AH33*AH$47","v":0},{"$f":"投入係数!AI33*AI$47","v":0},{"$f":"投入係数!AJ33*AJ$47","v":0},{"$f":"投入係数!AK33*AK$47","v":0},{"$f":"投入係数!AL33*AL$47","v":0},{"$f":"投入係数!AM33*AM$47","v":0},{"$f":"投入係数!AN33*AN$47","v":0},{"$f":"SUM(D33:AN33)","v":0}]
[null,"55","不動産",{"$f":"投入係数!D34*D$47","v":0},{"$f":"投入係数!E34*E$47","v":0},{"$f":"投入係数!F34*F$47","v":0},{"$f":"投入係数!G34*G$47","v":0},{"$f":"投入係数!H34*H$47","v":0},{"$f":"投入係数!I34*I$47","v":0},{"$f":"投入係数!J34*J$47","v":0},{"$f":"投入係数!K34*K$47","v":0},{"$f":"投入係数!L34*L$47","v":0},{"$f":"投入係数!M34*M$47","v":0},{"$f":"投入係数!N34*N$47","v":0},{"$f":"投入係数!O34*O$47","v":0},{"$f":"投入係数!P34*P$47","v":0},{"$f":"投入係数!Q34*Q$47","v":0},{"$f":"投入係数!R34*R$47","v":0},{"$f":"投入係数!S34*S$47","v":0},{"$f":"投入係数!T34*T$47","v":0},{"$f":"投入係数!U34*U$47","v":0},{"$f":"投入係数!V34*V$47","v":0},{"$f":"投入係数!W34*W$47","v":0},{"$f":"投入係数!X34*X$47","v":0},{"$f":"投入係数!Y34*Y$47","v":0},{"$f":"投入係数!Z34*Z$47","v":0},{"$f":"投入係数!AA34*AA$47","v":0},{"$f":"投入係数!AB34*AB$47","v":0},{"$f":"投入係数!AC34*AC$47","v":0},{"$f":"投入係数!AD34*AD$47","v":0},{"$f":"投入係数!AE34*AE$47","v":0},{"$f":"投入係数!AF34*AF$47","v":0},{"$f":"投入係数!AG34*AG$47","v":0},{"$f":"投入係数!AH34*AH$47","v":0},{"$f":"投入係数!AI34*AI$47","v":0},{"$f":"投入係数!AJ34*AJ$47","v":0},{"$f":"投入係数!AK34*AK$47","v":0},{"$f":"投入係数!AL34*AL$47","v":0},{"$f":"投入係数!AM34*AM$47","v":0},{"$f":"投入係数!AN34*AN$47","v":0},0]
[null,"57","運輸・郵便",{"$f":"投入係数!D35*D$47","v":0},{"$f":"投入係数!E35*E$47","v":0},{"$f":"投入係数!F35*F$47","v":0},{"$f":"投入係数!G35*G$47","v":0},{"$f":"投入係数!H35*H$47","v":0},{"$f":"投入係数!I35*I$47","v":0},{"$f":"投入係数!J35*J$47","v":0},{"$f":"投入係数!K35*K$47","v":0},{"$f":"投入係数!L35*L$47","v":0},{"$f":"投入係数!M35*M$47","v":0},{"$f":"投入係数!N35*N$47","v":0},{"$f":"投入係数!O35*O$47","v":0},{"$f":"投入係数!P35*P$47","v":0},{"$f":"投入係数!Q35*Q$47","v":0},{"$f":"投入係数!R35*R$47","v":0},{"$f":"投入係数!S35*S$47","v":0},{"$f":"投入係数!T35*T$47","v":0},{"$f":"投入係数!U35*U$47","v":0},{"$f":"投入係数!V35*V$47","v":0},{"$f":"投入係数!W35*W$47","v":0},{"$f":"投入係数!X35*X$47","v":0},{"$f":"投入係数!Y35*Y$47","v":0},{"$f":"投入係数!Z35*Z$47","v":0},{"$f":"投入係数!AA35*AA$47","v":0},{"$f":"投入係数!AB35*AB$47","v":0},{"$f":"投入係数!AC35*AC$47","v":0},{"$f":"投入係数!AD35*AD$47","v":0},{"$f":"投入係数!AE35*AE$47","v":0},{"$f":"投入係数!AF35*AF$47","v":0},{"$f":"投入係数!AG35*AG$47","v":0},{"$f":"投入係数!AH35*AH$47","v":0},{"$f":"投入係数!AI35*AI$47","v":0},{"$f":"投入係数!AJ35*AJ$47","v":0},{"$f":"投入係数!AK35*AK$47","v":0},{"$f":"投入係数!AL35*AL$47","v":0},{"$f":"投入係数!AM35*AM$47","v":0},{"$f":"投入係数!AN35*AN$47","v":0},0]
[null,"59","情報通信",{"$f":"投入係数!D36*D$47","v":0},{"$f":"投入係数!E36*E$47","v":0},{"$f":"投入係数!F36*F$47","v":0},{"$f":"投入係数!G36*G$47","v":0},{"$f":"投入係数!H36*H$47","v":0},{"$f":"投入係数!I36*I$47","v":0},{"$f":"投入係数!J36*J$47","v":0},{"$f":"投入係数!K36*K$47","v":0},{"$f":"投入係数!L36*L$47","v":0},{"$f":"投入係数!M36*M$47","v":0},{"$f":"投入係数!N36*N$47","v":0},{"$f":"投入係数!O36*O$47","v":0},{"$f":"投入係数!P36*P$47","v":0},{"$f":"投入係数!Q36*Q$47","v":0},{"$f":"投入係数!R36*R$47","v":0},{"$f":"投入係数!S36*S$47","v":0},{"$f":"投入係数!T36*T$47","v":0},{"$f":"投入係数!U36*U$47","v":0},{"$f":"投入係数!V36*V$47","v":0},{"$f":"投入係数!W36*W$47","v":0},{"$f":"投入係数!X36*X$47","v":0},{"$f":"投入係数!Y36*Y$47","v":0},{"$f":"投入係数!Z36*Z$47","v":0},{"$f":"投入係数!AA36*AA$47","v":0},{"$f":"投入係数!AB36*AB$47","v":0},{"$f":"投入係数!AC36*AC$47","v":0},{"$f":"投入係数!AD36*AD$47","v":0},{"$f":"投入係数!AE36*AE$47","v":0},{"$f":"投入係数!AF36*AF$47","v":0},{"$f":"投入係数!AG36*AG$47","v":0},{"$f":"投入係数!AH36*AH$47","v":0},{"$f":"投入係数!AI36*AI$47","v":0},{"$f":"投入係数!AJ36*AJ$47","v":0},{"$f":"投入係数!AK36*AK$47","v":0},{"$f":"投入係数!AL36*AL$47","v":0},{"$f":"投入係数!AM36*AM$47","v":0},{"$f":"投入係数!AN36*AN$47","v":0},0]
[null,"61","公務",{"$f":"投入係数!D37*D$47","v":0},{"$f":"投入係数!E37*E$47","v":0},{"$f":"投入係数!F37*F$47","v":0},{"$f":"投入係数!G37*G$47","v":0},{"$f":"投入係数!H37*H$47","v":0},{"$f":"投入係数!I37*I$47","v":0},{"$f":"投入係数!J37*J$47","v":0},{"$f":"投入係数!K37*K$47","v":0},{"$f":"投入係数!L37*L$47","v":0},{"$f":"投入係数!M37*M$47","v":0},{"$f":"投入係数!N37*N$47","v":0},{"$f":"投入係数!O37*O$47","v":0},{"$f":"投入係数!P37*P$47","v":0},{"$f":"投入係数!Q37*Q$47","v":0},{"$f":"投入係数!R37*R$47","v":0},{"$f":"投入係数!S37*S$47","v":0},{"$f":"投入係数!T37*T$47","v":0},{"$f":"投入係数!U37*U$47","v":0},{"$f":"投入係数!V37*V$47","v":0},{"$f":"投入係数!W37*W$47","v":0},{"$f":"投入係数!X37*X$47","v":0},{"$f":"投入係数!Y37*Y$47","v":0},{"$f":"投入係数!Z37*Z$47","v":0},{"$f":"投入係数!AA37*AA$47","v":0},{"$f":"投入係数!AB37*AB$47","v":0},{"$f":"投入係数!AC37*AC$47","v":0},{"$f":"投入係数!AD37*AD$47","v":0},{"$f":"投入係数!AE37*AE$47","v":0},{"$f":"投入係数!AF37*AF$47","v":0},{"$f":"投入係数!AG37*AG$47","v":0},{"$f":"投入係数!AH37*AH$47","v":0},{"$f":"投入係数!AI37*AI$47","v":0},{"$f":"投入係数!AJ37*AJ$47","v":0},{"$f":"投入係数!AK37*AK$47","v":0},{"$f":"投入係数!AL37*AL$47","v":0},{"$f":"投入係数!AM37*AM$47","v":0},{"$f":"投入係数!AN37*AN$47","v":0},0]
[null,"63","教育・研究",{"$f":"投入係数!D38*D$47","v":0},{"$f":"投入係数!E38*E$47","v":0},{"$f":"投入係数!F38*F$47","v":0},{"$f":"投入係数!G38*G$47","v":0},{"$f":"投入係数!H38*H$47","v":0},{"$f":"投入係数!I38*I$47","v":0},{"$f":"投入係数!J38*J$47","v":0},{"$f":"投入係数!K38*K$47","v":0},{"$f":"投入係数!L38*L$47","v":0},{"$f":"投入係数!M38*M$47","v":0},{"$f":"投入係数!N38*N$47","v":0},{"$f":"投入係数!O38*O$47","v":0},{"$f":"投入係数!P38*P$47","v":0},{"$f":"投入係数!Q38*Q$47","v":0},{"$f":"投入係数!R38*R$47","v":0},{"$f":"投入係数!S38*S$47","v":0},{"$f":"投入係数!T38*T$47","v":0},{"$f":"投入係数!U38*U$47","v":0},{"$f":"投入係数!V38*V$47","v":0},{"$f":"投入係数!W38*W$47","v":0},{"$f":"投入係数!X38*X$47","v":0},{"$f":"投入係数!Y38*Y$47","v":0},{"$f":"投入係数!Z38*Z$47","v":0},{"$f":"投入係数!AA38*AA$47","v":0},{"$f":"投入係数!AB38*AB$47","v":0},{"$f":"投入係数!AC38*AC$47","v":0},{"$f":"投入係数!AD38*AD$47","v":0},{"$f":"投入係数!AE38*AE$47","v":0},{"$f":"投入係数!AF38*AF$47","v":0},{"$f":"投入係数!AG38*AG$47","v":0},{"$f":"投入係数!AH38*AH$47","v":0},{"$f":"投入係数!AI38*AI$47","v":0},{"$f":"投入係数!AJ38*AJ$47","v":0},{"$f":"投入係数!AK38*AK$47","v":0},{"$f":"投入係数!AL38*AL$47","v":0},{"$f":"投入係数!AM38*AM$47","v":0},{"$f":"投入係数!AN38*AN$47","v":0},0]
[null,"64","医療・福祉",{"$f":"投入係数!D39*D$47","v":0},{"$f":"投入係数!E39*E$47","v":0},{"$f":"投入係数!F39*F$47","v":0},{"$f":"投入係数!G39*G$47","v":0},{"$f":"投入係数!H39*H$47","v":0},{"$f":"投入係数!I39*I$47","v":0},{"$f":"投入係数!J39*J$47","v":0},{"$f":"投入係数!K39*K$47","v":0},{"$f":"投入係数!L39*L$47","v":0},{"$f":"投入係数!M39*M$47","v":0},{"$f":"投入係数!N39*N$47","v":0},{"$f":"投入係数!O39*O$47","v":0},{"$f":"投入係数!P39*P$47","v":0},{"$f":"投入係数!Q39*Q$47","v":0},{"$f":"投入係数!R39*R$47","v":0},{"$f":"投入係数!S39*S$47","v":0},{"$f":"投入係数!T39*T$47","v":0},{"$f":"投入係数!U39*U$47","v":0},{"$f":"投入係数!V39*V$47","v":0},{"$f":"投入係数!W39*W$47","v":0},{"$f":"投入係数!X39*X$47","v":0},{"$f":"投入係数!Y39*Y$47","v":0},{"$f":"投入係数!Z39*Z$47","v":0},{"$f":"投入係数!AA39*AA$47","v":0},{"$f":"投入係数!AB39*AB$47","v":0},{"$f":"投入係数!AC39*AC$47","v":0},{"$f":"投入係数!AD39*AD$47","v":0},{"$f":"投入係数!AE39*AE$47","v":0},{"$f":"投入係数!AF39*AF$47","v":0},{"$f":"投入係数!AG39*AG$47","v":0},{"$f":"投入係数!AH39*AH$47","v":0},{"$f":"投入係数!AI39*AI$47","v":0},{"$f":"投入係数!AJ39*AJ$47","v":0},{"$f":"投入係数!AK39*AK$47","v":0},{"$f":"投入係数!AL39*AL$47","v":0},{"$f":"投入係数!AM39*AM$47","v":0},{"$f":"投入係数!AN39*AN$47","v":0},0]
[null,"65","他に分類されない会員制団体",{"$f":"投入係数!D40*D$47","v":0},{"$f":"投入係数!E40*E$47","v":0},{"$f":"投入係数!F40*F$47","v":0},{"$f":"投入係数!G40*G$47","v":0},{"$f":"投入係数!H40*H$47","v":0},{"$f":"投入係数!I40*I$47","v":0},{"$f":"投入係数!J40*J$47","v":0},{"$f":"投入係数!K40*K$47","v":0},{"$f":"投入係数!L40*L$47","v":0},{"$f":"投入係数!M40*M$47","v":0},{"$f":"投入係数!N40*N$47","v":0},{"$f":"投入係数!O40*O$47","v":0},{"$f":"投入係数!P40*P$47","v":0},{"$f":"投入係数!Q40*Q$47","v":0},{"$f":"投入係数!R40*R$47","v":0},{"$f":"投入係数!S40*S$47","v":0},{"$f":"投入係数!T40*T$47","v":0},{"$f":"投入係数!U40*U$47","v":0},{"$f":"投入係数!V40*V$47","v":0},{"$f":"投入係数!W40*W$47","v":0},{"$f":"投入係数!X40*X$47","v":0},{"$f":"投入係数!Y40*Y$47","v":0},{"$f":"投入係数!Z40*Z$47","v":0},{"$f":"投入係数!AA40*AA$47","v":0},{"$f":"投入係数!AB40*AB$47","v":0},{"$f":"投入係数!AC40*AC$47","v":0},{"$f":"投入係数!AD40*AD$47","v":0},{"$f":"投入係数!AE40*AE$47","v":0},{"$f":"投入係数!AF40*AF$47","v":0},{"$f":"投入係数!AG40*AG$47","v":0},{"$f":"投入係数!AH40*AH$47","v":0},{"$f":"投入係数!AI40*AI$47","v":0},{"$f":"投入係数!AJ40*AJ$47","v":0},{"$f":"投入係数!AK40*AK$47","v":0},{"$f":"投入係数!AL40*AL$47","v":0},{"$f":"投入係数!AM40*AM$47","v":0},{"$f":"投入係数!AN40*AN$47","v":0},0]
[null,"66","対事業所サービス",{"$f":"投入係数!D41*D$47","v":0},{"$f":"投入係数!E41*E$47","v":0},{"$f":"投入係数!F41*F$47","v":0},{"$f":"投入係数!G41*G$47","v":0},{"$f":"投入係数!H41*H$47","v":0},{"$f":"投入係数!I41*I$47","v":0},{"$f":"投入係数!J41*J$47","v":0},{"$f":"投入係数!K41*K$47","v":0},{"$f":"投入係数!L41*L$47","v":0},{"$f":"投入係数!M41*M$47","v":0},{"$f":"投入係数!N41*N$47","v":0},{"$f":"投入係数!O41*O$47","v":0},{"$f":"投入係数!P41*P$47","v":0},{"$f":"投入係数!Q41*Q$47","v":0},{"$f":"投入係数!R41*R$47","v":0},{"$f":"投入係数!S41*S$47","v":0},{"$f":"投入係数!T41*T$47","v":0},{"$f":"投入係数!U41*U$47","v":0},{"$f":"投入係数!V41*V$47","v":0},{"$f":"投入係数!W41*W$47","v":0},{"$f":"投入係数!X41*X$47","v":0},{"$f":"投入係数!Y41*Y$47","v":0},{"$f":"投入係数!Z41*Z$47","v":0},{"$f":"投入係数!AA41*AA$47","v":0},{"$f":"投入係数!AB41*AB$47","v":0},{"$f":"投入係数!AC41*AC$47","v":0},{"$f":"投入係数!AD41*AD$47","v":0},{"$f":"投入係数!AE41*AE$47","v":0},{"$f":"投入係数!AF41*AF$47","v":0},{"$f":"投入係数!AG41*AG$47","v":0},{"$f":"投入係数!AH41*AH$47","v":0},{"$f":"投入係数!AI41*AI$47","v":0},{"$f":"投入係数!AJ41*AJ$47","v":0},{"$f":"投入係数!AK41*AK$47","v":0},{"$f":"投入係数!AL41*AL$47","v":0},{"$f":"投入係数!AM41*AM$47","v":0},{"$f":"投入係数!AN41*AN$47","v":0},0]
[null,"67","対個人サービス",{"$f":"投入係数!D42*D$47","v":0},{"$f":"投入係数!E42*E$47","v":0},{"$f":"投入係数!F42*F$47","v":0},{"$f":"投入係数!G42*G$47","v":0},{"$f":"投入係数!H42*H$47","v":0},{"$f":"投入係数!I42*I$47","v":0},{"$f":"投入係数!J42*J$47","v":0},{"$f":"投入係数!K42*K$47","v":0},{"$f":"投入係数!L42*L$47","v":0},{"$f":"投入係数!M42*M$47","v":0},{"$f":"投入係数!N42*N$47","v":0},{"$f":"投入係数!O42*O$47","v":0},{"$f":"投入係数!P42*P$47","v":0},{"$f":"投入係数!Q42*Q$47","v":0},{"$f":"投入係数!R42*R$47","v":0},{"$f":"投入係数!S42*S$47","v":0},{"$f":"投入係数!T42*T$47","v":0},{"$f":"投入係数!U42*U$47","v":0},{"$f":"投入係数!V42*V$47","v":0},{"$f":"投入係数!W42*W$47","v":0},{"$f":"投入係数!X42*X$47","v":0},{"$f":"投入係数!Y42*Y$47","v":0},{"$f":"投入係数!Z42*Z$47","v":0},{"$f":"投入係数!AA42*AA$47","v":0},{"$f":"投入係数!AB42*AB$47","v":0},{"$f":"投入係数!AC42*AC$47","v":0},{"$f":"投入係数!AD42*AD$47","v":0},{"$f":"投入係数!AE42*AE$47","v":0},{"$f":"投入係数!AF42*AF$47","v":0},{"$f":"投入係数!AG42*AG$47","v":0},{"$f":"投入係数!AH42*AH$47","v":0},{"$f":"投入係数!AI42*AI$47","v":0},{"$f":"投入係数!AJ42*AJ$47","v":0},{"$f":"投入係数!AK42*AK$47","v":0},{"$f":"投入係数!AL42*AL$47","v":0},{"$f":"投入係数!AM42*AM$47","v":0},{"$f":"投入係数!AN42*AN$47","v":0},0]
[null,"68","事務用品",{"$f":"投入係数!D43*D$47","v":0},{"$f":"投入係数!E43*E$47","v":0},{"$f":"投入係数!F43*F$47","v":0},{"$f":"投入係数!G43*G$47","v":0},{"$f":"投入係数!H43*H$47","v":0},{"$f":"投入係数!I43*I$47","v":0},{"$f":"投入係数!J43*J$47","v":0},{"$f":"投入係数!K43*K$47","v":0},{"$f":"投入係数!L43*L$47","v":0},{"$f":"投入係数!M43*M$47","v":0},{"$f":"投入係数!N43*N$47","v":0},{"$f":"投入係数!O43*O$47","v":0},{"$f":"投入係数!P43*P$47","v":0},{"$f":"投入係数!Q43*Q$47","v":0},{"$f":"投入係数!R43*R$47","v":0},{"$f":"投入係数!S43*S$47","v":0},{"$f":"投入係数!T43*T$47","v":0},{"$f":"投入係数!U43*U$47","v":0},{"$f":"投入係数!V43*V$47","v":0},{"$f":"投入係数!W43*W$47","v":0},{"$f":"投入係数!X43*X$47","v":0},{"$f":"投入係数!Y43*Y$47","v":0},{"$f":"投入係数!Z43*Z$47","v":0},{"$f":"投入係数!AA43*AA$47","v":0},{"$f":"投入係数!AB43*AB$47","v":0},{"$f":"投入係数!AC43*AC$47","v":0},{"$f":"投入係数!AD43*AD$47","v":0},{"$f":"投入係数!AE43*AE$47","v":0},{"$f":"投入係数!AF43*AF$47","v":0},{"$f":"投入係数!AG43*AG$47","v":0},{"$f":"投入係数!AH43*AH$47","v":0},{"$f":"投入係数!AI43*AI$47","v":0},{"$f":"投入係数!AJ43*AJ$47","v":0},{"$f":"投入係数!AK43*AK$47","v":0},{"$f":"投入係数!AL43*AL$47","v":0},{"$f":"投入係数!AM43*AM$47","v":0},{"$f":"投入係数!AN43*AN$47","v":0},0]
[null,"69","分類不明",{"$f":"投入係数!D44*D$47","v":0},{"$f":"投入係数!E44*E$47","v":0},{"$f":"投入係数!F44*F$47","v":0},{"$f":"投入係数!G44*G$47","v":0},{"$f":"投入係数!H44*H$47","v":0},{"$f":"投入係数!I44*I$47","v":0},{"$f":"投入係数!J44*J$47","v":0},{"$f":"投入係数!K44*K$47","v":0},{"$f":"投入係数!L44*L$47","v":0},{"$f":"投入係数!M44*M$47","v":0},{"$f":"投入係数!N44*N$47","v":0},{"$f":"投入係数!O44*O$47","v":0},{"$f":"投入係数!P44*P$47","v":0},{"$f":"投入係数!Q44*Q$47","v":0},{"$f":"投入係数!R44*R$47","v":0},{"$f":"投入係数!S44*S$47","v":0},{"$f":"投入係数!T44*T$47","v":0},{"$f":"投入係数!U44*U$47","v":0},{"$f":"投入係数!V44*V$47","v":0},{"$f":"投入係数!W44*W$47","v":0},{"$f":"投入係数!X44*X$47","v":0},{"$f":"投入係数!Y44*Y$47","v":0},{"$f":"投入係数!Z44*Z$47","v":0},{"$f":"投入係数!AA44*AA$47","v":0},{"$f":"投入係数!AB44*AB$47","v":0},{"$f":"投入係数!AC44*AC$47","v":0},{"$f":"投入係数!AD44*AD$47","v":0},{"$f":"投入係数!AE44*AE$47","v":0},{"$f":"投入係数!AF44*AF$47","v":0},{"$f":"投入係数!AG44*AG$47","v":0},{"$f":"投入係数!AH44*AH$47","v":0},{"$f":"投入係数!AI44*AI$47","v":0},{"$f":"投入係数!AJ44*AJ$47","v":0},{"$f":"投入係数!AK44*AK$47","v":0},{"$f":"投入係数!AL44*AL$47","v":0},{"$f":"投入係数!AM44*AM$47","v":0},{"$f":"投入係数!AN44*AN$47","v":0},0]
[null,null,"合計",{"$f":"SUM(D8:D44)","v":0},0,0,0,0,0,0,0,0,0,0,0,0,0,0,0,0,0,0,0,0,0,0,0,0,0,0,{"$f":"SUM(AE8:AE44)","v":0},0,0,0,0,0,0,0,0,0,{"$f":"SUM(AO8:AO44)","v":0}]
[]
[null,null,{"$f":"間接1次!Y5","v":"直接効果"},{"$f":"間接1次!$Y8","v":0},{"$f":"間接1次!$Y9","v":0},{"$f":"間接1次!$Y10","v":0},{"$f":"間接1次!$Y11","v":0},{"$f":"間接1次!$Y12","v":0},{"$f":"間接1次!$Y13","v":0},{"$f":"間接1次!$Y14","v":0},{"$f":"間接1次!$Y15","v":0},{"$f":"間接1次!$Y16","v":0},{"$f":"間接1次!$Y17","v":0},{"$f":"間接1次!$Y18","v":0},{"$f":"間接1次!$Y19","v":0},{"$f":"間接1次!$Y20","v":0},{"$f":"間接1次!$Y21","v":0},{"$f":"間接1次!$Y22","v":0},{"$f":"間接1次!$Y23","v":0},{"$f":"間接1次!$Y24","v":0},{"$f":"間接1次!$Y25","v":0},{"$f":"間接1次!$Y26","v":0},{"$f":"間接1次!$Y27","v":0},{"$f":"間接1次!$Y28","v":0},{"$f":"間接1次!$Y29","v":0},{"$f":"間接1次!$Y30","v":0},{"$f":"間接1次!$Y31","v":0},{"$f":"間接1次!$Y32","v":0},{"$f":"間接1次!$Y33","v":0},{"$f":"間接1次!$Y34","v":0},{"$f":"間接1次!$Y35","v":0},{"$f":"間接1次!$Y36","v":0},{"$f":"間接1次!$Y37","v":0},{"$f":"間接1次!$Y38","v":0},{"$f":"間接1次!$Y39","v":0},{"$f":"間接1次!$Y40","v":0},{"$f":"間接1次!$Y41","v":0},{"$f":"間接1次!$Y42","v":0},{"$f":"間接1次!$Y43","v":0},{"$f":"間接1次!$Y44","v":0},{"$f":"SUM(D47:AN47)","v":0}]