{"text_format":"1","workbook":"xlsx","n_sheets":12,"sheets":["説明","入力","結果","間接1次","間接2次","波及合計","グラフ","登録","各種係数","投入係数","逆行列係数","需要増加額"],"not_rendered":{"charts":2,"images":0,"macros":1,"external_links":0,"defined_names":11,"comments":3,"pivot_tables":0},"unopened":[],"bounds":{"document_bytes":16777216,"sheet_cells":100000,"rows_first":2000,"rows_last":500,"rows_between":2000,"halvings":0,"cell_chars":16384,"cell_head_chars":4096},"cells_cut":0,"cells_raw":0,"read":"whole","date_system":"1900"}

{"sheet":"説明","index":0,"n_rows":113,"n_cols":3,"rows_kept":113,"cut":false,"hidden":false,"merged":[]}
[]
["【令和2年静岡県産業連関表　一般経済波及効果分析表（109部門）】"]
[]
["【はじめに】"]
["　この分析表は、「令和2年静岡県産業連関表」を使って、様々な産業の需要増加に伴う"]
["経済波及効果を算定するものです。この分析表の特徴は次のとおりです。"]
[]
["・109部門の産業から、該当する部門を選んで最終需要の増加額を入力するだけで、"]
["　経済波及効果を簡単に算定できます。"]
["・直接効果、間接1次効果、間接2次効果やそれらから成る経済波及効果を算定できます。(＊注)"]
["・生産者価格や県内需要額が不明でも、県内需要相当額を模擬算定できます。"]
["・生産波及に伴う雇用創出効果も算定できます。"]
["・複数件の入力データを登録・呼出できます。"]
["・分析用シートは、見やすくわかりやすいフローチャート方式で作成しています。"]
[]
[null,"＊注"]
[null,"直接効果：","需要増加額のうち、商業マージン等を調整し、県外に流出する分を除いた純増加額。"]
[null,"間接1次効果：","直接効果が生じたことによって、そこから波及的に生じる新たな生産増加額。"]
[null,"間接2次効果：","直接効果と間接1次効果による雇用者所得額の増加から2次波及的に生じる生産増加額。"]
[]
[]
["【シートの構成】"]
["　この分析表は、次の12種類のシートにより構成されています。"]
[]
[null,"シート名","シートの機能"]
[null,"【説明】","このシートです。"]
[null,"【入力】","需要増加額の入力シートです。利用者が入力作業を行うのはこのシートだけです。"]
[null,"【結果】","波及効果分析の算定結果が表示されます。"]
[null,"【間接1次】","直接効果→間接1次分の波及効果分析が実行されます。"]
[null,"【間接2次】","間接2次分の波及効果分析が実行されます。"]
[null,"【波及合計】","直接効果・間接1次・間接2次の合計と雇用創出効果の計算が実行されます。"]
[null,"【グラフ】","波及効果と雇用創出効果の部門別グラフが表示されます。"]
[null,"【登録】","入力データを保存しておくためのシートです。"]
[null,"【各種係数】","自給率、雇用者所得率、民間消費支出構成比等の各種係数とその説明です。"]
[null,"【投入係数】","間接1次効果の計算に必要な投入係数表です。"]
[null,"【逆行列係数】","間接1次・間接2次効果の計算に必要な逆行列係数表です。"]
[null,"【需要増加額】","間接1次分の波及効果計算を行うためのシートです。"]
[]
[]
["【分析の手順】"]
["　具体的な波及効果分析は、次の手順により行います。"]
[]
["1. 需要増加額の算定"]
["　事前に行います。事業等の実施により増加する需要増加額（消費・投資）を推計し、当てはまる"]
["産業部門別に割り振ります。"]
[]
["2. 需要増加額の入力"]
["　推計した需要増加額を「入力」シートに入力します。入力内訳は次の3種類です。"]
[]
["(1)県内・県外の内訳不明"]
["　需要額のうち、「県内財の需要につながる部分」と「県外財の需要につながる部分」との"]
["区別が困難な場合は、この欄に全額を入力します（自給率を適用して前者（県内需要分）を"]
["模擬算定します）。"]
[]
["（例：需要額は1億円だが、県内・県外財に使われる額の割り振りがわからない。）"]
[]
["(2)県内需要のみ(購入者価格)"]
["　全ての需要額が「県内財の需要につながる」場合は、ここに入力します。"]
[]
["（例：需要額は1億円で、全てが県内財の購入に使われる。）"]
[]
["(3)県内需要のみ(生産者価格)"]
["　財・サービスに含まれる商業・運輸マージンの調整が済んでいる場合、また工場での生産"]
["などマージンの計算が不要な場合は、ここに入力します。"]
[]
["（例：ある産業が工場で1億円の生産を行う。生産段階のため、消費者がそれを購入する際の商業・運輸"]
["　マージンの調整は不要。）"]
[]
["　入力内訳は把握している数値に応じて上記の3つを使い分けることができます。なお、部門ごと"]
["に異なる内訳を使っても、あるいは1つの部門で複数の内訳を同時に使っても構いません。"]
[]
["3. 分析結果の表示"]
["　需要増加額の入力が完了した時点で、「結果」シートに表示されているデータが波及効果の"]
["分析結果になります。必要に応じて「入力」シートと「結果」シートを印刷して御利用ください。"]
[]
["　波及効果分析のフローチャートは「間接1次・間接2次・波及合計」の各シートに記録されて"]
["います。これらのシートを見れば、波及効果分析の各段階で、どのような計算が行われている"]
["のかを把握できます。"]
[]
["【入力データの登録・呼出】"]
["　「入力」シートに入力されたデータは、[登録]ボタンを押すことで「登録」シートに保存する"]
["ことができます。上書き登録、名前を変えて登録も可能です。「登録」シートには何件でも入力"]
["データを保存することができます。"]
[]
["　また、一度登録したデータは、「入力」シートのタイトル欄をクリックしてリストボタンを"]
["押すことで、いつでも呼び出すことができます。"]
[]
["【補足】"]
["　「各種係数」シートにある「平均消費性向」については、必要に応じて値を変更することが"]
["できます。値が大きいほど間接2次効果が大きくなります（データの登録にも反映されます）。"]
[]
["　この分析表はMicrosoft Excel 2016, 2019(32bit)で動作します。これ以外のバージョンでは"]
["動作確認しておりませんので御注意ください。"]
[]
["　なお、公共事業の経済波及効果分析については、より精度の高い分析を行うための専用表"]
["【公共波及分析R02】を用意してありますので、本表と併せて御活用ください。"]
[]
["【著作権・免責事項等】"]
["1.本分析表の著作権は静岡県に帰属します。"]
["2.本分析表の分析結果は実際の経済波及効果を保証するものではありません。産業連関表を"]
["　使った分析手法の一例として御活用ください。"]
["3.本分析表の分析結果及び本分析表の使用によって生じたあらゆる結果について、静岡県は"]
["　責任を負いません。"]
["4.前記1～3に同意した方は、本分析表の使用、流用、再配布(無償に限る)を自由に行えます。"]
[]
["【問い合わせ先】"]
[]
[null,"〒420-8601　静岡県静岡市葵区追手町9番6号"]
[null,"静岡県企画部統計活用課　管理・普及班"]
[null,"Tel : 054-221-2241,2242"]
[null,"Fax : 054-251-3609"]
[null,"Mail-Address : toukei_katsuyo@pref.shizuoka.lg.jp"]
[null,"HomePage-URL : https://toukei.pref.shizuoka.jp/"]

{"sheet":"入力","index":1,"n_rows":117,"n_cols":7,"rows_kept":117,"cut":false,"hidden":false,"merged":[[2,3,2,5]]}
[]
[null,null,null,"タイトル：",{"$f":"D3","v":0}]
[null,"最終需要増加額入力",null,null,null,null,"登録"]
[]
[null,null,"単位:百万円"]
[null,null,null,"最終需要増加額内訳"]
[null,"109部門",null,"県内・県外の\n内訳不明","県内需要のみ\n(購入者価格)","県内需要のみ\n(生産者価格)","増加額合計"]
[null,"011","耕種農業",null,null,null,{"$f":"SUM(D8:F8)","v":0}]
[null,"012","畜産",null,null,null,{"$f":"SUM(D9:F9)","v":0}]
[null,"013","農業サービス",null,null,null,0]
[null,"015","林業",null,null,null,0]
[null,"017","漁業",null,null,null,0]
[null,"061","石炭・原油・天然ガス",null,null,null,0]
[null,"062","その他の鉱業",null,null,null,0]
[null,"111","食料品",null,null,null,0]
[null,"112","飲料",null,null,null,0]
[null,"113","飼料・有機質肥料（別掲を除く。）",null,null,null,0]
[null,"114","たばこ",null,null,null,0]
[null,"151","繊維工業製品",null,null,null,0]
[null,"152","衣服・その他の繊維既製品",null,null,null,0]
[null,"161","木材・木製品",null,null,null,0]
[null,"162","家具・装備品",null,null,null,0]
[null,"163","パルプ・紙・板紙・加工紙",null,null,null,0]
[null,"164","紙加工品",null,null,null,0]
[null,"191","印刷・製版・製本",null,null,null,0]
[null,"201","化学肥料",null,null,null,0]
[null,"202","無機化学工業製品",null,null,null,0]
[null,"203","石油化学系基礎製品",null,null,null,0]
[null,"204","有機化学工業製品（石油化学系基礎製品・合成樹脂を除く。）",null,null,null,0]
[null,"205","合成樹脂",null,null,null,0]
[null,"206","化学繊維",null,null,null,0]
[null,"207","医薬品",null,null,null,0]
[null,"208","化学最終製品（医薬品を除く。）",null,null,null,0]
[null,"211","石油製品",null,null,null,0]
[null,"212","石炭製品",null,null,null,0]
[null,"221","プラスチック製品",null,null,null,0]
[null,"222","ゴム製品",null,null,null,0]
[null,"231","なめし革・革製品・毛皮",null,null,null,0]
[null,"251","ガラス・ガラス製品",null,null,null,0]
[null,"252","セメント・セメント製品",null,null,null,0]
[null,"253","陶磁器",null,null,null,0]
[null,"259","その他の窯業・土石製品",null,null,null,0]
[null,"2611","銑鉄・粗鋼",null,null,null,0]
[null,"2612","鉄屑",null,null,null,0]
[null,"262","鋼材",null,null,null,0]
[null,"263","鋳鍛造品（鉄）",null,null,null,0]
[null,"269","その他の鉄鋼製品",null,null,null,0]
[null,"271","非鉄金属製錬・精製",null,null,null,0]
[null,"272","非鉄金属加工製品",null,null,null,0]
[null,"281","建設用・建築用金属製品",null,null,null,0]
[null,"289","その他の金属製品",null,null,null,0]
[null,"291","はん用機械",null,null,null,0]
[null,"301","生産用機械",null,null,null,0]
[null,"311","業務用機械",null,null,null,0]
[null,"321","電子デバイス",null,null,null,0]
[null,"329","その他の電子部品",null,null,null,0]
[null,"331","産業用電気機器",null,null,null,0]
[null,"332","民生用電気機器",null,null,null,0]
[null,"333","電子応用装置・電気計測器",null,null,null,0]
[null,"339","その他の電気機械",null,null,null,0]
[null,"341","通信・映像・音響機器",null,null,null,0]
[null,"342","電子計算機・同附属装置",null,null,null,0]
[null,"351","乗用車",null,null,null,0]
[null,"352","その他の自動車",null,null,null,0]
[null,"353","自動車部品・同附属品",null,null,null,0]
[null,"354","船舶・同修理",null,null,null,0]
[null,"359","その他の輸送機械・同修理",null,null,null,0]
[null,"391","その他の製造工業製品",null,null,null,0]
[null,"392","再生資源回収・加工処理",null,null,null,0]
[null,"411","建築",null,null,null,0]
[null,"412","建設補修",null,null,null,0]
[null,"413","公共事業",null,null,null,0]
[null,"419","その他の土木建設",null,null,null,{"$f":"SUM(D73:F73)","v":0}]
[null,"461","電気",null,null,null,0]
[null,"462","ガス・熱供給",null,null,null,0]
[null,"471","水道",null,null,null,0]
[null,"481","廃棄物処理",null,null,null,0]
[null,"511","商業",null,null,null,0]
[null,"531","金融・保険",null,null,null,0]
[null,"551","不動産仲介及び賃貸",null,null,null,0]
[null,"552","住宅賃貸料",null,null,null,0]
[null,"553","住宅賃貸料（帰属家賃）",null,null,null,0]
[null,"571","鉄道輸送",null,null,null,0]
[null,"572","道路輸送（自家輸送を除く。）",null,null,null,0]
[null,"573","自家輸送",null,null,null,0]
[null,"574","水運",null,null,null,0]
[null,"575","航空輸送",null,null,null,0]
[null,"576","貨物利用運送",null,null,null,0]
[null,"577","倉庫",null,null,null,0]
[null,"578","運輸附帯サービス",null,null,null,0]
[null,"579","郵便・信書便",null,null,null,0]
[null,"591","通信",null,null,null,0]
[null,"592","放送",null,null,null,0]
[null,"593","情報サービス",null,null,null,0]
[null,"594","インターネット附随サービス",null,null,null,0]
[null,"595","映像・音声・文字情報制作",null,null,null,0]
[null,"611","公務",null,null,null,0]
[null,"631","教育",null,null,null,0]
[null,"632","研究",null,null,null,0]
[null,"641","医療",null,null,null,0]
[null,"642","保健衛生",null,null,null,0]
[null,"643","社会保険・社会福祉",null,null,null,0]
[null,"644","介護",null,null,null,0]
[null,"659","他に分類されない会員制団体",null,null,null,0]
[null,"661","物品賃貸サービス",null,null,null,0]
[null,"662","広告",null,null,null,0]
[null,"663","自動車整備・機械修理",null,null,null,0]
[null,"669","その他の対事業所サービス",null,null,null,0]
[null,"671","宿泊業",null,null,null,0]
[null,"672","飲食サービス",null,null,null,0]
[null,"673","洗濯・理容・美容・浴場業",null,null,null,0]
[null,"674","娯楽サービス",null,null,null,0]
[null,"675","獣医業",null,null,null,0]
[null,"679","その他の対個人サービス",null,null,null,0]
[null,"681","事務用品",null,null,null,0]
[null,"691","分類不明",null,null,null,0]
[null,null,"増加額合計",{"$f":"SUM(D8:D116)","v":0},{"$f":"SUM(E8:E116)","v":0},{"$f":"SUM(F8:F116)","v":0},{"$f":"SUM(G8:G116)","v":0}]

{"sheet":"結果","index":2,"n_rows":32,"n_cols":5,"rows_kept":32,"cut":false,"hidden":false,"merged":[]}
[]
[null,{"$f":"\"波及効果算定結果(109部門)\"&IF(入力!D3=\"\",\"\",\"　－　\")&入力!D3","v":"波及効果算定結果(109部門)"}]
[]
[]
[null,"1.最終需要増加額",null,null,"単位:百万円"]
[null,{"$f":"入力!D7","v":"県内・県外の\n内訳不明"},{"$f":"入力!E7","v":"県内需要のみ\n(購入者価格)"},{"$f":"入力!F7","v":"県内需要のみ\n(生産者価格)"},"需要額計(f)"]
[null,{"$f":"入力!D117","v":0},{"$f":"入力!E117","v":0},{"$f":"入力!F117","v":0},{"$f":"SUM(B7:D7)","v":0}]
[]
[]
[null,"2.生産誘発額",null,null,"単位:百万円"]
[null,"直接効果(F)","間接1次(X1)","間接2次(X2)","生産誘発額計(X)"]
[null,{"$f":"波及合計!E117","v":0},{"$f":"波及合計!G117","v":0},{"$f":"波及合計!I117","v":0},{"$f":"SUM(B12:D12)","v":0}]
[]
[]
[null,"3.波及効果倍率","単位:倍"]
[null,"生産誘発額計\n÷需要額計(X/f)","生産誘発額計\n÷直接効果(X/F)"]
[null,{"$f":"IF(E7=0,0,E12/E7)","v":0},{"$f":"IF(B12=0,0,E12/B12)","v":0},"X/f:需要額全体に対する波及効果倍率\nX/F:直接効果分に対する波及効果倍率"]
[]
[]
[null,"4.雇用誘発人数",{"$f":"波及合計!M117","v":0},"人"]
[]
[]
[null,"【参考】"]
[null,"種類","数値","計算方法"]
[null,{"$f":"波及合計!O5","v":"粗付加価値誘発額"},{"$f":"ROUND(波及合計!O117,1)","v":0},{"$f":"波及合計!K5&\"×\"&各種係数!H5&\"(単位：百万円)\"","v":"生産誘発額×粗付加価値率(単位：百万円)"}]
[null,"県内総生産への寄与",{"$f":"ROUND(C25/C32,3)","v":0},{"$f":"B25&\"÷\"&B32&\"(単位：%)\"","v":"粗付加価値誘発額÷県内総生産(単位：%)"}]
[]
[]
[null,"【参照値】"]
[null,"種類","数値","摘要"]
[null,{"$f":"各種係数!L6","v":"平均消費性向"},{"$f":"各種係数!L8","v":0.61399999999999999},{"$f":"VLOOKUP(C31,各種係数!L9:M14,2,FALSE)","v":"総務省　家計調査年報(令和6年・東海)"}]
[null,{"$f":"各種係数!L16","v":"県内総生産"},{"$f":"各種係数!L17","v":182711},{"$f":"各種係数!M17","v":"令和4年度静岡県の県民経済計算(単位：億円)"}]

{"sheet":"間接1次","index":3,"n_rows":117,"n_cols":31,"rows_kept":117,"cut":false,"hidden":false,"merged":[]}
[null,null,null,null,"← 県内・県外の内訳不明 →",null,null,null,null,null,null,null,null,"+","← 県内需要のみ(購入者価格) →",null,null,null,null,null,null,"+","生産者価格","=","直接効果","→","波及効果計算",null,null,"→","第1次波及効果"]
[null,"波及効果計算"]
[null,"（間接1次フローチャート）",null,null,null,null,null,null,null,null,null,null,"×自給率",null,null,null,null,null,null,null,null,null,null,null,null,null,"×投入係数",null,"×自給率",null,"×逆行列係数"]
[null,null,"単位:百万円",null,null,null,null,null,null,null,null,null,"↓",null,null,null,null,null,null,null,null,null,null,null,null,null,"↓",null,"↓",null,"↓"]
[null,null,null,null,"需要増加額",null,{"$f":"各種係数!D5","v":"商業マージン"},null,{"$f":"各種係数!E5","v":"運輸マージン"},null,{"$f":"$E5","v":"需要増加額"},null,"県内需要",null,{"$f":"$E5","v":"需要増加額"},null,{"$f":"各種係数!D5","v":"商業マージン"},null,{"$f":"各種係数!E5","v":"運輸マージン"},null,{"$f":"$M5","v":"県内需要"},null,{"$f":"$M5","v":"県内需要"},null,{"$f":"Y1","v":"直接効果"},null,"需要増加額",null,{"$f":"$AA5","v":"需要増加額"},null,"生産誘発額"]
[null,"109部門",null,null,"(内訳不明)","-",null,"-",null,"=",{"$f":"$E6","v":"(内訳不明)"},null,{"$f":"$E6","v":"(内訳不明)"},null,"(県内のみ)","-",null,"-",null,"=",{"$f":"$O6","v":"(県内のみ)"},null,{"$f":"\"(\"&W1&\")\"","v":"(生産者価格)"},null,"(県内需要計)",null,"(誘発分)",null,"(県内誘発分)",null,"(間接1次)"]
[null,null,null,null,"f1",null,{"$f":"各種係数!D7","v":"cm"},null,{"$f":"各種係数!E7","v":"tm"},null,"(マージン調整)",null,"F1",null,"f2",null,{"$f":"各種係数!D7","v":"cm"},null,{"$f":"各種係数!E7","v":"tm"},null,"F2",null,"f3=F3",null,"F",null,{"$f":"\"α\"&Y7","v":"αF"},null,{"$f":"\"(\"&各種係数!F7&\")×\"&AA7","v":"(1-M)×αF"},null,"X1"]
[null,"011","耕種農業",null,{"$f":"入力!D8","v":0},null,{"$f":"E8*各種係数!$D8","v":0},null,{"$f":"E8*各種係数!$E8","v":0},null,{"$f":"E8-G8-I8","v":0},null,{"$f":"各種係数!$F8*K8","v":0},null,{"$f":"入力!E8","v":0},null,{"$f":"O8*各種係数!$D8","v":0},null,{"$f":"O8*各種係数!$E8","v":0},null,{"$f":"O8-Q8-S8","v":0},null,{"$f":"入力!F8","v":0},null,{"$f":"M8+U8+W8","v":0},null,{"$f":"需要増加額!DI8","v":0},null,{"$f":"各種係数!$F8*AA8","v":0},null,{"$f":"MMULT(逆行列係数!D8:DH116,間接1次!AC8:AC116)","v":0}]
[null,"012","畜産",null,{"$f":"入力!D9","v":0},null,{"$f":"E9*各種係数!$D9","v":0},null,{"$f":"E9*各種係数!$E9","v":0},null,0,null,{"$f":"各種係数!$F9*K9","v":0},null,{"$f":"入力!E9","v":0},null,{"$f":"O9*各種係数!$D9","v":0},null,{"$f":"O9*各種係数!$E9","v":0},null,{"$f":"O9-Q9-S9","v":0},null,{"$f":"入力!F9","v":0},null,{"$f":"M9+U9+W9","v":0},null,{"$f":"需要増加額!DI9","v":0},null,{"$f":"各種係数!$F9*AA9","v":0},null,0]
[null,"013","農業サービス",null,{"$f":"入力!D10","v":0},null,{"$f":"E10*各種係数!$D10","v":0},null,{"$f":"E10*各種係数!$E10","v":0},null,0,null,{"$f":"各種係数!$F10*K10","v":0},null,{"$f":"入力!E10","v":0},null,{"$f":"O10*各種係数!$D10","v":0},null,{"$f":"O10*各種係数!$E10","v":0},null,0,null,{"$f":"入力!F10","v":0},null,0,null,{"$f":"需要増加額!DI10","v":0},null,{"$f":"各種係数!$F10*AA10","v":0},null,0]
[null,"015","林業",null,{"$f":"入力!D11","v":0},null,{"$f":"E11*各種係数!$D11","v":0},null,{"$f":"E11*各種係数!$E11","v":0},null,0,null,{"$f":"各種係数!$F11*K11","v":0},null,{"$f":"入力!E11","v":0},null,{"$f":"O11*各種係数!$D11","v":0},null,{"$f":"O11*各種係数!$E11","v":0},null,0,null,{"$f":"入力!F11","v":0},null,0,null,{"$f":"需要増加額!DI11","v":0},null,{"$f":"各種係数!$F11*AA11","v":0},null,0]
[null,"017","漁業",null,{"$f":"入力!D12","v":0},null,{"$f":"E12*各種係数!$D12","v":0},null,{"$f":"E12*各種係数!$E12","v":0},null,0,null,{"$f":"各種係数!$F12*K12","v":0},null,{"$f":"入力!E12","v":0},null,{"$f":"O12*各種係数!$D12","v":0},null,{"$f":"O12*各種係数!$E12","v":0},null,0,null,{"$f":"入力!F12","v":0},null,0,null,{"$f":"需要増加額!DI12","v":0},null,{"$f":"各種係数!$F12*AA12","v":0},null,0]
[null,"061","石炭・原油・天然ガス",null,{"$f":"入力!D13","v":0},null,{"$f":"E13*各種係数!$D13","v":0},null,{"$f":"E13*各種係数!$E13","v":0},null,0,null,{"$f":"各種係数!$F13*K13","v":0},null,{"$f":"入力!E13","v":0},null,{"$f":"O13*各種係数!$D13","v":0},null,{"$f":"O13*各種係数!$E13","v":0},null,0,null,{"$f":"入力!F13","v":0},null,0,null,{"$f":"需要増加額!DI13","v":0},null,{"$f":"各種係数!$F13*AA13","v":0},null,0]
[null,"062","その他の鉱業",null,{"$f":"入力!D14","v":0},null,{"$f":"E14*各種係数!$D14","v":0},null,{"$f":"E14*各種係数!$E14","v":0},null,0,null,{"$f":"各種係数!$F14*K14","v":0},null,{"$f":"入力!E14","v":0},null,{"$f":"O14*各種係数!$D14","v":0},null,{"$f":"O14*各種係数!$E14","v":0},null,0,null,{"$f":"入力!F14","v":0},null,0,null,{"$f":"需要増加額!DI14","v":0},null,{"$f":"各種係数!$F14*AA14","v":0},null,0]
[null,"111","食料品",null,{"$f":"入力!D15","v":0},null,{"$f":"E15*各種係数!$D15","v":0},null,{"$f":"E15*各種係数!$E15","v":0},null,0,null,{"$f":"各種係数!$F15*K15","v":0},null,{"$f":"入力!E15","v":0},null,{"$f":"O15*各種係数!$D15","v":0},null,{"$f":"O15*各種係数!$E15","v":0},null,0,null,{"$f":"入力!F15","v":0},null,0,null,{"$f":"需要増加額!DI15","v":0},null,{"$f":"各種係数!$F15*AA15","v":0},null,0]
[null,"112","飲料",null,{"$f":"入力!D16","v":0},null,{"$f":"E16*各種係数!$D16","v":0},null,{"$f":"E16*各種係数!$E16","v":0},null,0,null,{"$f":"各種係数!$F16*K16","v":0},null,{"$f":"入力!E16","v":0},null,{"$f":"O16*各種係数!$D16","v":0},null,{"$f":"O16*各種係数!$E16","v":0},null,0,null,{"$f":"入力!F16","v":0},null,0,null,{"$f":"需要増加額!DI16","v":0},null,{"$f":"各種係数!$F16*AA16","v":0},null,0]
[null,"113","飼料・有機質肥料（別掲を除く。）",null,{"$f":"入力!D17","v":0},null,{"$f":"E17*各種係数!$D17","v":0},null,{"$f":"E17*各種係数!$E17","v":0},null,0,null,{"$f":"各種係数!$F17*K17","v":0},null,{"$f":"入力!E17","v":0},null,{"$f":"O17*各種係数!$D17","v":0},null,{"$f":"O17*各種係数!$E17","v":0},null,0,null,{"$f":"入力!F17","v":0},null,0,null,{"$f":"需要増加額!DI17","v":0},null,{"$f":"各種係数!$F17*AA17","v":0},null,0]
[null,"114","たばこ",null,{"$f":"入力!D18","v":0},null,{"$f":"E18*各種係数!$D18","v":0},null,{"$f":"E18*各種係数!$E18","v":0},null,0,null,{"$f":"各種係数!$F18*K18","v":0},null,{"$f":"入力!E18","v":0},null,{"$f":"O18*各種係数!$D18","v":0},null,{"$f":"O18*各種係数!$E18","v":0},null,0,null,{"$f":"入力!F18","v":0},null,0,null,{"$f":"需要増加額!DI18","v":0},null,{"$f":"各種係数!$F18*AA18","v":0},null,0]
[null,"151","繊維工業製品",null,{"$f":"入力!D19","v":0},null,{"$f":"E19*各種係数!$D19","v":0},null,{"$f":"E19*各種係数!$E19","v":0},null,0,null,{"$f":"各種係数!$F19*K19","v":0},null,{"$f":"入力!E19","v":0},null,{"$f":"O19*各種係数!$D19","v":0},null,{"$f":"O19*各種係数!$E19","v":0},null,0,null,{"$f":"入力!F19","v":0},null,0,null,{"$f":"需要増加額!DI19","v":0},null,{"$f":"各種係数!$F19*AA19","v":0},null,0]
[null,"152","衣服・その他の繊維既製品",null,{"$f":"入力!D20","v":0},null,{"$f":"E20*各種係数!$D20","v":0},null,{"$f":"E20*各種係数!$E20","v":0},null,0,null,{"$f":"各種係数!$F20*K20","v":0},null,{"$f":"入力!E20","v":0},null,{"$f":"O20*各種係数!$D20","v":0},null,{"$f":"O20*各種係数!$E20","v":0},null,0,null,{"$f":"入力!F20","v":0},null,0,null,{"$f":"需要増加額!DI20","v":0},null,{"$f":"各種係数!$F20*AA20","v":0},null,0]
[null,"161","木材・木製品",null,{"$f":"入力!D21","v":0},null,{"$f":"E21*各種係数!$D21","v":0},null,{"$f":"E21*各種係数!$E21","v":0},null,0,null,{"$f":"各種係数!$F21*K21","v":0},null,{"$f":"入力!E21","v":0},null,{"$f":"O21*各種係数!$D21","v":0},null,{"$f":"O21*各種係数!$E21","v":0},null,0,null,{"$f":"入力!F21","v":0},null,0,null,{"$f":"需要増加額!DI21","v":0},null,{"$f":"各種係数!$F21*AA21","v":0},null,0]
[null,"162","家具・装備品",null,{"$f":"入力!D22","v":0},null,{"$f":"E22*各種係数!$D22","v":0},null,{"$f":"E22*各種係数!$E22","v":0},null,0,null,{"$f":"各種係数!$F22*K22","v":0},null,{"$f":"入力!E22","v":0},null,{"$f":"O22*各種係数!$D22","v":0},null,{"$f":"O22*各種係数!$E22","v":0},null,0,null,{"$f":"入力!F22","v":0},null,0,null,{"$f":"需要増加額!DI22","v":0},null,{"$f":"各種係数!$F22*AA22","v":0},null,0]
[null,"163","パルプ・紙・板紙・加工紙",null,{"$f":"入力!D23","v":0},null,{"$f":"E23*各種係数!$D23","v":0},null,{"$f":"E23*各種係数!$E23","v":0},null,0,null,{"$f":"各種係数!$F23*K23","v":0},null,{"$f":"入力!E23","v":0},null,{"$f":"O23*各種係数!$D23","v":0},null,{"$f":"O23*各種係数!$E23","v":0},null,0,null,{"$f":"入力!F23","v":0},null,0,null,{"$f":"需要増加額!DI23","v":0},null,{"$f":"各種係数!$F23*AA23","v":0},null,0]
[null,"164","紙加工品",null,{"$f":"入力!D24","v":0},null,{"$f":"E24*各種係数!$D24","v":0},null,{"$f":"E24*各種係数!$E24","v":0},null,0,null,{"$f":"各種係数!$F24*K24","v":0},null,{"$f":"入力!E24","v":0},null,{"$f":"O24*各種係数!$D24","v":0},null,{"$f":"O24*各種係数!$E24","v":0},null,0,null,{"$f":"入力!F24","v":0},null,0,null,{"$f":"需要増加額!DI24","v":0},null,{"$f":"各種係数!$F24*AA24","v":0},null,0]
[null,"191","印刷・製版・製本",null,{"$f":"入力!D25","v":0},null,{"$f":"E25*各種係数!$D25","v":0},null,{"$f":"E25*各種係数!$E25","v":0},null,0,null,{"$f":"各種係数!$F25*K25","v":0},null,{"$f":"入力!E25","v":0},null,{"$f":"O25*各種係数!$D25","v":0},null,{"$f":"O25*各種係数!$E25","v":0},null,0,null,{"$f":"入力!F25","v":0},null,0,null,{"$f":"需要増加額!DI25","v":0},null,{"$f":"各種係数!$F25*AA25","v":0},null,0]
[null,"201","化学肥料",null,{"$f":"入力!D26","v":0},null,{"$f":"E26*各種係数!$D26","v":0},null,{"$f":"E26*各種係数!$E26","v":0},null,0,null,{"$f":"各種係数!$F26*K26","v":0},null,{"$f":"入力!E26","v":0},null,{"$f":"O26*各種係数!$D26","v":0},null,{"$f":"O26*各種係数!$E26","v":0},null,0,null,{"$f":"入力!F26","v":0},null,0,null,{"$f":"需要増加額!DI26","v":0},null,{"$f":"各種係数!$F26*AA26","v":0},null,0]
[null,"202","無機化学工業製品",null,{"$f":"入力!D27","v":0},null,{"$f":"E27*各種係数!$D27","v":0},null,{"$f":"E27*各種係数!$E27","v":0},null,0,null,{"$f":"各種係数!$F27*K27","v":0},null,{"$f":"入力!E27","v":0},null,{"$f":"O27*各種係数!$D27","v":0},null,{"$f":"O27*各種係数!$E27","v":0},null,0,null,{"$f":"入力!F27","v":0},null,0,null,{"$f":"需要増加額!DI27","v":0},null,{"$f":"各種係数!$F27*AA27","v":0},null,0]
[null,"203","石油化学系基礎製品",null,{"$f":"入力!D28","v":0},null,{"$f":"E28*各種係数!$D28","v":0},null,{"$f":"E28*各種係数!$E28","v":0},null,0,null,{"$f":"各種係数!$F28*K28","v":0},null,{"$f":"入力!E28","v":0},null,{"$f":"O28*各種係数!$D28","v":0},null,{"$f":"O28*各種係数!$E28","v":0},null,0,null,{"$f":"入力!F28","v":0},null,0,null,{"$f":"需要増加額!DI28","v":0},null,{"$f":"各種係数!$F28*AA28","v":0},null,0]
[null,"204","有機化学工業製品（石油化学系基礎製品・合成樹脂を除く。）",null,{"$f":"入力!D29","v":0},null,{"$f":"E29*各種係数!$D29","v":0},null,{"$f":"E29*各種係数!$E29","v":0},null,0,null,{"$f":"各種係数!$F29*K29","v":0},null,{"$f":"入力!E29","v":0},null,{"$f":"O29*各種係数!$D29","v":0},null,{"$f":"O29*各種係数!$E29","v":0},null,0,null,{"$f":"入力!F29","v":0},null,0,null,{"$f":"需要増加額!DI29","v":0},null,{"$f":"各種係数!$F29*AA29","v":0},null,0]
[null,"205","合成樹脂",null,{"$f":"入力!D30","v":0},null,{"$f":"E30*各種係数!$D30","v":0},null,{"$f":"E30*各種係数!$E30","v":0},null,0,null,{"$f":"各種係数!$F30*K30","v":0},null,{"$f":"入力!E30","v":0},null,{"$f":"O30*各種係数!$D30","v":0},null,{"$f":"O30*各種係数!$E30","v":0},null,0,null,{"$f":"入力!F30","v":0},null,0,null,{"$f":"需要増加額!DI30","v":0},null,{"$f":"各種係数!$F30*AA30","v":0},null,0]
[null,"206","化学繊維",null,{"$f":"入力!D31","v":0},null,{"$f":"E31*各種係数!$D31","v":0},null,{"$f":"E31*各種係数!$E31","v":0},null,0,null,{"$f":"各種係数!$F31*K31","v":0},null,{"$f":"入力!E31","v":0},null,{"$f":"O31*各種係数!$D31","v":0},null,{"$f":"O31*各種係数!$E31","v":0},null,0,null,{"$f":"入力!F31","v":0},null,0,null,{"$f":"需要増加額!DI31","v":0},null,{"$f":"各種係数!$F31*AA31","v":0},null,0]
[null,"207","医薬品",null,{"$f":"入力!D32","v":0},null,{"$f":"E32*各種係数!$D32","v":0},null,{"$f":"E32*各種係数!$E32","v":0},null,0,null,{"$f":"各種係数!$F32*K32","v":0},null,{"$f":"入力!E32","v":0},null,{"$f":"O32*各種係数!$D32","v":0},null,{"$f":"O32*各種係数!$E32","v":0},null,0,null,{"$f":"入力!F32","v":0},null,0,null,{"$f":"需要増加額!DI32","v":0},null,{"$f":"各種係数!$F32*AA32","v":0},null,0]
[null,"208","化学最終製品（医薬品を除く。）",null,{"$f":"入力!D33","v":0},null,{"$f":"E33*各種係数!$D33","v":0},null,{"$f":"E33*各種係数!$E33","v":0},null,{"$f":"E33-G33-I33","v":0},null,{"$f":"各種係数!$F33*K33","v":0},null,{"$f":"入力!E33","v":0},null,{"$f":"O33*各種係数!$D33","v":0},null,{"$f":"O33*各種係数!$E33","v":0},null,0,null,{"$f":"入力!F33","v":0},null,0,null,{"$f":"需要増加額!DI33","v":0},null,{"$f":"各種係数!$F33*AA33","v":0},null,0]
[null,"211","石油製品",null,{"$f":"入力!D34","v":0},null,{"$f":"E34*各種係数!$D34","v":0},null,{"$f":"E34*各種係数!$E34","v":0},null,0,null,{"$f":"各種係数!$F34*K34","v":0},null,{"$f":"入力!E34","v":0},null,{"$f":"O34*各種係数!$D34","v":0},null,{"$f":"O34*各種係数!$E34","v":0},null,0,null,{"$f":"入力!F34","v":0},null,0,null,{"$f":"需要増加額!DI34","v":0},null,{"$f":"各種係数!$F34*AA34","v":0},null,0]
[null,"212","石炭製品",null,{"$f":"入力!D35","v":0},null,{"$f":"E35*各種係数!$D35","v":0},null,{"$f":"E35*各種係数!$E35","v":0},null,0,null,{"$f":"各種係数!$F35*K35","v":0},null,{"$f":"入力!E35","v":0},null,{"$f":"O35*各種係数!$D35","v":0},null,{"$f":"O35*各種係数!$E35","v":0},null,0,null,{"$f":"入力!F35","v":0},null,0,null,{"$f":"需要増加額!DI35","v":0},null,{"$f":"各種係数!$F35*AA35","v":0},null,0]
[null,"221","プラスチック製品",null,{"$f":"入力!D36","v":0},null,{"$f":"E36*各種係数!$D36","v":0},null,{"$f":"E36*各種係数!$E36","v":0},null,0,null,{"$f":"各種係数!$F36*K36","v":0},null,{"$f":"入力!E36","v":0},null,{"$f":"O36*各種係数!$D36","v":0},null,{"$f":"O36*各種係数!$E36","v":0},null,0,null,{"$f":"入力!F36","v":0},null,0,null,{"$f":"需要増加額!DI36","v":0},null,{"$f":"各種係数!$F36*AA36","v":0},null,0]
[null,"222","ゴム製品",null,{"$f":"入力!D37","v":0},null,{"$f":"E37*各種係数!$D37","v":0},null,{"$f":"E37*各種係数!$E37","v":0},null,0,null,{"$f":"各種係数!$F37*K37","v":0},null,{"$f":"入力!E37","v":0},null,{"$f":"O37*各種係数!$D37","v":0},null,{"$f":"O37*各種係数!$E37","v":0},null,0,null,{"$f":"入力!F37","v":0},null,0,null,{"$f":"需要増加額!DI37","v":0},null,{"$f":"各種係数!$F37*AA37","v":0},null,0]
[null,"231","なめし革・革製品・毛皮",null,{"$f":"入力!D38","v":0},null,{"$f":"E38*各種係数!$D38","v":0},null,{"$f":"E38*各種係数!$E38","v":0},null,0,null,{"$f":"各種係数!$F38*K38","v":0},null,{"$f":"入力!E38","v":0},null,{"$f":"O38*各種係数!$D38","v":0},null,{"$f":"O38*各種係数!$E38","v":0},null,0,null,{"$f":"入力!F38","v":0},null,0,null,{"$f":"需要増加額!DI38","v":0},null,{"$f":"各種係数!$F38*AA38","v":0},null,0]
[null,"251","ガラス・ガラス製品",null,{"$f":"入力!D39","v":0},null,{"$f":"E39*各種係数!$D39","v":0},null,{"$f":"E39*各種係数!$E39","v":0},null,0,null,{"$f":"各種係数!$F39*K39","v":0},null,{"$f":"入力!E39","v":0},null,{"$f":"O39*各種係数!$D39","v":0},null,{"$f":"O39*各種係数!$E39","v":0},null,0,null,{"$f":"入力!F39","v":0},null,0,null,{"$f":"需要増加額!DI39","v":0},null,{"$f":"各種係数!$F39*AA39","v":0},null,0]
[null,"252","セメント・セメント製品",null,{"$f":"入力!D40","v":0},null,{"$f":"E40*各種係数!$D40","v":0},null,{"$f":"E40*各種係数!$E40","v":0},null,0,null,{"$f":"各種係数!$F40*K40","v":0},null,{"$f":"入力!E40","v":0},null,{"$f":"O40*各種係数!$D40","v":0},null,{"$f":"O40*各種係数!$E40","v":0},null,0,null,{"$f":"入力!F40","v":0},null,0,null,{"$f":"需要増加額!DI40","v":0},null,{"$f":"各種係数!$F40*AA40","v":0},null,0]
[null,"253","陶磁器",null,{"$f":"入力!D41","v":0},null,{"$f":"E41*各種係数!$D41","v":0},null,{"$f":"E41*各種係数!$E41","v":0},null,0,null,{"$f":"各種係数!$F41*K41","v":0},null,{"$f":"入力!E41","v":0},null,{"$f":"O41*各種係数!$D41","v":0},null,{"$f":"O41*各種係数!$E41","v":0},null,0,null,{"$f":"入力!F41","v":0},null,0,null,{"$f":"需要増加額!DI41","v":0},null,{"$f":"各種係数!$F41*AA41","v":0},null,0]
[null,"259","その他の窯業・土石製品",null,{"$f":"入力!D42","v":0},null,{"$f":"E42*各種係数!$D42","v":0},null,{"$f":"E42*各種係数!$E42","v":0},null,0,null,{"$f":"各種係数!$F42*K42","v":0},null,{"$f":"入力!E42","v":0},null,{"$f":"O42*各種係数!$D42","v":0},null,{"$f":"O42*各種係数!$E42","v":0},null,0,null,{"$f":"入力!F42","v":0},null,0,null,{"$f":"需要増加額!DI42","v":0},null,{"$f":"各種係数!$F42*AA42","v":0},null,0]
[null,"2611","銑鉄・粗鋼",null,{"$f":"入力!D43","v":0},null,{"$f":"E43*各種係数!$D43","v":0},null,{"$f":"E43*各種係数!$E43","v":0},null,0,null,{"$f":"各種係数!$F43*K43","v":0},null,{"$f":"入力!E43","v":0},null,{"$f":"O43*各種係数!$D43","v":0},null,{"$f":"O43*各種係数!$E43","v":0},null,0,null,{"$f":"入力!F43","v":0},null,0,null,{"$f":"需要増加額!DI43","v":0},null,{"$f":"各種係数!$F43*AA43","v":0},null,0]
[null,"2612","鉄屑",null,{"$f":"入力!D44","v":0},null,{"$f":"E44*各種係数!$D44","v":0},null,{"$f":"E44*各種係数!$E44","v":0},null,0,null,{"$f":"各種係数!$F44*K44","v":0},null,{"$f":"入力!E44","v":0},null,{"$f":"O44*各種係数!$D44","v":0},null,{"$f":"O44*各種係数!$E44","v":0},null,0,null,{"$f":"入力!F44","v":0},null,0,null,{"$f":"需要増加額!DI44","v":0},null,{"$f":"各種係数!$F44*AA44","v":0},null,0]
[null,"262","鋼材",null,{"$f":"入力!D45","v":0},null,{"$f":"E45*各種係数!$D45","v":0},null,{"$f":"E45*各種係数!$E45","v":0},null,0,null,{"$f":"各種係数!$F45*K45","v":0},null,{"$f":"入力!E45","v":0},null,{"$f":"O45*各種係数!$D45","v":0},null,{"$f":"O45*各種係数!$E45","v":0},null,0,null,{"$f":"入力!F45","v":0},null,0,null,{"$f":"需要増加額!DI45","v":0},null,{"$f":"各種係数!$F45*AA45","v":0},null,0]
[null,"263","鋳鍛造品（鉄）",null,{"$f":"入力!D46","v":0},null,{"$f":"E46*各種係数!$D46","v":0},null,{"$f":"E46*各種係数!$E46","v":0},null,0,null,{"$f":"各種係数!$F46*K46","v":0},null,{"$f":"入力!E46","v":0},null,{"$f":"O46*各種係数!$D46","v":0},null,{"$f":"O46*各種係数!$E46","v":0},null,0,null,{"$f":"入力!F46","v":0},null,0,null,{"$f":"需要増加額!DI46","v":0},null,{"$f":"各種係数!$F46*AA46","v":0},null,0]
[null,"269","その他の鉄鋼製品",null,{"$f":"入力!D47","v":0},null,{"$f":"E47*各種係数!$D47","v":0},null,{"$f":"E47*各種係数!$E47","v":0},null,0,null,{"$f":"各種係数!$F47*K47","v":0},null,{"$f":"入力!E47","v":0},null,{"$f":"O47*各種係数!$D47","v":0},null,{"$f":"O47*各種係数!$E47","v":0},null,0,null,{"$f":"入力!F47","v":0},null,0,null,{"$f":"需要増加額!DI47","v":0},null,{"$f":"各種係数!$F47*AA47","v":0},null,0]
[null,"271","非鉄金属製錬・精製",null,{"$f":"入力!D48","v":0},null,{"$f":"E48*各種係数!$D48","v":0},null,{"$f":"E48*各種係数!$E48","v":0},null,0,null,{"$f":"各種係数!$F48*K48","v":0},null,{"$f":"入力!E48","v":0},null,{"$f":"O48*各種係数!$D48","v":0},null,{"$f":"O48*各種係数!$E48","v":0},null,0,null,{"$f":"入力!F48","v":0},null,0,null,{"$f":"需要増加額!DI48","v":0},null,{"$f":"各種係数!$F48*AA48","v":0},null,0]
[null,"272","非鉄金属加工製品",null,{"$f":"入力!D49","v":0},null,{"$f":"E49*各種係数!$D49","v":0},null,{"$f":"E49*各種係数!$E49","v":0},null,0,null,{"$f":"各種係数!$F49*K49","v":0},null,{"$f":"入力!E49","v":0},null,{"$f":"O49*各種係数!$D49","v":0},null,{"$f":"O49*各種係数!$E49","v":0},null,0,null,{"$f":"入力!F49","v":0},null,0,null,{"$f":"需要増加額!DI49","v":0},null,{"$f":"各種係数!$F49*AA49","v":0},null,0]
[null,"281","建設用・建築用金属製品",null,{"$f":"入力!D50","v":0},null,{"$f":"E50*各種係数!$D50","v":0},null,{"$f":"E50*各種係数!$E50","v":0},null,0,null,{"$f":"各種係数!$F50*K50","v":0},null,{"$f":"入力!E50","v":0},null,{"$f":"O50*各種係数!$D50","v":0},null,{"$f":"O50*各種係数!$E50","v":0},null,0,null,{"$f":"入力!F50","v":0},null,0,null,{"$f":"需要増加額!DI50","v":0},null,{"$f":"各種係数!$F50*AA50","v":0},null,0]
[null,"289","その他の金属製品",null,{"$f":"入力!D51","v":0},null,{"$f":"E51*各種係数!$D51","v":0},null,{"$f":"E51*各種係数!$E51","v":0},null,0,null,{"$f":"各種係数!$F51*K51","v":0},null,{"$f":"入力!E51","v":0},null,{"$f":"O51*各種係数!$D51","v":0},null,{"$f":"O51*各種係数!$E51","v":0},null,0,null,{"$f":"入力!F51","v":0},null,0,null,{"$f":"需要増加額!DI51","v":0},null,{"$f":"各種係数!$F51*AA51","v":0},null,0]
[null,"291","はん用機械",null,{"$f":"入力!D52","v":0},null,{"$f":"E52*各種係数!$D52","v":0},null,{"$f":"E52*各種係数!$E52","v":0},null,0,null,{"$f":"各種係数!$F52*K52","v":0},null,{"$f":"入力!E52","v":0},null,{"$f":"O52*各種係数!$D52","v":0},null,{"$f":"O52*各種係数!$E52","v":0},null,0,null,{"$f":"入力!F52","v":0},null,0,null,{"$f":"需要増加額!DI52","v":0},null,{"$f":"各種係数!$F52*AA52","v":0},null,0]
[null,"301","生産用機械",null,{"$f":"入力!D53","v":0},null,{"$f":"E53*各種係数!$D53","v":0},null,{"$f":"E53*各種係数!$E53","v":0},null,0,null,{"$f":"各種係数!$F53*K53","v":0},null,{"$f":"入力!E53","v":0},null,{"$f":"O53*各種係数!$D53","v":0},null,{"$f":"O53*各種係数!$E53","v":0},null,0,null,{"$f":"入力!F53","v":0},null,0,null,{"$f":"需要増加額!DI53","v":0},null,{"$f":"各種係数!$F53*AA53","v":0},null,0]
[null,"311","業務用機械",null,{"$f":"入力!D54","v":0},null,{"$f":"E54*各種係数!$D54","v":0},null,{"$f":"E54*各種係数!$E54","v":0},null,0,null,{"$f":"各種係数!$F54*K54","v":0},null,{"$f":"入力!E54","v":0},null,{"$f":"O54*各種係数!$D54","v":0},null,{"$f":"O54*各種係数!$E54","v":0},null,0,null,{"$f":"入力!F54","v":0},null,0,null,{"$f":"需要増加額!DI54","v":0},null,{"$f":"各種係数!$F54*AA54","v":0},null,0]
[null,"321","電子デバイス",null,{"$f":"入力!D55","v":0},null,{"$f":"E55*各種係数!$D55","v":0},null,{"$f":"E55*各種係数!$E55","v":0},null,0,null,{"$f":"各種係数!$F55*K55","v":0},null,{"$f":"入力!E55","v":0},null,{"$f":"O55*各種係数!$D55","v":0},null,{"$f":"O55*各種係数!$E55","v":0},null,0,null,{"$f":"入力!F55","v":0},null,0,null,{"$f":"需要増加額!DI55","v":0},null,{"$f":"各種係数!$F55*AA55","v":0},null,0]
[null,"329","その他の電子部品",null,{"$f":"入力!D56","v":0},null,{"$f":"E56*各種係数!$D56","v":0},null,{"$f":"E56*各種係数!$E56","v":0},null,0,null,{"$f":"各種係数!$F56*K56","v":0},null,{"$f":"入力!E56","v":0},null,{"$f":"O56*各種係数!$D56","v":0},null,{"$f":"O56*各種係数!$E56","v":0},null,0,null,{"$f":"入力!F56","v":0},null,0,null,{"$f":"需要増加額!DI56","v":0},null,{"$f":"各種係数!$F56*AA56","v":0},null,0]
[null,"331","産業用電気機器",null,{"$f":"入力!D57","v":0},null,{"$f":"E57*各種係数!$D57","v":0},null,{"$f":"E57*各種係数!$E57","v":0},null,0,null,{"$f":"各種係数!$F57*K57","v":0},null,{"$f":"入力!E57","v":0},null,{"$f":"O57*各種係数!$D57","v":0},null,{"$f":"O57*各種係数!$E57","v":0},null,0,null,{"$f":"入力!F57","v":0},null,0,null,{"$f":"需要増加額!DI57","v":0},null,{"$f":"各種係数!$F57*AA57","v":0},null,0]
[null,"332","民生用電気機器",null,{"$f":"入力!D58","v":0},null,{"$f":"E58*各種係数!$D58","v":0},null,{"$f":"E58*各種係数!$E58","v":0},null,0,null,{"$f":"各種係数!$F58*K58","v":0},null,{"$f":"入力!E58","v":0},null,{"$f":"O58*各種係数!$D58","v":0},null,{"$f":"O58*各種係数!$E58","v":0},null,0,null,{"$f":"入力!F58","v":0},null,0,null,{"$f":"需要増加額!DI58","v":0},null,{"$f":"各種係数!$F58*AA58","v":0},null,0]
[null,"333","電子応用装置・電気計測器",null,{"$f":"入力!D59","v":0},null,{"$f":"E59*各種係数!$D59","v":0},null,{"$f":"E59*各種係数!$E59","v":0},null,0,null,{"$f":"各種係数!$F59*K59","v":0},null,{"$f":"入力!E59","v":0},null,{"$f":"O59*各種係数!$D59","v":0},null,{"$f":"O59*各種係数!$E59","v":0},null,0,null,{"$f":"入力!F59","v":0},null,0,null,{"$f":"需要増加額!DI59","v":0},null,{"$f":"各種係数!$F59*AA59","v":0},null,0]
[null,"339","その他の電気機械",null,{"$f":"入力!D60","v":0},null,{"$f":"E60*各種係数!$D60","v":0},null,{"$f":"E60*各種係数!$E60","v":0},null,0,null,{"$f":"各種係数!$F60*K60","v":0},null,{"$f":"入力!E60","v":0},null,{"$f":"O60*各種係数!$D60","v":0},null,{"$f":"O60*各種係数!$E60","v":0},null,0,null,{"$f":"入力!F60","v":0},null,0,null,{"$f":"需要増加額!DI60","v":0},null,{"$f":"各種係数!$F60*AA60","v":0},null,0]
[null,"341","通信・映像・音響機器",null,{"$f":"入力!D61","v":0},null,{"$f":"E61*各種係数!$D61","v":0},null,{"$f":"E61*各種係数!$E61","v":0},null,0,null,{"$f":"各種係数!$F61*K61","v":0},null,{"$f":"入力!E61","v":0},null,{"$f":"O61*各種係数!$D61","v":0},null,{"$f":"O61*各種係数!$E61","v":0},null,0,null,{"$f":"入力!F61","v":0},null,0,null,{"$f":"需要増加額!DI61","v":0},null,{"$f":"各種係数!$F61*AA61","v":0},null,0]
[null,"342","電子計算機・同附属装置",null,{"$f":"入力!D62","v":0},null,{"$f":"E62*各種係数!$D62","v":0},null,{"$f":"E62*各種係数!$E62","v":0},null,0,null,{"$f":"各種係数!$F62*K62","v":0},null,{"$f":"入力!E62","v":0},null,{"$f":"O62*各種係数!$D62","v":0},null,{"$f":"O62*各種係数!$E62","v":0},null,0,null,{"$f":"入力!F62","v":0},null,0,null,{"$f":"需要増加額!DI62","v":0},null,{"$f":"各種係数!$F62*AA62","v":0},null,0]
[null,"351","乗用車",null,{"$f":"入力!D63","v":0},null,{"$f":"E63*各種係数!$D63","v":0},null,{"$f":"E63*各種係数!$E63","v":0},null,0,null,{"$f":"各種係数!$F63*K63","v":0},null,{"$f":"入力!E63","v":0},null,{"$f":"O63*各種係数!$D63","v":0},null,{"$f":"O63*各種係数!$E63","v":0},null,0,null,{"$f":"入力!F63","v":0},null,0,null,{"$f":"需要増加額!DI63","v":0},null,{"$f":"各種係数!$F63*AA63","v":0},null,0]
[null,"352","その他の自動車",null,{"$f":"入力!D64","v":0},null,{"$f":"E64*各種係数!$D64","v":0},null,{"$f":"E64*各種係数!$E64","v":0},null,0,null,{"$f":"各種係数!$F64*K64","v":0},null,{"$f":"入力!E64","v":0},null,{"$f":"O64*各種係数!$D64","v":0},null,{"$f":"O64*各種係数!$E64","v":0},null,0,null,{"$f":"入力!F64","v":0},null,0,null,{"$f":"需要増加額!DI64","v":0},null,{"$f":"各種係数!$F64*AA64","v":0},null,0]
[null,"353","自動車部品・同附属品",null,{"$f":"入力!D65","v":0},null,{"$f":"E65*各種係数!$D65","v":0},null,{"$f":"E65*各種係数!$E65","v":0},null,0,null,{"$f":"各種係数!$F65*K65","v":0},null,{"$f":"入力!E65","v":0},null,{"$f":"O65*各種係数!$D65","v":0},null,{"$f":"O65*各種係数!$E65","v":0},null,0,null,{"$f":"入力!F65","v":0},null,0,null,{"$f":"需要増加額!DI65","v":0},null,{"$f":"各種係数!$F65*AA65","v":0},null,0]
[null,"354","船舶・同修理",null,{"$f":"入力!D66","v":0},null,{"$f":"E66*各種係数!$D66","v":0},null,{"$f":"E66*各種係数!$E66","v":0},null,0,null,{"$f":"各種係数!$F66*K66","v":0},null,{"$f":"入力!E66","v":0},null,{"$f":"O66*各種係数!$D66","v":0},null,{"$f":"O66*各種係数!$E66","v":0},null,0,null,{"$f":"入力!F66","v":0},null,0,null,{"$f":"需要増加額!DI66","v":0},null,{"$f":"各種係数!$F66*AA66","v":0},null,0]
[null,"359","その他の輸送機械・同修理",null,{"$f":"入力!D67","v":0},null,{"$f":"E67*各種係数!$D67","v":0},null,{"$f":"E67*各種係数!$E67","v":0},null,0,null,{"$f":"各種係数!$F67*K67","v":0},null,{"$f":"入力!E67","v":0},null,{"$f":"O67*各種係数!$D67","v":0},null,{"$f":"O67*各種係数!$E67","v":0},null,0,null,{"$f":"入力!F67","v":0},null,0,null,{"$f":"需要増加額!DI67","v":0},null,{"$f":"各種係数!$F67*AA67","v":0},null,0]
[null,"391","その他の製造工業製品",null,{"$f":"入力!D68","v":0},null,{"$f":"E68*各種係数!$D68","v":0},null,{"$f":"E68*各種係数!$E68","v":0},null,0,null,{"$f":"各種係数!$F68*K68","v":0},null,{"$f":"入力!E68","v":0},null,{"$f":"O68*各種係数!$D68","v":0},null,{"$f":"O68*各種係数!$E68","v":0},null,0,null,{"$f":"入力!F68","v":0},null,0,null,{"$f":"需要増加額!DI68","v":0},null,{"$f":"各種係数!$F68*AA68","v":0},null,0]
[null,"392","再生資源回収・加工処理",null,{"$f":"入力!D69","v":0},null,{"$f":"E69*各種係数!$D69","v":0},null,{"$f":"E69*各種係数!$E69","v":0},null,0,null,{"$f":"各種係数!$F69*K69","v":0},null,{"$f":"入力!E69","v":0},null,{"$f":"O69*各種係数!$D69","v":0},null,{"$f":"O69*各種係数!$E69","v":0},null,0,null,{"$f":"入力!F69","v":0},null,0,null,{"$f":"需要増加額!DI69","v":0},null,{"$f":"各種係数!$F69*AA69","v":0},null,0]
[null,"411","建築",null,{"$f":"入力!D70","v":0},null,{"$f":"E70*各種係数!$D70","v":0},null,{"$f":"E70*各種係数!$E70","v":0},null,0,null,{"$f":"各種係数!$F70*K70","v":0},null,{"$f":"入力!E70","v":0},null,{"$f":"O70*各種係数!$D70","v":0},null,{"$f":"O70*各種係数!$E70","v":0},null,0,null,{"$f":"入力!F70","v":0},null,0,null,{"$f":"需要増加額!DI70","v":0},null,{"$f":"各種係数!$F70*AA70","v":0},null,0]
[null,"412","建設補修",null,{"$f":"入力!D71","v":0},null,{"$f":"E71*各種係数!$D71","v":0},null,{"$f":"E71*各種係数!$E71","v":0},null,0,null,{"$f":"各種係数!$F71*K71","v":0},null,{"$f":"入力!E71","v":0},null,{"$f":"O71*各種係数!$D71","v":0},null,{"$f":"O71*各種係数!$E71","v":0},null,0,null,{"$f":"入力!F71","v":0},null,0,null,{"$f":"需要増加額!DI71","v":0},null,{"$f":"各種係数!$F71*AA71","v":0},null,0]
[null,"413","公共事業",null,{"$f":"入力!D72","v":0},null,{"$f":"E72*各種係数!$D72","v":0},null,{"$f":"E72*各種係数!$E72","v":0},null,0,null,{"$f":"各種係数!$F72*K72","v":0},null,{"$f":"入力!E72","v":0},null,{"$f":"O72*各種係数!$D72","v":0},null,{"$f":"O72*各種係数!$E72","v":0},null,0,null,{"$f":"入力!F72","v":0},null,0,null,{"$f":"需要増加額!DI72","v":0},null,{"$f":"各種係数!$F72*AA72","v":0},null,0]
[null,"419","その他の土木建設",null,{"$f":"入力!D73","v":0},null,{"$f":"E73*各種係数!$D73","v":0},null,{"$f":"E73*各種係数!$E73","v":0},null,0,null,{"$f":"各種係数!$F73*K73","v":0},null,{"$f":"入力!E73","v":0},null,{"$f":"O73*各種係数!$D73","v":0},null,{"$f":"O73*各種係数!$E73","v":0},null,0,null,{"$f":"入力!F73","v":0},null,0,null,{"$f":"需要増加額!DI73","v":0},null,{"$f":"各種係数!$F73*AA73","v":0},null,0]
[null,"461","電気",null,{"$f":"入力!D74","v":0},null,{"$f":"E74*各種係数!$D74","v":0},null,{"$f":"E74*各種係数!$E74","v":0},null,0,null,{"$f":"各種係数!$F74*K74","v":0},null,{"$f":"入力!E74","v":0},null,{"$f":"O74*各種係数!$D74","v":0},null,{"$f":"O74*各種係数!$E74","v":0},null,0,null,{"$f":"入力!F74","v":0},null,0,null,{"$f":"需要増加額!DI74","v":0},null,{"$f":"各種係数!$F74*AA74","v":0},null,0]
[null,"462","ガス・熱供給",null,{"$f":"入力!D75","v":0},null,{"$f":"E75*各種係数!$D75","v":0},null,{"$f":"E75*各種係数!$E75","v":0},null,0,null,{"$f":"各種係数!$F75*K75","v":0},null,{"$f":"入力!E75","v":0},null,{"$f":"O75*各種係数!$D75","v":0},null,{"$f":"O75*各種係数!$E75","v":0},null,0,null,{"$f":"入力!F75","v":0},null,0,null,{"$f":"需要増加額!DI75","v":0},null,{"$f":"各種係数!$F75*AA75","v":0},null,0]
[null,"471","水道",null,{"$f":"入力!D76","v":0},null,{"$f":"E76*各種係数!$D76","v":0},null,{"$f":"E76*各種係数!$E76","v":0},null,0,null,{"$f":"各種係数!$F76*K76","v":0},null,{"$f":"入力!E76","v":0},null,{"$f":"O76*各種係数!$D76","v":0},null,{"$f":"O76*各種係数!$E76","v":0},null,0,null,{"$f":"入力!F76","v":0},null,0,null,{"$f":"需要増加額!DI76","v":0},null,{"$f":"各種係数!$F76*AA76","v":0},null,0]
[null,"481","廃棄物処理",null,{"$f":"入力!D77","v":0},null,{"$f":"E77*各種係数!$D77","v":0},null,{"$f":"E77*各種係数!$E77","v":0},null,0,null,{"$f":"各種係数!$F77*K77","v":0},null,{"$f":"入力!E77","v":0},null,{"$f":"O77*各種係数!$D77","v":0},null,{"$f":"O77*各種係数!$E77","v":0},null,0,null,{"$f":"入力!F77","v":0},null,0,null,{"$f":"需要増加額!DI77","v":0},null,{"$f":"各種係数!$F77*AA77","v":0},null,0]
[null,"511","商業",null,{"$f":"入力!D78","v":0},"+",{"$f":"G117","v":0},null,{"$f":"E78*各種係数!$E78","v":0},null,{"$f":"E78+G78-I78","v":0},null,{"$f":"各種係数!$F78*K78","v":0},null,{"$f":"入力!E78","v":0},"+",{"$f":"Q117","v":0},null,{"$f":"O78*各種係数!$E78","v":0},null,{"$f":"O78+Q78-S78","v":0},null,{"$f":"入力!F78","v":0},null,0,null,{"$f":"需要増加額!DI78","v":0},null,{"$f":"各種係数!$F78*AA78","v":0},null,0]
[null,"531","金融・保険",null,{"$f":"入力!D79","v":0},null,{"$f":"E79*各種係数!$D79","v":0},null,{"$f":"E79*各種係数!$E79","v":0},null,0,null,{"$f":"各種係数!$F79*K79","v":0},null,{"$f":"入力!E79","v":0},null,{"$f":"O79*各種係数!$D79","v":0},null,{"$f":"O79*各種係数!$E79","v":0},null,0,null,{"$f":"入力!F79","v":0},null,0,null,{"$f":"需要増加額!DI79","v":0},null,{"$f":"各種係数!$F79*AA79","v":0},null,0]
[null,"551","不動産仲介及び賃貸",null,{"$f":"入力!D80","v":0},null,{"$f":"E80*各種係数!$D80","v":0},null,{"$f":"E80*各種係数!$E80","v":0},null,0,null,{"$f":"各種係数!$F80*K80","v":0},null,{"$f":"入力!E80","v":0},null,{"$f":"O80*各種係数!$D80","v":0},null,{"$f":"O80*各種係数!$E80","v":0},null,0,null,{"$f":"入力!F80","v":0},null,0,null,{"$f":"需要増加額!DI80","v":0},null,{"$f":"各種係数!$F80*AA80","v":0},null,0]
[null,"552","住宅賃貸料",null,{"$f":"入力!D81","v":0},null,{"$f":"E81*各種係数!$D81","v":0},null,{"$f":"E81*各種係数!$E81","v":0},null,0,null,{"$f":"各種係数!$F81*K81","v":0},null,{"$f":"入力!E81","v":0},null,{"$f":"O81*各種係数!$D81","v":0},null,{"$f":"O81*各種係数!$E81","v":0},null,0,null,{"$f":"入力!F81","v":0},null,0,null,{"$f":"需要増加額!DI81","v":0},null,{"$f":"各種係数!$F81*AA81","v":0},null,0]
[null,"553","住宅賃貸料（帰属家賃）",null,{"$f":"入力!D82","v":0},null,{"$f":"E82*各種係数!$D82","v":0},null,{"$f":"E82*各種係数!$E82","v":0},null,0,null,{"$f":"各種係数!$F82*K82","v":0},null,{"$f":"入力!E82","v":0},null,{"$f":"O82*各種係数!$D82","v":0},null,{"$f":"O82*各種係数!$E82","v":0},null,0,null,{"$f":"入力!F82","v":0},null,0,null,{"$f":"需要増加額!DI82","v":0},null,{"$f":"各種係数!$F82*AA82","v":0},null,0]
[null,"571","鉄道輸送",null,{"$f":"入力!D83","v":0},null,{"$f":"E83*各種係数!$D83","v":0},"+",{"$f":"I$117*各種係数!$E83/SUM(各種係数!$E$83:$E$91)","v":0},null,{"$f":"E83-G83+I83","v":0},null,{"$f":"各種係数!$F83*K83","v":0},null,{"$f":"入力!E83","v":0},null,{"$f":"O83*各種係数!$D83","v":0},"+",{"$f":"S$117*各種係数!$E83/SUM(各種係数!$E$83:$E$91)","v":0},null,{"$f":"O83-Q83+S83","v":0},null,{"$f":"入力!F83","v":0},null,0,null,{"$f":"需要増加額!DI83","v":0},null,{"$f":"各種係数!$F83*AA83","v":0},null,0]
[null,"572","道路輸送（自家輸送を除く。）",null,{"$f":"入力!D84","v":0},null,{"$f":"E84*各種係数!$D84","v":0},"+",{"$f":"I$117*各種係数!$E84/SUM(各種係数!$E$83:$E$91)","v":0},null,0,null,{"$f":"各種係数!$F84*K84","v":0},null,{"$f":"入力!E84","v":0},null,{"$f":"O84*各種係数!$D84","v":0},"+",{"$f":"S$117*各種係数!$E84/SUM(各種係数!$E$83:$E$91)","v":0},null,0,null,{"$f":"入力!F84","v":0},null,0,null,{"$f":"需要増加額!DI84","v":0},null,{"$f":"各種係数!$F84*AA84","v":0},null,0]
[null,"573","自家輸送",null,{"$f":"入力!D85","v":0},null,{"$f":"E85*各種係数!$D85","v":0},"+",{"$f":"I$117*各種係数!$E85/SUM(各種係数!$E$83:$E$91)","v":0},null,0,null,{"$f":"各種係数!$F85*K85","v":0},null,{"$f":"入力!E85","v":0},null,{"$f":"O85*各種係数!$D85","v":0},"+",{"$f":"S$117*各種係数!$E85/SUM(各種係数!$E$83:$E$91)","v":0},null,0,null,{"$f":"入力!F85","v":0},null,0,null,{"$f":"需要増加額!DI85","v":0},null,{"$f":"各種係数!$F85*AA85","v":0},null,0]
[null,"574","水運",null,{"$f":"入力!D86","v":0},null,{"$f":"E86*各種係数!$D86","v":0},"+",{"$f":"I$117*各種係数!$E86/SUM(各種係数!$E$83:$E$91)","v":0},null,0,null,{"$f":"各種係数!$F86*K86","v":0},null,{"$f":"入力!E86","v":0},null,{"$f":"O86*各種係数!$D86","v":0},"+",{"$f":"S$117*各種係数!$E86/SUM(各種係数!$E$83:$E$91)","v":0},null,0,null,{"$f":"入力!F86","v":0},null,0,null,{"$f":"需要増加額!DI86","v":0},null,{"$f":"各種係数!$F86*AA86","v":0},null,0]
[null,"575","航空輸送",null,{"$f":"入力!D87","v":0},null,{"$f":"E87*各種係数!$D87","v":0},"+",{"$f":"I$117*各種係数!$E87/SUM(各種係数!$E$83:$E$91)","v":0},null,0,null,{"$f":"各種係数!$F87*K87","v":0},null,{"$f":"入力!E87","v":0},null,{"$f":"O87*各種係数!$D87","v":0},"+",{"$f":"S$117*各種係数!$E87/SUM(各種係数!$E$83:$E$91)","v":0},null,0,null,{"$f":"入力!F87","v":0},null,0,null,{"$f":"需要増加額!DI87","v":0},null,{"$f":"各種係数!$F87*AA87","v":0},null,0]
[null,"576","貨物利用運送",null,{"$f":"入力!D88","v":0},null,{"$f":"E88*各種係数!$D88","v":0},"+",{"$f":"I$117*各種係数!$E88/SUM(各種係数!$E$83:$E$91)","v":0},null,0,null,{"$f":"各種係数!$F88*K88","v":0},null,{"$f":"入力!E88","v":0},null,{"$f":"O88*各種係数!$D88","v":0},"+",{"$f":"S$117*各種係数!$E88/SUM(各種係数!$E$83:$E$91)","v":0},null,0,null,{"$f":"入力!F88","v":0},null,0,null,{"$f":"需要増加額!DI88","v":0},null,{"$f":"各種係数!$F88*AA88","v":0},null,0]
[null,"577","倉庫",null,{"$f":"入力!D89","v":0},null,{"$f":"E89*各種係数!$D89","v":0},"+",{"$f":"I$117*各種係数!$E89/SUM(各種係数!$E$83:$E$91)","v":0},null,0,null,{"$f":"各種係数!$F89*K89","v":0},null,{"$f":"入力!E89","v":0},null,{"$f":"O89*各種係数!$D89","v":0},"+",{"$f":"S$117*各種係数!$E89/SUM(各種係数!$E$83:$E$91)","v":0},null,0,null,{"$f":"入力!F89","v":0},null,0,null,{"$f":"需要増加額!DI89","v":0},null,{"$f":"各種係数!$F89*AA89","v":0},null,0]
[null,"578","運輸附帯サービス",null,{"$f":"入力!D90","v":0},null,{"$f":"E90*各種係数!$D90","v":0},"+",{"$f":"I$117*各種係数!$E90/SUM(各種係数!$E$83:$E$91)","v":0},null,0,null,{"$f":"各種係数!$F90*K90","v":0},null,{"$f":"入力!E90","v":0},null,{"$f":"O90*各種係数!$D90","v":0},"+",{"$f":"S$117*各種係数!$E90/SUM(各種係数!$E$83:$E$91)","v":0},null,0,null,{"$f":"入力!F90","v":0},null,0,null,{"$f":"需要増加額!DI90","v":0},null,{"$f":"各種係数!$F90*AA90","v":0},null,0]
[null,"579","郵便・信書便",null,{"$f":"入力!D91","v":0},null,{"$f":"E91*各種係数!$D91","v":0},"+",{"$f":"I$117*各種係数!$E91/SUM(各種係数!$E$83:$E$91)","v":0},null,0,null,{"$f":"各種係数!$F91*K91","v":0},null,{"$f":"入力!E91","v":0},null,{"$f":"O91*各種係数!$D91","v":0},"+",{"$f":"S$117*各種係数!$E91/SUM(各種係数!$E$83:$E$91)","v":0},null,0,null,{"$f":"入力!F91","v":0},null,0,null,{"$f":"需要増加額!DI91","v":0},null,{"$f":"各種係数!$F91*AA91","v":0},null,0]
[null,"591","通信",null,{"$f":"入力!D92","v":0},null,{"$f":"E92*各種係数!$D92","v":0},null,{"$f":"E92*各種係数!$E92","v":0},null,0,null,{"$f":"各種係数!$F92*K92","v":0},null,{"$f":"入力!E92","v":0},null,{"$f":"O92*各種係数!$D92","v":0},null,{"$f":"O92*各種係数!$E92","v":0},null,0,null,{"$f":"入力!F92","v":0},null,0,null,{"$f":"需要増加額!DI92","v":0},null,{"$f":"各種係数!$F92*AA92","v":0},null,0]
[null,"592","放送",null,{"$f":"入力!D93","v":0},null,{"$f":"E93*各種係数!$D93","v":0},null,{"$f":"E93*各種係数!$E93","v":0},null,0,null,{"$f":"各種係数!$F93*K93","v":0},null,{"$f":"入力!E93","v":0},null,{"$f":"O93*各種係数!$D93","v":0},null,{"$f":"O93*各種係数!$E93","v":0},null,0,null,{"$f":"入力!F93","v":0},null,0,null,{"$f":"需要増加額!DI93","v":0},null,{"$f":"各種係数!$F93*AA93","v":0},null,0]
[null,"593","情報サービス",null,{"$f":"入力!D94","v":0},null,{"$f":"E94*各種係数!$D94","v":0},null,{"$f":"E94*各種係数!$E94","v":0},null,0,null,{"$f":"各種係数!$F94*K94","v":0},null,{"$f":"入力!E94","v":0},null,{"$f":"O94*各種係数!$D94","v":0},null,{"$f":"O94*各種係数!$E94","v":0},null,0,null,{"$f":"入力!F94","v":0},null,0,null,{"$f":"需要増加額!DI94","v":0},null,{"$f":"各種係数!$F94*AA94","v":0},null,0]
[null,"594","インターネット附随サービス",null,{"$f":"入力!D95","v":0},null,{"$f":"E95*各種係数!$D95","v":0},null,{"$f":"E95*各種係数!$E95","v":0},null,0,null,{"$f":"各種係数!$F95*K95","v":0},null,{"$f":"入力!E95","v":0},null,{"$f":"O95*各種係数!$D95","v":0},null,{"$f":"O95*各種係数!$E95","v":0},null,0,null,{"$f":"入力!F95","v":0},null,0,null,{"$f":"需要増加額!DI95","v":0},null,{"$f":"各種係数!$F95*AA95","v":0},null,0]
[null,"595","映像・音声・文字情報制作",null,{"$f":"入力!D96","v":0},null,{"$f":"E96*各種係数!$D96","v":0},null,{"$f":"E96*各種係数!$E96","v":0},null,0,null,{"$f":"各種係数!$F96*K96","v":0},null,{"$f":"入力!E96","v":0},null,{"$f":"O96*各種係数!$D96","v":0},null,{"$f":"O96*各種係数!$E96","v":0},null,0,null,{"$f":"入力!F96","v":0},null,0,null,{"$f":"需要増加額!DI96","v":0},null,{"$f":"各種係数!$F96*AA96","v":0},null,0]
[null,"611","公務",null,{"$f":"入力!D97","v":0},null,{"$f":"E97*各種係数!$D97","v":0},null,{"$f":"E97*各種係数!$E97","v":0},null,0,null,{"$f":"各種係数!$F97*K97","v":0},null,{"$f":"入力!E97","v":0},null,{"$f":"O97*各種係数!$D97","v":0},null,{"$f":"O97*各種係数!$E97","v":0},null,0,null,{"$f":"入力!F97","v":0},null,0,null,{"$f":"需要増加額!DI97","v":0},null,{"$f":"各種係数!$F97*AA97","v":0},null,0]
[null,"631","教育",null,{"$f":"入力!D98","v":0},null,{"$f":"E98*各種係数!$D98","v":0},null,{"$f":"E98*各種係数!$E98","v":0},null,0,null,{"$f":"各種係数!$F98*K98","v":0},null,{"$f":"入力!E98","v":0},null,{"$f":"O98*各種係数!$D98","v":0},null,{"$f":"O98*各種係数!$E98","v":0},null,0,null,{"$f":"入力!F98","v":0},null,0,null,{"$f":"需要増加額!DI98","v":0},null,{"$f":"各種係数!$F98*AA98","v":0},null,0]
[null,"632","研究",null,{"$f":"入力!D99","v":0},null,{"$f":"E99*各種係数!$D99","v":0},null,{"$f":"E99*各種係数!$E99","v":0},null,0,null,{"$f":"各種係数!$F99*K99","v":0},null,{"$f":"入力!E99","v":0},null,{"$f":"O99*各種係数!$D99","v":0},null,{"$f":"O99*各種係数!$E99","v":0},null,0,null,{"$f":"入力!F99","v":0},null,0,null,{"$f":"需要増加額!DI99","v":0},null,{"$f":"各種係数!$F99*AA99","v":0},null,0]
[null,"641","医療",null,{"$f":"入力!D100","v":0},null,{"$f":"E100*各種係数!$D100","v":0},null,{"$f":"E100*各種係数!$E100","v":0},null,0,null,{"$f":"各種係数!$F100*K100","v":0},null,{"$f":"入力!E100","v":0},null,{"$f":"O100*各種係数!$D100","v":0},null,{"$f":"O100*各種係数!$E100","v":0},null,0,null,{"$f":"入力!F100","v":0},null,0,null,{"$f":"需要増加額!DI100","v":0},null,{"$f":"各種係数!$F100*AA100","v":0},null,0]
[null,"642","保健衛生",null,{"$f":"入力!D101","v":0},null,{"$f":"E101*各種係数!$D101","v":0},null,{"$f":"E101*各種係数!$E101","v":0},null,0,null,{"$f":"各種係数!$F101*K101","v":0},null,{"$f":"入力!E101","v":0},null,{"$f":"O101*各種係数!$D101","v":0},null,{"$f":"O101*各種係数!$E101","v":0},null,0,null,{"$f":"入力!F101","v":0},null,0,null,{"$f":"需要増加額!DI101","v":0},null,{"$f":"各種係数!$F101*AA101","v":0},null,0]
[null,"643","社会保険・社会福祉",null,{"$f":"入力!D102","v":0},null,{"$f":"E102*各種係数!$D102","v":0},null,{"$f":"E102*各種係数!$E102","v":0},null,0,null,{"$f":"各種係数!$F102*K102","v":0},null,{"$f":"入力!E102","v":0},null,{"$f":"O102*各種係数!$D102","v":0},null,{"$f":"O102*各種係数!$E102","v":0},null,0,null,{"$f":"入力!F102","v":0},null,0,null,{"$f":"需要増加額!DI102","v":0},null,{"$f":"各種係数!$F102*AA102","v":0},null,0]
[null,"644","介護",null,{"$f":"入力!D103","v":0},null,{"$f":"E103*各種係数!$D103","v":0},null,{"$f":"E103*各種係数!$E103","v":0},null,0,null,{"$f":"各種係数!$F103*K103","v":0},null,{"$f":"入力!E103","v":0},null,{"$f":"O103*各種係数!$D103","v":0},null,{"$f":"O103*各種係数!$E103","v":0},null,0,null,{"$f":"入力!F103","v":0},null,0,null,{"$f":"需要増加額!DI103","v":0},null,{"$f":"各種係数!$F103*AA103","v":0},null,0]
[null,"659","他に分類されない会員制団体",null,{"$f":"入力!D104","v":0},null,{"$f":"E104*各種係数!$D104","v":0},null,{"$f":"E104*各種係数!$E104","v":0},null,0,null,{"$f":"各種係数!$F104*K104","v":0},null,{"$f":"入力!E104","v":0},null,{"$f":"O104*各種係数!$D104","v":0},null,{"$f":"O104*各種係数!$E104","v":0},null,0,null,{"$f":"入力!F104","v":0},null,0,null,{"$f":"需要増加額!DI104","v":0},null,{"$f":"各種係数!$F104*AA104","v":0},null,0]
[null,"661","物品賃貸サービス",null,{"$f":"入力!D105","v":0},null,{"$f":"E105*各種係数!$D105","v":0},null,{"$f":"E105*各種係数!$E105","v":0},null,0,null,{"$f":"各種係数!$F105*K105","v":0},null,{"$f":"入力!E105","v":0},null,{"$f":"O105*各種係数!$D105","v":0},null,{"$f":"O105*各種係数!$E105","v":0},null,0,null,{"$f":"入力!F105","v":0},null,0,null,{"$f":"需要増加額!DI105","v":0},null,{"$f":"各種係数!$F105*AA105","v":0},null,0]
[null,"662","広告",null,{"$f":"入力!D106","v":0},null,{"$f":"E106*各種係数!$D106","v":0},null,{"$f":"E106*各種係数!$E106","v":0},null,0,null,{"$f":"各種係数!$F106*K106","v":0},null,{"$f":"入力!E106","v":0},null,{"$f":"O106*各種係数!$D106","v":0},null,{"$f":"O106*各種係数!$E106","v":0},null,0,null,{"$f":"入力!F106","v":0},null,0,null,{"$f":"需要増加額!DI106","v":0},null,{"$f":"各種係数!$F106*AA106","v":0},null,0]
[null,"663","自動車整備・機械修理",null,{"$f":"入力!D107","v":0},null,{"$f":"E107*各種係数!$D107","v":0},null,{"$f":"E107*各種係数!$E107","v":0},null,0,null,{"$f":"各種係数!$F107*K107","v":0},null,{"$f":"入力!E107","v":0},null,{"$f":"O107*各種係数!$D107","v":0},null,{"$f":"O107*各種係数!$E107","v":0},null,0,null,{"$f":"入力!F107","v":0},null,0,null,{"$f":"需要増加額!DI107","v":0},null,{"$f":"各種係数!$F107*AA107","v":0},null,0]
[null,"669","その他の対事業所サービス",null,{"$f":"入力!D108","v":0},null,{"$f":"E108*各種係数!$D108","v":0},null,{"$f":"E108*各種係数!$E108","v":0},null,0,null,{"$f":"各種係数!$F108*K108","v":0},null,{"$f":"入力!E108","v":0},null,{"$f":"O108*各種係数!$D108","v":0},null,{"$f":"O108*各種係数!$E108","v":0},null,0,null,{"$f":"入力!F108","v":0},null,0,null,{"$f":"需要増加額!DI108","v":0},null,{"$f":"各種係数!$F108*AA108","v":0},null,0]
[null,"671","宿泊業",null,{"$f":"入力!D109","v":0},null,{"$f":"E109*各種係数!$D109","v":0},null,{"$f":"E109*各種係数!$E109","v":0},null,0,null,{"$f":"各種係数!$F109*K109","v":0},null,{"$f":"入力!E109","v":0},null,{"$f":"O109*各種係数!$D109","v":0},null,{"$f":"O109*各種係数!$E109","v":0},null,0,null,{"$f":"入力!F109","v":0},null,0,null,{"$f":"需要増加額!DI109","v":0},null,{"$f":"各種係数!$F109*AA109","v":0},null,0]
[null,"672","飲食サービス",null,{"$f":"入力!D110","v":0},null,{"$f":"E110*各種係数!$D110","v":0},null,{"$f":"E110*各種係数!$E110","v":0},null,0,null,{"$f":"各種係数!$F110*K110","v":0},null,{"$f":"入力!E110","v":0},null,{"$f":"O110*各種係数!$D110","v":0},null,{"$f":"O110*各種係数!$E110","v":0},null,0,null,{"$f":"入力!F110","v":0},null,0,null,{"$f":"需要増加額!DI110","v":0},null,{"$f":"各種係数!$F110*AA110","v":0},null,0]
[null,"673","洗濯・理容・美容・浴場業",null,{"$f":"入力!D111","v":0},null,{"$f":"E111*各種係数!$D111","v":0},null,{"$f":"E111*各種係数!$E111","v":0},null,0,null,{"$f":"各種係数!$F111*K111","v":0},null,{"$f":"入力!E111","v":0},null,{"$f":"O111*各種係数!$D111","v":0},null,{"$f":"O111*各種係数!$E111","v":0},null,0,null,{"$f":"入力!F111","v":0},null,0,null,{"$f":"需要増加額!DI111","v":0},null,{"$f":"各種係数!$F111*AA111","v":0},null,0]
[null,"674","娯楽サービス",null,{"$f":"入力!D112","v":0},null,{"$f":"E112*各種係数!$D112","v":0},null,{"$f":"E112*各種係数!$E112","v":0},null,0,null,{"$f":"各種係数!$F112*K112","v":0},null,{"$f":"入力!E112","v":0},null,{"$f":"O112*各種係数!$D112","v":0},null,{"$f":"O112*各種係数!$E112","v":0},null,0,null,{"$f":"入力!F112","v":0},null,0,null,{"$f":"需要増加額!DI112","v":0},null,{"$f":"各種係数!$F112*AA112","v":0},null,0]
[null,"675","獣医業",null,{"$f":"入力!D113","v":0},null,{"$f":"E113*各種係数!$D113","v":0},null,{"$f":"E113*各種係数!$E113","v":0},null,0,null,{"$f":"各種係数!$F113*K113","v":0},null,{"$f":"入力!E113","v":0},null,{"$f":"O113*各種係数!$D113","v":0},null,{"$f":"O113*各種係数!$E113","v":0},null,0,null,{"$f":"入力!F113","v":0},null,0,null,{"$f":"需要増加額!DI113","v":0},null,{"$f":"各種係数!$F113*AA113","v":0},null,0]
[null,"679","その他の対個人サービス",null,{"$f":"入力!D114","v":0},null,{"$f":"E114*各種係数!$D114","v":0},null,{"$f":"E114*各種係数!$E114","v":0},null,0,null,{"$f":"各種係数!$F114*K114","v":0},null,{"$f":"入力!E114","v":0},null,{"$f":"O114*各種係数!$D114","v":0},null,{"$f":"O114*各種係数!$E114","v":0},null,0,null,{"$f":"入力!F114","v":0},null,0,null,{"$f":"需要増加額!DI114","v":0},null,{"$f":"各種係数!$F114*AA114","v":0},null,0]
[null,"681","事務用品",null,{"$f":"入力!D115","v":0},null,{"$f":"E115*各種係数!$D115","v":0},null,{"$f":"E115*各種係数!$E115","v":0},null,0,null,{"$f":"各種係数!$F115*K115","v":0},null,{"$f":"入力!E115","v":0},null,{"$f":"O115*各種係数!$D115","v":0},null,{"$f":"O115*各種係数!$E115","v":0},null,0,null,{"$f":"入力!F115","v":0},null,0,null,{"$f":"需要増加額!DI115","v":0},null,{"$f":"各種係数!$F115*AA115","v":0},null,0]
[null,"691","分類不明",null,{"$f":"入力!D116","v":0},null,{"$f":"E116*各種係数!$D116","v":0},null,{"$f":"E116*各種係数!$E116","v":0},null,0,null,{"$f":"各種係数!$F116*K116","v":0},null,{"$f":"入力!E116","v":0},null,{"$f":"O116*各種係数!$D116","v":0},null,{"$f":"O116*各種係数!$E116","v":0},null,0,null,{"$f":"入力!F116","v":0},null,0,null,{"$f":"需要増加額!DI116","v":0},null,{"$f":"各種係数!$F116*AA116","v":0},null,0]
[null,null,"合計",null,{"$f":"SUM(E8:E116)","v":0},null,{"$f":"SUM(G8:G77,G79:G116)","v":0},null,{"$f":"SUM(I8:I82,I92:I116)","v":0},null,{"$f":"SUM(K8:K116)","v":0},null,{"$f":"SUM(M8:M116)","v":0},null,{"$f":"SUM(O8:O116)","v":0},null,{"$f":"SUM(Q8:Q77,Q79:Q116)","v":0},null,{"$f":"SUM(S8:S82,S92:S116)","v":0},null,{"$f":"SUM(U8:U116)","v":0},null,{"$f":"SUM(W8:W116)","v":0},null,{"$f":"SUM(Y8:Y116)","v":0},null,{"$f":"SUM(AA8:AA116)","v":0},null,{"$f":"SUM(AC8:AC116)","v":0},null,{"$f":"SUM(AE8:AE116)","v":0}]

{"sheet":"間接2次","index":4,"n_rows":117,"n_cols":19,"rows_kept":117,"cut":false,"hidden":false,"merged":[]}
[null,null,null,null,"← 雇用者所得誘発額 →",null,null,null,null,null,null,null,null,"→","波及効果計算",null,null,"→","第2次波及効果"]
[null,"波及効果計算"]
[null,"（間接2次フローチャート）",null,null,null,null,null,null,null,null,"×雇用者所得率",null,"×平均消費性向",null,"×民間消費構成比",null,"×自給率",null,"×逆行列係数"]
[null,null,"単位:百万円",null,null,null,null,null,null,null,"↓",null,"↓",null,"↓",null,"↓",null,"↓"]
[null,null,null,null,{"$f":"間接1次!Y5","v":"直接効果"},null,{"$f":"間接1次!AE5","v":"生産誘発額"},null,{"$f":"E5&\"＋\"","v":"直接効果＋"},null,"雇用者所得",null,"民間消費支出",null,"需要増加額",null,"需要増加額",null,"生産誘発額"]
[null,"109部門",null,null,{"$f":"間接1次!Y6","v":"(県内需要計)"},"+",{"$f":"間接1次!AE6","v":"(間接1次)"},"=",{"$f":"G5","v":"生産誘発額"},null,"誘発額",null,"増加額",null,"(誘発分)",null,"(県内誘発分)",null,"(間接2次)"]
[null,null,null,null,{"$f":"間接1次!Y7","v":"F"},null,{"$f":"間接1次!AE7","v":"X1"},null,{"$f":"\"Δ\"&G7","v":"ΔX1"},null,{"$f":"各種係数!I7&I7","v":"wΔX1"},null,{"$f":"各種係数!L7&K7","v":"kwΔX1"},null,{"$f":"各種係数!J7&M7","v":"ckwΔX1"},null,{"$f":"\"(\"&各種係数!F7&\")×\"&O7","v":"(1-M)×ckwΔX1"},null,"X2"]
[null,"011","耕種農業",null,{"$f":"間接1次!Y8","v":0},null,{"$f":"間接1次!AE8","v":0},null,{"$f":"E8+G8","v":0},null,{"$f":"各種係数!$I8*I8","v":0},null,{"$f":"各種係数!$L$8*K8","v":0},null,{"$f":"各種係数!$J8*M$117","v":0},null,{"$f":"各種係数!$F8*O8","v":0},null,{"$f":"MMULT(逆行列係数!D8:DH116,間接2次!Q8:Q116)","v":0}]
[null,"012","畜産",null,{"$f":"間接1次!Y9","v":0},null,{"$f":"間接1次!AE9","v":0},null,{"$f":"E9+G9","v":0},null,{"$f":"各種係数!$I9*I9","v":0},null,{"$f":"各種係数!$L$8*K9","v":0},null,{"$f":"各種係数!$J9*M$117","v":0},null,{"$f":"各種係数!$F9*O9","v":0},null,0]
[null,"013","農業サービス",null,{"$f":"間接1次!Y10","v":0},null,{"$f":"間接1次!AE10","v":0},null,0,null,{"$f":"各種係数!$I10*I10","v":0},null,{"$f":"各種係数!$L$8*K10","v":0},null,{"$f":"各種係数!$J10*M$117","v":0},null,{"$f":"各種係数!$F10*O10","v":0},null,0]
[null,"015","林業",null,{"$f":"間接1次!Y11","v":0},null,{"$f":"間接1次!AE11","v":0},null,0,null,{"$f":"各種係数!$I11*I11","v":0},null,{"$f":"各種係数!$L$8*K11","v":0},null,{"$f":"各種係数!$J11*M$117","v":0},null,{"$f":"各種係数!$F11*O11","v":0},null,0]
[null,"017","漁業",null,{"$f":"間接1次!Y12","v":0},null,{"$f":"間接1次!AE12","v":0},null,0,null,{"$f":"各種係数!$I12*I12","v":0},null,{"$f":"各種係数!$L$8*K12","v":0},null,{"$f":"各種係数!$J12*M$117","v":0},null,{"$f":"各種係数!$F12*O12","v":0},null,0]
[null,"061","石炭・原油・天然ガス",null,{"$f":"間接1次!Y13","v":0},null,{"$f":"間接1次!AE13","v":0},null,0,null,{"$f":"各種係数!$I13*I13","v":0},null,{"$f":"各種係数!$L$8*K13","v":0},null,{"$f":"各種係数!$J13*M$117","v":0},null,{"$f":"各種係数!$F13*O13","v":0},null,0]
[null,"062","その他の鉱業",null,{"$f":"間接1次!Y14","v":0},null,{"$f":"間接1次!AE14","v":0},null,0,null,{"$f":"各種係数!$I14*I14","v":0},null,{"$f":"各種係数!$L$8*K14","v":0},null,{"$f":"各種係数!$J14*M$117","v":0},null,{"$f":"各種係数!$F14*O14","v":0},null,0]
[null,"111","食料品",null,{"$f":"間接1次!Y15","v":0},null,{"$f":"間接1次!AE15","v":0},null,0,null,{"$f":"各種係数!$I15*I15","v":0},null,{"$f":"各種係数!$L$8*K15","v":0},null,{"$f":"各種係数!$J15*M$117","v":0},null,{"$f":"各種係数!$F15*O15","v":0},null,0]
[null,"112","飲料",null,{"$f":"間接1次!Y16","v":0},null,{"$f":"間接1次!AE16","v":0},null,0,null,{"$f":"各種係数!$I16*I16","v":0},null,{"$f":"各種係数!$L$8*K16","v":0},null,{"$f":"各種係数!$J16*M$117","v":0},null,{"$f":"各種係数!$F16*O16","v":0},null,0]
[null,"113","飼料・有機質肥料（別掲を除く。）",null,{"$f":"間接1次!Y17","v":0},null,{"$f":"間接1次!AE17","v":0},null,0,null,{"$f":"各種係数!$I17*I17","v":0},null,{"$f":"各種係数!$L$8*K17","v":0},null,{"$f":"各種係数!$J17*M$117","v":0},null,{"$f":"各種係数!$F17*O17","v":0},null,0]
[null,"114","たばこ",null,{"$f":"間接1次!Y18","v":0},null,{"$f":"間接1次!AE18","v":0},null,0,null,{"$f":"各種係数!$I18*I18","v":0},null,{"$f":"各種係数!$L$8*K18","v":0},null,{"$f":"各種係数!$J18*M$117","v":0},null,{"$f":"各種係数!$F18*O18","v":0},null,0]
[null,"151","繊維工業製品",null,{"$f":"間接1次!Y19","v":0},null,{"$f":"間接1次!AE19","v":0},null,0,null,{"$f":"各種係数!$I19*I19","v":0},null,{"$f":"各種係数!$L$8*K19","v":0},null,{"$f":"各種係数!$J19*M$117","v":0},null,{"$f":"各種係数!$F19*O19","v":0},null,0]
[null,"152","衣服・その他の繊維既製品",null,{"$f":"間接1次!Y20","v":0},null,{"$f":"間接1次!AE20","v":0},null,0,null,{"$f":"各種係数!$I20*I20","v":0},null,{"$f":"各種係数!$L$8*K20","v":0},null,{"$f":"各種係数!$J20*M$117","v":0},null,{"$f":"各種係数!$F20*O20","v":0},null,0]
[null,"161","木材・木製品",null,{"$f":"間接1次!Y21","v":0},null,{"$f":"間接1次!AE21","v":0},null,0,null,{"$f":"各種係数!$I21*I21","v":0},null,{"$f":"各種係数!$L$8*K21","v":0},null,{"$f":"各種係数!$J21*M$117","v":0},null,{"$f":"各種係数!$F21*O21","v":0},null,0]
[null,"162","家具・装備品",null,{"$f":"間接1次!Y22","v":0},null,{"$f":"間接1次!AE22","v":0},null,0,null,{"$f":"各種係数!$I22*I22","v":0},null,{"$f":"各種係数!$L$8*K22","v":0},null,{"$f":"各種係数!$J22*M$117","v":0},null,{"$f":"各種係数!$F22*O22","v":0},null,0]
[null,"163","パルプ・紙・板紙・加工紙",null,{"$f":"間接1次!Y23","v":0},null,{"$f":"間接1次!AE23","v":0},null,0,null,{"$f":"各種係数!$I23*I23","v":0},null,{"$f":"各種係数!$L$8*K23","v":0},null,{"$f":"各種係数!$J23*M$117","v":0},null,{"$f":"各種係数!$F23*O23","v":0},null,0]
[null,"164","紙加工品",null,{"$f":"間接1次!Y24","v":0},null,{"$f":"間接1次!AE24","v":0},null,0,null,{"$f":"各種係数!$I24*I24","v":0},null,{"$f":"各種係数!$L$8*K24","v":0},null,{"$f":"各種係数!$J24*M$117","v":0},null,{"$f":"各種係数!$F24*O24","v":0},null,0]
[null,"191","印刷・製版・製本",null,{"$f":"間接1次!Y25","v":0},null,{"$f":"間接1次!AE25","v":0},null,0,null,{"$f":"各種係数!$I25*I25","v":0},null,{"$f":"各種係数!$L$8*K25","v":0},null,{"$f":"各種係数!$J25*M$117","v":0},null,{"$f":"各種係数!$F25*O25","v":0},null,0]
[null,"201","化学肥料",null,{"$f":"間接1次!Y26","v":0},null,{"$f":"間接1次!AE26","v":0},null,0,null,{"$f":"各種係数!$I26*I26","v":0},null,{"$f":"各種係数!$L$8*K26","v":0},null,{"$f":"各種係数!$J26*M$117","v":0},null,{"$f":"各種係数!$F26*O26","v":0},null,0]
[null,"202","無機化学工業製品",null,{"$f":"間接1次!Y27","v":0},null,{"$f":"間接1次!AE27","v":0},null,0,null,{"$f":"各種係数!$I27*I27","v":0},null,{"$f":"各種係数!$L$8*K27","v":0},null,{"$f":"各種係数!$J27*M$117","v":0},null,{"$f":"各種係数!$F27*O27","v":0},null,0]
[null,"203","石油化学系基礎製品",null,{"$f":"間接1次!Y28","v":0},null,{"$f":"間接1次!AE28","v":0},null,0,null,{"$f":"各種係数!$I28*I28","v":0},null,{"$f":"各種係数!$L$8*K28","v":0},null,{"$f":"各種係数!$J28*M$117","v":0},null,{"$f":"各種係数!$F28*O28","v":0},null,0]
[null,"204","有機化学工業製品（石油化学系基礎製品・合成樹脂を除く。）",null,{"$f":"間接1次!Y29","v":0},null,{"$f":"間接1次!AE29","v":0},null,0,null,{"$f":"各種係数!$I29*I29","v":0},null,{"$f":"各種係数!$L$8*K29","v":0},null,{"$f":"各種係数!$J29*M$117","v":0},null,{"$f":"各種係数!$F29*O29","v":0},null,0]
[null,"205","合成樹脂",null,{"$f":"間接1次!Y30","v":0},null,{"$f":"間接1次!AE30","v":0},null,0,null,{"$f":"各種係数!$I30*I30","v":0},null,{"$f":"各種係数!$L$8*K30","v":0},null,{"$f":"各種係数!$J30*M$117","v":0},null,{"$f":"各種係数!$F30*O30","v":0},null,0]
[null,"206","化学繊維",null,{"$f":"間接1次!Y31","v":0},null,{"$f":"間接1次!AE31","v":0},null,0,null,{"$f":"各種係数!$I31*I31","v":0},null,{"$f":"各種係数!$L$8*K31","v":0},null,{"$f":"各種係数!$J31*M$117","v":0},null,{"$f":"各種係数!$F31*O31","v":0},null,0]
[null,"207","医薬品",null,{"$f":"間接1次!Y32","v":0},null,{"$f":"間接1次!AE32","v":0},null,0,null,{"$f":"各種係数!$I32*I32","v":0},null,{"$f":"各種係数!$L$8*K32","v":0},null,{"$f":"各種係数!$J32*M$117","v":0},null,{"$f":"各種係数!$F32*O32","v":0},null,0]
[null,"208","化学最終製品（医薬品を除く。）",null,{"$f":"間接1次!Y33","v":0},null,{"$f":"間接1次!AE33","v":0},null,0,null,{"$f":"各種係数!$I33*I33","v":0},null,{"$f":"各種係数!$L$8*K33","v":0},null,{"$f":"各種係数!$J33*M$117","v":0},null,{"$f":"各種係数!$F33*O33","v":0},null,0]
[null,"211","石油製品",null,{"$f":"間接1次!Y34","v":0},null,{"$f":"間接1次!AE34","v":0},null,0,null,{"$f":"各種係数!$I34*I34","v":0},null,{"$f":"各種係数!$L$8*K34","v":0},null,{"$f":"各種係数!$J34*M$117","v":0},null,{"$f":"各種係数!$F34*O34","v":0},null,0]
[null,"212","石炭製品",null,{"$f":"間接1次!Y35","v":0},null,{"$f":"間接1次!AE35","v":0},null,0,null,{"$f":"各種係数!$I35*I35","v":0},null,{"$f":"各種係数!$L$8*K35","v":0},null,{"$f":"各種係数!$J35*M$117","v":0},null,{"$f":"各種係数!$F35*O35","v":0},null,0]
[null,"221","プラスチック製品",null,{"$f":"間接1次!Y36","v":0},null,{"$f":"間接1次!AE36","v":0},null,0,null,{"$f":"各種係数!$I36*I36","v":0},null,{"$f":"各種係数!$L$8*K36","v":0},null,{"$f":"各種係数!$J36*M$117","v":0},null,{"$f":"各種係数!$F36*O36","v":0},null,0]
[null,"222","ゴム製品",null,{"$f":"間接1次!Y37","v":0},null,{"$f":"間接1次!AE37","v":0},null,0,null,{"$f":"各種係数!$I37*I37","v":0},null,{"$f":"各種係数!$L$8*K37","v":0},null,{"$f":"各種係数!$J37*M$117","v":0},null,{"$f":"各種係数!$F37*O37","v":0},null,0]
[null,"231","なめし革・革製品・毛皮",null,{"$f":"間接1次!Y38","v":0},null,{"$f":"間接1次!AE38","v":0},null,0,null,{"$f":"各種係数!$I38*I38","v":0},null,{"$f":"各種係数!$L$8*K38","v":0},null,{"$f":"各種係数!$J38*M$117","v":0},null,{"$f":"各種係数!$F38*O38","v":0},null,0]
[null,"251","ガラス・ガラス製品",null,{"$f":"間接1次!Y39","v":0},null,{"$f":"間接1次!AE39","v":0},null,0,null,{"$f":"各種係数!$I39*I39","v":0},null,{"$f":"各種係数!$L$8*K39","v":0},null,{"$f":"各種係数!$J39*M$117","v":0},null,{"$f":"各種係数!$F39*O39","v":0},null,0]
[null,"252","セメント・セメント製品",null,{"$f":"間接1次!Y40","v":0},null,{"$f":"間接1次!AE40","v":0},null,0,null,{"$f":"各種係数!$I40*I40","v":0},null,{"$f":"各種係数!$L$8*K40","v":0},null,{"$f":"各種係数!$J40*M$117","v":0},null,{"$f":"各種係数!$F40*O40","v":0},null,0]
[null,"253","陶磁器",null,{"$f":"間接1次!Y41","v":0},null,{"$f":"間接1次!AE41","v":0},null,0,null,{"$f":"各種係数!$I41*I41","v":0},null,{"$f":"各種係数!$L$8*K41","v":0},null,{"$f":"各種係数!$J41*M$117","v":0},null,{"$f":"各種係数!$F41*O41","v":0},null,0]
[null,"259","その他の窯業・土石製品",null,{"$f":"間接1次!Y42","v":0},null,{"$f":"間接1次!AE42","v":0},null,0,null,{"$f":"各種係数!$I42*I42","v":0},null,{"$f":"各種係数!$L$8*K42","v":0},null,{"$f":"各種係数!$J42*M$117","v":0},null,{"$f":"各種係数!$F42*O42","v":0},null,0]
[null,"2611","銑鉄・粗鋼",null,{"$f":"間接1次!Y43","v":0},null,{"$f":"間接1次!AE43","v":0},null,0,null,{"$f":"各種係数!$I43*I43","v":0},null,{"$f":"各種係数!$L$8*K43","v":0},null,{"$f":"各種係数!$J43*M$117","v":0},null,{"$f":"各種係数!$F43*O43","v":0},null,0]
[null,"2612","鉄屑",null,{"$f":"間接1次!Y44","v":0},null,{"$f":"間接1次!AE44","v":0},null,0,null,{"$f":"各種係数!$I44*I44","v":0},null,{"$f":"各種係数!$L$8*K44","v":0},null,{"$f":"各種係数!$J44*M$117","v":0},null,{"$f":"各種係数!$F44*O44","v":0},null,0]
[null,"262","鋼材",null,{"$f":"間接1次!Y45","v":0},null,{"$f":"間接1次!AE45","v":0},null,0,null,{"$f":"各種係数!$I45*I45","v":0},null,{"$f":"各種係数!$L$8*K45","v":0},null,{"$f":"各種係数!$J45*M$117","v":0},null,{"$f":"各種係数!$F45*O45","v":0},null,0]
[null,"263","鋳鍛造品（鉄）",null,{"$f":"間接1次!Y46","v":0},null,{"$f":"間接1次!AE46","v":0},null,0,null,{"$f":"各種係数!$I46*I46","v":0},null,{"$f":"各種係数!$L$8*K46","v":0},null,{"$f":"各種係数!$J46*M$117","v":0},null,{"$f":"各種係数!$F46*O46","v":0},null,0]
[null,"269","その他の鉄鋼製品",null,{"$f":"間接1次!Y47","v":0},null,{"$f":"間接1次!AE47","v":0},null,0,null,{"$f":"各種係数!$I47*I47","v":0},null,{"$f":"各種係数!$L$8*K47","v":0},null,{"$f":"各種係数!$J47*M$117","v":0},null,{"$f":"各種係数!$F47*O47","v":0},null,0]
[null,"271","非鉄金属製錬・精製",null,{"$f":"間接1次!Y48","v":0},null,{"$f":"間接1次!AE48","v":0},null,0,null,{"$f":"各種係数!$I48*I48","v":0},null,{"$f":"各種係数!$L$8*K48","v":0},null,{"$f":"各種係数!$J48*M$117","v":0},null,{"$f":"各種係数!$F48*O48","v":0},null,0]
[null,"272","非鉄金属加工製品",null,{"$f":"間接1次!Y49","v":0},null,{"$f":"間接1次!AE49","v":0},null,0,null,{"$f":"各種係数!$I49*I49","v":0},null,{"$f":"各種係数!$L$8*K49","v":0},null,{"$f":"各種係数!$J49*M$117","v":0},null,{"$f":"各種係数!$F49*O49","v":0},null,0]
[null,"281","建設用・建築用金属製品",null,{"$f":"間接1次!Y50","v":0},null,{"$f":"間接1次!AE50","v":0},null,0,null,{"$f":"各種係数!$I50*I50","v":0},null,{"$f":"各種係数!$L$8*K50","v":0},null,{"$f":"各種係数!$J50*M$117","v":0},null,{"$f":"各種係数!$F50*O50","v":0},null,0]
[null,"289","その他の金属製品",null,{"$f":"間接1次!Y51","v":0},null,{"$f":"間接1次!AE51","v":0},null,0,null,{"$f":"各種係数!$I51*I51","v":0},null,{"$f":"各種係数!$L$8*K51","v":0},null,{"$f":"各種係数!$J51*M$117","v":0},null,{"$f":"各種係数!$F51*O51","v":0},null,0]
[null,"291","はん用機械",null,{"$f":"間接1次!Y52","v":0},null,{"$f":"間接1次!AE52","v":0},null,0,null,{"$f":"各種係数!$I52*I52","v":0},null,{"$f":"各種係数!$L$8*K52","v":0},null,{"$f":"各種係数!$J52*M$117","v":0},null,{"$f":"各種係数!$F52*O52","v":0},null,0]
[null,"301","生産用機械",null,{"$f":"間接1次!Y53","v":0},null,{"$f":"間接1次!AE53","v":0},null,0,null,{"$f":"各種係数!$I53*I53","v":0},null,{"$f":"各種係数!$L$8*K53","v":0},null,{"$f":"各種係数!$J53*M$117","v":0},null,{"$f":"各種係数!$F53*O53","v":0},null,0]
[null,"311","業務用機械",null,{"$f":"間接1次!Y54","v":0},null,{"$f":"間接1次!AE54","v":0},null,0,null,{"$f":"各種係数!$I54*I54","v":0},null,{"$f":"各種係数!$L$8*K54","v":0},null,{"$f":"各種係数!$J54*M$117","v":0},null,{"$f":"各種係数!$F54*O54","v":0},null,0]
[null,"321","電子デバイス",null,{"$f":"間接1次!Y55","v":0},null,{"$f":"間接1次!AE55","v":0},null,0,null,{"$f":"各種係数!$I55*I55","v":0},null,{"$f":"各種係数!$L$8*K55","v":0},null,{"$f":"各種係数!$J55*M$117","v":0},null,{"$f":"各種係数!$F55*O55","v":0},null,0]
[null,"329","その他の電子部品",null,{"$f":"間接1次!Y56","v":0},null,{"$f":"間接1次!AE56","v":0},null,0,null,{"$f":"各種係数!$I56*I56","v":0},null,{"$f":"各種係数!$L$8*K56","v":0},null,{"$f":"各種係数!$J56*M$117","v":0},null,{"$f":"各種係数!$F56*O56","v":0},null,0]
[null,"331","産業用電気機器",null,{"$f":"間接1次!Y57","v":0},null,{"$f":"間接1次!AE57","v":0},null,0,null,{"$f":"各種係数!$I57*I57","v":0},null,{"$f":"各種係数!$L$8*K57","v":0},null,{"$f":"各種係数!$J57*M$117","v":0},null,{"$f":"各種係数!$F57*O57","v":0},null,0]
[null,"332","民生用電気機器",null,{"$f":"間接1次!Y58","v":0},null,{"$f":"間接1次!AE58","v":0},null,0,null,{"$f":"各種係数!$I58*I58","v":0},null,{"$f":"各種係数!$L$8*K58","v":0},null,{"$f":"各種係数!$J58*M$117","v":0},null,{"$f":"各種係数!$F58*O58","v":0},null,0]
[null,"333","電子応用装置・電気計測器",null,{"$f":"間接1次!Y59","v":0},null,{"$f":"間接1次!AE59","v":0},null,0,null,{"$f":"各種係数!$I59*I59","v":0},null,{"$f":"各種係数!$L$8*K59","v":0},null,{"$f":"各種係数!$J59*M$117","v":0},null,{"$f":"各種係数!$F59*O59","v":0},null,0]
[null,"339","その他の電気機械",null,{"$f":"間接1次!Y60","v":0},null,{"$f":"間接1次!AE60","v":0},null,0,null,{"$f":"各種係数!$I60*I60","v":0},null,{"$f":"各種係数!$L$8*K60","v":0},null,{"$f":"各種係数!$J60*M$117","v":0},null,{"$f":"各種係数!$F60*O60","v":0},null,0]
[null,"341","通信・映像・音響機器",null,{"$f":"間接1次!Y61","v":0},null,{"$f":"間接1次!AE61","v":0},null,0,null,{"$f":"各種係数!$I61*I61","v":0},null,{"$f":"各種係数!$L$8*K61","v":0},null,{"$f":"各種係数!$J61*M$117","v":0},null,{"$f":"各種係数!$F61*O61","v":0},null,0]
[null,"342","電子計算機・同附属装置",null,{"$f":"間接1次!Y62","v":0},null,{"$f":"間接1次!AE62","v":0},null,0,null,{"$f":"各種係数!$I62*I62","v":0},null,{"$f":"各種係数!$L$8*K62","v":0},null,{"$f":"各種係数!$J62*M$117","v":0},null,{"$f":"各種係数!$F62*O62","v":0},null,0]
[null,"351","乗用車",null,{"$f":"間接1次!Y63","v":0},null,{"$f":"間接1次!AE63","v":0},null,0,null,{"$f":"各種係数!$I63*I63","v":0},null,{"$f":"各種係数!$L$8*K63","v":0},null,{"$f":"各種係数!$J63*M$117","v":0},null,{"$f":"各種係数!$F63*O63","v":0},null,0]
[null,"352","その他の自動車",null,{"$f":"間接1次!Y64","v":0},null,{"$f":"間接1次!AE64","v":0},null,0,null,{"$f":"各種係数!$I64*I64","v":0},null,{"$f":"各種係数!$L$8*K64","v":0},null,{"$f":"各種係数!$J64*M$117","v":0},null,{"$f":"各種係数!$F64*O64","v":0},null,0]
[null,"353","自動車部品・同附属品",null,{"$f":"間接1次!Y65","v":0},null,{"$f":"間接1次!AE65","v":0},null,0,null,{"$f":"各種係数!$I65*I65","v":0},null,{"$f":"各種係数!$L$8*K65","v":0},null,{"$f":"各種係数!$J65*M$117","v":0},null,{"$f":"各種係数!$F65*O65","v":0},null,0]
[null,"354","船舶・同修理",null,{"$f":"間接1次!Y66","v":0},null,{"$f":"間接1次!AE66","v":0},null,0,null,{"$f":"各種係数!$I66*I66","v":0},null,{"$f":"各種係数!$L$8*K66","v":0},null,{"$f":"各種係数!$J66*M$117","v":0},null,{"$f":"各種係数!$F66*O66","v":0},null,0]
[null,"359","その他の輸送機械・同修理",null,{"$f":"間接1次!Y67","v":0},null,{"$f":"間接1次!AE67","v":0},null,0,null,{"$f":"各種係数!$I67*I67","v":0},null,{"$f":"各種係数!$L$8*K67","v":0},null,{"$f":"各種係数!$J67*M$117","v":0},null,{"$f":"各種係数!$F67*O67","v":0},null,0]
[null,"391","その他の製造工業製品",null,{"$f":"間接1次!Y68","v":0},null,{"$f":"間接1次!AE68","v":0},null,0,null,{"$f":"各種係数!$I68*I68","v":0},null,{"$f":"各種係数!$L$8*K68","v":0},null,{"$f":"各種係数!$J68*M$117","v":0},null,{"$f":"各種係数!$F68*O68","v":0},null,0]
[null,"392","再生資源回収・加工処理",null,{"$f":"間接1次!Y69","v":0},null,{"$f":"間接1次!AE69","v":0},null,0,null,{"$f":"各種係数!$I69*I69","v":0},null,{"$f":"各種係数!$L$8*K69","v":0},null,{"$f":"各種係数!$J69*M$117","v":0},null,{"$f":"各種係数!$F69*O69","v":0},null,0]
[null,"411","建築",null,{"$f":"間接1次!Y70","v":0},null,{"$f":"間接1次!AE70","v":0},null,0,null,{"$f":"各種係数!$I70*I70","v":0},null,{"$f":"各種係数!$L$8*K70","v":0},null,{"$f":"各種係数!$J70*M$117","v":0},null,{"$f":"各種係数!$F70*O70","v":0},null,0]
[null,"412","建設補修",null,{"$f":"間接1次!Y71","v":0},null,{"$f":"間接1次!AE71","v":0},null,0,null,{"$f":"各種係数!$I71*I71","v":0},null,{"$f":"各種係数!$L$8*K71","v":0},null,{"$f":"各種係数!$J71*M$117","v":0},null,{"$f":"各種係数!$F71*O71","v":0},null,0]
[null,"413","公共事業",null,{"$f":"間接1次!Y72","v":0},null,{"$f":"間接1次!AE72","v":0},null,0,null,{"$f":"各種係数!$I72*I72","v":0},null,{"$f":"各種係数!$L$8*K72","v":0},null,{"$f":"各種係数!$J72*M$117","v":0},null,{"$f":"各種係数!$F72*O72","v":0},null,0]
[null,"419","その他の土木建設",null,{"$f":"間接1次!Y73","v":0},null,{"$f":"間接1次!AE73","v":0},null,0,null,{"$f":"各種係数!$I73*I73","v":0},null,{"$f":"各種係数!$L$8*K73","v":0},null,{"$f":"各種係数!$J73*M$117","v":0},null,{"$f":"各種係数!$F73*O73","v":0},null,0]
[null,"461","電気",null,{"$f":"間接1次!Y74","v":0},null,{"$f":"間接1次!AE74","v":0},null,0,null,{"$f":"各種係数!$I74*I74","v":0},null,{"$f":"各種係数!$L$8*K74","v":0},null,{"$f":"各種係数!$J74*M$117","v":0},null,{"$f":"各種係数!$F74*O74","v":0},null,0]
[null,"462","ガス・熱供給",null,{"$f":"間接1次!Y75","v":0},null,{"$f":"間接1次!AE75","v":0},null,0,null,{"$f":"各種係数!$I75*I75","v":0},null,{"$f":"各種係数!$L$8*K75","v":0},null,{"$f":"各種係数!$J75*M$117","v":0},null,{"$f":"各種係数!$F75*O75","v":0},null,0]
[null,"471","水道",null,{"$f":"間接1次!Y76","v":0},null,{"$f":"間接1次!AE76","v":0},null,0,null,{"$f":"各種係数!$I76*I76","v":0},null,{"$f":"各種係数!$L$8*K76","v":0},null,{"$f":"各種係数!$J76*M$117","v":0},null,{"$f":"各種係数!$F76*O76","v":0},null,0]
[null,"481","廃棄物処理",null,{"$f":"間接1次!Y77","v":0},null,{"$f":"間接1次!AE77","v":0},null,0,null,{"$f":"各種係数!$I77*I77","v":0},null,{"$f":"各種係数!$L$8*K77","v":0},null,{"$f":"各種係数!$J77*M$117","v":0},null,{"$f":"各種係数!$F77*O77","v":0},null,0]
[null,"511","商業",null,{"$f":"間接1次!Y78","v":0},null,{"$f":"間接1次!AE78","v":0},null,0,null,{"$f":"各種係数!$I78*I78","v":0},null,{"$f":"各種係数!$L$8*K78","v":0},null,{"$f":"各種係数!$J78*M$117","v":0},null,{"$f":"各種係数!$F78*O78","v":0},null,0]
[null,"531","金融・保険",null,{"$f":"間接1次!Y79","v":0},null,{"$f":"間接1次!AE79","v":0},null,0,null,{"$f":"各種係数!$I79*I79","v":0},null,{"$f":"各種係数!$L$8*K79","v":0},null,{"$f":"各種係数!$J79*M$117","v":0},null,{"$f":"各種係数!$F79*O79","v":0},null,0]
[null,"551","不動産仲介及び賃貸",null,{"$f":"間接1次!Y80","v":0},null,{"$f":"間接1次!AE80","v":0},null,0,null,{"$f":"各種係数!$I80*I80","v":0},null,{"$f":"各種係数!$L$8*K80","v":0},null,{"$f":"各種係数!$J80*M$117","v":0},null,{"$f":"各種係数!$F80*O80","v":0},null,0]
[null,"552","住宅賃貸料",null,{"$f":"間接1次!Y81","v":0},null,{"$f":"間接1次!AE81","v":0},null,0,null,{"$f":"各種係数!$I81*I81","v":0},null,{"$f":"各種係数!$L$8*K81","v":0},null,{"$f":"各種係数!$J81*M$117","v":0},null,{"$f":"各種係数!$F81*O81","v":0},null,0]
[null,"553","住宅賃貸料（帰属家賃）",null,{"$f":"間接1次!Y82","v":0},null,{"$f":"間接1次!AE82","v":0},null,0,null,{"$f":"各種係数!$I82*I82","v":0},null,{"$f":"各種係数!$L$8*K82","v":0},null,{"$f":"各種係数!$J82*M$117","v":0},null,{"$f":"各種係数!$F82*O82","v":0},null,0]
[null,"571","鉄道輸送",null,{"$f":"間接1次!Y83","v":0},null,{"$f":"間接1次!AE83","v":0},null,0,null,{"$f":"各種係数!$I83*I83","v":0},null,{"$f":"各種係数!$L$8*K83","v":0},null,{"$f":"各種係数!$J83*M$117","v":0},null,{"$f":"各種係数!$F83*O83","v":0},null,0]
[null,"572","道路輸送（自家輸送を除く。）",null,{"$f":"間接1次!Y84","v":0},null,{"$f":"間接1次!AE84","v":0},null,0,null,{"$f":"各種係数!$I84*I84","v":0},null,{"$f":"各種係数!$L$8*K84","v":0},null,{"$f":"各種係数!$J84*M$117","v":0},null,{"$f":"各種係数!$F84*O84","v":0},null,0]
[null,"573","自家輸送",null,{"$f":"間接1次!Y85","v":0},null,{"$f":"間接1次!AE85","v":0},null,0,null,{"$f":"各種係数!$I85*I85","v":0},null,{"$f":"各種係数!$L$8*K85","v":0},null,{"$f":"各種係数!$J85*M$117","v":0},null,{"$f":"各種係数!$F85*O85","v":0},null,0]
[null,"574","水運",null,{"$f":"間接1次!Y86","v":0},null,{"$f":"間接1次!AE86","v":0},null,0,null,{"$f":"各種係数!$I86*I86","v":0},null,{"$f":"各種係数!$L$8*K86","v":0},null,{"$f":"各種係数!$J86*M$117","v":0},null,{"$f":"各種係数!$F86*O86","v":0},null,0]
[null,"575","航空輸送",null,{"$f":"間接1次!Y87","v":0},null,{"$f":"間接1次!AE87","v":0},null,0,null,{"$f":"各種係数!$I87*I87","v":0},null,{"$f":"各種係数!$L$8*K87","v":0},null,{"$f":"各種係数!$J87*M$117","v":0},null,{"$f":"各種係数!$F87*O87","v":0},null,0]
[null,"576","貨物利用運送",null,{"$f":"間接1次!Y88","v":0},null,{"$f":"間接1次!AE88","v":0},null,0,null,{"$f":"各種係数!$I88*I88","v":0},null,{"$f":"各種係数!$L$8*K88","v":0},null,{"$f":"各種係数!$J88*M$117","v":0},null,{"$f":"各種係数!$F88*O88","v":0},null,0]
[null,"577","倉庫",null,{"$f":"間接1次!Y89","v":0},null,{"$f":"間接1次!AE89","v":0},null,0,null,{"$f":"各種係数!$I89*I89","v":0},null,{"$f":"各種係数!$L$8*K89","v":0},null,{"$f":"各種係数!$J89*M$117","v":0},null,{"$f":"各種係数!$F89*O89","v":0},null,0]
[null,"578","運輸附帯サービス",null,{"$f":"間接1次!Y90","v":0},null,{"$f":"間接1次!AE90","v":0},null,0,null,{"$f":"各種係数!$I90*I90","v":0},null,{"$f":"各種係数!$L$8*K90","v":0},null,{"$f":"各種係数!$J90*M$117","v":0},null,{"$f":"各種係数!$F90*O90","v":0},null,0]
[null,"579","郵便・信書便",null,{"$f":"間接1次!Y91","v":0},null,{"$f":"間接1次!AE91","v":0},null,0,null,{"$f":"各種係数!$I91*I91","v":0},null,{"$f":"各種係数!$L$8*K91","v":0},null,{"$f":"各種係数!$J91*M$117","v":0},null,{"$f":"各種係数!$F91*O91","v":0},null,0]
[null,"591","通信",null,{"$f":"間接1次!Y92","v":0},null,{"$f":"間接1次!AE92","v":0},null,0,null,{"$f":"各種係数!$I92*I92","v":0},null,{"$f":"各種係数!$L$8*K92","v":0},null,{"$f":"各種係数!$J92*M$117","v":0},null,{"$f":"各種係数!$F92*O92","v":0},null,0]
[null,"592","放送",null,{"$f":"間接1次!Y93","v":0},null,{"$f":"間接1次!AE93","v":0},null,0,null,{"$f":"各種係数!$I93*I93","v":0},null,{"$f":"各種係数!$L$8*K93","v":0},null,{"$f":"各種係数!$J93*M$117","v":0},null,{"$f":"各種係数!$F93*O93","v":0},null,0]
[null,"593","情報サービス",null,{"$f":"間接1次!Y94","v":0},null,{"$f":"間接1次!AE94","v":0},null,0,null,{"$f":"各種係数!$I94*I94","v":0},null,{"$f":"各種係数!$L$8*K94","v":0},null,{"$f":"各種係数!$J94*M$117","v":0},null,{"$f":"各種係数!$F94*O94","v":0},null,0]
[null,"594","インターネット附随サービス",null,{"$f":"間接1次!Y95","v":0},null,{"$f":"間接1次!AE95","v":0},null,0,null,{"$f":"各種係数!$I95*I95","v":0},null,{"$f":"各種係数!$L$8*K95","v":0},null,{"$f":"各種係数!$J95*M$117","v":0},null,{"$f":"各種係数!$F95*O95","v":0},null,0]
[null,"595","映像・音声・文字情報制作",null,{"$f":"間接1次!Y96","v":0},null,{"$f":"間接1次!AE96","v":0},null,0,null,{"$f":"各種係数!$I96*I96","v":0},null,{"$f":"各種係数!$L$8*K96","v":0},null,{"$f":"各種係数!$J96*M$117","v":0},null,{"$f":"各種係数!$F96*O96","v":0},null,0]
[null,"611","公務",null,{"$f":"間接1次!Y97","v":0},null,{"$f":"間接1次!AE97","v":0},null,0,null,{"$f":"各種係数!$I97*I97","v":0},null,{"$f":"各種係数!$L$8*K97","v":0},null,{"$f":"各種係数!$J97*M$117","v":0},null,{"$f":"各種係数!$F97*O97","v":0},null,0]
[null,"631","教育",null,{"$f":"間接1次!Y98","v":0},null,{"$f":"間接1次!AE98","v":0},null,0,null,{"$f":"各種係数!$I98*I98","v":0},null,{"$f":"各種係数!$L$8*K98","v":0},null,{"$f":"各種係数!$J98*M$117","v":0},null,{"$f":"各種係数!$F98*O98","v":0},null,0]
[null,"632","研究",null,{"$f":"間接1次!Y99","v":0},null,{"$f":"間接1次!AE99","v":0},null,0,null,{"$f":"各種係数!$I99*I99","v":0},null,{"$f":"各種係数!$L$8*K99","v":0},null,{"$f":"各種係数!$J99*M$117","v":0},null,{"$f":"各種係数!$F99*O99","v":0},null,0]
[null,"641","医療",null,{"$f":"間接1次!Y100","v":0},null,{"$f":"間接1次!AE100","v":0},null,0,null,{"$f":"各種係数!$I100*I100","v":0},null,{"$f":"各種係数!$L$8*K100","v":0},null,{"$f":"各種係数!$J100*M$117","v":0},null,{"$f":"各種係数!$F100*O100","v":0},null,0]
[null,"642","保健衛生",null,{"$f":"間接1次!Y101","v":0},null,{"$f":"間接1次!AE101","v":0},null,0,null,{"$f":"各種係数!$I101*I101","v":0},null,{"$f":"各種係数!$L$8*K101","v":0},null,{"$f":"各種係数!$J101*M$117","v":0},null,{"$f":"各種係数!$F101*O101","v":0},null,0]
[null,"643","社会保険・社会福祉",null,{"$f":"間接1次!Y102","v":0},null,{"$f":"間接1次!AE102","v":0},null,0,null,{"$f":"各種係数!$I102*I102","v":0},null,{"$f":"各種係数!$L$8*K102","v":0},null,{"$f":"各種係数!$J102*M$117","v":0},null,{"$f":"各種係数!$F102*O102","v":0},null,0]
[null,"644","介護",null,{"$f":"間接1次!Y103","v":0},null,{"$f":"間接1次!AE103","v":0},null,0,null,{"$f":"各種係数!$I103*I103","v":0},null,{"$f":"各種係数!$L$8*K103","v":0},null,{"$f":"各種係数!$J103*M$117","v":0},null,{"$f":"各種係数!$F103*O103","v":0},null,0]
[null,"659","他に分類されない会員制団体",null,{"$f":"間接1次!Y104","v":0},null,{"$f":"間接1次!AE104","v":0},null,0,null,{"$f":"各種係数!$I104*I104","v":0},null,{"$f":"各種係数!$L$8*K104","v":0},null,{"$f":"各種係数!$J104*M$117","v":0},null,{"$f":"各種係数!$F104*O104","v":0},null,0]
[null,"661","物品賃貸サービス",null,{"$f":"間接1次!Y105","v":0},null,{"$f":"間接1次!AE105","v":0},null,0,null,{"$f":"各種係数!$I105*I105","v":0},null,{"$f":"各種係数!$L$8*K105","v":0},null,{"$f":"各種係数!$J105*M$117","v":0},null,{"$f":"各種係数!$F105*O105","v":0},null,0]
[null,"662","広告",null,{"$f":"間接1次!Y106","v":0},null,{"$f":"間接1次!AE106","v":0},null,0,null,{"$f":"各種係数!$I106*I106","v":0},null,{"$f":"各種係数!$L$8*K106","v":0},null,{"$f":"各種係数!$J106*M$117","v":0},null,{"$f":"各種係数!$F106*O106","v":0},null,0]
[null,"663","自動車整備・機械修理",null,{"$f":"間接1次!Y107","v":0},null,{"$f":"間接1次!AE107","v":0},null,0,null,{"$f":"各種係数!$I107*I107","v":0},null,{"$f":"各種係数!$L$8*K107","v":0},null,{"$f":"各種係数!$J107*M$117","v":0},null,{"$f":"各種係数!$F107*O107","v":0},null,0]
[null,"669","その他の対事業所サービス",null,{"$f":"間接1次!Y108","v":0},null,{"$f":"間接1次!AE108","v":0},null,0,null,{"$f":"各種係数!$I108*I108","v":0},null,{"$f":"各種係数!$L$8*K108","v":0},null,{"$f":"各種係数!$J108*M$117","v":0},null,{"$f":"各種係数!$F108*O108","v":0},null,0]
[null,"671","宿泊業",null,{"$f":"間接1次!Y109","v":0},null,{"$f":"間接1次!AE109","v":0},null,0,null,{"$f":"各種係数!$I109*I109","v":0},null,{"$f":"各種係数!$L$8*K109","v":0},null,{"$f":"各種係数!$J109*M$117","v":0},null,{"$f":"各種係数!$F109*O109","v":0},null,0]
[null,"672","飲食サービス",null,{"$f":"間接1次!Y110","v":0},null,{"$f":"間接1次!AE110","v":0},null,0,null,{"$f":"各種係数!$I110*I110","v":0},null,{"$f":"各種係数!$L$8*K110","v":0},null,{"$f":"各種係数!$J110*M$117","v":0},null,{"$f":"各種係数!$F110*O110","v":0},null,0]
[null,"673","洗濯・理容・美容・浴場業",null,{"$f":"間接1次!Y111","v":0},null,{"$f":"間接1次!AE111","v":0},null,0,null,{"$f":"各種係数!$I111*I111","v":0},null,{"$f":"各種係数!$L$8*K111","v":0},null,{"$f":"各種係数!$J111*M$117","v":0},null,{"$f":"各種係数!$F111*O111","v":0},null,0]
[null,"674","娯楽サービス",null,{"$f":"間接1次!Y112","v":0},null,{"$f":"間接1次!AE112","v":0},null,0,null,{"$f":"各種係数!$I112*I112","v":0},null,{"$f":"各種係数!$L$8*K112","v":0},null,{"$f":"各種係数!$J112*M$117","v":0},null,{"$f":"各種係数!$F112*O112","v":0},null,0]
[null,"675","獣医業",null,{"$f":"間接1次!Y113","v":0},null,{"$f":"間接1次!AE113","v":0},null,0,null,{"$f":"各種係数!$I113*I113","v":0},null,{"$f":"各種係数!$L$8*K113","v":0},null,{"$f":"各種係数!$J113*M$117","v":0},null,{"$f":"各種係数!$F113*O113","v":0},null,0]
[null,"679","その他の対個人サービス",null,{"$f":"間接1次!Y114","v":0},null,{"$f":"間接1次!AE114","v":0},null,0,null,{"$f":"各種係数!$I114*I114","v":0},null,{"$f":"各種係数!$L$8*K114","v":0},null,{"$f":"各種係数!$J114*M$117","v":0},null,{"$f":"各種係数!$F114*O114","v":0},null,0]
[null,"681","事務用品",null,{"$f":"間接1次!Y115","v":0},null,{"$f":"間接1次!AE115","v":0},null,0,null,{"$f":"各種係数!$I115*I115","v":0},null,{"$f":"各種係数!$L$8*K115","v":0},null,{"$f":"各種係数!$J115*M$117","v":0},null,{"$f":"各種係数!$F115*O115","v":0},null,0]
[null,"691","分類不明",null,{"$f":"間接1次!Y116","v":0},null,{"$f":"間接1次!AE116","v":0},null,0,null,{"$f":"各種係数!$I116*I116","v":0},null,{"$f":"各種係数!$L$8*K116","v":0},null,{"$f":"各種係数!$J116*M$117","v":0},null,{"$f":"各種係数!$F116*O116","v":0},null,0]
[null,null,"合計",null,{"$f":"SUM(E8:E116)","v":0},null,{"$f":"SUM(G8:G116)","v":0},null,{"$f":"SUM(I8:I116)","v":0},null,{"$f":"SUM(K8:K116)","v":0},null,{"$f":"SUM(M8:M116)","v":0},null,{"$f":"SUM(O8:O116)","v":0},null,{"$f":"SUM(Q8:Q116)","v":0},null,{"$f":"SUM(S8:S116)","v":0}]

{"sheet":"波及合計","index":5,"n_rows":117,"n_cols":20,"rows_kept":117,"cut":false,"hidden":false,"merged":[]}
[null,null,null,null,"波及効果合計（直接＋間接1次＋間接2次）",null,null,null,null,null,null,null,"雇用誘発人数",null,"粗付加価値誘発額"]
[null,"波及効果計算"]
[null,"（合計フローチャート）",null,null,null,null,null,null,null,null,null,null,"×雇用者係数",null,"合計×粗付加価値率",null,"グラフ用集計"]
[null,null,"単位:百万円",null,null,null,null,null,null,null,null,null,"↓",null,"↓"]
[null,null,null,null,{"$f":"間接1次!Y5","v":"直接効果"},null,{"$f":"間接1次!AE5","v":"生産誘発額"},null,{"$f":"間接2次!S5","v":"生産誘発額"},null,"生産誘発額",null,"雇用誘発人数",null,"粗付加価値誘発額",null,null,null,{"$f":"K5","v":"生産誘発額"},{"$f":"M5","v":"雇用誘発人数"}]
[null,"109部門",null,null,{"$f":"間接1次!Y6","v":"(県内需要計)"},"+",{"$f":"間接1次!AE6","v":"(間接1次)"},"+",{"$f":"間接2次!S6","v":"(間接2次)"},"=","(合計)",null,"(人)",null,null,null,"37部門",null,{"$f":"K6","v":"(合計)"},{"$f":"M6","v":"(人)"}]
[null,null,null,null,{"$f":"間接1次!Y7","v":"F"},null,{"$f":"間接1次!AE7","v":"X1"},null,{"$f":"間接2次!S7","v":"X2"},null,"X",null,{"$f":"K7&各種係数!G7","v":"Xl"},null,{"$f":"K7&各種係数!H7","v":"Xv"},null,null,null,{"$f":"K7","v":"X"},{"$f":"M7","v":"Xl"}]
["01","011","耕種農業",null,{"$f":"間接1次!Y8","v":0},null,{"$f":"間接1次!AE8","v":0},null,{"$f":"間接2次!S8","v":0},null,{"$f":"E8+G8+I8","v":0},null,{"$f":"K8*各種係数!$G8","v":0},null,{"$f":"K8*各種係数!$H8","v":0},null,"01","農林漁業",{"$f":"SUMIF($A$8:$A$116,$Q8,K$8:K$116)","v":0},{"$f":"SUMIF($A$8:$A$116,$Q8,M$8:M$116)","v":0}]
["01","012","畜産",null,{"$f":"間接1次!Y9","v":0},null,{"$f":"間接1次!AE9","v":0},null,{"$f":"間接2次!S9","v":0},null,{"$f":"E9+G9+I9","v":0},null,{"$f":"K9*各種係数!$G9","v":0},null,{"$f":"K9*各種係数!$H9","v":0},null,"06","鉱業",{"$f":"SUMIF($A$8:$A$116,$Q9,K$8:K$116)","v":0},{"$f":"SUMIF($A$8:$A$116,$Q9,M$8:M$116)","v":0}]
["01","013","農業サービス",null,{"$f":"間接1次!Y10","v":0},null,{"$f":"間接1次!AE10","v":0},null,{"$f":"間接2次!S10","v":0},null,0,null,{"$f":"K10*各種係数!$G10","v":0},null,{"$f":"K10*各種係数!$H10","v":0},null,"11","飲食料品",0,0]
["01","015","林業",null,{"$f":"間接1次!Y11","v":0},null,{"$f":"間接1次!AE11","v":0},null,{"$f":"間接2次!S11","v":0},null,0,null,{"$f":"K11*各種係数!$G11","v":0},null,{"$f":"K11*各種係数!$H11","v":0},null,"15","繊維製品",0,0]
["01","017","漁業",null,{"$f":"間接1次!Y12","v":0},null,{"$f":"間接1次!AE12","v":0},null,{"$f":"間接2次!S12","v":0},null,0,null,{"$f":"K12*各種係数!$G12","v":0},null,{"$f":"K12*各種係数!$H12","v":0},null,"16","パルプ・紙・木製品",0,0]
["06","061","石炭・原油・天然ガス",null,{"$f":"間接1次!Y13","v":0},null,{"$f":"間接1次!AE13","v":0},null,{"$f":"間接2次!S13","v":0},null,0,null,{"$f":"K13*各種係数!$G13","v":0},null,{"$f":"K13*各種係数!$H13","v":0},null,"20","化学製品",0,0]
["06","062","その他の鉱業",null,{"$f":"間接1次!Y14","v":0},null,{"$f":"間接1次!AE14","v":0},null,{"$f":"間接2次!S14","v":0},null,0,null,{"$f":"K14*各種係数!$G14","v":0},null,{"$f":"K14*各種係数!$H14","v":0},null,"21","石油・石炭製品",0,0]
["11","111","食料品",null,{"$f":"間接1次!Y15","v":0},null,{"$f":"間接1次!AE15","v":0},null,{"$f":"間接2次!S15","v":0},null,0,null,{"$f":"K15*各種係数!$G15","v":0},null,{"$f":"K15*各種係数!$H15","v":0},null,"22","プラスチック・ゴム製品",0,0]
["11","112","飲料",null,{"$f":"間接1次!Y16","v":0},null,{"$f":"間接1次!AE16","v":0},null,{"$f":"間接2次!S16","v":0},null,0,null,{"$f":"K16*各種係数!$G16","v":0},null,{"$f":"K16*各種係数!$H16","v":0},null,"25","窯業・土石製品",0,0]
["11","113","飼料・有機質肥料（別掲を除く。）",null,{"$f":"間接1次!Y17","v":0},null,{"$f":"間接1次!AE17","v":0},null,{"$f":"間接2次!S17","v":0},null,0,null,{"$f":"K17*各種係数!$G17","v":0},null,{"$f":"K17*各種係数!$H17","v":0},null,"26","鉄鋼",0,0]
["11","114","たばこ",null,{"$f":"間接1次!Y18","v":0},null,{"$f":"間接1次!AE18","v":0},null,{"$f":"間接2次!S18","v":0},null,0,null,{"$f":"K18*各種係数!$G18","v":0},null,{"$f":"K18*各種係数!$H18","v":0},null,"27","非鉄金属",0,0]
["15","151","繊維工業製品",null,{"$f":"間接1次!Y19","v":0},null,{"$f":"間接1次!AE19","v":0},null,{"$f":"間接2次!S19","v":0},null,0,null,{"$f":"K19*各種係数!$G19","v":0},null,{"$f":"K19*各種係数!$H19","v":0},null,"28","金属製品",0,0]
["15","152","衣服・その他の繊維既製品",null,{"$f":"間接1次!Y20","v":0},null,{"$f":"間接1次!AE20","v":0},null,{"$f":"間接2次!S20","v":0},null,0,null,{"$f":"K20*各種係数!$G20","v":0},null,{"$f":"K20*各種係数!$H20","v":0},null,"29","はん用機械",0,0]
["16","161","木材・木製品",null,{"$f":"間接1次!Y21","v":0},null,{"$f":"間接1次!AE21","v":0},null,{"$f":"間接2次!S21","v":0},null,0,null,{"$f":"K21*各種係数!$G21","v":0},null,{"$f":"K21*各種係数!$H21","v":0},null,"30","生産用機械",0,0]
["16","162","家具・装備品",null,{"$f":"間接1次!Y22","v":0},null,{"$f":"間接1次!AE22","v":0},null,{"$f":"間接2次!S22","v":0},null,0,null,{"$f":"K22*各種係数!$G22","v":0},null,{"$f":"K22*各種係数!$H22","v":0},null,"31","業務用機械",0,0]
["16","163","パルプ・紙・板紙・加工紙",null,{"$f":"間接1次!Y23","v":0},null,{"$f":"間接1次!AE23","v":0},null,{"$f":"間接2次!S23","v":0},null,0,null,{"$f":"K23*各種係数!$G23","v":0},null,{"$f":"K23*各種係数!$H23","v":0},null,"32","電子部品",0,0]
["16","164","紙加工品",null,{"$f":"間接1次!Y24","v":0},null,{"$f":"間接1次!AE24","v":0},null,{"$f":"間接2次!S24","v":0},null,0,null,{"$f":"K24*各種係数!$G24","v":0},null,{"$f":"K24*各種係数!$H24","v":0},null,"33","電気機械",0,0]
["39","191","印刷・製版・製本",null,{"$f":"間接1次!Y25","v":0},null,{"$f":"間接1次!AE25","v":0},null,{"$f":"間接2次!S25","v":0},null,0,null,{"$f":"K25*各種係数!$G25","v":0},null,{"$f":"K25*各種係数!$H25","v":0},null,"34","情報通信機器",0,0]
["20","201","化学肥料",null,{"$f":"間接1次!Y26","v":0},null,{"$f":"間接1次!AE26","v":0},null,{"$f":"間接2次!S26","v":0},null,0,null,{"$f":"K26*各種係数!$G26","v":0},null,{"$f":"K26*各種係数!$H26","v":0},null,"35","輸送機械",0,0]
["20","202","無機化学工業製品",null,{"$f":"間接1次!Y27","v":0},null,{"$f":"間接1次!AE27","v":0},null,{"$f":"間接2次!S27","v":0},null,0,null,{"$f":"K27*各種係数!$G27","v":0},null,{"$f":"K27*各種係数!$H27","v":0},null,"39","その他の製造工業製品",0,0]
["20","203","石油化学系基礎製品",null,{"$f":"間接1次!Y28","v":0},null,{"$f":"間接1次!AE28","v":0},null,{"$f":"間接2次!S28","v":0},null,0,null,{"$f":"K28*各種係数!$G28","v":0},null,{"$f":"K28*各種係数!$H28","v":0},null,"41","建設",0,0]
["20","204","有機化学工業製品（石油化学系基礎製品・合成樹脂を除く。）",null,{"$f":"間接1次!Y29","v":0},null,{"$f":"間接1次!AE29","v":0},null,{"$f":"間接2次!S29","v":0},null,0,null,{"$f":"K29*各種係数!$G29","v":0},null,{"$f":"K29*各種係数!$H29","v":0},null,"46","電気・ガス・熱供給",0,0]
["20","205","合成樹脂",null,{"$f":"間接1次!Y30","v":0},null,{"$f":"間接1次!AE30","v":0},null,{"$f":"間接2次!S30","v":0},null,0,null,{"$f":"K30*各種係数!$G30","v":0},null,{"$f":"K30*各種係数!$H30","v":0},null,"47","水道",0,0]
["20","206","化学繊維",null,{"$f":"間接1次!Y31","v":0},null,{"$f":"間接1次!AE31","v":0},null,{"$f":"間接2次!S31","v":0},null,0,null,{"$f":"K31*各種係数!$G31","v":0},null,{"$f":"K31*各種係数!$H31","v":0},null,"48","廃棄物処理",0,0]
["20","207","医薬品",null,{"$f":"間接1次!Y32","v":0},null,{"$f":"間接1次!AE32","v":0},null,{"$f":"間接2次!S32","v":0},null,0,null,{"$f":"K32*各種係数!$G32","v":0},null,{"$f":"K32*各種係数!$H32","v":0},null,"51","商業",0,0]
["20","208","化学最終製品（医薬品を除く。）",null,{"$f":"間接1次!Y33","v":0},null,{"$f":"間接1次!AE33","v":0},null,{"$f":"間接2次!S33","v":0},null,0,null,{"$f":"K33*各種係数!$G33","v":0},null,{"$f":"K33*各種係数!$H33","v":0},null,"53","金融・保険",0,0]
["21","211","石油製品",null,{"$f":"間接1次!Y34","v":0},null,{"$f":"間接1次!AE34","v":0},null,{"$f":"間接2次!S34","v":0},null,0,null,{"$f":"K34*各種係数!$G34","v":0},null,{"$f":"K34*各種係数!$H34","v":0},null,"55","不動産",0,0]
["21","212","石炭製品",null,{"$f":"間接1次!Y35","v":0},null,{"$f":"間接1次!AE35","v":0},null,{"$f":"間接2次!S35","v":0},null,0,null,{"$f":"K35*各種係数!$G35","v":0},null,{"$f":"K35*各種係数!$H35","v":0},null,"57","運輸・郵便",0,0]
["22","221","プラスチック製品",null,{"$f":"間接1次!Y36","v":0},null,{"$f":"間接1次!AE36","v":0},null,{"$f":"間接2次!S36","v":0},null,0,null,{"$f":"K36*各種係数!$G36","v":0},null,{"$f":"K36*各種係数!$H36","v":0},null,"59","情報通信",0,0]
["22","222","ゴム製品",null,{"$f":"間接1次!Y37","v":0},null,{"$f":"間接1次!AE37","v":0},null,{"$f":"間接2次!S37","v":0},null,0,null,{"$f":"K37*各種係数!$G37","v":0},null,{"$f":"K37*各種係数!$H37","v":0},null,"61","公務",0,0]
["39","231","なめし革・革製品・毛皮",null,{"$f":"間接1次!Y38","v":0},null,{"$f":"間接1次!AE38","v":0},null,{"$f":"間接2次!S38","v":0},null,0,null,{"$f":"K38*各種係数!$G38","v":0},null,{"$f":"K38*各種係数!$H38","v":0},null,"63","教育・研究",0,0]
["25","251","ガラス・ガラス製品",null,{"$f":"間接1次!Y39","v":0},null,{"$f":"間接1次!AE39","v":0},null,{"$f":"間接2次!S39","v":0},null,0,null,{"$f":"K39*各種係数!$G39","v":0},null,{"$f":"K39*各種係数!$H39","v":0},null,"64","医療・福祉",0,0]
["25","252","セメント・セメント製品",null,{"$f":"間接1次!Y40","v":0},null,{"$f":"間接1次!AE40","v":0},null,{"$f":"間接2次!S40","v":0},null,0,null,{"$f":"K40*各種係数!$G40","v":0},null,{"$f":"K40*各種係数!$H40","v":0},null,"65","他に分類されない会員制団体",0,0]
["25","253","陶磁器",null,{"$f":"間接1次!Y41","v":0},null,{"$f":"間接1次!AE41","v":0},null,{"$f":"間接2次!S41","v":0},null,0,null,{"$f":"K41*各種係数!$G41","v":0},null,{"$f":"K41*各種係数!$H41","v":0},null,"66","対事業所サービス",0,0]
["25","259","その他の窯業・土石製品",null,{"$f":"間接1次!Y42","v":0},null,{"$f":"間接1次!AE42","v":0},null,{"$f":"間接2次!S42","v":0},null,0,null,{"$f":"K42*各種係数!$G42","v":0},null,{"$f":"K42*各種係数!$H42","v":0},null,"67","対個人サービス",0,0]
["26","2611","銑鉄・粗鋼",null,{"$f":"間接1次!Y43","v":0},null,{"$f":"間接1次!AE43","v":0},null,{"$f":"間接2次!S43","v":0},null,0,null,{"$f":"K43*各種係数!$G43","v":0},null,{"$f":"K43*各種係数!$H43","v":0},null,"68","事務用品",0,0]
["26","2612","鉄屑",null,{"$f":"間接1次!Y44","v":0},null,{"$f":"間接1次!AE44","v":0},null,{"$f":"間接2次!S44","v":0},null,0,null,{"$f":"K44*各種係数!$G44","v":0},null,{"$f":"K44*各種係数!$H44","v":0},null,"69","分類不明",0,0]
["26","262","鋼材",null,{"$f":"間接1次!Y45","v":0},null,{"$f":"間接1次!AE45","v":0},null,{"$f":"間接2次!S45","v":0},null,0,null,{"$f":"K45*各種係数!$G45","v":0},null,{"$f":"K45*各種係数!$H45","v":0},null,null,"合計",{"$f":"SUM(S8:S44)","v":0},{"$f":"SUM(T8:T44)","v":0}]
["26","263","鋳鍛造品（鉄）",null,{"$f":"間接1次!Y46","v":0},null,{"$f":"間接1次!AE46","v":0},null,{"$f":"間接2次!S46","v":0},null,0,null,{"$f":"K46*各種係数!$G46","v":0},null,{"$f":"K46*各種係数!$H46","v":0}]
["26","269","その他の鉄鋼製品",null,{"$f":"間接1次!Y47","v":0},null,{"$f":"間接1次!AE47","v":0},null,{"$f":"間接2次!S47","v":0},null,0,null,{"$f":"K47*各種係数!$G47","v":0},null,{"$f":"K47*各種係数!$H47","v":0}]
["27","271","非鉄金属製錬・精製",null,{"$f":"間接1次!Y48","v":0},null,{"$f":"間接1次!AE48","v":0},null,{"$f":"間接2次!S48","v":0},null,0,null,{"$f":"K48*各種係数!$G48","v":0},null,{"$f":"K48*各種係数!$H48","v":0}]
["27","272","非鉄金属加工製品",null,{"$f":"間接1次!Y49","v":0},null,{"$f":"間接1次!AE49","v":0},null,{"$f":"間接2次!S49","v":0},null,0,null,{"$f":"K49*各種係数!$G49","v":0},null,{"$f":"K49*各種係数!$H49","v":0}]
["28","281","建設用・建築用金属製品",null,{"$f":"間接1次!Y50","v":0},null,{"$f":"間接1次!AE50","v":0},null,{"$f":"間接2次!S50","v":0},null,0,null,{"$f":"K50*各種係数!$G50","v":0},null,{"$f":"K50*各種係数!$H50","v":0}]
["28","289","その他の金属製品",null,{"$f":"間接1次!Y51","v":0},null,{"$f":"間接1次!AE51","v":0},null,{"$f":"間接2次!S51","v":0},null,0,null,{"$f":"K51*各種係数!$G51","v":0},null,{"$f":"K51*各種係数!$H51","v":0}]
["29","291","はん用機械",null,{"$f":"間接1次!Y52","v":0},null,{"$f":"間接1次!AE52","v":0},null,{"$f":"間接2次!S52","v":0},null,0,null,{"$f":"K52*各種係数!$G52","v":0},null,{"$f":"K52*各種係数!$H52","v":0}]
["30","301","生産用機械",null,{"$f":"間接1次!Y53","v":0},null,{"$f":"間接1次!AE53","v":0},null,{"$f":"間接2次!S53","v":0},null,0,null,{"$f":"K53*各種係数!$G53","v":0},null,{"$f":"K53*各種係数!$H53","v":0}]
["31","311","業務用機械",null,{"$f":"間接1次!Y54","v":0},null,{"$f":"間接1次!AE54","v":0},null,{"$f":"間接2次!S54","v":0},null,0,null,{"$f":"K54*各種係数!$G54","v":0},null,{"$f":"K54*各種係数!$H54","v":0}]
["32","321","電子デバイス",null,{"$f":"間接1次!Y55","v":0},null,{"$f":"間接1次!AE55","v":0},null,{"$f":"間接2次!S55","v":0},null,0,null,{"$f":"K55*各種係数!$G55","v":0},null,{"$f":"K55*各種係数!$H55","v":0}]
["32","329","その他の電子部品",null,{"$f":"間接1次!Y56","v":0},null,{"$f":"間接1次!AE56","v":0},null,{"$f":"間接2次!S56","v":0},null,0,null,{"$f":"K56*各種係数!$G56","v":0},null,{"$f":"K56*各種係数!$H56","v":0}]
["33","331","産業用電気機器",null,{"$f":"間接1次!Y57","v":0},null,{"$f":"間接1次!AE57","v":0},null,{"$f":"間接2次!S57","v":0},null,0,null,{"$f":"K57*各種係数!$G57","v":0},null,{"$f":"K57*各種係数!$H57","v":0}]
["33","332","民生用電気機器",null,{"$f":"間接1次!Y58","v":0},null,{"$f":"間接1次!AE58","v":0},null,{"$f":"間接2次!S58","v":0},null,0,null,{"$f":"K58*各種係数!$G58","v":0},null,{"$f":"K58*各種係数!$H58","v":0}]
["33","333","電子応用装置・電気計測器",null,{"$f":"間接1次!Y59","v":0},null,{"$f":"間接1次!AE59","v":0},null,{"$f":"間接2次!S59","v":0},null,0,null,{"$f":"K59*各種係数!$G59","v":0},null,{"$f":"K59*各種係数!$H59","v":0}]
["33","339","その他の電気機械",null,{"$f":"間接1次!Y60","v":0},null,{"$f":"間接1次!AE60","v":0},null,{"$f":"間接2次!S60","v":0},null,0,null,{"$f":"K60*各種係数!$G60","v":0},null,{"$f":"K60*各種係数!$H60","v":0}]
["34","341","通信・映像・音響機器",null,{"$f":"間接1次!Y61","v":0},null,{"$f":"間接1次!AE61","v":0},null,{"$f":"間接2次!S61","v":0},null,0,null,{"$f":"K61*各種係数!$G61","v":0},null,{"$f":"K61*各種係数!$H61","v":0}]
["34","342","電子計算機・同附属装置",null,{"$f":"間接1次!Y62","v":0},null,{"$f":"間接1次!AE62","v":0},null,{"$f":"間接2次!S62","v":0},null,0,null,{"$f":"K62*各種係数!$G62","v":0},null,{"$f":"K62*各種係数!$H62","v":0}]
["35","351","乗用車",null,{"$f":"間接1次!Y63","v":0},null,{"$f":"間接1次!AE63","v":0},null,{"$f":"間接2次!S63","v":0},null,0,null,{"$f":"K63*各種係数!$G63","v":0},null,{"$f":"K63*各種係数!$H63","v":0}]
["35","352","その他の自動車",null,{"$f":"間接1次!Y64","v":0},null,{"$f":"間接1次!AE64","v":0},null,{"$f":"間接2次!S64","v":0},null,0,null,{"$f":"K64*各種係数!$G64","v":0},null,{"$f":"K64*各種係数!$H64","v":0}]
["35","353","自動車部品・同附属品",null,{"$f":"間接1次!Y65","v":0},null,{"$f":"間接1次!AE65","v":0},null,{"$f":"間接2次!S65","v":0},null,0,null,{"$f":"K65*各種係数!$G65","v":0},null,{"$f":"K65*各種係数!$H65","v":0}]
["35","354","船舶・同修理",null,{"$f":"間接1次!Y66","v":0},null,{"$f":"間接1次!AE66","v":0},null,{"$f":"間接2次!S66","v":0},null,0,null,{"$f":"K66*各種係数!$G66","v":0},null,{"$f":"K66*各種係数!$H66","v":0}]
["35","359","その他の輸送機械・同修理",null,{"$f":"間接1次!Y67","v":0},null,{"$f":"間接1次!AE67","v":0},null,{"$f":"間接2次!S67","v":0},null,0,null,{"$f":"K67*各種係数!$G67","v":0},null,{"$f":"K67*各種係数!$H67","v":0}]
["39","391","その他の製造工業製品",null,{"$f":"間接1次!Y68","v":0},null,{"$f":"間接1次!AE68","v":0},null,{"$f":"間接2次!S68","v":0},null,0,null,{"$f":"K68*各種係数!$G68","v":0},null,{"$f":"K68*各種係数!$H68","v":0}]
["39","392","再生資源回収・加工処理",null,{"$f":"間接1次!Y69","v":0},null,{"$f":"間接1次!AE69","v":0},null,{"$f":"間接2次!S69","v":0},null,0,null,{"$f":"K69*各種係数!$G69","v":0},null,{"$f":"K69*各種係数!$H69","v":0}]
["41","411","建築",null,{"$f":"間接1次!Y70","v":0},null,{"$f":"間接1次!AE70","v":0},null,{"$f":"間接2次!S70","v":0},null,0,null,{"$f":"K70*各種係数!$G70","v":0},null,{"$f":"K70*各種係数!$H70","v":0}]
["41","412","建設補修",null,{"$f":"間接1次!Y71","v":0},null,{"$f":"間接1次!AE71","v":0},null,{"$f":"間接2次!S71","v":0},null,0,null,{"$f":"K71*各種係数!$G71","v":0},null,{"$f":"K71*各種係数!$H71","v":0}]
["41","413","公共事業",null,{"$f":"間接1次!Y72","v":0},null,{"$f":"間接1次!AE72","v":0},null,{"$f":"間接2次!S72","v":0},null,0,null,{"$f":"K72*各種係数!$G72","v":0},null,{"$f":"K72*各種係数!$H72","v":0}]
["41","419","その他の土木建設",null,{"$f":"間接1次!Y73","v":0},null,{"$f":"間接1次!AE73","v":0},null,{"$f":"間接2次!S73","v":0},null,0,null,{"$f":"K73*各種係数!$G73","v":0},null,{"$f":"K73*各種係数!$H73","v":0}]
["46","461","電気",null,{"$f":"間接1次!Y74","v":0},null,{"$f":"間接1次!AE74","v":0},null,{"$f":"間接2次!S74","v":0},null,0,null,{"$f":"K74*各種係数!$G74","v":0},null,{"$f":"K74*各種係数!$H74","v":0}]
["46","462","ガス・熱供給",null,{"$f":"間接1次!Y75","v":0},null,{"$f":"間接1次!AE75","v":0},null,{"$f":"間接2次!S75","v":0},null,0,null,{"$f":"K75*各種係数!$G75","v":0},null,{"$f":"K75*各種係数!$H75","v":0}]
["47","471","水道",null,{"$f":"間接1次!Y76","v":0},null,{"$f":"間接1次!AE76","v":0},null,{"$f":"間接2次!S76","v":0},null,0,null,{"$f":"K76*各種係数!$G76","v":0},null,{"$f":"K76*各種係数!$H76","v":0}]
["48","481","廃棄物処理",null,{"$f":"間接1次!Y77","v":0},null,{"$f":"間接1次!AE77","v":0},null,{"$f":"間接2次!S77","v":0},null,0,null,{"$f":"K77*各種係数!$G77","v":0},null,{"$f":"K77*各種係数!$H77","v":0}]
["51","511","商業",null,{"$f":"間接1次!Y78","v":0},null,{"$f":"間接1次!AE78","v":0},null,{"$f":"間接2次!S78","v":0},null,0,null,{"$f":"K78*各種係数!$G78","v":0},null,{"$f":"K78*各種係数!$H78","v":0}]
["53","531","金融・保険",null,{"$f":"間接1次!Y79","v":0},null,{"$f":"間接1次!AE79","v":0},null,{"$f":"間接2次!S79","v":0},null,0,null,{"$f":"K79*各種係数!$G79","v":0},null,{"$f":"K79*各種係数!$H79","v":0}]
["55","551","不動産仲介及び賃貸",null,{"$f":"間接1次!Y80","v":0},null,{"$f":"間接1次!AE80","v":0},null,{"$f":"間接2次!S80","v":0},null,0,null,{"$f":"K80*各種係数!$G80","v":0},null,{"$f":"K80*各種係数!$H80","v":0}]
["55","552","住宅賃貸料",null,{"$f":"間接1次!Y81","v":0},null,{"$f":"間接1次!AE81","v":0},null,{"$f":"間接2次!S81","v":0},null,0,null,{"$f":"K81*各種係数!$G81","v":0},null,{"$f":"K81*各種係数!$H81","v":0}]
["55","553","住宅賃貸料（帰属家賃）",null,{"$f":"間接1次!Y82","v":0},null,{"$f":"間接1次!AE82","v":0},null,{"$f":"間接2次!S82","v":0},null,0,null,{"$f":"K82*各種係数!$G82","v":0},null,{"$f":"K82*各種係数!$H82","v":0}]
["57","571","鉄道輸送",null,{"$f":"間接1次!Y83","v":0},null,{"$f":"間接1次!AE83","v":0},null,{"$f":"間接2次!S83","v":0},null,0,null,{"$f":"K83*各種係数!$G83","v":0},null,{"$f":"K83*各種係数!$H83","v":0}]
["57","572","道路輸送（自家輸送を除く。）",null,{"$f":"間接1次!Y84","v":0},null,{"$f":"間接1次!AE84","v":0},null,{"$f":"間接2次!S84","v":0},null,0,null,{"$f":"K84*各種係数!$G84","v":0},null,{"$f":"K84*各種係数!$H84","v":0}]
["57","573","自家輸送",null,{"$f":"間接1次!Y85","v":0},null,{"$f":"間接1次!AE85","v":0},null,{"$f":"間接2次!S85","v":0},null,0,null,{"$f":"K85*各種係数!$G85","v":0},null,{"$f":"K85*各種係数!$H85","v":0}]
["57","574","水運",null,{"$f":"間接1次!Y86","v":0},null,{"$f":"間接1次!AE86","v":0},null,{"$f":"間接2次!S86","v":0},null,0,null,{"$f":"K86*各種係数!$G86","v":0},null,{"$f":"K86*各種係数!$H86","v":0}]
["57","575","航空輸送",null,{"$f":"間接1次!Y87","v":0},null,{"$f":"間接1次!AE87","v":0},null,{"$f":"間接2次!S87","v":0},null,0,null,{"$f":"K87*各種係数!$G87","v":0},null,{"$f":"K87*各種係数!$H87","v":0}]
["57","576","貨物利用運送",null,{"$f":"間接1次!Y88","v":0},null,{"$f":"間接1次!AE88","v":0},null,{"$f":"間接2次!S88","v":0},null,0,null,{"$f":"K88*各種係数!$G88","v":0},null,{"$f":"K88*各種係数!$H88","v":0}]
["57","577","倉庫",null,{"$f":"間接1次!Y89","v":0},null,{"$f":"間接1次!AE89","v":0},null,{"$f":"間接2次!S89","v":0},null,0,null,{"$f":"K89*各種係数!$G89","v":0},null,{"$f":"K89*各種係数!$H89","v":0}]
["57","578","運輸附帯サービス",null,{"$f":"間接1次!Y90","v":0},null,{"$f":"間接1次!AE90","v":0},null,{"$f":"間接2次!S90","v":0},null,0,null,{"$f":"K90*各種係数!$G90","v":0},null,{"$f":"K90*各種係数!$H90","v":0}]
["57","579","郵便・信書便",null,{"$f":"間接1次!Y91","v":0},null,{"$f":"間接1次!AE91","v":0},null,{"$f":"間接2次!S91","v":0},null,0,null,{"$f":"K91*各種係数!$G91","v":0},null,{"$f":"K91*各種係数!$H91","v":0}]
["59","591","通信",null,{"$f":"間接1次!Y92","v":0},null,{"$f":"間接1次!AE92","v":0},null,{"$f":"間接2次!S92","v":0},null,0,null,{"$f":"K92*各種係数!$G92","v":0},null,{"$f":"K92*各種係数!$H92","v":0}]
["59","592","放送",null,{"$f":"間接1次!Y93","v":0},null,{"$f":"間接1次!AE93","v":0},null,{"$f":"間接2次!S93","v":0},null,0,null,{"$f":"K93*各種係数!$G93","v":0},null,{"$f":"K93*各種係数!$H93","v":0}]
["59","593","情報サービス",null,{"$f":"間接1次!Y94","v":0},null,{"$f":"間接1次!AE94","v":0},null,{"$f":"間接2次!S94","v":0},null,0,null,{"$f":"K94*各種係数!$G94","v":0},null,{"$f":"K94*各種係数!$H94","v":0}]
["59","594","インターネット附随サービス",null,{"$f":"間接1次!Y95","v":0},null,{"$f":"間接1次!AE95","v":0},null,{"$f":"間接2次!S95","v":0},null,0,null,{"$f":"K95*各種係数!$G95","v":0},null,{"$f":"K95*各種係数!$H95","v":0}]
["59","595","映像・音声・文字情報制作",null,{"$f":"間接1次!Y96","v":0},null,{"$f":"間接1次!AE96","v":0},null,{"$f":"間接2次!S96","v":0},null,0,null,{"$f":"K96*各種係数!$G96","v":0},null,{"$f":"K96*各種係数!$H96","v":0}]
["61","611","公務",null,{"$f":"間接1次!Y97","v":0},null,{"$f":"間接1次!AE97","v":0},null,{"$f":"間接2次!S97","v":0},null,0,null,{"$f":"K97*各種係数!$G97","v":0},null,{"$f":"K97*各種係数!$H97","v":0}]
["63","631","教育",null,{"$f":"間接1次!Y98","v":0},null,{"$f":"間接1次!AE98","v":0},null,{"$f":"間接2次!S98","v":0},null,0,null,{"$f":"K98*各種係数!$G98","v":0},null,{"$f":"K98*各種係数!$H98","v":0}]
["63","632","研究",null,{"$f":"間接1次!Y99","v":0},null,{"$f":"間接1次!AE99","v":0},null,{"$f":"間接2次!S99","v":0},null,0,null,{"$f":"K99*各種係数!$G99","v":0},null,{"$f":"K99*各種係数!$H99","v":0}]
["64","641","医療",null,{"$f":"間接1次!Y100","v":0},null,{"$f":"間接1次!AE100","v":0},null,{"$f":"間接2次!S100","v":0},null,0,null,{"$f":"K100*各種係数!$G100","v":0},null,{"$f":"K100*各種係数!$H100","v":0}]
["64","642","保健衛生",null,{"$f":"間接1次!Y101","v":0},null,{"$f":"間接1次!AE101","v":0},null,{"$f":"間接2次!S101","v":0},null,0,null,{"$f":"K101*各種係数!$G101","v":0},null,{"$f":"K101*各種係数!$H101","v":0}]
["64","643","社会保険・社会福祉",null,{"$f":"間接1次!Y102","v":0},null,{"$f":"間接1次!AE102","v":0},null,{"$f":"間接2次!S102","v":0},null,0,null,{"$f":"K102*各種係数!$G102","v":0},null,{"$f":"K102*各種係数!$H102","v":0}]
["64","644","介護",null,{"$f":"間接1次!Y103","v":0},null,{"$f":"間接1次!AE103","v":0},null,{"$f":"間接2次!S103","v":0},null,0,null,{"$f":"K103*各種係数!$G103","v":0},null,{"$f":"K103*各種係数!$H103","v":0}]
["65","659","他に分類されない会員制団体",null,{"$f":"間接1次!Y104","v":0},null,{"$f":"間接1次!AE104","v":0},null,{"$f":"間接2次!S104","v":0},null,0,null,{"$f":"K104*各種係数!$G104","v":0},null,{"$f":"K104*各種係数!$H104","v":0}]
["66","661","物品賃貸サービス",null,{"$f":"間接1次!Y105","v":0},null,{"$f":"間接1次!AE105","v":0},null,{"$f":"間接2次!S105","v":0},null,0,null,{"$f":"K105*各種係数!$G105","v":0},null,{"$f":"K105*各種係数!$H105","v":0}]
["66","662","広告",null,{"$f":"間接1次!Y106","v":0},null,{"$f":"間接1次!AE106","v":0},null,{"$f":"間接2次!S106","v":0},null,0,null,{"$f":"K106*各種係数!$G106","v":0},null,{"$f":"K106*各種係数!$H106","v":0}]
["66","663","自動車整備・機械修理",null,{"$f":"間接1次!Y107","v":0},null,{"$f":"間接1次!AE107","v":0},null,{"$f":"間接2次!S107","v":0},null,0,null,{"$f":"K107*各種係数!$G107","v":0},null,{"$f":"K107*各種係数!$H107","v":0}]
["66","669","その他の対事業所サービス",null,{"$f":"間接1次!Y108","v":0},null,{"$f":"間接1次!AE108","v":0},null,{"$f":"間接2次!S108","v":0},null,0,null,{"$f":"K108*各種係数!$G108","v":0},null,{"$f":"K108*各種係数!$H108","v":0}]
["67","671","宿泊業",null,{"$f":"間接1次!Y109","v":0},null,{"$f":"間接1次!AE109","v":0},null,{"$f":"間接2次!S109","v":0},null,0,null,{"$f":"K109*各種係数!$G109","v":0},null,{"$f":"K109*各種係数!$H109","v":0}]
["67","672","飲食サービス",null,{"$f":"間接1次!Y110","v":0},null,{"$f":"間接1次!AE110","v":0},null,{"$f":"間接2次!S110","v":0},null,0,null,{"$f":"K110*各種係数!$G110","v":0},null,{"$f":"K110*各種係数!$H110","v":0}]
["67","673","洗濯・理容・美容・浴場業",null,{"$f":"間接1次!Y111","v":0},null,{"$f":"間接1次!AE111","v":0},null,{"$f":"間接2次!S111","v":0},null,0,null,{"$f":"K111*各種係数!$G111","v":0},null,{"$f":"K111*各種係数!$H111","v":0}]
["67","674","娯楽サービス",null,{"$f":"間接1次!Y112","v":0},null,{"$f":"間接1次!AE112","v":0},null,{"$f":"間接2次!S112","v":0},null,0,null,{"$f":"K112*各種係数!$G112","v":0},null,{"$f":"K112*各種係数!$H112","v":0}]
["67","675","獣医業",null,{"$f":"間接1次!Y113","v":0},null,{"$f":"間接1次!AE113","v":0},null,{"$f":"間接2次!S113","v":0},null,0,null,{"$f":"K113*各種係数!$G113","v":0},null,{"$f":"K113*各種係数!$H113","v":0}]
["67","679","その他の対個人サービス",null,{"$f":"間接1次!Y114","v":0},null,{"$f":"間接1次!AE114","v":0},null,{"$f":"間接2次!S114","v":0},null,0,null,{"$f":"K114*各種係数!$G114","v":0},null,{"$f":"K114*各種係数!$H114","v":0}]
["68","681","事務用品",null,{"$f":"間接1次!Y115","v":0},null,{"$f":"間接1次!AE115","v":0},null,{"$f":"間接2次!S115","v":0},null,0,null,{"$f":"K115*各種係数!$G115","v":0},null,{"$f":"K115*各種係数!$H115","v":0}]
["69","691","分類不明",null,{"$f":"間接1次!Y116","v":0},null,{"$f":"間接1次!AE116","v":0},null,{"$f":"間接2次!S116","v":0},null,0,null,{"$f":"K116*各種係数!$G116","v":0},null,{"$f":"K116*各種係数!$H116","v":0}]
[null,null,"合計",null,{"$f":"SUM(E8:E116)","v":0},null,{"$f":"SUM(G8:G116)","v":0},null,{"$f":"SUM(I8:I116)","v":0},null,{"$f":"SUM(K8:K116)","v":0},null,{"$f":"SUM(M8:M116)","v":0},null,{"$f":"SUM(O8:O116)","v":0}]

{"sheet":"グラフ","index":6,"n_rows":2,"n_cols":2,"rows_kept":2,"cut":false,"hidden":false,"merged":[]}
[]
[null,"波及効果・雇用者誘発人数グラフ（一般波及109部門→37部門集約）"]

{"sheet":"登録","index":7,"n_rows":7,"n_cols":3,"rows_kept":7,"cut":false,"hidden":false,"merged":[]}
[]
[]
["【データ登録シート】",null,"＊登録データの編集及び登録行の挿入・削除は自由に行えます。"]
[]
[]
["登録名","平均消費性向","県内・県外の内訳不明;県内需要のみ(購入者価格);県内需要のみ(生産者価格)→"]
["新規入力…"]

{"sheet":"各種係数","index":8,"n_rows":116,"n_cols":13,"rows_kept":116,"cut":false,"hidden":false,"merged":[]}
[]
[null,"各種係数"]
[]
[]
[null,null,null,"商業マージン","運輸マージン","県内自給率","雇用者係数","粗付加価値率","雇用者所得率","民間消費支出"]
[null,"109部門",null,null,null,null,null,null,null,"構成比",null,"平均消費性向","種別（必要に応じて変更可能）"]
[null,null,null,"cm","tm","1-M","l","v","w","c",null,"k"]
[null,"011","耕種農業",0.29369765644298884,6.4975735698405493E-2,0.30450753238255279,0.13730390961554093,{"$f":"投入係数!D$125","v":0.53203278466436366},{"$f":"投入係数!D$119","v":0.21107498475919528},1.1536235929735184E-2,null,0.61399999999999999,"←クリックしてリストボタンで選択。"]
[null,"012","畜産",6.1218582661971152E-2,2.2070529210285107E-2,0.30401846541801392,5.8352473772425355E-2,{"$f":"投入係数!E$125","v":0.2885283893395133},{"$f":"投入係数!E$119","v":0.10385283893395134},9.7397782488463185E-4,null,0.64800000000000002,"総務省　家計調査年報(令和3年・東海)"]
[null,"013","農業サービス",0,0,0.67199208256751031,0.16028751123090745,{"$f":"投入係数!F$125","v":0.60970350404312668},{"$f":"投入係数!F$119","v":0.16783468104222821},0,null,0.64600000000000002,"総務省　家計調査年報(令和4年・東海)"]
[null,"015","林業",0.24139676113360325,3.9979757085020245E-2,0.586796875,0.10750042908633217,{"$f":"投入係数!G$125","v":0.61550343249427919},{"$f":"投入係数!G$119","v":0.22322654462242564},8.1521027976237215E-4,null,0.64100000000000001,"総務省　家計調査年報(令和5年・東海)"]
[null,"017","漁業",0.29613770660272332,4.2862036481973106E-2,0.14939480633802815,6.4595769769327141E-2,{"$f":"投入係数!H$125","v":0.54468908337171806},{"$f":"投入係数!H$119","v":0.17053892215568861},1.1310006717088449E-3,null,0.61399999999999999,"総務省　家計調査年報(令和6年・東海)"]
[null,"061","石炭・原油・天然ガス",1.0607348326359834E-2,6.1421286610878666E-2,0,0,{"$f":"投入係数!I$125","v":0},{"$f":"投入係数!I$119","v":0},0,null,null,"その他(ユーザー定義1)"]
[null,"062","その他の鉱業",2.0164218287437859E-2,0.12254929341451154,7.0470172003293197E-2,5.7638238050609185E-2,{"$f":"投入係数!J$125","v":0.55607622617931896},{"$f":"投入係数!J$119","v":0.26944704779756329},0,null,null,"その他(ユーザー定義2)"]
[null,"111","食料品",0.33024546766013774,3.1955040973244697E-2,0.26547963254076545,3.5649722082309335E-2,{"$f":"投入係数!K$125","v":0.32159251071910744},{"$f":"投入係数!K$119","v":0.15423497470439002},8.9013780208724066E-2]
[null,"112","飲料",0.32523640837872969,4.4324710505164767E-2,0.26203764365126669,2.0060664299756462E-2,{"$f":"投入係数!L$125","v":0.36951191556863716},{"$f":"投入係数!L$119","v":0.10057491816356284},1.7691676916769167E-2,null,"県内総生産","名目値（県内総生産への寄与を計算）"]
[null,"113","飼料・有機質肥料（別掲を除く。）",0.28294718021306714,9.2788497355285701E-2,0.24938538696036971,5.4838053592311996E-2,{"$f":"投入係数!M$125","v":0.26024611003762838},{"$f":"投入係数!M$119","v":5.9874911013932677E-2},7.8496884259622742E-4,null,182711,"令和4年度静岡県の県民経済計算(単位：億円)"]
[null,"114","たばこ",0.18206157965194111,1.4151845477146683E-2,0.35460354720918097,2.154207181430882E-3,{"$f":"投入係数!N$125","v":0.83910071103642536},{"$f":"投入係数!N$119","v":5.1841625056908827E-2},9.9020351905646717E-3]
[null,"151","繊維工業製品",0.19102222705287755,2.1683604151948262E-2,0.20163471541090805,4.1666666666666664E-2,{"$f":"投入係数!O$125","v":0.44052197208659205},{"$f":"投入係数!O$119","v":0.25240893574731021},2.9892497506535349E-4,null,"係数","説明"]
[null,"152","衣服・その他の繊維既製品",0.46937788056225299,3.3361216355852978E-2,0.10702258524013797,0.15456467422640785,{"$f":"投入係数!P$125","v":0.43593095228941603},{"$f":"投入係数!P$119","v":0.26288877782476644},8.4692017132937288E-3,null,"投入係数","各産業が1単位の生産を行うために必要な原材料等の"]
[null,"161","木材・木製品",0.14444105141998076,7.0940311479645773E-2,0.24852586781520791,3.8735886341431165E-2,{"$f":"投入係数!Q$125","v":0.47107699089039085},{"$f":"投入係数!Q$119","v":0.16356156332647664},2.0936379576561723E-4,null,null,"投入割合。"]
[null,"162","家具・装備品",0.41514277992973614,2.9118998288442489E-2,0.14357719961455784,7.3157832105882503E-2,{"$f":"投入係数!R$125","v":0.42146880702403933},{"$f":"投入係数!R$119","v":0.23744479411842487},4.928772691982239E-4,null,"逆行列係数","各産業に1単位の最終需要が発生したとき、それぞれの"]
[null,"163","パルプ・紙・板紙・加工紙",0.18517792198530986,8.1384154603151973E-2,0.19929710959974489,1.3376658661852092E-2,{"$f":"投入係数!S$125","v":0.27728477836937709},{"$f":"投入係数!S$119","v":0.10273669449374438},1.6385624849156292E-4,null,null,"産業の生産額がどれだけ誘発されるかを示す係数。"]
[null,"164","紙加工品",0.18054454660748259,8.7666455294863666E-2,0.6754459506519972,4.4149899115566507E-2,{"$f":"投入係数!T$125","v":0.45194339808225514},{"$f":"投入係数!T$119","v":0.22285077797065697},1.0665922262059499E-3,null,"商業マージン","購入者価格と生産者価格との差額のうち、商業部門に"]
[null,"191","印刷・製版・製本",5.7283738878765138E-2,4.815092721620752E-2,0.47554803157767456,7.5916405651323182E-2,{"$f":"投入係数!U$125","v":0.60608720882652722},{"$f":"投入係数!U$119","v":0.28954044623659914},1.7708687725175124E-4,null,null,"投入された金額及びその割合。"]
[null,"201","化学肥料",0.21432496794284669,4.6895035720827996E-2,4.2538056622563714E-2,1.9869920639656303E-2,{"$f":"投入係数!V$125","v":0.37332139659803043},{"$f":"投入係数!V$119","v":0.10480453595941509},2.9223696492284072E-5,null,"運輸マージン","購入者価格と生産者価格との差額のうち、運輸部門に"]
[null,"202","無機化学工業製品",0.13084780083976055,4.7258866621005917E-2,6.2396230440307621E-2,6.8949904595582284E-2,{"$f":"投入係数!W$125","v":0.4433843267893528},{"$f":"投入係数!W$119","v":9.7318800737410657E-2},5.4231038764288352E-5,null,null,"投入された金額及びその割合。"]
[null,"203","石油化学系基礎製品",2.3540364410160924E-2,5.102628895686482E-2,0,0,{"$f":"投入係数!X$125","v":0},{"$f":"投入係数!X$119","v":0},0,null,"県内自給率","県内で発生した需要のうち、移輸入分を含まず、県内で"]
[null,"204","有機化学工業製品（石油化学系基礎製品・合成樹脂を除く。）",8.8871325984166138E-2,3.5087958357747286E-2,5.4209304529088453E-2,4.9346410260358124E-2,{"$f":"投入係数!Y$125","v":0.36133224519963658},{"$f":"投入係数!Y$119","v":0.11345333600234052},2.9078304967446836E-7,null,null,"生産された財・サービスのみによって賄われる割合。"]
[null,"205","合成樹脂",0.15534039334341906,3.6701966717095309E-2,0.25556018972055983,1.8105626819359587E-2,{"$f":"投入係数!Z$125","v":0.29286354040048623},{"$f":"投入係数!Z$119","v":8.4639498432601878E-2},0,null,"雇用者係数","各産業が生産を1単位増加したときに、新たな雇用者が"]
[null,"206","化学繊維",0.18421967327076816,3.9798401112269725E-2,3.9249035127886245E-3,7.4061810154525384E-2,{"$f":"投入係数!AA$125","v":0.40532185050237385},{"$f":"投入係数!AA$119","v":0.18206911780942917},0,null,null,"何人必要になるかを示す係数。"]
[null,"207","医薬品",0.1993817797389226,2.7521143592572166E-2,0.50619081944383149,9.8553331605664724E-3,{"$f":"投入係数!AB$125","v":0.40476659294424322},{"$f":"投入係数!AB$119","v":9.9690416635437318E-2},3.4379279963012398E-3,null,"粗付加価値率","生産活動によって新たに生じた価値が生産額の何割を"]
[null,"208","化学最終製品（医薬品を除く。）",0.35311015522723022,1.8746960912661304E-2,0.26397453749751343,1.4143135079811591E-2,{"$f":"投入係数!AC$125","v":0.38567956014878058},{"$f":"投入係数!AC$119","v":0.15153273920966576},7.6321827048057723E-3,null,null,"占めるかを示す率。"]
[null,"211","石油製品",0.19750256547539374,2.0847276134386292E-2,1.6446266942101939E-2,3.8636643287806076E-2,{"$f":"投入係数!AD$125","v":0.41452307692307694},{"$f":"投入係数!AD$119","v":1.2676923076923077E-2},2.413993643482534E-2,null,"雇用者所得率","生産活動によって新たに生じた雇用者所得が生産額"]
[null,"212","石炭製品",2.2852733424348549E-2,4.8792069804713005E-2,0.50836090089273578,1.1348850657799624E-2,{"$f":"投入係数!AE$125","v":0.28903029864776919},{"$f":"投入係数!AE$119","v":3.5360474365463877E-2},0,null,null,"の何割を占めるかを示す率。"]
[null,"221","プラスチック製品",0.18029790202563045,3.3426777594047129E-2,0.38025806809486751,4.2790722239919192E-2,{"$f":"投入係数!AF$125","v":0.41296393186120706},{"$f":"投入係数!AF$119","v":0.22748361476923687},1.5114902922078867E-3,null,"民間消費支出","各産業が生産した財・サービスのうち、最終的に民間"]
[null,"222","ゴム製品",0.20166446084479242,2.8219565266156713E-2,0.18515803316353519,3.9520074038164911E-2,{"$f":"投入係数!AG$125","v":0.54799259618350893},{"$f":"投入係数!AG$119","v":0.28222643338768677},1.7132937286819677E-3,null,"構成比","消費に回された金額の産業別構成比。"]
[null,"231","なめし革・革製品・毛皮",0.40671778021175609,2.1384238251708133E-2,1.1357183418512218E-3,0.12880678981527707,{"$f":"投入係数!AH$125","v":0.40972918756268806},{"$f":"投入係数!AH$119","v":0.39518555667001004},3.9752950720996572E-3,null,"平均消費性向","雇用者所得のうち、消費に回される金額の平均割合。"]
[null,"251","ガラス・ガラス製品",0.15704275082839916,6.0948449128143845E-2,6.9908125730026027E-3,3.0378910872017831E-2,{"$f":"投入係数!AI$125","v":0.49339498018494055},{"$f":"投入係数!AI$119","v":0.22834103918978424},6.4117662453220273E-5,null,null,"消費転換係数とも言う。"]
[null,"252","セメント・セメント製品",0.21621830152769922,5.88189907926547E-2,0.28565985012066553,3.1293513055711063E-2,{"$f":"投入係数!AJ$125","v":0.49890182455032228},{"$f":"投入係数!AJ$119","v":0.19247498600364624},6.9787931921872407E-6]
[null,"253","陶磁器",0.18062884784520672,2.9023746701846966E-2,1.6671850699844448E-2,0.62188679245283018,{"$f":"投入係数!AK$125","v":0.49507202426080366},{"$f":"投入係数!AK$119","v":0.30250189537528432},6.8915582772849008E-5]
[null,"259","その他の窯業・土石製品",0.14159353670427638,9.1551748154339044E-2,0.43178519593613929,3.8731952291274324E-2,{"$f":"投入係数!AL$125","v":0.50998116760828627},{"$f":"投入係数!AL$119","v":0.26135174722745347},3.7322004425718012E-4]
[null,"2611","銑鉄・粗鋼",8.1226932110502192E-3,1.3071804048764122E-2,0,0,{"$f":"投入係数!AM$125","v":0},{"$f":"投入係数!AM$119","v":0},0]
[null,"2612","鉄屑",0,0,1,0,{"$f":"投入係数!AN$125","v":0},{"$f":"投入係数!AN$119","v":0},0]
[null,"262","鋼材",6.8981788807754754E-2,4.0453320323434613E-2,4.1368854899048735E-3,0.18595937684874778,{"$f":"投入係数!AO$125","v":0.31107604300226849},{"$f":"投入係数!AO$119","v":9.3204458033336615E-2},0]
[null,"263","鋳鍛造品（鉄）",2.5563909774436091E-2,4.8814343551185663E-2,0.17250748111908043,2.5797977795400474E-2,{"$f":"投入係数!AP$125","v":0.42821033850423751},{"$f":"投入係数!AP$119","v":0.21170144223620954},1.4539152483723418E-7]
[null,"269","その他の鉄鋼製品",3.5285125896989511E-2,3.4902976519043782E-2,0.53514626896803463,1.376474553420964E-2,{"$f":"投入係数!AQ$125","v":0.40987341430863183},{"$f":"投入係数!AQ$119","v":0.1172569055932272},0]
[null,"271","非鉄金属製錬・精製",9.092742806921493E-2,3.1480974541472764E-2,0.33382802369923847,2.1035747021081578E-2,{"$f":"投入係数!AR$125","v":0.17767567629501471},{"$f":"投入係数!AR$119","v":4.7274768839442233E-2},6.2750982119750274E-4]
[null,"272","非鉄金属加工製品",7.6309727718386386E-2,3.4256688913826709E-2,0.33828206379363446,2.7815764918238416E-2,{"$f":"投入係数!AS$125","v":0.23486670215564978},{"$f":"投入係数!AS$119","v":0.1534164265041516},2.1954120250422362E-5]
[null,"281","建設用・建築用金属製品",7.3545328042055366E-2,6.3151746293528502E-2,0.38108579016448807,4.8726883818232036E-2,{"$f":"投入係数!AT$125","v":0.47733189166318979},{"$f":"投入係数!AT$119","v":0.2359363706345895},1.1965722494104373E-4]
[null,"289","その他の金属製品",0.11675861351098159,3.4651816383886744E-2,0.28291163587179069,7.3469824331806516E-2,{"$f":"投入係数!AU$125","v":0.51420086325141257},{"$f":"投入係数!AU$119","v":0.34265795864950233},1.0226839857051054E-3]
[null,"291","はん用機械",0.12361904485748253,1.523762577203004E-2,0.16035741383247515,2.7517962004439855E-2,{"$f":"投入係数!AV$125","v":0.47369181954452416},{"$f":"投入係数!AV$119","v":0.21037793993441026},5.8883567559079844E-5]
[null,"301","生産用機械",0.13307588939694828,1.3002141799019451E-2,0.51005646966830065,5.0566251337831471E-2,{"$f":"投入係数!AW$125","v":0.49748096123276964},{"$f":"投入係数!AW$119","v":0.33110212582966159},2.0064030427538317E-5]
[null,"311","業務用機械",0.20693439316644918,1.5492150116660735E-2,5.2735244988864172E-2,4.3039073700492113E-2,{"$f":"投入係数!AX$125","v":0.44246638309049385},{"$f":"投入係数!AX$119","v":0.29755068984889721},3.4690417826164078E-4]
[null,"321","電子デバイス",7.4709381527563359E-2,8.8093724457360828E-3,1.8089320855568802E-3,9.9927906466476507E-2,{"$f":"投入係数!AY$125","v":0.40609916630100923},{"$f":"投入係数!AY$119","v":0.15664765247915752},8.7234914902340511E-6]
[null,"329","その他の電子部品",6.1599810825916861E-2,1.3059460853863022E-2,0.27554199889718434,5.5577857791337539E-2,{"$f":"投入係数!AZ$125","v":0.33299159445888943},{"$f":"投入係数!AZ$119","v":0.25260472958367558},6.9773392769388685E-4]
[null,"331","産業用電気機器",9.7016963839987938E-2,1.0474064445637532E-2,0.62347031034871292,4.0387400193965806E-2,{"$f":"投入係数!BA$125","v":0.35365389214131987},{"$f":"投入係数!BA$119","v":0.21281083841863954},3.2567701563540458E-5]
[null,"332","民生用電気機器",0.36327043597887193,8.2032643217445928E-3,0.100624578586891,1.2482406796938197E-2,{"$f":"投入係数!BB$125","v":0.35386935378284862},{"$f":"投入係数!BB$119","v":0.1382586738988123},1.0524892482967382E-2]
[null,"333","電子応用装置・電気計測器",0.12592592592592594,1.2797026417098102E-2,9.4732394366197181E-2,8.1812639131112905E-2,{"$f":"投入係数!BC$125","v":0.33244952359346641},{"$f":"投入係数!BC$119","v":0.23869952359346641},2.9078304967446836E-7]
[null,"339","その他の電気機械",0.22401071679176679,1.4522953922048099E-2,0.53877105194368724,1.5828706880419187E-2,{"$f":"投入係数!BD$125","v":0.38906847685394558},{"$f":"投入係数!BD$119","v":0.18419932853161405},2.3373141532833769E-3]
[null,"341","通信・映像・音響機器",0.2062371220136994,9.8234671715765436E-3,8.8138204225352124E-2,1.5637645216029238E-2,{"$f":"投入係数!BE$125","v":0.35236106125379368},{"$f":"投入係数!BE$119","v":0.19436739222660968},1.0610091916522003E-2]
[null,"342","電子計算機・同附属装置",0.17396775729542208,7.0743486837630092E-3,6.7614730714089188E-2,1.6154653886540481E-2,{"$f":"投入係数!BF$125","v":0.30291322258420611},{"$f":"投入係数!BF$119","v":0.14799009181228293},2.1417625523772969E-3]
[null,"351","乗用車",0.18303582783511971,2.1278976899872314E-2,0.13863046606760421,1.886311135046272E-2,{"$f":"投入係数!BG$125","v":0.14852113773897763},{"$f":"投入係数!BG$119","v":7.6997208089454511E-2},1.9982756565154303E-2]
[null,"352","その他の自動車",0.11772519530810276,1.7448274309386048E-2,0.14227642276422769,2.0619129854651464E-2,{"$f":"投入係数!BH$125","v":0.19348483269050348},{"$f":"投入係数!BH$119","v":0.12567844608916223},1.2369910933151885E-3]
[null,"353","自動車部品・同附属品",2.459845401786789E-2,1.9280628667292764E-2,0.33890450865485588,2.8644053495338141E-2,{"$f":"投入係数!BI$125","v":0.26034035339815492},{"$f":"投入係数!BI$119","v":0.18763228805117999},4.1581976103448978E-5]
[null,"354","船舶・同修理",6.1028128031037833E-2,4.3452958292919492E-3,0.63915527784275072,6.8163227365681353E-2,{"$f":"投入係数!BJ$125","v":0.30079290567861755},{"$f":"投入係数!BJ$119","v":0.18348376541890146},5.0305467593683032E-5]
[null,"359","その他の輸送機械・同修理",0.10403100282710205,1.230901178488612E-2,0.21625099520450297,7.8712409387784399E-2,{"$f":"投入係数!BK$125","v":0.28056412832842892},{"$f":"投入係数!BK$119","v":0.17435584583363239},5.0494476575971433E-4]
[null,"391","その他の製造工業製品",0.43455894508572152,5.8317855163225824E-2,0.3084976123423534,6.0071559227321152E-2,{"$f":"投入係数!BL$125","v":0.41386293852485789},{"$f":"投入係数!BL$119","v":0.25255916096707892},7.0874006612406549E-3]
[null,"392","再生資源回収・加工処理",0,0,1,5.1406015727792909E-2,{"$f":"投入係数!BM$125","v":0.17661638260763135},{"$f":"投入係数!BM$119","v":0.24512713809246964},3.9531955603243975E-4]
[null,"411","建築",0,0,1,6.5916152383535903E-2,{"$f":"投入係数!BN$125","v":0.47179040858821431},{"$f":"投入係数!BN$119","v":0.32882220999831713},0]
[null,"412","建設補修",0,0,1,6.6278905353167161E-2,{"$f":"投入係数!BO$125","v":0.47980070314690593},{"$f":"投入係数!BO$119","v":0.34277093563593575},0]
[null,"413","公共事業",0,0,1,7.5671980021955312E-2,{"$f":"投入係数!BP$125","v":0.49905951685487027},{"$f":"投入係数!BP$119","v":0.33207721591310319},0]
[null,"419","その他の土木建設",0,0,1,7.5624041940593911E-2,{"$f":"投入係数!BQ$125","v":0.52805856463951362},{"$f":"投入係数!BQ$119","v":0.40929761212267551},0]
[null,"461","電気",0,0,0.65150596096315438,1.0838463750737269E-2,{"$f":"投入係数!BR$125","v":0.46809490732277997},{"$f":"投入係数!BR$119","v":7.7229798072118841E-2},2.2776890889476271E-2]
[null,"462","ガス・熱供給",0,0,0.95929481679506512,1.3659556040893943E-2,{"$f":"投入係数!BS$125","v":0.24582925359644497},{"$f":"投入係数!BS$119","v":8.1786171574903963E-2},5.6736134737233896E-3]
[null,"471","水道",0,0,1,1.5235815249115185E-2,{"$f":"投入係数!BT$125","v":0.47675380909453646},{"$f":"投入係数!BT$119","v":0.1198442372205063},7.9091535596207026E-3]
[null,"481","廃棄物処理",0,0,1,8.9991166965508851E-2,{"$f":"投入係数!BU$125","v":0.64981170397325771},{"$f":"投入係数!BU$119","v":0.45479837515338722},4.1349349663709406E-3]
[null,"511","商業",-33.737100093545365,0,0.50597007993588705,0.12458892171038653,{"$f":"投入係数!BV$125","v":0.69396058146290829},{"$f":"投入係数!BV$119","v":0.43770530488068576},0.20838618315261165]
[null,"531","金融・保険",0,0,0.89637602663961435,4.1376480992819618E-2,{"$f":"投入係数!BW$125","v":0.63345056135397915},{"$f":"投入係数!BW$119","v":0.30446627062848791},6.4186578035993119E-2]
[null,"551","不動産仲介及び賃貸",0,0,0.92881149069785129,3.0119178287833209E-2,{"$f":"投入係数!BX$125","v":0.72050689671979329},{"$f":"投入係数!BX$119","v":0.18500755471072769},3.8825352792535017E-3]
[null,"552","住宅賃貸料",0,0,1,1.7583058642289959E-2,{"$f":"投入係数!BY$125","v":0.64366907941686202},{"$f":"投入係数!BY$119","v":0.10239745811669555},5.1247604674628307E-2]
[null,"553","住宅賃貸料（帰属家賃）",0,0,1,0,{"$f":"投入係数!BZ$125","v":0.8909577292973031},{"$f":"投入係数!BZ$119","v":0},0]
[null,"571","鉄道輸送",0,-2.3357664233576644E-2,0.41863238802014313,3.0632484107820431E-2,{"$f":"投入係数!CA$125","v":0.65383407146420935},{"$f":"投入係数!CA$119","v":0.2920903989602518},8.7056083326790719E-3]
[null,"572","道路輸送（自家輸送を除く。）",0,-1.9678705180021507,0.60482701367287128,0.13390215051678334,{"$f":"投入係数!CB$125","v":0.78104136003924829},{"$f":"投入係数!CB$119","v":0.57716539555664148},1.8266264222925918E-2]
[null,"573","自家輸送",0,0,1,0,{"$f":"投入係数!CC$125","v":0},{"$f":"投入係数!CC$119","v":0},0]
[null,"574","水運",0,-0.19535920559327186,0.18916824752184247,2.4442147504104093E-2,{"$f":"投入係数!CD$125","v":0.27439534212006506},{"$f":"投入係数!CD$119","v":0.13959958042595885},6.4568376180215703E-4]
[null,"575","航空輸送",0,-6.4388045286258525E-3,0.26562196966758467,7.8813454139257787E-3,{"$f":"投入係数!CE$125","v":0.23621021281876281},{"$f":"投入係数!CE$119","v":0.1970590060184898},4.1560167374723395E-3]
[null,"576","貨物利用運送",0,-9.7097625329815305,0.14974994998999802,0.13595474989777839,{"$f":"投入係数!CF$125","v":0.68184296619411122},{"$f":"投入係数!CF$119","v":0.46339967284623773},6.9279061584942092E-4]
[null,"577","倉庫",0,-12.315260166156538,0.49833639105693583,7.5087438411908777E-2,{"$f":"投入係数!CG$125","v":0.60132656075781687},{"$f":"投入係数!CG$119","v":0.31476275337596371},1.3624639792497216E-3]
[null,"578","運輸附帯サービス",0,0,0.44273488429573327,2.7220113914177661E-2,{"$f":"投入係数!CH$125","v":0.59520680603393183},{"$f":"投入係数!CH$119","v":0.27730131316342282},1.6305659510495812E-2]
[null,"579","郵便・信書便",0,0,0.64682046323156972,0.10187300137048881,{"$f":"投入係数!CI$125","v":0.78166736960494865},{"$f":"投入係数!CI$119","v":0.595669900182764},6.2910912797071235E-4]
[null,"591","通信",0,0,0.93118114475428959,4.3600323280445783E-3,{"$f":"投入係数!CJ$125","v":0.45155273294184456},{"$f":"投入係数!CJ$119","v":7.5415114926271509E-2},3.8139686361402622E-2]
[null,"592","放送",0,0,1,2.424798044217687E-2,{"$f":"投入係数!CK$125","v":0.45896454579280282},{"$f":"投入係数!CK$119","v":0.15886620953595917},6.9735590972931005E-3]
[null,"593","情報サービス",3.2814839329897719E-2,4.2519660220950942E-3,0.16182558157948912,8.1393984105160799E-2,{"$f":"投入係数!CL$125","v":0.63690321498931135},{"$f":"投入係数!CL$119","v":0.35012365343505053},8.0128177168296514E-3]
[null,"594","インターネット附随サービス",0,0,0.2592174263816055,4.5485708882006669E-2,{"$f":"投入係数!CM$125","v":0.40876309380246389},{"$f":"投入係数!CM$119","v":0.19408384762715472},7.3203178840299038E-3]
[null,"595","映像・音声・文字情報制作",0.16412093002236935,2.3679869851097001E-2,1.4435975227540587E-2,0.24250241857465335,{"$f":"投入係数!CN$125","v":0.5191098209966134},{"$f":"投入係数!CN$119","v":0.2381067569746815},8.4876664369480572E-3]
[null,"611","公務",0,0,1,5.0260758210595141E-2,{"$f":"投入係数!CO$125","v":0.70834320688417818},{"$f":"投入係数!CO$119","v":0.33886316660976279},5.0040855018479262E-3]
[null,"631","教育",0,2.7205702315205264E-5,1,0.10297116903455418,{"$f":"投入係数!CP$125","v":0.79514309503698744},{"$f":"投入係数!CP$119","v":0.60106678770353583},3.3680819077694324E-2]
[null,"632","研究",0,0,0.98604734979737896,4.4684849419736501E-2,{"$f":"投入係数!CQ$125","v":0.5471433831270387},{"$f":"投入係数!CQ$119","v":0.36931376114559678},8.9444866079866475E-4]
[null,"641","医療",0,0,0.96630882212769353,7.9869283841020558E-2,{"$f":"投入係数!CR$125","v":0.52660756589649316},{"$f":"投入係数!CR$119","v":0.45125332021793152},4.1288866789377113E-2]
[null,"642","保健衛生",0,0,0.93391883146898402,7.0368580276748471E-2,{"$f":"投入係数!CS$125","v":0.55376738690678651},{"$f":"投入係数!CS$119","v":0.49136248903528401},1.2643246999845886E-3]
[null,"643","社会保険・社会福祉",0,0,0.99216388281347956,0.16441542463892556,{"$f":"投入係数!CT$125","v":0.69003024439005012},{"$f":"投入係数!CT$119","v":0.62945175635324424},2.4811354496523687E-2]
[null,"644","介護",0,0,1,0.14483930016239263,{"$f":"投入係数!CU$125","v":0.76709569688240598},{"$f":"投入係数!CU$119","v":0.65143542454481296},5.3293263429088191E-3]
[null,"659","他に分類されない会員制団体",0,0,0.82804643320750215,0.11506945475653711,{"$f":"投入係数!CV$125","v":0.61727245114913432},{"$f":"投入係数!CV$119","v":0.53205764233404207},1.4065321504278873E-2]
[null,"661","物品賃貸サービス",0,0,0.47743377889971095,4.1096892138939668E-2,{"$f":"投入係数!CW$125","v":0.58695261964752266},{"$f":"投入係数!CW$119","v":0.1225028420233877},2.4616239070192119E-3]
[null,"662","広告",0,0,0.18899972870404735,4.4192242274636119E-2,{"$f":"投入係数!CX$125","v":0.16923516840742858},{"$f":"投入係数!CX$119","v":9.3910844896607767E-2},1.6865416881119166E-5]
[null,"663","自動車整備・機械修理",0,0,0.84767972538974634,5.9228464375553382E-2,{"$f":"投入係数!CY$125","v":0.35853083625532117},{"$f":"投入係数!CY$119","v":0.26567025905034419},1.1386773442202507E-2]
[null,"669","その他の対事業所サービス",0,0,0.60819207430671973,0.18222163851750675,{"$f":"投入係数!CZ$125","v":0.72477652210823595},{"$f":"投入係数!CZ$119","v":0.45145265883005592},4.5658754459885027E-3]
[null,"671","宿泊業",0,0,0.91355390673927117,0.11596854914842164,{"$f":"投入係数!DA$125","v":0.41590906151796914},{"$f":"投入係数!DA$119","v":0.33254878632301782},8.9724017807553957E-3]
[null,"672","飲食サービス",0,0,0.7192031579162661,0.16600485426278616,{"$f":"投入係数!DB$125","v":0.41417447832960519},{"$f":"投入係数!DB$119","v":0.30978136090210767},4.8778565799842397E-2]
[null,"673","洗濯・理容・美容・浴場業",0,0,0.99238725693007857,0.13856947350206855,{"$f":"投入係数!DC$125","v":0.65293617958438865},{"$f":"投入係数!DC$119","v":0.31557834793688749},1.2926469690228818E-2]
[null,"674","娯楽サービス",0,0,0.85255908524453972,9.1234898804067821E-2,{"$f":"投入係数!DD$125","v":0.67748633784828716},{"$f":"投入係数!DD$119","v":0.25647486077203102},2.8668591650455513E-2]
[null,"675","獣医業",0,0,0.71582480645335933,8.9452011403230919E-2,{"$f":"投入係数!DE$125","v":0.69406784859824555},{"$f":"投入係数!DE$119","v":0.35273909576099627},2.5376636745090856E-3]
[null,"679","その他の対個人サービス",1.5766653527788727E-4,6.3066614111154909E-5,0.86290931802635096,0.16094368305617768,{"$f":"投入係数!DF$125","v":0.73992027896559931},{"$f":"投入係数!DF$119","v":0.37943499022343935},2.1834753808530994E-2]
[null,"681","事務用品",0,0,1,0,{"$f":"投入係数!DG$125","v":0},{"$f":"投入係数!DG$119","v":0},0]
[null,"691","分類不明",1.5758226488978715E-2,3.6042864060296005E-2,0.51683443248871919,6.8758295700969421E-4,{"$f":"投入係数!DH$125","v":0.65002619357048586},{"$f":"投入係数!DH$119","v":7.4198325626378941E-3},1.2358279611164906E-5]

{"sheet":"投入係数","index":9,"n_rows":126,"n_cols":130,"rows_kept":126,"cut":false,"hidden":false,"merged":[]}
[]
[]
[null,null,null,"1-2　投入係数表　【統合大分類】"]
[]
[null,null,null,null,null,null,null,null,null,null,null,null,null,null,null,null,null,null,null,null,null,null,null,null,null,null,null,null,null,null,null,null,null,null,null,null,null,null,null,null,null,null,null,null,null,null,null,null,null,null,null,null,null,null,null,null,null,null,null,null,null,null,null,null,null,null,null,null,null,null,null,null,null,null,null,null,null,null,null,null,null,null,null,null,null,null,null,null,null,null,null,null,null,null,null,null,null,null,null,null,null,null,null,null,null,null,null,null,null,null,null,null,null,"（参考）最終需要項目の商品別構成"]
[null,null,null,"011","012","013","015","017","061","062","111","112","113","114","151","152","161","162","163","164","191","201","202","203","204","205","206","207","208","211","212","221","222","231","251","252","253","259","2611","2612","262","263","269","271","272","281","289","291","301","311","321","329","331","332","333","339","341","342","351","352","353","354","359","391","392","411","412","413","419","461","462","471","481","511","531","551","552","553","571","572","573","574","575","576","577","578","579","591","592","593","594","595","611","631","632","641","642","643","644","659","661","662","663","669","671","672","673","674","675","679","681","691","700","711","721","731","732","741","751","761","780","790","801","802","820","830","841","842","870","880"]
[null,"109部門",null,"耕種農業","畜産","農業サービス","林業","漁業","石炭・原油・天然ガス","その他の鉱業","食料品","飲料","飼料・有機質肥料（別掲を除く。）","たばこ","繊維工業製品","衣服・その他の繊維既製品","木材・木製品","家具・装備品","パルプ・紙・板紙・加工紙","紙加工品","印刷・製版・製本","化学肥料","無機化学工業製品","石油化学系基礎製品","有機化学工業製品（石油化学系基礎製品・合成樹脂を除く。）","合成樹脂","化学繊維","医薬品","化学最終製品（医薬品を除く。）","石油製品","石炭製品","プラスチック製品","ゴム製品","なめし革・革製品・毛皮","ガラス・ガラス製品","セメント・セメント製品","陶磁器","その他の窯業・土石製品","銑鉄・粗鋼","鉄屑","鋼材","鋳鍛造品（鉄）","その他の鉄鋼製品","非鉄金属製錬・精製","非鉄金属加工製品","建設用・建築用金属製品","その他の金属製品","はん用機械","生産用機械","業務用機械","電子デバイス","その他の電子部品","産業用電気機器","民生用電気機器","電子応用装置・電気計測器","その他の電気機械","通信・映像・音響機器","電子計算機・同附属装置","乗用車","その他の自動車","自動車部品・同附属品","船舶・同修理","その他の輸送機械・同修理","その他の製造工業製品","再生資源回収・加工処理","建築","建設補修","公共事業","その他の土木建設","電気","ガス・熱供給","水道","廃棄物処理","商業","金融・保険","不動産仲介及び賃貸","住宅賃貸料","住宅賃貸料（帰属家賃）","鉄道輸送","道路輸送（自家輸送を除く。）","自家輸送","水運","航空輸送","貨物利用運送","倉庫","運輸附帯サービス","郵便・信書便","通信","放送","情報サービス","インターネット附随サービス","映像・音声・文字情報制作","公務","教育","研究","医療","保健衛生","社会保険・社会福祉","介護","他に分類されない会員制団体","物品賃貸サービス","広告","自動車整備・機械修理","その他の対事業所サービス","宿泊業","飲食サービス","洗濯・理容・美容・浴場業","娯楽サービス","獣医業","その他の対個人サービス","事務用品","分類不明","平均","家計外\n消費支出（列）","民間\n消費支出","一般政府\n消費支出","一般政府\n消費支出\n（社会資本等減耗分）","県内総固定\n資本形成\n（公的）","県内総固定\n資本形成\n（民間）","在庫純増","県内最終\n需要計","県内需要\n合計","輸出","移出","最終需要計","需要合計","（控除）輸入","（控除）移入","（控除）移輸入合計","最終需要\n部門計"]
[null,"011","耕種農業",3.1524757840547313E-2,8.0491640456877997E-2,9.3441150044923631E-3,1.2013729977116705E-3,0,0,0,7.2654036170496858E-2,5.9727303569627452E-2,0.24809315570019322,3.5540717106699878E-2,7.2808192542021342E-3,2.3451616623736114E-3,4.4078754040552451E-5,0,4.7656609478735294E-3,0,0,0,0,0,1.2318494679950111E-4,0,1.2145301976371867E-3,2.947203142328316E-3,8.8307246810953848E-4,0,0,0,2.8419858093517252E-2,0,0,0,0,4.8127223268466205E-4,0,0,0,0,0,0,1.5296975482007698E-5,0,0,0,0,0,0,0,0,0,0,0,0,0,0,0,0,0,0,2.6584116869607169E-3,0,6.7440791506227912E-4,1.4379282330018909E-5,1.7012152454564714E-3,1.7341103903943454E-3,0,0,0,0,1.5089379896997355E-4,0,1.9496027684359312E-6,0,6.9962493743126981E-6,0,0,0,0,0,0,0,2.5234235976155287E-4,0,0,0,0,0,0,1.7409689652937838E-5,1.038532407922304E-3,3.9183408753888784E-4,6.5144241417074361E-4,0,2.1818251720470069E-3,3.6753524723272643E-3,2.2003982315817894E-3,5.9832071319829016E-5,0,0,2.1013435990972627E-6,1.609399045611494E-2,1.6502342952229139E-2,1.5730938035835078E-4,5.3388821796887895E-3,2.699220906692841E-3,3.556695348445904E-3,0,0,5.6334671795250845E-3,4.2624683934265059E-3,9.3953105386596555E-3,0,0,0,2.109806717348108E-4,1.7815413803475163E-3,null,null,2.00899803294239E-4,5.3517459561300664E-3,4.9750650695107711E-3]
[null,"012","畜産",8.358734674524148E-3,0.10091458367819897,3.3962264150943396E-2,1.7162471395881006E-4,0,0,0,5.8338649615002298E-2,0,3.0763754703549274E-3,0,4.7530570798945686E-4,2.6911691207566029E-4,0,0,0,0,0,5.9683676514473295E-4,0,0,0,0,0,1.9055192730571008E-5,0,0,0,0,0,2.106318956870612E-2,0,0,0,0,0,0,0,0,0,0,0,0,0,0,0,0,0,0,0,0,0,0,0,0,0,0,0,0,0,7.5380293581116733E-5,0,0,0,0,0,0,0,0,0,0,0,0,0,0,0,0,0,0,0,0,0,1.6385867516983952E-5,0,0,0,0,0,0,2.901614942156306E-6,1.2775000676323566E-4,1.0077342193888063E-3,8.4771521656450802E-5,0,3.7164716586997478E-4,6.7998324429473971E-4,0,0,0,0,0,1.9074838025527952E-3,3.9730697156751486E-3,0,4.3440863951902279E-6,0,1.2764648885123963E-4,0,0,2.6627848711246438E-3,0,7.9322442591285049E-4,0,0,0,8.7552041624742072E-4,-5.1132551306078064E-3,null,null,1.9675753930879075E-5,1.5063815831397969E-3,9.4856841657654214E-4]
[null,"013","農業サービス",3.6510194404931244E-2,3.4824532362191692E-2,0,0,0,0,0,0,0,0,0,0,0,0,0,0,0,0,0,0,0,0,0,0,0,0,0,0,0,0,0,0,0,0,0,0,0,0,0,0,0,0,0,0,0,0,0,0,0,0,0,0,0,0,0,0,0,0,0,0,0,0,0,0,0,0,0,0,0,0,0,0,0,0,0,0,0,0,0,0,0,0,0,0,0,0,0,0,0,0,0,0,0,0,0,0,0,0,0,0,0,0,0,0,0,0,0,0,0,2.1217445185616799E-4,0,0,0,0,0,0,0,null,null,0,6.6509806182889187E-5,2.7499644909141784E-5]
[null,"015","林業",9.2122197385355277E-4,0,0,0.16556064073226545,2.5794564716720403E-4,0,0,7.5145023218551102E-4,0,2.2882131597681279E-4,0,2.1604804908611675E-5,0,6.0123420511313544E-2,1.322296564673525E-5,9.859988168014199E-5,0,0,0,1.6171286264109446E-4,0,0,0,0,0,1.3901370478544147E-3,0,0,0,0,1.0030090270812437E-3,0,0,0,0,0,0,0,0,0,0,0,0,0,0,0,0,0,0,0,0,0,0,0,0,0,0,0,9.2954944738285345E-6,0,4.3720570277047704E-4,0,1.0047045289568405E-5,4.0741299935053575E-5,1.059247228303086E-4,3.2926146653057194E-5,0,0,0,0,0,0,0,0,0,0,0,0,0,0,0,0,0,0,0,0,0,0,0,3.868819922875075E-6,4.3585296425103929E-5,6.1927801191490896E-5,6.8733666207933088E-6,0,8.6504081711114814E-5,1.6927852917042043E-4,0,0,0,0,0,1.5518512291954945E-3,2.225968613405229E-3,0,0,0,1.1024014946243422E-4,0,0,4.4426744408169772E-4,2.9628532276582348E-4,6.6392138469821658E-4,0,0,0,0,-0.11788251081650124,null,null,3.6244809872671984E-5,1.9559780439007312E-4,4.4866415733535756E-4]
[null,"017","漁業",0,0,0,0,4.399815753109166E-2,0,0,5.4718632701808524E-2,0,1.4237770771890572E-3,0,0,0,0,0,0,0,0,5.9683676514473291E-5,0,0,0,0,0,1.664153498469868E-4,0,0,0,0,0,0,0,0,0,0,0,0,0,0,0,0,0,0,0,0,0,0,0,0,0,0,0,0,0,0,0,0,0,0,0,4.6987049665562766E-3,0,0,0,0,0,0,0,0,0,0,0,0,0,0,0,0,0,0,0,0,0,2.6217388027174323E-5,0,0,0,0,0,0,5.8032298843126121E-6,4.0579413913027793E-5,2.0492472394275168E-4,1.1531981774886551E-4,0,4.5174353782471071E-4,9.3246647424384142E-4,0,0,0,0,0,5.5090718636440052E-3,7.0933616717942663E-3,0,2.1720431975951139E-5,0,2.7850143022088643E-4,0,0,2.4677391640740565E-3,1.0167973576736215E-3,9.2110655458666423E-4,0,0,0,0,-1.2378242058258717E-2,null,null,1.4342589049614484E-4,3.3108286646780344E-3,1.670095429863815E-3]
[null,"061","石炭・原油・天然ガス",0,2.0691938420791258E-5,0,5.7208237986270026E-5,0,0,0,1.9880420752785483E-4,2.0355954116579099E-4,1.5254754398454185E-4,3.7013869096750553E-5,4.5370090308084515E-4,3.8445273153665758E-5,0,0,4.9212296500799751E-3,7.9750964322076923E-6,0,6.3384064458370637E-2,1.8435266341084769E-3,0,3.5107709837857814E-3,7.677052012027381E-4,1.2918184829413714E-2,1.664153498469868E-4,2.0594622931176514E-4,0.48455384615384617,0.44428375153662591,2.1456358591868699E-5,6.6105504384998454E-5,0,2.9172170849845881E-3,1.7068373982572747E-2,8.339651250947688E-3,4.1640510567064236E-3,0,0,1.9725811223986585E-4,6.1951727214154735E-4,1.348090429906038E-5,5.2705752947511939E-4,2.9064253415814624E-4,2.9381864338055978E-5,7.2357079039097992E-5,2.0924800073046576E-5,1.5112858707136155E-5,0,6.2684134645521212E-5,1.0499206383517482E-4,3.6903528272531082E-5,0,0,8.9113256265218876E-6,0,0,3.9681977296240132E-5,0,1.1686279506273676E-4,0,0,1.0050705810815564E-5,1.835929133135461E-4,0,0,6.4196801715338543E-6,3.6584607392285771E-6,0.17290242386575513,0.43513218347518262,0,0,1.8802965603735022E-6,8.9967782537073475E-7,1.9496027684359312E-6,0,0,1.2319291394358997E-5,0,0,0,0,0,0,1.6385867516983952E-5,0,0,0,0,0,0,0,3.005882512076133E-6,1.1034408212302013E-4,5.3459518161725735E-6,0,3.2038548781894376E-6,8.6073828391739205E-6,3.3748439134690019E-5,2.6592031697701784E-5,0,0,0,5.8194421094831041E-5,0,5.5058283125422772E-5,4.3440863951902279E-6,0,0,0,0,4.0180855546905524E-3,0,0,0,0,0,0,0,null,null,0,0,0]
[null,"062","その他の鉱業",0,0,0,3.4324942791762013E-4,0,0,0,3.7090337225346054E-6,0,2.0339672531272246E-4,0,0,0,0,0,1.8536777755866693E-3,1.3291827387012821E-5,0,4.7746941211578636E-3,1.9825996959798184E-2,0,1.0162758110958841E-3,9.5963150150342263E-5,0,1.2195323347565445E-4,1.5601987069073118E-4,-1.3538461538461538E-3,1.4028490852556223E-2,0,2.6993080957207706E-4,0,4.634522236900044E-2,3.3261078652330571E-2,4.1698256254738442E-2,2.1887424147311152E-2,0,0,0,2.4780690885661892E-4,0,0.39444527195022744,3.3653346060416933E-5,5.8763728676111955E-5,1.887575974932991E-5,5.7067636562854294E-6,4.259078362920189E-5,1.8240319862249105E-4,0,0,0,0,0,0,0,0,0,0,0,0,0,8.3420858229769186E-4,0,1.0850808912733875E-3,1.5577555857520484E-4,4.0090902671228923E-3,4.1999129286344064E-3,-1.462362446532373E-5,0,0,0,0,0,0,0,0,0,0,0,0,0,0,0,0,0,0,0,0,0,0,7.73763984575015E-6,0,0,0,0,0,0,0,0,0,0,0,-6.4660467883145606E-5,-3.9358973517970649E-5,0,2.1720431975951139E-5,0,8.1229583814425207E-5,0,1.3348646497617393E-4,1.3574005296891844E-3,-5.3196682951136491E-4,-1.9774366193080464E-5,0,0,0,-3.3901730403565537E-5,-2.7532912241734343E-3,null,null,3.6244809872671982E-6,2.6440105216547576E-4,9.9093548034666077E-5]
[null,"111","食料品",0,1.3015229266677702E-2,0,1.9279176201372997E-2,3.906034085674804E-2,0,0,0.23251190599824934,0.10657533995360309,0.26022068544696431,1.1844438110960177E-4,3.2407207362917514E-4,7.266156626042828E-3,7.4199235968263298E-4,0,3.9396130502421176E-3,5.0508944070648722E-5,0,1.1936735302894658E-4,1.6171286264109446E-4,0,1.1025052738555349E-2,7.9969291791951895E-5,0,1.2077181152635905E-2,1.3556566564317632E-2,0,0,2.1456358591868699E-5,0,2.0561685055165497E-2,8.2562747688243065E-5,0,7.5815011372251705E-4,1.2764176605984516E-3,0,0,0,0,0,0,0,0,0,0,0,0,0,0,0,0,0,0,0,0,0,0,0,0,0,2.3468398068254345E-3,0,0,0,0,0,0,0,0,0,0,0,0,0,0,0,0,0,0,0,0,0,4.0309234091780519E-4,0,0,0,0,0,0,6.3158485240935602E-4,5.0363561489835612E-3,2.1663470816805177E-3,2.5790398976021115E-3,0,1.0169035383373274E-2,1.8178792556335321E-2,1.633424454118997E-3,0,0,0,0,7.0790280238467812E-2,0.15850514618578748,0,3.0408604766331592E-5,0,4.6242841642926353E-3,0,0,1.5297708983885661E-2,3.9042325031732834E-2,7.2494365785752204E-2,0,0,0,0,0.1374100552971935,null,null,1.1639761799109517E-2,8.4051194203228083E-2,5.6439634520236523E-2]
[null,"112","飲料",0,1.4484356894553882E-4,0,0,1.2897282358360202E-2,0,0,1.361957182914707E-3,7.1818006766979345E-2,0,0,0,0,0,0,0,0,0,0,0,0,0,0,0,1.0162769456304538E-4,3.1203974138146234E-6,0,0,0,0,0,0,0,0,0,0,0,0,0,0,0,0,0,0,0,0,0,0,0,0,0,0,0,0,0,0,0,0,0,0,0,0,0,0,0,0,0,0,0,0,8.4613345216807598E-5,0,0,0,0,0,0,0,0,0,0,0,3.7359777938723409E-4,0,0,0,0,0,0,5.222906895881351E-5,5.1100002705294263E-5,5.7423961104837015E-5,2.9173622768256043E-4,0,8.4581768784201155E-4,1.5120302520815522E-3,0,0,0,0,5.2533589977431568E-6,2.1137506951000296E-2,6.3243310614459175E-2,0,0,1.2269185939512914E-4,1.0617867027171296E-3,0,3.8534771964820018E-3,2.3189800651408263E-3,2.0319112760133463E-2,1.4408408392051557E-2,0,0,0,0,4.6597718701557114E-2,null,null,1.0303881663802463E-3,4.014415590947E-2,2.0922860989904583E-2]
[null,"113","飼料・有機質肥料（別掲を除く。）",6.0760008128429178E-3,0.30048832974673068,2.8032345013477088E-2,4.0045766590389017E-3,6.1704283740211884E-2,0,0,-4.450840467041526E-6,0,4.6704973049933894E-2,0,0,0,0,0,0,0,0,4.7746941211578633E-4,0,0,0,0,0,0,0,0,0,0,0,0,0,0,0,0,0,0,0,0,0,0,0,0,0,0,0,0,0,0,0,0,0,0,0,0,0,0,0,0,0,0,0,0,0,1.4123296377374479E-4,0,0,0,0,0,5.4058526110738183E-5,0,0,0,0,0,0,0,0,0,0,0,0,0,0,0,0,0,0,0,3.0209119246365134E-4,3.7663362724643097E-3,5.498693296634647E-5,0,6.0873242685599316E-5,2.0083893291405816E-5,0,0,0,0,0,0,0,0,1.659441002962667E-3,8.0363167903809585E-3,0,0,0,7.544147164895757E-4,0,6.3929223399066719E-4,0,0,0,0,9.4861294278244374E-4,null,null,3.1015201591043595E-4,2.549406055963579E-3,1.2558396952226547E-3]
[null,"114","たばこ",0,0,0,0,0,0,0,0,0,0,3.4396988551610289E-2,0,0,0,0,0,0,0,0,0,0,0,0,0,0,0,0,0,0,0,0,0,0,0,0,0,0,0,0,0,0,0,0,0,0,0,0,0,0,0,0,0,0,0,0,0,0,0,0,0,0,0,0,0,0,0,0,0,0,0,0,0,0,0,0,0,0,0,0,0,0,0,0,0,0,0,0,0,0,0,0,0,0,0,0,0,0,0,0,0,0,0,0,0,0,0,0,0,0,2.7876957176578099E-4,1.0969290699671057E-2,8.0643891254247781E-3,0,0,0,0,9.2015455449897046E-2,null,null,2.6567445636668562E-3,1.9481721516233553E-2,1.0510994202248509E-2]
[null,"151","繊維工業製品",8.8057982794824906E-5,0,0,1.1441647597254005E-3,1.2399815753109167E-2,0,0,1.4836134890138422E-6,2.3290145700950862E-4,0,2.9611095277400442E-5,0.17508533897938902,0.19045788320326015,3.5263003232441961E-4,4.0462274879009864E-3,7.7565240255045027E-4,9.0650262779427438E-3,2.3063245370611473E-4,1.1339898537749925E-3,0,0,0,0,1.0709948106437011E-2,0,6.2407948276292465E-5,0,0,2.8883559642900171E-4,1.0306949892027677E-2,4.4633901705115345E-2,1.8714222809335095E-3,1.4355234636310131E-5,0,1.8204645323289391E-3,0,0,0,2.4780690885661892E-5,0,0,1.321658681645465E-3,1.1752745735222391E-4,2.9572023607283524E-4,6.2774400219139722E-5,2.2531898436093902E-4,8.4270277763590865E-4,1.7864978373973548E-3,9.8816060080164528E-5,0,2.0223510707939774E-3,0,3.4085820521446221E-4,9.1374865385242954E-5,0,7.2986493955584533E-4,5.5596094374370204E-5,6.2354949856579394E-4,2.7514663642532466E-3,9.760999066963324E-4,5.9751446045298532E-3,3.0598818885591017E-5,4.6090820265895055E-4,2.5762880841283878E-3,5.7777121543804689E-4,2.4511686952831467E-4,0,0,7.3891261619400895E-5,7.404899928066686E-5,2.8110433577583857E-4,8.097100428336612E-6,1.9496027684359312E-6,0,0,6.7140138099256526E-4,7.756582914962642E-5,1.7588705705776133E-5,1.6874173393533088E-3,6.2046286529751201E-5,4.7709923664122136E-4,4.955543060810231E-4,1.1699509407126542E-3,3.5146914100941938E-5,2.1268857500781631E-5,0,3.8982269354906319E-4,0,8.0632156103854218E-5,7.5441988496063959E-5,6.011765024152266E-6,0,7.255220321948492E-5,2.2555987182470774E-3,7.6892517076546506E-5,5.7382552261159472E-5,1.0124531740407007E-4,1.0636812679080714E-4,0,2.9317603461822617E-5,2.8368138587813048E-4,8.9231445678740928E-4,0,1.02251097232928E-4,2.2849894438700595E-3,0,4.0614791907212606E-4,1.4607115150171783E-2,7.5558376401607877E-5,9.4226095111750213E-4,8.4171966694836218E-5,2.434496819938529E-4,0,0,2.0707849517438081E-5,2.4521154515200319E-4,1.4044098933388862E-2,null,null,2.813632812115708E-3,2.7904631490624E-3,1.4134546550836717E-3]
[null,"152","衣服・その他の繊維既製品",3.6306983675404728E-3,3.1037907631186888E-4,5.0314465408805029E-3,2.8604118993135012E-4,6.2459695992630121E-3,0,2.0306154326772885E-3,1.0125662062519473E-3,6.1618023271806999E-4,0,3.3312482187075494E-5,2.2036901006783909E-3,1.5339663988312637E-2,1.0358507199529827E-3,1.7057625684288472E-3,1.3256206314774645E-3,1.2095562922181666E-3,6.4725882169135423E-4,6.0877350044762756E-3,9.3793460331834794E-4,0,6.7751720739725604E-4,5.277973258268825E-4,1.1041183614883515E-3,1.7810253472173702E-3,6.942884245737537E-4,0,2.8924723407332416E-4,9.2097293032790265E-4,2.0382530518707857E-3,4.5135406218655971E-3,5.449141347424042E-3,7.6082743572443694E-4,4.5489006823351023E-3,1.9250889307386482E-3,0,0,2.9588716835979881E-4,1.4620607622540516E-3,6.6056431065395871E-4,2.0623990283809022E-4,9.0864034363125719E-4,1.0518707433024041E-3,8.7772282834384084E-4,1.3334804410186953E-3,7.4190397289577482E-4,1.3388394778890843E-3,1.4417350968469881E-3,3.3103380126855118E-3,1.4820456954248481E-3,3.6308800149630598E-3,5.9550816696914697E-4,4.7898375242555143E-4,1.7100153379238324E-3,7.808082711827899E-4,2.1116480775499212E-3,3.9264741651898953E-4,5.3706259247243281E-4,9.3884494185668204E-4,5.5982200531113182E-4,1.1769376504465027E-2,1.6217374009363239E-3,3.860577152516659E-3,1.6847725796672154E-3,1.6659070045130352E-3,1.8145965266573741E-3,1.2917534944369296E-4,4.4249453942908791E-4,7.3152349003206883E-4,2.6128718317606735E-3,3.9425118129631405E-3,1.356714160659068E-3,1.8911146853828532E-4,2.265493141219515E-5,0,8.4387146051359129E-4,7.872931658687082E-4,4.9834666166365701E-4,1.4897918851948131E-3,1.3650183036545262E-3,3.4078516902944384E-4,1.53431237075086E-3,2.5529181591460999E-3,1.4761703922395613E-3,3.4880926301281872E-4,5.8470206771913042E-4,8.7605315001886236E-4,7.0937078811094561E-4,1.2901144976616675E-3,3.9723108558119835E-3,1.2925294801927371E-4,7.1498461375630392E-4,2.5996599974644915E-3,1.0633536814593366E-2,5.6483961502479781E-3,2.7285403600181327E-3,2.1146771961796765E-2,2.90517946297392E-3,7.5249074436384435E-5,8.5900578143140269E-4,1.744115187250728E-3,5.1534392902867045E-3,1.1239173549020508E-3,1.0846481775708286E-2,3.2015916732551978E-3,8.4657382982639105E-3,2.5529297770247924E-3,5.4527319073478884E-3,1.3852369006961445E-4,1.7614409216092646E-3,7.1377827757221112E-3,6.8974647012762279E-3,0,0,9.6636631081377715E-6,9.568187406132527E-4,1.2794706277041254E-2,null,null,1.1080556161074006E-4,1.0483485336635452E-3,2.5652224182794881E-3]
[null,"161","木材・木製品",3.1158978527399581E-4,6.9731832478066545E-3,0,2.5514874141876431E-2,1.2160294795025334E-3,0,4.6860356138706655E-4,5.1703930092132395E-4,1.7421762532207337E-4,2.0593918437913149E-3,0,1.5123363436028172E-4,2.3067163892199455E-4,0.1871069644431384,0.11370428159627641,1.6144087293761916E-2,3.4532167551459309E-3,4.4638539426989949E-5,2.3873470605789316E-4,0,0,6.1592473399750555E-5,1.5993858358390378E-5,0,1.6514500366494872E-5,3.5104470905414516E-4,0,0,3.2019488975557905E-4,7.7123088449164862E-5,0,5.8069132540730954E-3,4.3065703908930393E-5,2.1228203184230479E-2,1.2973425402803933E-3,0,0,0,2.9736829062794272E-4,1.348090429906038E-5,0,2.8146434886894165E-3,1.7217772502100804E-3,4.5301823398391787E-4,2.7963141915798606E-4,1.1815507716488266E-4,4.0858316491437996E-4,6.2684134645521212E-5,1.3587208261022624E-4,1.608993832682355E-4,3.0861311138127747E-4,1.4178765880217785E-5,3.809591705338107E-4,8.4848089286297036E-5,6.7311057860585335E-5,2.8344269497314379E-5,1.2161645644393481E-4,1.4470735995133108E-4,2.7142843863579322E-3,1.8660733510371061E-3,2.1815056962375182E-2,0,6.0729365252796215E-2,1.5095849899464851E-2,1.4508477187666511E-3,3.0731070209520047E-3,3.7704578413093018E-3,9.4147774346614439E-6,0,5.2892142343333471E-6,6.1156645626148152E-4,9.3566493838556411E-5,0,2.8318664265243938E-6,3.8161360223523803E-6,0,1.9391457287406605E-6,0,1.2161566409753576E-4,0,0,6.9568200661374404E-4,1.1266922504678166E-2,3.5146914100941938E-5,4.0410829251485101E-5,9.3020783500770746E-5,1.6766567464475835E-5,2.364569293703152E-5,1.6126431220770844E-4,2.9983354402281831E-5,2.8555883864723263E-5,1.2047772231799138E-4,1.5274148046207353E-6,1.9691734841839566E-4,3.5242403660083812E-5,2.295302090446379E-5,1.3499375653876008E-4,3.3240039622127228E-5,0,1.7590562077093571E-5,2.3219846770024754E-4,2.3277768437932416E-4,6.5160967268640304E-4,2.3596407053752614E-4,5.7341940416511005E-4,0,6.9625357555221611E-4,0,1.5111675280321576E-5,3.4878444107615792E-3,4.9156428549784346E-4,1.7050950489841838E-4,1.8882392251322999E-5,0,2.7610466023250773E-5,1.0137604819706978E-4,2.8041924064690776E-2,null,null,3.5830583474127161E-4,8.7106549856225783E-3,3.6503407957841827E-3]
[null,"162","家具・装備品",0,0,0,1.7162471395881006E-4,3.3164440350069095E-4,0,1.5620118712902218E-4,4.2802249158049345E-4,6.5469149726294946E-4,0,1.5915963711602739E-4,1.3178930994253123E-3,1.1149129214563069E-3,5.9506317954745812E-4,1.9160077222119376E-2,1.4439404894936348E-3,8.2941002894960003E-4,6.0262028226436433E-4,8.9525514771709937E-4,8.0856431320547241E-4,0,5.2353602389787967E-4,4.6382189239332097E-4,9.9370652533951648E-4,1.8674088875959588E-3,6.5216305948725625E-4,0,3.615590425916552E-4,7.8893380053178758E-4,1.3331276717641356E-3,1.5045135406218655E-3,4.9537648612945837E-4,5.0243321227085459E-4,4.5489006823351023E-3,1.1717932621887425E-3,0,0,9.8629056119932927E-5,8.6732418099816626E-4,1.0784723439248304E-4,1.6040881331851463E-4,7.8014574958239257E-4,3.1732413485100456E-4,4.4672631406747455E-4,5.4404480189921092E-4,4.2041225130760575E-4,1.0360501681757491E-3,9.4026201968281829E-4,1.3834248411223034E-3,5.963610168841023E-4,8.2296829701673996E-4,5.1043557168784024E-4,4.9680640367859524E-4,1.5403191593512384E-3,2.7059045259955304E-3,4.1382633466078997E-4,5.8375899093088713E-4,6.2017439979141886E-4,4.4897238308591828E-3,1.5718079379889471E-3,2.5528792759471532E-3,1.2239527554236407E-4,1.0119886367917774E-2,2.1147131213347808E-2,6.0986961629571615E-5,1.1707074365531447E-4,6.7756126689333287E-4,4.5190931686374934E-4,3.2068807542819985E-3,3.1153471840223417E-3,9.2745627840422991E-4,2.4552207854367349E-3,5.6343520007798406E-4,1.7500934515920752E-3,1.411970328270381E-4,2.8334370207025694E-4,3.626202512745035E-4,0,5.7767440446329491E-4,6.2046286529751193E-4,4.089422028353326E-4,2.1823449248568132E-3,2.7298855283295264E-3,2.8117531280753551E-4,2.6479727588473129E-3,5.8470206771913042E-4,2.2425283983736428E-3,2.9084202312548769E-3,1.5320109659732301E-3,8.0471454395801556E-4,2.6662177882115301E-3,4.6108062887119132E-3,1.913087042787471E-3,6.0865362238413209E-4,7.5803206417962088E-3,3.1416947362984809E-3,1.4673821335763221E-2,1.9678103456299322E-3,3.461457424073684E-4,2.0229146388657605E-4,1.6579600996877403E-3,1.7393665860566166E-3,2.2871936833220724E-3,5.4271736223631014E-4,3.4622368569666114E-3,6.1345929697564569E-5,2.4078769487847476E-3,0,7.5558376401607877E-5,1.7894588684541197E-3,1.6969068485678982E-3,4.0140779278169327E-4,3.2838943045779129E-6,0,4.7213896899758821E-4,2.03542039626844E-3,6.0757502140163344E-2,null,null,5.2244304516465754E-4,5.3184910530386219E-3,2.4974215696241904E-3]
[null,"163","パルプ・紙・板紙・加工紙",3.6577931314773419E-4,0,1.7969451931716083E-4,0,1.8424689083371717E-4,0,0,1.7655000519264721E-4,6.6569471570434354E-4,1.0169836265636123E-4,2.746429086978891E-3,1.6851747828717106E-3,2.0375994771442852E-3,5.1572142227446372E-3,4.0858963848411922E-3,0.34174280768640858,0.2126346794409989,9.9469545356475939E-2,0,8.4090688573369124E-4,0,0,6.3975433433561513E-5,2.6167605167273931E-2,4.2607410945556777E-3,3.8146858383883773E-3,0,0,1.4243721126755914E-3,3.9002247587149089E-3,5.0150451354062187E-4,1.2632100396301188E-2,0,1.7437452615617893E-2,3.4526051475204018E-3,0,0,1.9725811223986585E-4,0,2.2917537308402648E-4,0,1.8386964529373251E-3,1.4690932169027988E-4,5.3166723293945916E-4,9.8346560343318904E-4,2.9263990042000009E-4,2.6266060601638709E-4,8.7757788503729707E-4,2.4456974869840721E-3,3.4925499157123416E-3,2.4291592630692979E-3,2.8357531760435571E-5,2.4595258729200411E-3,2.029827366772183E-3,4.4425298187986324E-4,0,3.4747558983981377E-6,4.5774777127461871E-4,1.8590988947657069E-5,0,1.3080993612776457E-2,1.5299409442795509E-4,5.0486402580081228E-3,4.5150946516259371E-3,0,0,0,0,0,2.9090678288833409E-4,-5.5609770773046329E-4,4.7323053614500648E-4,0,0,7.0598516413519048E-5,0,2.9862844222606171E-4,0,7.6009790060959848E-5,1.240925730595024E-4,1.4312977099236641E-3,4.4218691927229757E-3,1.2882569041852783E-2,0,1.0209051600375183E-4,0,5.0006287462799181E-3,2.364569293703152E-4,3.160780519271085E-2,1.4701515706925286E-4,2.3926824796126019E-3,5.117488298460475E-3,0,4.6902132077836058E-3,1.2591149671284489E-3,7.4310405178201516E-4,1.8629138402348892E-3,0,0,2.2281378630985188E-4,2.7685201918106438E-3,4.2675908802876095E-4,0,7.2362314964841351E-4,3.9965594835750094E-4,0,1.4505282824004502E-4,0.12394990579629835,2.5941709231218704E-4,8.9557837201689854E-3,-3.4106480904747636E-3,-2.922343458953448E-4,0,0,0,0,0.22382638069456978,null,null,1.0080717191586441E-2,3.1128800826556349E-2,1.3084581660297157E-2]
[null,"164","紙加工品",4.1095983201246362E-2,3.8487005462671743E-3,3.8634321653189578E-2,4.9199084668192219E-3,1.2528788576692768E-3,0,0,1.3626248089847633E-2,2.4944296206640442E-2,2.0339672531272246E-4,3.6162550107525292E-3,2.2252949055870026E-3,2.9218407596785976E-3,1.7043784895680281E-3,4.9982810144659244E-3,1.9566598742303733E-3,4.3384524591209846E-2,1.0862044593900888E-3,2.2082960310355116E-3,1.0349623209030046E-3,0,1.2626457046948864E-3,3.246753246753247E-3,5.410179971292923E-3,2.5392949832758926E-2,1.3765633191043212E-2,0,0,2.8487442253511829E-3,2.0272354678066195E-3,4.5135406218655971E-3,1.1833993835314839E-2,2.5265212959905831E-3,2.3502653525398029E-2,1.6112157355095207E-3,0,0,0,1.2390345442830946E-4,6.0664069345771712E-4,0,2.7534555867613853E-4,2.2330216896922542E-4,3.306403916090956E-3,3.6523287400226748E-4,3.3110899531089212E-4,6.4607212952086327E-3,7.5220961574625465E-4,1.1672647096969435E-3,1.718228276369047E-3,5.1739455718694469E-3,9.9251361161524504E-5,5.0638607872710625E-3,2.1799432170479392E-3,9.5581702162031174E-4,3.8264763821374414E-5,2.7798047187185102E-5,3.1346229867008452E-4,4.6477472369142678E-5,3.373286442259384E-4,4.5881472026373053E-3,1.4075456687371868E-3,2.3861732562724959E-5,1.0257221395413489E-3,0,0,0,0,3.6945630809700447E-5,1.0895781322726695E-3,6.2176706510150784E-3,1.4817693783856002E-3,5.0689671979334212E-5,0,0,2.4638582788717993E-4,4.6733412062649921E-4,0,4.712606983779511E-4,6.2046286529751193E-4,2.7262813522355508E-4,1.7058503997789065E-3,1.6149911024739384E-2,3.514691410094194E-4,2.6373383300969219E-4,2.7906235050231224E-4,9.0120300121557619E-4,3.7833108699250433E-4,3.2252862441541687E-4,1.5475279691500301E-4,8.115882782605559E-4,1.6844361924085523E-3,1.2456067731682096E-3,4.4037879737204846E-3,4.9371403672899229E-3,5.8558894582513244E-3,1.8426647767540751E-3,6.6480079244254461E-6,4.6654426150558346E-4,2.9317603461822616E-6,6.1044031553775485E-4,1.4936568081006633E-3,3.0044016452050932E-3,8.8879799902468186E-4,5.5604305858434917E-4,1.2269185939512914E-4,1.3692986985860251E-3,0.30847833314862017,2.5186125467202629E-4,4.4180462455711243E-3,7.4509024918269018E-3,8.6865119995472022E-4,0,0,0,0,4.0859767242775499E-2,null,null,3.1237848280261439E-3,2.1738713769151669E-2,9.4561525273900871E-3]
[null,"191","印刷・製版・製本",8.8057982794824906E-5,0,1.7969451931716083E-4,5.7208237986270026E-5,2.3952095808383233E-4,0,3.1240237425804435E-4,6.6221088082132843E-3,1.5184441449123869E-3,0,8.2540928085753735E-4,1.728384392688934E-4,3.4600745838299184E-4,2.8651190126359097E-4,3.3057414116838122E-4,1.8843532943316023E-4,3.5037256992165797E-3,3.8634655874059801E-2,1.1936735302894658E-4,1.2937029011287558E-4,0,4.6194355049812913E-5,6.3975433433561513E-5,1.7665893783813625E-3,3.9787242421432268E-3,4.4418857185651167E-3,0,1.4462361703666208E-4,6.2883635565399803E-4,1.5975496893041294E-4,5.0150451354062187E-4,3.9630118890356669E-3,7.1776173181550655E-5,1.5163002274450341E-3,8.369951872776731E-5,0,0,0,1.2390345442830947E-3,4.0442712897181144E-5,5.7288861899469504E-5,4.0995894291780632E-4,2.0567305036639185E-4,2.4947462468697698E-3,1.4000593503420253E-3,8.5181567258403785E-4,1.7583668347208137E-3,2.5700495204663701E-3,5.187843154208638E-4,3.8970125855792822E-4,7.9514635743009442E-3,7.2311705989110706E-4,1.4926470424424162E-4,3.7790033612896908E-3,1.7904741390915699E-3,8.4040759059537137E-4,4.6214253448695228E-4,2.3710068889984859E-4,8.8307197501371086E-4,2.6914519486112109E-3,3.6735329738530886E-3,2.7232948808176005E-3,5.0360814513961626E-4,8.2920528103109039E-4,3.7876113012049741E-4,2.4511686952831467E-4,1.2503198917851789E-3,4.9992468178052269E-3,2.334963867173068E-3,4.5540134557610122E-3,4.9235565433380151E-3,1.3755174272093164E-2,2.1445630452795244E-4,2.265493141219515E-5,0,8.4387146051359129E-4,1.1751223116168404E-3,0,4.4085678235356713E-4,4.9637029223800961E-4,1.1586695747001091E-3,7.8145102112776724E-4,4.4864505261502062E-3,5.377477857444116E-3,5.9340112427180751E-3,1.8338383033009089E-3,4.8203881460368025E-3,7.0937078811094557E-3,7.6681180454765366E-2,5.2287101257656636E-3,2.8330442676317551E-3,2.3731859376600974E-2,1.7145231181867754E-3,7.3396466228674746E-3,6.6223680332175676E-3,1.1246980243187256E-3,3.2499746886706489E-2,1.595521901862107E-4,2.6577973090930983E-2,1.0847513280874369E-3,2.5899059858873765E-3,4.1382699445213187E-4,2.317806218280494E-4,1.3685916091176517E-3,3.8054196821866392E-3,0,1.7116233732325313E-3,0,2.770473801392289E-5,3.4368781455694926E-3,1.3299170737784123E-3,1.4422262289324553E-4,0,0,0,0,9.3935818236505399E-3,null,null,2.647424469699598E-3,6.0810603825493343E-3,2.7283576270569956E-3]
[null,"201","化学肥料",4.305357989568516E-2,0,1.2578616352201257E-3,1.1441647597254005E-4,0,0,0,8.1598741895761313E-6,2.3473532674974097E-4,0,0,0,0,7.3464590067587421E-6,0,8.7644339271237314E-6,1.0633461909610256E-5,0,0.18806326469710535,2.8138038099550437E-3,0,7.0215419675715629E-3,2.4310664704753375E-3,3.3123550844650548E-4,1.1039308321910803E-3,3.3871913926957738E-3,0,-2.0247306385132694E-3,0,3.8561544224582431E-5,0,0,0,0,1.2554927809165097E-4,0,0,5.9177433671959761E-4,0,0,6.8746634279363402E-5,3.0593950964015397E-6,0,0,0,9.6172737227230066E-6,0,0,6.176003755010283E-6,0,0,0,2.138718150365253E-4,0,0,0,0,0,0,0,1.0050705810815564E-5,0,0,0,2.2147896591791797E-4,1.9389841917911459E-4,9.9928100513045487E-5,1.3180688408526023E-4,0,0,0,0,3.8992055368718625E-6,0,0,0,0,0,0,0,0,9.5298905015581364E-6,0,0,0,0,0,0,0,1.9344099614375375E-6,0,0,0,0,0,0,0,0,0,0,0,0,0,0,7.8193555113424101E-5,0,3.8874157968332067E-4,0,4.7601777133012967E-4,4.1882930818829597E-4,0,2.3800285058737563E-5,0,0,0,0,2.4293746095647947E-3,null,null,8.0463477917331802E-4,1.1961116991240528E-3,5.5043316343384406E-4]
[null,"202","無機化学工業製品",2.1404863510126669E-3,7.2421784472769413E-4,1.7969451931716083E-4,5.7208237986270026E-5,1.4923998157531091E-3,0,0,4.3684999184012583E-3,6.4863972712018263E-3,2.5170344757449404E-3,1.1104160729025166E-5,1.0759192844488613E-2,6.1512437045865213E-4,3.3059065530414338E-4,4.2313490069552801E-4,8.6702162624071513E-3,1.012837246890377E-3,7.4397565711649914E-6,4.3807818561623399E-2,0.14657653869788803,0,4.5270467948816652E-2,1.6233766233766232E-2,3.919620183283648E-2,3.1120940767568571E-2,3.7738086322674058E-2,0,2.8924723407332416E-4,3.5518525915154957E-3,1.9556211713895377E-2,1.5045135406218655E-3,2.8649273447820343E-2,9.0437978208753825E-4,1.8953752843062926E-2,1.6530654948734044E-3,0,0,5.6218561988361773E-3,1.4620607622540516E-3,2.2917537308402648E-4,2.8071542330740059E-3,2.777930747532598E-3,5.0536806661456279E-3,7.581763499314181E-4,2.9370810284349009E-3,8.7105022002948384E-4,6.2017087531646955E-4,9.433962264150943E-3,2.4951055170241545E-3,8.6501870270812851E-4,4.9424857383334889E-3,2.1126361161524503E-3,1.0564376530241698E-2,3.426557451946611E-3,2.3020381788320184E-3,1.2471478578818327E-4,1.3899023593592551E-5,1.6791116402515966E-4,2.045008784242278E-3,1.5072130912222781E-3,2.5579046288525613E-3,7.9556929102536644E-4,1.5070567934352607E-4,3.7865443469049792E-4,6.9974513869719012E-4,7.9022751967337259E-4,4.8745414884412434E-6,1.8829554869322888E-5,7.0196698538430849E-3,6.11433165488935E-3,0,0,0,0,0,6.1596456971794983E-5,5.4296080404738494E-5,0,0,0,0,6.6709233510906961E-4,5.145162400332961E-4,0,0,0,0,0,2.4189646831156264E-4,1.392775172235027E-4,1.9538236328494865E-5,7.439217863130552E-3,3.5054169766045876E-4,1.5968206799018992E-2,3.5562789147902755E-4,3.0986578221026112E-4,0,0,1.9564759353459953E-4,3.6647004327278269E-4,1.0506717995486313E-6,1.1638884218966208E-4,3.2361822670331423E-4,1.8798470952822916E-3,5.690753177699198E-4,4.0488313600392616E-3,1.1604226259203602E-4,0,6.3217174922678592E-4,3.2304332738496925E-3,0,4.4166698143826425E-5,0,0,0,0,5.8073621619120332E-3,null,null,1.5916649364084812E-3,1.7297464125249431E-3,8.2343148561683907E-4]
[null,"203","石油化学系基礎製品",0,0,0,0,0,0,0,0,0,0,4.8118029825775715E-5,4.3209609817223349E-5,0,0,0,6.5733254453427989E-5,2.6583654774025641E-5,1.4879513142329983E-5,1.6413011041480154E-2,2.4580355121446361E-3,0,9.4267280538318218E-2,0.20324995201842491,0,2.8836858332264128E-4,8.8026411043710534E-3,1.2307692307692307E-4,0,1.3203912979611508E-5,3.3603631395707551E-4,0,6.0546014971378243E-4,0,0,1.6739903745553462E-4,0,0,0,0,0,0,0,0,0,9.5112727604757159E-6,1.3738962461032868E-6,0,3.1342067322760606E-5,1.1116806759018509E-4,0,0,0,0,0,0,0,0,0,1.8590988947657069E-5,0,2.8141976270283582E-4,0,0,0,0,0,0,3.2951721021315058E-4,0,0,0,0,0,0,0,0,0,0,0,0,0,0,0,0,0,0,0,0,0,0,0,1.1878878228549618E-3,6.4915129196381252E-5,5.3704731386835182E-5,0,0,0,0,0,0,0,0,0,0,0,0,0,0,0,7.9398181701244937E-4,0,0,0,0,0,0,0,null,null,0,0,0]
[null,"204","有機化学工業製品（石油化学系基礎製品・合成樹脂を除く。）",0,0,0,0,0,0,1.5620118712902218E-4,3.3040072400338264E-3,5.9123960425091007E-3,1.322078714532696E-3,5.8481913172865878E-4,1.471287214276455E-2,6.9201491676598368E-4,2.644725242433147E-3,1.1371750456192315E-3,1.2896864523762571E-2,1.3055232859523994E-2,4.2406612455640454E-4,6.9829901521933748E-3,1.345451017173906E-2,0,0.24877200006159247,0.35084127694965134,0.18052335210334547,7.4827201160588275E-2,0.12262225717067325,2.4615384615384614E-4,1.3016125533299588E-3,3.7403384492994497E-2,8.9292010048036663E-2,4.0120361083249749E-3,1.3292602377807133E-2,1.5790758099941144E-4,7.5815011372251705E-4,2.7306967984934087E-2,0,0,0,2.4780690885661892E-5,0,3.0935985425713534E-4,5.2866347265818599E-3,9.4021965881779126E-5,4.8133187360791273E-4,2.8495773190385246E-3,2.8851821168169021E-5,7.2961279448996419E-4,6.8639127436845738E-3,1.3896008448773137E-3,9.8015771091842542E-4,3.6893294678761808E-3,4.2536297640653357E-4,1.8669227187563353E-3,3.1981202884835035E-4,2.6924423144234134E-5,2.8344269497314379E-5,4.5171826679175789E-5,3.2738458111438167E-4,1.4872791158125655E-4,7.1772051962965618E-6,1.7437974581765005E-3,0,6.5305794382194626E-5,2.1568923495028362E-4,0,0,0,9.4147774346614439E-6,3.6945630809700447E-5,0,0,0,0,0,0,0,0,0,0,0,0,9.5298905015581364E-6,8.7172815190354627E-4,0,0,0,0,0,3.2252862441541687E-4,4.836024903593844E-6,8.3563533835716492E-4,5.7773008711552686E-3,5.0786542253639447E-4,1.3963230160577147E-3,1.281541951275775E-5,5.7382552261159472E-5,0,0,0,3.6353828292660044E-4,1.0506717995486313E-6,0,0,5.1912095518255748E-4,0,1.0428808048585977E-3,6.3823244425619815E-5,0,1.3348646497617393E-4,7.6169218319681537E-3,0,2.3681875680335886E-7,0,0,0,0,1.4391152449040975E-2,null,null,7.4508973438249977E-3,3.0160395114117557E-3,1.7133768906937206E-3]
[null,"205","合成樹脂",0,0,0,0,0,0,0,6.6020800261115968E-5,0,2.5424590664090307E-5,0,7.5616817180140863E-3,0,2.4904496032912135E-3,2.2479041599449926E-4,2.0202020202020202E-3,1.5285601495064745E-3,3.4966855884475463E-4,0,0,0,0,1.6153796941974282E-3,6.0064038864966321E-2,0,1.3803077960008986E-2,0,0,0.12164434930291591,5.508792032083205E-4,3.009027081243731E-3,9.0819022457067371E-4,0,0,1.9669386901025321E-3,0,0,0,0,0,0,9.5636690713512117E-3,1.7629118602833589E-5,4.4043439415103125E-5,1.9022545520951433E-6,1.0853780344215965E-4,5.7347565646911182E-3,3.4476274055036671E-3,2.4086414644540104E-3,2.8179534188904733E-3,3.8015524174693726E-3,0,3.6024033845214729E-3,1.050810951930294E-3,1.1308257720578337E-3,0,0,2.4634002179470035E-3,2.5097835079337043E-4,4.3063231177779371E-5,6.5178827183138936E-3,0,0,0,0,0,0,0,0,0,0,0,0,0,0,0,0,0,0,0,0,0,0,0,0,0,0,0,0,0,0,0,1.7412528772676382E-4,4.4753942822362648E-4,0,1.1476510452231895E-5,0,0,0,0,0,0,0,0,0,0,0,0,5.8935533593254151E-4,3.1233411215626119E-3,0,0,0,0,0,0,2.3599639064343723E-2,null,null,7.6492082321283315E-3,1.7530903715915977E-3,1.1906127049578677E-3]
[null,"206","化学繊維",0,0,0,0,0,0,0,0,0,0,1.2192368480469631E-2,0.12061962580477899,8.3887586021298685E-2,1.3958272112841612E-4,4.2313490069552801E-4,1.4636604658296631E-3,3.1900385728830769E-5,0,0,0,0,0,0,1.1041183614883516E-4,0,0,0,2.1693542555499312E-4,3.333988027351906E-4,9.3649464545414476E-5,0,7.7058564509026859E-4,0,0,7.8886796400920688E-3,0,0,0,0,0,0,0,0,0,0,0,1.4993542926768763E-3,0,0,0,0,0,0,0,0,0,0,0,0,0,1.2633737204195165E-2,0,0,0,0,0,0,0,0,0,0,0,0,0,0,0,0,0,0,0,0,0,0,0,0,0,0,0,0,9.6720498071876875E-7,0,0,0,0,0,0,0,0,0,0,0,0,0,0,0,0,0,0,5.0372250934405252E-5,4.6088622625733988E-4,0,0,0,0,0,0,1.7815413803475163E-3,null,null,3.10669798908617E-6,7.3644047708172004E-4,3.0208969530732106E-4]
[null,"207","医薬品",0,1.0532196656182751E-2,5.3908355795148253E-4,0,6.1354214647627824E-3,0,0,0,0,0,0,0,1.1533581946099727E-4,0,0,0,0,0,0,0,0,0,0,0,8.0306204243718454E-2,1.2263161836291469E-3,0,0,0,0,0,0,0,0,0,0,0,0,0,0,0,0,0,0,0,0,0,0,0,0,0,0,0,0,0,0,0,0,0,0,0,3.0598818885591017E-5,0,0,0,0,0,0,3.6945630809700447E-5,6.167223797232683E-3,0,0,0,0,0,0,2.5208894473628588E-5,0,1.520195801219197E-5,0,0,0,0,8.4352593842260647E-4,0,0,0,0,0,3.8494758232606997E-4,7.5147062801903327E-6,7.3299997410291955E-4,0.22256648454790812,2.2197955639891874E-2,9.0316669016160239E-3,4.7340605615456563E-3,0,0,0,0,0,2.5864187153258242E-5,0,0,2.6064518371141364E-5,9.6374455554873936E-2,0,0,1.2920482364674947E-3,1.0989574683967159E-2,1.1147735269064108E-2,2.7999081616861118E-3,0,0,0,0,-0.33685014229194143,null,null,1.3912829161124232E-2,4.5365994781109836E-2,2.1073363972633926E-2]
[null,"208","化学最終製品（医薬品を除く。）",3.7350132086974193E-2,1.5312034431385533E-3,6.1096136567834677E-3,5.7208237986270023E-4,3.6296637494242284E-3,0,1.8744142455482662E-3,2.1007967004436005E-3,5.1385030121310488E-3,0,1.6545199486247496E-3,1.6117184461824311E-2,1.6185459997693285E-2,3.1633852483103145E-2,3.1285536720175602E-2,7.5286487433992855E-3,2.3276648120136852E-2,3.2846525261693439E-2,4.834377797672337E-3,7.5358193990750022E-3,0,1.6060237438984958E-2,9.7082720235429597E-3,1.7886717456111294E-2,1.9272421927699516E-2,0.14000287076562071,1.1076923076923078E-3,1.0412900426639671E-2,4.7765155203744625E-3,1.1221409369353489E-2,6.018054162487462E-3,2.8896961690885073E-3,7.0914859103372047E-3,7.5815011372251705E-4,1.8497593638836577E-2,0,0,1.3808067856790611E-3,5.030480249789364E-3,2.0221356448590571E-4,2.2915544759787803E-5,3.2429588021856319E-3,7.0281419496629896E-3,6.0339511998691283E-3,2.6136977545787267E-3,3.1888131872057288E-3,3.9289648983284568E-3,2.7267598570801729E-3,4.4776027223824549E-3,4.2512864569955802E-3,2.8570092583933416E-3,2.7932168784029036E-3,5.7745390059861833E-3,5.2214208791567405E-3,7.4446029993807386E-3,4.8893864882867304E-3,8.9231731470864172E-3,1.3152759923739644E-2,1.8107623235017987E-2,5.8996626713557739E-3,2.3970933358795122E-2,2.7538936997031915E-4,5.5447131191805627E-3,6.3508496957583515E-3,1.6402282838268998E-3,1.8072796051789169E-3,2.6078796963160652E-4,5.7524290125781424E-3,1.2339840690439949E-3,2.9408031142893411E-3,8.9314086617741353E-6,2.6090656935751307E-5,1.7546424915923381E-5,2.265493141219515E-5,4.1977496245876187E-5,1.7862972521820545E-4,4.1691633167924205E-4,1.1725803803850755E-4,1.6722153813411168E-4,1.240925730595024E-4,6.8157033805888771E-5,2.5730704354206971E-4,5.8333688360462865E-4,0,0,4.5181523414660076E-4,8.7605315001886236E-4,0,3.386550556361877E-3,4.1783255167050808E-4,4.5088237681141993E-5,1.0935323730395628E-2,1.7771471251762255E-3,1.2405792950358926E-2,3.633171431866822E-3,2.8748658682840895E-3,2.2273969828895414E-3,2.3600428131710332E-3,3.5066068687355147E-3,5.5967305008619373E-3,3.7309355601971902E-3,4.2287945995577222E-3,2.5758261557871902E-3,3.0179804621749594E-2,2.3067098758460108E-3,2.4538371879025828E-4,7.9314886481656622E-3,9.3317078576969966E-3,4.785363838768499E-4,7.5977832344445795E-3,7.4138668264811742E-3,6.2157819098177594E-3,0,0,0,0,3.0702667684690311E-2,null,null,5.0123983138914446E-2,3.7939421361409861E-2,2.077259507307963E-2]
[null,"211","石油製品",1.008602587549956E-2,1.6346631352425094E-3,4.3126684636118602E-3,8.3524027459954235E-3,3.8028558268079229E-2,0,1.5463917525773196E-2,3.3492574514487486E-3,4.0858617812376784E-3,2.0339672531272247E-3,1.8506934548375277E-4,6.9135375707557361E-3,1.730037291914959E-3,1.4766382603585073E-3,1.3884113929072013E-3,5.1556782576305353E-3,3.2804229991147643E-3,1.1754815382440686E-3,4.8284094300208892E-2,1.4295417057472752E-2,0,4.8350091618804183E-3,1.3914656771799629E-3,9.6058297449486581E-3,1.9601441588847379E-3,5.0238398362415435E-3,5.9323076923076923E-2,7.4915033624990968E-2,6.7835102932754126E-4,2.9196597770040984E-3,2.0060180541624875E-3,2.427344782034346E-2,6.1871061282496665E-3,3.4116755117513269E-2,1.4459091860221804E-2,0,0,2.2684682907584573E-3,2.1807007979382466E-3,4.853125547661737E-4,3.1852607216105045E-3,2.0712104802638421E-3,3.3789143988764373E-3,3.1837114777203118E-3,6.7149585688958558E-4,9.2188438113530538E-4,1.3096549661094858E-3,1.2850247602331851E-3,8.028804881513368E-4,9.0635065437336332E-4,7.52828953520995E-4,2.2686025408348456E-4,8.9113256265218872E-4,3.6549946154097181E-4,2.1539538515387308E-4,4.5067388500729863E-4,5.698599673372945E-4,1.7364883194159728E-3,2.9559672426774744E-3,3.1077298499964114E-3,8.945128171625853E-4,7.160123619228298E-3,1.7984211068327444E-3,2.7464429250336118E-3,8.6858272720853041E-3,3.6182176710970624E-3,1.5934876125714426E-2,2.6502598478571966E-2,1.0536893906926567E-2,1.1816104599500698E-2,1.3918895288164848E-3,3.7966404230645005E-4,1.1853584832090462E-3,6.9663914092500082E-4,1.9080680111761902E-6,2.5131354444492353E-3,4.760408849485448E-2,0.28479045988602519,5.9546069533755949E-2,0.16560153874790592,2.0106324972737188E-2,1.324654779716581E-3,2.235032329316611E-3,3.44439758189231E-3,6.7422278277477765E-4,7.3087758464891294E-4,6.7485434044515233E-4,2.1281123643328368E-4,1.4513788098693759E-3,9.8113273244111905E-3,1.5510353762312847E-3,4.5432486874121044E-3,1.8351888877518134E-3,5.9075204525518695E-3,1.5218310671399828E-3,2.3125168561247268E-3,2.9158651412372178E-3,2.9982515739158761E-3,7.9764018902567495E-4,3.6324510689198222E-3,1.4719911911676327E-3,2.1596596272970632E-3,2.2631409772833123E-3,6.1272003649577621E-3,5.4996133763108284E-3,6.1345929697564569E-5,2.5819403426728016E-3,0,8.8680347770020446E-3,6.6537224152214127E-3,1.2693132577581302E-3,1.965998273354444E-2,0,0,0,0,-3.7019041669558782E-4,null,null,0,1.4252101324904826E-4,5.6952374204872489E-3]
[null,"212","石炭製品",0,0,0,0,0,0,0,9.6434876785899742E-6,0,0,0,0,0,0,0,5.0395495080961457E-5,0,0,3.7600716204118172E-3,5.8216630550794008E-4,0,8.2225951988666984E-3,0,0,0,7.8009935345365591E-5,0,3.7963699472123795E-2,9.4077879979731987E-5,0,0,0,5.7420938545240524E-5,0,1.0127641766059845E-2,0,0,1.9725811223986586E-3,1.8238588491847153E-2,1.2132813869154343E-4,1.1916083275089657E-3,1.5296975482007697E-4,1.1752745735222391E-5,3.775151949865982E-5,1.1413527312570859E-5,2.6104028675962449E-5,9.1201599311245524E-5,0,0,5.9045645236049725E-6,0,0,0,1.3053552197891852E-5,0,0,0,5.4001580390001101E-5,9.2954944738285345E-6,1.2703653197444916E-3,1.0050705810815564E-5,2.1419173219913712E-4,7.183637382041409E-4,3.1155111715040968E-5,2.6670561272637398E-2,1.0609536143762872E-2,1.7014587065404159E-2,0,0,1.4280878432700039E-4,-2.3503707004668778E-6,0,0,0,0,1.2319291394358997E-5,0,0,0,0,0,0,0,0,0,0,0,0,0,0,0,0,0,0,1.281541951275775E-5,1.4345638065289868E-5,2.2273969828895415E-4,1.3296015848850892E-5,0,0,2.1013435990972627E-6,0,4.8980055933474593E-4,0,0,0,8.7031696944027013E-5,0,7.5558376401607879E-6,6.6481128262920895E-4,1.3467514671173796E-5,-5.3284220280755744E-6,0,0,0,0,1.2493926563476089E-3,null,null,0,2.1386342850187643E-4,8.5208259349015667E-5]
[null,"221","プラスチック製品",1.3127413127413128E-2,1.034596921039563E-3,4.8517520215633422E-3,9.0961098398169328E-3,1.3965914325195762E-2,0,1.5620118712902218E-4,1.9544382297523848E-2,4.852786106602848E-2,1.2712295332045154E-4,1.143728555089592E-3,4.9475003240720735E-3,9.6882088347237712E-3,1.5442256832206876E-2,5.1741464575675029E-2,6.2731435833388114E-3,4.0327404292196903E-2,3.6209295231860013E-2,1.1757684273351238E-2,5.9186907726640576E-3,0,2.2789215157907705E-3,1.2155332352376687E-3,7.0663575135254501E-3,6.2488328694452526E-2,2.5361029980778351E-2,1.2307692307692307E-4,0,0.22397632538402756,3.1135692565334272E-2,7.6730190571715151E-2,2.4108322324966975E-2,1.0048664245417092E-3,5.3070507960576198E-3,2.6574597196066122E-3,0,0,9.8629056119932927E-5,4.7083312682757593E-4,6.7404521495301905E-5,2.2915544759787802E-4,1.9350673984739736E-2,2.1096178594724193E-3,3.9167201479859562E-3,1.1204279311840393E-2,4.2343482304903297E-3,4.6388781473671925E-2,1.7582899768068701E-2,1.2858439817931409E-2,1.8460620983050947E-2,4.1314411297110262E-2,2.6797867513611616E-3,8.5063058767964675E-2,4.1183957184348793E-2,3.2995880563258931E-2,3.3383880613936878E-2,9.7605893186003684E-3,3.8231009479386797E-2,5.679547123509235E-3,4.3135003229742338E-3,6.7972923398545659E-2,2.3867078730760993E-3,1.2590203628490407E-2,1.5606314422180523E-2,1.2014431441025607E-2,1.0210763923186959E-2,0,0,3.5290466549425865E-2,2.3748571912156728E-3,5.5600369290244459E-3,2.5919718148930868E-3,7.1160501047911489E-4,1.9228373036100632E-3,4.076905317213127E-4,0,4.5182095479657391E-4,4.3971764264440325E-5,1.2161566409753576E-4,6.8250915182726309E-4,1.5676117775354416E-3,3.4498203615640458E-3,7.0197056442759245E-3,0,2.764951475101612E-5,7.0430021793440711E-4,8.2323846250576347E-3,7.0937078811094561E-5,2.660861151427189E-3,6.3545367233223103E-4,2.9006766241534683E-4,1.0800208527796012E-2,1.4739552864590096E-3,1.7901577128945061E-5,1.7941587317860851E-4,2.3239933665769586E-4,2.6863757551213257E-3,3.4569641207012319E-4,3.3561087198627458E-3,6.4469410012547934E-3,1.5035113451540916E-3,1.0604316732835879E-3,7.6749998360042771E-4,3.256304173417861E-3,5.0478283912110443E-3,1.2269185939512914E-4,5.0478384227535663E-4,3.5974731242380584E-2,1.9141455355073996E-3,1.8193486781288667E-2,1.4982610071680848E-3,1.2309838978638594E-3,3.8996244866862718E-5,0,0,-3.620573149895349E-6,0.10365331667476459,null,null,2.4861350657662075E-2,2.6603185295500938E-2,1.2843925900784398E-2]
[null,"222","ゴム製品",1.625685836212152E-3,4.138387684158252E-4,8.9847259658580418E-4,4.0045766590389014E-4,8.2911100875172731E-4,0,2.4992189940643548E-3,2.7075946174502619E-4,1.6138053714044692E-4,0,0,3.0246726872056344E-4,5.0747760562838799E-3,4.6282691742580075E-4,1.163620976912702E-3,7.6688796862332652E-5,1.5578021697579027E-3,2.5295172341960971E-4,1.432408236347359E-3,2.5874058022575116E-4,0,4.3114731379825387E-4,6.7174205105239584E-4,0,2.794761600483748E-3,2.3871040215681869E-4,0,2.1693542555499312E-4,8.5825434367474797E-4,4.9920673394738005E-2,1.5045135406218655E-2,2.7520915896081023E-4,1.6221415139030448E-3,7.5815011372251705E-4,1.2345679012345679E-3,0,0,1.0849196173192623E-3,9.4166625365515186E-4,1.2132813869154343E-4,2.2915544759787803E-5,2.3863281751932008E-4,2.6502441632926493E-3,8.0536574930474287E-4,7.8582135547050364E-3,7.1497560647215044E-3,1.0075952691906405E-2,2.9774963956622578E-3,1.852801126503085E-4,9.3602109110447838E-3,7.1471991022164037E-3,2.6939655172413793E-4,3.5489354307623416E-3,8.3803805110465677E-3,1.6693142349425163E-3,1.2372273635577727E-2,1.8305014072761389E-2,1.5563424223337036E-2,1.2409485122561095E-2,1.4045790569152372E-2,6.9349870094627397E-3,5.354793304978428E-3,2.838290294303074E-4,2.7320636427035928E-4,3.5019355335717175E-3,3.3840761837864337E-3,0,0,1.3226535829872759E-3,1.7782338255828714E-2,1.0529660738091611E-4,1.0796133904448817E-5,0,0,0,1.4167185103512847E-4,1.8751539196922187E-3,7.3960507492788633E-3,1.3377723050728935E-3,0,8.178844056706652E-4,6.0038310159816262E-4,1.9007606319701385E-4,2.4602839870659353E-4,1.4888200250547142E-4,3.9866050071758887E-5,0,2.8374831524437824E-4,0,1.1625803868239601E-3,8.7170592850207857E-5,2.5897080498259829E-4,1.1547255922932759E-3,5.5494889099729687E-4,1.6147428586074765E-3,1.2710235325846823E-3,4.6775336640680369E-3,3.9223246754110133E-4,1.5049814887276886E-5,4.0165116742696988E-2,5.0432246378334307E-5,3.1683629262741343E-4,8.746438559549034E-5,5.0339001714672245E-4,1.4900216335502481E-3,1.061284583767867E-2,8.819211956994738E-4,1.0129668624625957E-2,1.3348646497617393E-4,3.7491852597041687E-3,6.1613879620620114E-4,1.3953361150853903E-3,0,0,0,0,0.10723953633650309,null,null,2.8662913430307184E-2,8.3278140569294449E-3,5.5663413016150895E-3]
[null,"231","なめし革・革製品・毛皮",8.1284291810607595E-5,0,0,5.7208237986270026E-5,2.5794564716720403E-4,0,1.718213058419244E-3,2.5963236057742237E-5,1.2837088181626459E-5,0,0,6.481441472583502E-5,5.0363307831302138E-3,7.3464590067587429E-5,7.5370904186390923E-4,2.4102193299590263E-5,7.975096432207693E-5,6.6957809140484923E-5,1.1936735302894658E-4,0,0,0,1.5993858358390378E-5,1.1041183614883516E-4,1.6514500366494872E-5,3.6352629870940365E-4,0,1.4462361703666208E-4,5.1165162795994596E-5,1.2119342470583051E-4,0.1624874623871615,2.7520915896081021E-5,1.1484187709048105E-4,7.5815011372251705E-4,3.3479807491106924E-4,0,0,9.8629056119932927E-5,2.4780690885661892E-4,1.348090429906038E-5,1.1457772379893901E-5,3.3653346060416933E-5,3.760878635271165E-4,3.775151949865982E-5,1.5218036416761146E-5,2.4592742805248832E-4,4.8519250833582619E-4,2.8207860590484551E-4,2.0998412767034963E-4,5.9045645236049731E-5,1.6365846815673806E-5,9.9251361161524504E-5,3.1189639692826605E-5,3.9813334203570147E-4,6.7311057860585335E-5,7.3695100693017392E-5,5.2121338475972061E-5,7.7627271810626585E-5,2.7886483421485605E-5,1.3636689872963467E-4,4.4022091451372172E-3,9.1796456656773051E-5,2.5117613223921012E-6,1.6775829385022061E-5,9.6295202573007805E-6,3.6584607392285767E-5,5.6057227117074302E-5,5.5829630187542367E-3,1.403933970768617E-4,2.9090678288833409E-4,9.4954976298861863E-5,9.896456079078082E-5,1.9496027684359312E-6,0,0,1.3551220533794897E-4,3.6843768846072555E-5,0,0,0,0,1.9059781003116273E-5,4.5880429047555067E-5,3.8661605511036132E-4,4.1048894976508546E-4,1.9933025035879446E-4,4.1916418661189589E-6,1.6551985055922064E-4,0,2.2922758043034819E-4,8.1158827826055587E-5,4.0084176771219561E-4,3.818537011551838E-5,1.4321261703156049E-4,7.3688662198357065E-5,4.0167786582811631E-5,1.3904356923492289E-3,5.1189661018075929E-4,1.5049814887276886E-5,8.7952810385467855E-6,1.2187792874764124E-4,1.0992279540134752E-4,6.5598289196617748E-6,2.1236766348377355E-4,2.3892475173546251E-4,0,8.0069161188504856E-4,0,4.3068274548916491E-4,1.6798768986208692E-4,3.097528374369973E-3,3.237549224258719E-3,0,0,0,0,9.3241711205201173E-3,null,null,0,1.6021327696272322E-4,1.0097314199089436E-3]
[null,"251","ガラス・ガラス製品",0,0,0,2.288329519450801E-4,0,0,0,8.004094773229678E-4,6.0444346638058302E-3,0,0,3.0246726872056344E-4,8.8424128253431237E-4,7.3464590067587429E-5,6.7304895141882424E-3,1.3146650890685597E-5,0,7.4397565711649914E-6,5.9683676514473291E-5,9.3793460331834794E-4,0,9.0848898264632059E-4,3.1987716716780756E-5,0,1.3097269136812473E-2,4.4606081030480046E-3,0,0,2.9824338442697492E-3,6.4452866775373491E-4,0,4.3428005284015851E-2,1.1484187709048105E-4,0,6.0682151077631301E-3,0,0,0,0,0,0,1.0019518940715042E-2,2.9969501624817099E-4,2.3500320887915736E-3,4.0327796504417034E-4,8.3807671012300499E-5,4.4469899824163316E-3,5.9236507240017552E-3,6.6021480141059928E-3,1.2842427838840817E-4,2.0784625455905733E-3,3.6864791288566246E-4,8.07366101762883E-3,4.1118689423359333E-4,5.5195067445679982E-4,1.6305041028330098E-2,3.6033218666388688E-3,2.57351281546099E-5,7.3434406343245433E-4,9.5456829110744275E-3,6.2264122498002419E-3,3.0598818885591017E-5,3.0919781878646765E-3,2.044254637917688E-3,2.5678720686135417E-5,4.0243068131514347E-5,0,0,0,1.1636271315533364E-4,6.2519860632418944E-5,5.3980669522244083E-6,0,0,0,0,3.878291457481321E-5,0,4.5605874036575911E-5,6.2046286529751201E-5,0,0,0,0,0,0,0,0,0,7.9310808418939035E-5,4.1631472792254444E-4,1.6630429519969463E-3,2.4973232055549021E-4,6.2655519951307706E-3,1.7621201830041907E-4,1.7788591200959436E-4,2.6323782525058216E-4,0,3.0099629774553773E-5,4.9869243488560267E-3,1.0506717995486314E-5,4.7848746233527747E-4,1.6180911335165712E-4,1.3371297330459816E-4,7.6021511915828986E-4,0,1.4505282824004502E-4,0,6.2461591158662511E-4,1.7195039947472649E-3,4.713630134910828E-4,5.2218535875140628E-5,0,0,0,0,1.2517063464519562E-2,null,null,8.6806319645049406E-3,1.5701884045886524E-3,1.2183494157713985E-3]
[null,"252","セメント・セメント製品",0,0,0,5.7208237986270026E-5,0,0,0,0,0,0,0,0,0,7.3464590067587421E-6,0,0,0,0,0,0,0,0,0,0,0,3.1203974138146234E-6,0,7.2311808518331041E-5,0,0,0,0,9.4299536325921252E-2,0,2.5109855618330194E-4,0,0,0,2.4780690885661892E-5,0,0,0,5.8763728676111954E-6,6.9211119080876343E-5,1.9022545520951432E-5,0,0,0,0,0,0,0,4.4556628132609438E-6,0,0,0,0,0,0,7.1772051962965618E-6,3.1659723304069027E-4,0,2.9062334380737805E-2,3.4716380638775655E-2,5.6599110232328227E-2,3.1096916283442903E-2,0,9.4147774346614439E-6,0,1.6925485549866711E-4,0,0,0,5.0973595677439085E-5,9.6039423229201583E-5,0,0,0,0,0,0,0,0,0,0,0,0,0,0,5.8032298843126121E-6,0,3.3778800649904124E-5,0,0,0,0,0,0,0,0,0,0,0,0,0,0,0,0,4.1053384511540282E-4,2.125254261367727E-3,0,5.6836501632806128E-6,0,0,0,0,8.7920223965202104E-4,null,null,0,4.0479244107861868E-3,1.6740239505651212E-3]
[null,"253","陶磁器",4.0642145905303798E-5,0,0,0,0,0,0,0,3.6677394804647025E-5,0,0,0,0,7.3464590067587421E-6,7.5370904186390923E-4,0,0,0,0,2.2639800769753225E-4,0,1.5398118349937639E-5,0,0,0,9.6732319828253326E-5,0,0,7.2621521387863298E-5,0,0,0,0,5.3070507960576198E-3,0,0,0,0,0,0,0,0,0,2.2650911699195894E-4,2.6631563729332003E-5,5.083416110582161E-5,5.4356153189502327E-4,4.0431266846361188E-3,3.5073525324703397E-2,2.5123922047939158E-3,2.1041803048723463E-5,1.8432395644283123E-4,5.7478050291066179E-4,1.4358907417681038E-3,0,0,0,1.0083107588445518E-4,1.8590988947657069E-5,1.1483528314074499E-4,2.512676452703891E-4,9.1796456656773051E-5,5.4492661889296631E-3,6.9739519300591709E-4,2.2147896591791797E-4,1.046319771419373E-3,0,0,0,2.009901409046672E-4,7.4271714134753334E-5,3.598711301482939E-6,0,0,0,0,3.1026331659850568E-5,0,9.1211748073151823E-5,0,1.3631406761177754E-4,0,6.5543470067935806E-6,0,0,0,0,0,0,4.6425839074500897E-5,1.1722941797096918E-4,5.6298001083173543E-6,1.6877933591059126E-4,1.9691734841839566E-4,6.9844036344529734E-4,4.5619129047621778E-4,1.7549188350038811E-4,0,0,0,5.2533589977431568E-6,9.3111073751729666E-4,7.915526896391875E-4,0,1.3032259185570682E-5,0,1.7406339388805403E-4,0,5.9691117357270232E-4,4.6661580639370748E-4,2.0537959873540037E-4,5.6126045362396047E-5,0,0,0,0,3.4705351565211356E-4,null,null,0,8.6085968347557318E-5,5.3204362256479975E-5]
[null,"259","その他の窯業・土石製品",3.833909097066992E-3,6.6214202946532027E-4,7.5471698113207548E-3,5.7208237986270026E-5,3.6849378166743436E-5,0,0,1.4613592866786346E-4,9.1693487011617562E-6,1.7797213464863215E-4,0,0,0,2.0570085218924478E-4,1.2165128394996431E-3,1.2357851837244461E-3,2.6583654774025641E-5,2.2319269713494974E-5,6.147418680990749E-3,1.345451017173906E-2,0,6.3132285234744319E-4,4.4782803403493058E-4,1.1041183614883516E-4,1.8712199261420729E-3,5.2734716293467135E-4,0,8.0989225540530774E-3,8.5825434367474795E-5,3.0849235379665945E-4,0,1.2384412153236459E-2,3.3935774680237146E-2,2.0470053070507959E-2,4.9445490688428545E-2,0,0,1.2821777295591282E-3,1.5388809039996036E-2,0,1.1091123663737296E-2,1.1962234826930018E-3,6.3347299512848693E-3,2.8313639623994864E-3,5.6649140561393363E-3,5.6920521476059175E-3,1.7255342589687652E-3,1.0718987024384128E-2,3.2115219526053472E-3,5.0439742442895483E-3,1.5547554474890115E-3,8.649047186932849E-4,6.2624340840382563E-3,1.5337923832522925E-3,1.5212299076492286E-3,2.7437252873400322E-3,4.7604155808054485E-4,2.3490687469650477E-3,1.4315061489695944E-3,2.131629943300079E-3,5.0555050228402289E-3,0,7.3669959585760322E-3,1.339909458452262E-2,1.2309736728916165E-2,1.3510695509971134E-2,4.1433602651750566E-5,1.2239210665059878E-4,4.7807646267752375E-3,0,6.628045375316595E-5,1.7993556507414695E-6,0,0,0,0,0,0,0,0,0,0,3.2771735033967903E-6,0,0,0,0,0,8.0632156103854218E-5,5.8032298843126124E-5,1.0700941742991033E-3,1.1259600216634708E-4,3.3603125701656173E-5,0,0,5.7382552261159476E-6,0,0,0,1.9642794319421153E-4,3.1520153986458942E-6,6.4660467883145606E-5,5.0292021717406945E-5,5.5058283125422772E-5,4.6916133068054458E-4,0,8.7031696944027013E-4,5.3862351767704755E-3,1.1081895205569156E-3,1.7991481584229507E-3,2.8618468676244312E-4,3.039568743571111E-4,0,0,0,0,1.4298604844867079E-2,null,null,3.8264163565577994E-4,1.6607793474929325E-3,7.8059029003794207E-4]
[null,"2611","銑鉄・粗鋼",0,0,0,0,0,0,0,0,0,0,0,0,0,0,0,0,0,0,0,0,0,0,0,0,0,3.1203974138146234E-6,0,0,0,0,0,0,0,0,0,0,0,1.2131373902751751E-2,0.1484611190960004,7.1179174699038811E-3,0,3.0593950964015397E-6,0,3.1459599582216518E-6,0,0,0,0,0,0,0,0,0,0,0,0,0,0,7.157530744847972E-4,0,0,0,0,0,0,0,0,0,0,0,0,0,0,0,0,0,0,0,0,0,0,0,0,0,0,0,0,0,0,0,0,0,0,0,0,0,0,0,0,0,0,0,0,0,0,0,5.8021131296018012E-6,0,0,2.0170521904154865E-4,0,0,0,0,0,0,0,null,null,0,0,0]
[null,"2612","鉄屑",0,0,0,0,0,0,0,0,0,0,0,0,0,0,0,0,0,0,0,3.2342572528218895E-5,0,0,0,0,0,0,0,0,0,0,0,0,0,0,0,0,0,-8.3834697701943E-3,1.4868414531397135E-3,-4.61046927027865E-3,0,0,-3.760878635271165E-4,-1.4911850201970629E-3,-3.214810193040792E-4,-6.319922732075119E-4,-1.6416287876024193E-4,0,0,-2.1994502850428523E-4,-3.8576638922659681E-4,0,-4.7007242679902953E-4,-1.8927650686943184E-4,-1.3462211572117067E-5,-1.190459318887204E-4,-6.3240557350846105E-4,-1.9153685544578516E-4,-2.7793528476747322E-3,-6.3877126247039405E-4,-4.522817614867004E-5,0,0,-2.7320636427035928E-4,-8.0246002144173176E-5,-6.2193832566885814E-5,0,0,0,0,0,0,0,0,0,0,0,0,0,0,0,0,0,0,0,0,0,0,0,0,0,0,0,0,0,0,0,0,0,0,0,0,0,0,0,0,0,0,0,-1.0217251279826214E-4,0,-1.1142322507598034E-4,0,0,-1.0768081749067801E-3,-8.8210327651995772E-4,0,null,null,0,6.3946066116972401E-4,1.1534949576420802E-4]
[null,"262","鋼材",5.4189527873738399E-5,0,0,0,1.8424689083371718E-5,0,1.718213058419244E-3,0,0,0,0,1.0802402454305838E-4,4.2289800469032333E-4,5.2159858947987069E-4,1.8631158596249968E-2,0,0,0,0,0,0,0,0,0,0,0,0,0,1.3781584172469512E-3,4.214225904543652E-3,0,0,1.103917543532249E-2,0,1.6530654948734044E-3,0,0,0.49856987868626096,7.300391534915994E-2,0.45774410547459521,2.0623990283809022E-4,1.6826673030208468E-3,0.1358323588348328,0.10660085318434066,3.2165222221376778E-2,4.5028075569789119E-2,9.846124661642067E-3,6.5818341377797283E-4,4.8049309213980002E-3,3.4324709716846612E-2,2.4597867763957729E-2,3.5872277676950999E-3,2.100845016452535E-2,4.7123323434389583E-3,3.204006354163862E-3,3.0421904451467526E-2,3.3385454671809305E-2,1.813482760206404E-2,0.10928712852880208,3.0890691164860404E-2,5.5831670779080463E-3,0,1.7758152549312154E-2,1.2761613067891782E-2,1.7702268073004603E-2,2.6165311206962784E-2,0,0,0,0,0,0,0,0,0,0,0,0,0,0,0,0,2.5430866386359093E-3,0,0,0,0,0,0,8.704844826468919E-6,0,0,0,0,0,0,0,0,0,4.5735461400443284E-4,0,0,0,0,0,0,1.6826128075845222E-4,0,1.8939966351336375E-3,9.7844129982154904E-3,0,0,0,0,0,0,7.4500821359987047E-3,null,null,2.0193536929060103E-5,7.1686431491705196E-4,2.868158777531056E-4]
[null,"263","鋳鍛造品（鉄）",0,0,0,0,1.6582220175034547E-4,0,1.5620118712902218E-4,0,0,0,0,0,0,0,5.8181048845635098E-4,0,0,0,0,0,0,0,0,0,0,0,0,0,0,0,0,0,1.0048664245417092E-4,2.2744503411675512E-3,1.2554927809165097E-4,0,0,0,5.7491202854735588E-3,0,0,0,1.6759415418427129E-2,4.2030025041841267E-3,2.5239113397198358E-2,2.7482046610804046E-2,2.2326151511392902E-3,0,4.4467227036074037E-4,1.0394985843806555E-2,8.9544561862900959E-4,1.2193738656987297E-3,1.3366988439782832E-3,4.568743269262148E-4,1.7366252928031017E-3,4.3650175025864146E-4,3.2662705444942491E-4,2.1221777318576839E-2,3.2524935163926044E-2,1.3048159046867149E-2,2.8946032735148826E-3,0,2.6624670017356272E-4,2.3965470550031516E-4,1.011099627016582E-3,5.9267063975502951E-3,0,0,2.9556504647760357E-5,0,0,0,0,0,0,0,0,0,0,0,0,0,0,0,0,0,0,0,0,2.901614942156306E-6,0,0,7.6370740231036764E-7,0,9.6115646345683132E-6,8.6073828391739205E-6,6.7496878269380039E-6,0,0,0,0,1.939814036494368E-5,2.1866096398872585E-5,0,4.3440863951902279E-6,0,2.9010565648009004E-5,2.2165576859137761E-5,2.2919374175154391E-4,3.1715175911909174E-3,0,1.1840937840167943E-7,0,0,0,0,1.0666111381041623E-2,null,null,9.0922694480588572E-4,1.6741304539064927E-3,7.3608963312832103E-4]
[null,"269","その他の鉄鋼製品",0,0,0,0,0,0,0,0,0,0,0,0,0,6.6118131060828686E-5,3.9523444318091662E-2,0,0,0,0,1.6171286264109446E-4,0,0,0,0,0,3.7444768965775484E-5,0,0,6.2718586653154662E-5,0,0,5.5041831792162041E-5,2.7131393462626148E-3,1.5163002274450341E-3,1.8413894120108808E-3,0,0,0,6.4429796302720925E-4,0,0,3.9466196743579861E-4,8.8204356742844048E-2,6.0210527640404195E-2,1.196518113267845E-2,1.5200788066886765E-2,6.9641541234067078E-3,1.8805240393656366E-4,4.9469790077632369E-3,1.0678404940939593E-2,2.233236696904517E-2,8.5072595281306712E-5,8.0625218605956776E-3,5.632607773390334E-3,8.615815406154923E-4,4.8312807358172364E-3,5.4067201779075024E-3,8.9186985112861186E-3,4.9015142360497865E-2,2.9670566281489986E-2,1.7840002814197627E-3,0,2.2982616099887724E-4,6.1111949902580367E-4,3.209840085766927E-4,8.0486136263028694E-5,0,0,0,0,0,0,0,0,0,0,0,0,0,0,0,0,0,0,0,0,0,0,0,2.9016149421563062E-5,0,0,0,0,0,0,0,0,0,4.3976405192733926E-4,0,0,0,0,0,0,0,0,3.6771743182115836E-4,3.4740754197532405E-3,0,0,0,0,0,0,1.7329538881562204E-2,null,null,7.5078534736249111E-5,1.020499600040168E-3,4.0148804236191603E-4]
[null,"271","非鉄金属製錬・精製",0,0,0,0,0,0,0,0,0,0,0,0,0,0,-1.322296564673525E-5,2.1911084817809329E-6,0,-9.5972859768028392E-4,0,2.2316375044471037E-2,0,5.543322605977549E-4,0,0,0,8.855687860405902E-3,0,0,6.4038977951115809E-4,-3.3052752192499227E-5,0,5.5041831792162045E-3,0,3.1084154662623199E-2,8.3908767524586737E-3,0,0,2.7912022881941018E-2,2.1807007979382466E-3,-3.2354170317744915E-4,0.23449476952690859,0.47687709186139715,-1.7041481316072468E-4,1.7881636402531868E-2,-1.9022545520951433E-6,1.6211975704018783E-3,4.4488140144025565E-2,3.4789694728264275E-3,2.268446179215277E-2,1.1950838595776465E-2,1.2438043579912092E-3,7.2311705989110706E-4,6.2252292995475272E-2,1.3640962046796985E-3,-9.4235481004819466E-5,7.0860673743285948E-6,-5.3789221307203169E-3,6.6324909789938075E-3,6.6927560211565453E-4,8.8997344434077366E-4,1.2503078028654562E-2,0,7.786460099415513E-5,0,-6.4196801715338543E-6,-1.097538221768573E-5,1.2186353721103109E-5,0,1.4778252323880179E-5,0,0,0,0,0,0,0,0,0,0,0,0,0,0,0,0,0,0,0,1.6126431220770844E-4,4.836024903593844E-6,0,1.0246236197137584E-4,0,0,0,0,0,0,0,0,0,0,0,0,0,0,1.1604226259203602E-5,0,1.0124822437815456E-3,7.8308661541282246E-3,0,4.8429435766286885E-4,0,0,0,-1.3455366397065625E-3,-9.0928021100853754E-3,null,null,0,0,1.3377290319102222E-5]
[null,"272","非鉄金属加工製品",0,0,0,0,0,0,0,1.3018708366096465E-3,9.0226391219431687E-4,0,1.1844438110960177E-4,2.1604804908611675E-5,0,1.10931531002057E-3,1.3884113929072012E-2,2.1911084817809329E-6,9.8359522663894882E-5,2.0608125702127025E-3,0,5.1748116045150232E-4,0,0,0,0,1.9144116963313673E-3,3.5182480840759878E-3,0,0,2.0499074900846865E-3,1.2339694151866378E-3,1.5045135406218655E-3,1.3485248789079701E-3,3.4452563127144314E-4,1.5163002274450341E-3,2.929483155471856E-3,0,0,3.4520169641976527E-3,1.2390345442830946E-4,0,9.1662179039151206E-4,5.0489197275914603E-2,4.044119807490025E-2,3.769803817937005E-2,3.655752798216446E-2,1.8010405890167985E-2,2.2016066073734668E-2,1.3665141352723625E-2,4.893865375470148E-2,6.0656115209862985E-2,3.6367249602543721E-2,2.1268148820326679E-2,3.985813169602577E-2,5.1196031720131839E-2,2.1674160631108479E-2,5.9253695384135713E-3,9.4478612877445366E-3,3.066699123866547E-2,2.2820438933249053E-2,2.0060288523648891E-2,1.5076058716223346E-2,0,5.6866276338957168E-3,7.9277776579504255E-3,3.267617207310732E-3,2.7749424707048755E-2,6.7024945466067102E-4,0,2.0689553253432248E-4,5.2892142343333471E-6,1.2221927642427764E-5,0,0,0,0,0,0,0,9.1211748073151823E-5,0,0,0,3.9326082040761482E-5,0,0,0,0,0,4.0316078051927108E-4,2.3696522027609834E-4,0,1.6776804322785716E-4,2.3384720658743458E-3,0,1.4417346951852469E-4,3.8446310014976845E-4,2.0924032263507813E-4,0,0,1.7971690922097263E-3,4.0976200182396621E-5,6.9833305313797252E-4,3.1049856886399067E-4,7.3935408768424865E-4,0,0,4.4676271097933868E-4,9.7528538180206143E-4,1.1585617714913209E-3,8.6043894703396132E-3,9.4272602698216565E-5,1.7879816138653593E-5,0,0,0,1.3537652150472338E-3,5.0045116957034771E-2,null,null,3.3153645373531246E-3,1.8241706792338528E-2,7.8313028187068298E-3]
[null,"281","建設用・建築用金属製品",0,0,0,0,2.210962690004606E-4,0,0,0,0,0,0,0,0,3.7466940934469584E-4,1.3222965646735249E-3,0,0,0,0,0,0,0,0,0,0,0,0,0,0,0,0,0,1.7226281563572157E-4,0,0,0,0,0,2.4780690885661892E-5,0,0,0,2.3752299130884454E-2,1.0633344658789183E-3,4.3371403787769266E-4,1.5799806830187798E-4,0,0,4.3232026285071981E-5,0,0,0,0,1.4358907417681038E-4,0,0,0,0,1.1349798752544642E-2,8.7418359290892134E-3,5.0404289641240059E-3,0,7.0164796660362141E-2,9.3412611109912835E-2,3.1045573309537718E-2,6.2603580169679415E-2,0,0,0,0,0,0,0,8.7787859222256202E-5,6.3602267039206347E-6,6.1596456971794983E-5,0,0,2.2802937018287956E-4,0,0,0,1.9663041020380741E-5,0,0,0,0,0,0,7.73763984575015E-6,0,0,0,0,0,0,0,7.977609509310535E-5,0,1.5538329834765988E-4,0,0,0,0,0,0,0,0,2.6193570485890733E-4,3.907213679381575E-3,0,9.7450918424582165E-5,6.5677886091558258E-6,0,1.6566279613950463E-5,2.3138753857967549E-4,3.5191226487124312E-2,null,null,0,9.8719555177174088E-3,4.0828506050633075E-3]
[null,"289","その他の金属製品",3.359750728171781E-3,6.6214202946532027E-4,0,9.1533180778032041E-4,1.3634269921695072E-3,0,6.8728522336769758E-3,4.0651009598979271E-3,5.3965284845817404E-2,1.2712295332045154E-4,2.1097905385147815E-4,1.2962882945167004E-4,1.26869401407097E-3,1.337790185130767E-2,5.9913257345357414E-2,5.3243936107276674E-4,1.5205850530742668E-3,4.6126490741222947E-4,5.9683676514473291E-5,8.3120411397522558E-3,0,1.0239748702708528E-2,1.647367410914209E-3,3.3123550844650548E-4,2.10839355832858E-2,9.7106767517911082E-3,3.6923076923076921E-4,1.0846771277749656E-3,2.043305533594881E-3,2.753845136838394E-2,1.5546639919759278E-2,9.6047996477322765E-3,7.565208653335439E-3,1.7437452615617893E-2,9.9183929692404273E-3,0,0,1.9725811223986585E-4,1.0977846062348218E-2,2.1569446878496609E-4,5.9580416375448286E-4,4.0200451566716226E-3,4.3167835085471847E-2,7.7179835655051779E-2,2.7004405621542653E-2,2.9023558198931931E-2,2.6010696123567222E-2,1.0718987024384128E-2,2.6939728379354856E-2,3.3757871522580529E-2,2.7630225381090431E-2,1.8432395644283121E-2,1.926628600454032E-2,2.9762099011193421E-2,3.2578552004523302E-2,3.6663312594776153E-3,6.0981966016887311E-3,1.008817023660708E-2,4.6644791269671589E-2,1.4167803057489414E-2,1.7181681583589209E-2,1.835929133135461E-4,1.5479985029902518E-2,6.7189593234068354E-2,6.4678277728203578E-3,5.5608603236274373E-3,3.7046515312153449E-4,1.8170520448896588E-3,7.2413436387012866E-4,1.4809799856133372E-4,2.5905785860545925E-3,1.1425908382208331E-4,4.2891260905590487E-5,2.5203611196067106E-4,3.6507701280504441E-4,5.0509094716871881E-4,1.423332964895645E-3,0,8.6651160669494226E-4,6.2046286529751201E-5,1.0905125408942203E-3,2.5826003259222553E-3,6.318390514549012E-3,3.5146914100941938E-5,6.6146146827430867E-4,5.3154733429011852E-5,2.3054030263654272E-4,3.7833108699250433E-4,4.0316078051927108E-4,4.1647846469750182E-3,1.8786765700475831E-4,2.6910444517756955E-4,3.238119385795959E-4,1.4321261703156049E-4,5.9271315246504593E-4,4.4471478002398591E-4,2.2273969828895414E-3,1.4692097512980235E-3,0,4.6321813469679734E-3,2.5951593448851195E-4,1.1250921411667335E-3,2.5648931075877542E-3,3.9641963850304395E-3,1.4769893743646773E-4,0,5.2973292873264447E-3,3.9898038346447968E-4,2.7553621261119676E-3,9.3430253431028582E-3,2.5823959381975751E-3,8.328915676774131E-4,0,0,7.2615525641149536E-4,2.2203987699267293E-3,9.6758520163809258E-2,null,null,2.5692392369742627E-2,1.4502086458488789E-2,8.0454410634857743E-3]
[null,"291","はん用機械",0,0,0,0,0,0,3.2802249297094657E-3,0,0,0,0,0,0,3.6732295033793715E-5,5.8181048845635098E-4,0,0,0,0,0,0,0,0,0,0,1.2481589655258493E-4,0,0,4.324281500822769E-4,0,0,4.1831792162043153E-3,2.1532851954465197E-4,4.5489006823351023E-3,9.8346934505126604E-4,0,0,0,1.4620607622540516E-3,0,0,1.5296975482007698E-5,1.1341399634489607E-3,8.4311726880340271E-4,0.15088112430853046,4.0670076677149496E-2,8.0403329952794048E-3,1.6297875007835517E-3,2.3530574306589178E-3,1.541238954773988E-2,3.2897690077620875E-2,2.3253176043557169E-3,1.9382133237685106E-4,2.3431126195215873E-3,7.808082711827899E-4,3.9540255948753561E-4,7.7139580944438654E-4,1.0056106798250518E-2,3.7293523829000086E-2,1.536639632527094E-2,5.7791558412189498E-4,0,9.0938318677206021E-3,6.9260209889591073E-4,5.2480885402289255E-3,6.2230417174278093E-3,0,0,1.0285663617420605E-2,0,3.7605931207470044E-6,0,0,0,0,1.9710866230974395E-4,3.878291457481321E-6,0,0,6.2046286529751201E-5,6.8157033805888771E-5,7.6239124012465092E-5,3.5721191187025017E-4,3.5146914100941938E-5,0,0,0,0,0,3.5593143290450687E-4,0,0,0,0,0,0,0,0,0,3.9892463030502034E-2,1.302833031440303E-4,0,0,0,0,0,1.3925071511044322E-4,0,0,5.8508012532841594E-3,0,4.7955798252680167E-5,0,0,6.778369408708065E-3,2.4584679116830301E-2,8.1974040397029227E-2,null,null,1.4990853363337131E-2,3.7121154164652399E-2,1.891850263485206E-2]
[null,"301","生産用機械",0,0,0,1.7162471395881006E-4,0,0,4.6860356138706655E-4,0,0,0,0,0,0,2.7916544225683223E-4,3.70243038108587E-4,0,0,0,0,0,0,0,0,0,0,0,0,0,3.3785512336580946E-3,0,0,4.1281373844121534E-4,5.0243321227085459E-4,4.5489006823351023E-3,1.9250889307386482E-3,0,0,0,1.4868414531397135E-3,3.9094622467275103E-4,4.5831089519575606E-5,1.3767277933806926E-4,2.2330216896922542E-4,6.512137113518819E-4,3.8920128135866627E-3,0.1200496800882591,9.7038501667165238E-4,3.8237322133767944E-3,2.2233613518037017E-3,2.9891857900750177E-3,1.3326475264191528E-3,1.8999546279491832E-3,2.4728928613598235E-4,8.0279346017034887E-4,9.1543038690396054E-4,2.6218449285015803E-4,4.1349595190937836E-4,9.0410458418572158E-4,4.7407021816525527E-3,1.1985932677815259E-3,2.3619158655416577E-4,0,2.2605851901528908E-5,1.0784461747514181E-4,1.2518376334491016E-4,1.097538221768573E-5,0,4.7073887173307225E-5,2.8078679415372341E-4,0,2.8204448405602532E-6,0,0,0,0,3.6957874183076993E-5,1.5513165829925284E-5,0,6.080783204876788E-5,6.2046286529751201E-5,6.8157033805888771E-5,7.6239124012465092E-5,1.9663041020380741E-4,3.5146914100941938E-5,4.2537715001563261E-6,0,0,2.364569293703152E-5,0,2.3212919537250448E-5,0,0,0,0,0,0,0,2.1938426150603971E-4,0,6.2818828937647314E-2,8.4053743963890506E-6,0,0,0,4.3440863951902279E-6,0,5.2219018166416209E-5,0,0,3.622924512091754E-3,0,1.634049421943176E-5,0,0,4.7683274822154084E-3,5.0626145211973041E-2,0.16330024756484116,null,null,0.10177283720747202,3.2191401461544797E-2,2.5058441825415591E-2]
[null,"311","業務用機械",0,0,1.7969451931716083E-4,0,0,0,0,0,0,0,3.7013869096750553E-6,0,0,0,0,0,0,0,0,0,0,0,0,0,0,0,0,0,0,0,0,0,0,0,0,0,0,0,0,0,0,0,3.5258237205667177E-5,6.2919199164433037E-6,3.306118411541359E-3,5.2496575563606585E-3,5.9430610175180032E-2,9.4026201968281831E-5,0,1.1676276345428834E-3,0,5.9550816696914697E-4,0,3.1328525274940442E-4,8.3465711747125813E-4,1.3605249358710902E-4,1.3204072413912924E-4,2.9869624153219359E-4,1.5988250494985081E-3,6.4594846766669056E-5,1.6583664587845683E-4,3.0598818885591017E-5,3.2778485257216919E-4,0,3.8518081029203122E-5,0,0,0,9.6058640105221155E-5,2.1156856937333389E-5,8.4942397114872955E-4,1.2595489555190286E-5,0,0,0,0,1.9391457287406605E-6,0,0,0,4.089422028353326E-4,5.7179343009348825E-5,1.1470107261888767E-4,3.5146914100941938E-5,1.2761314500468979E-5,1.3288683357252963E-5,0,1.4187415762218912E-4,1.2901144976616675E-3,4.2073416661266442E-3,0,0,1.6038619155920031E-2,8.7896743703120249E-3,3.0276428598890186E-3,2.3842450464511759E-3,0,2.23373066260695E-3,0,1.7423451737361182E-2,2.1328637530837217E-4,3.8796280729887361E-5,0,7.8654690179175383E-6,3.3492906106916656E-3,9.2632353843322499E-3,4.3515848472013507E-4,2.3451180316967749E-2,0,1.8662832387642634E-3,1.8181144806084622E-4,2.8252477686640712E-4,2.0524339403611955E-6,0,2.2303734453581976E-2,1.9593554458192747E-2,-7.7184701881030049E-2,null,null,5.9389192108365768E-2,1.2437169938943671E-2,1.1785799169822296E-2]
[null,"321","電子デバイス",0,0,0,0,0,0,0,0,0,0,0,0,0,0,0,0,0,0,0,0,0,0,0,0,0,0,0,0,0,0,0,0,0,0,0,0,0,0,0,0,0,0,0,4.6874803377502613E-4,9.8917236708947445E-4,6.9711495527280771E-3,5.7723316236073519E-2,0.14436156208863538,5.5108481505956756E-2,4.3277505675762648E-2,0.12575984288787057,0.22993704627949182,6.54781928722762E-2,0.1406389713800868,0.22207264209364314,0,0,9.5726238988212888E-3,0,9.9045431708892563E-4,1.7729445050278656E-2,0,0,0,0,0,0,0,0,0,0,0,0,0,0,0,0,0,0,0,0,0,3.2771735033967903E-6,0,0,0,0,0,0,0,0,4.9542240953192716E-5,0,0,0,0,0,0,0,1.1263823250032249E-2,0,0,0,0,0,0,0,0,0,6.9624297931447582E-3,0,7.1045627041007655E-6,0,0,0,0,-1.3326855001041161E-2,null,null,1.1115247621952136E-2,8.2056063834998021E-4,1.0878277021262848E-3]
[null,"329","その他の電子部品",0,0,0,0,0,0,0,0,1.8338697402323514E-6,0,0,0,0,0,6.6114828233676247E-5,0,0,1.5623488799446482E-4,0,0,0,0,0,0,1.0162769456304537E-5,3.1203974138146234E-6,0,0,0,0,0,0,0,0,0,0,0,0,0,0,0,5.2621595658106481E-4,0,4.0991858255628125E-3,1.4641653287476316E-2,5.1960756027626303E-3,5.7836406219219462E-2,0.14721369021500658,0.25427842660128336,3.052512244590681E-2,4.4662395959973816E-2,0.18137477313974593,2.9095478170593964E-2,0.14975035081421531,0.1273794458953717,6.7034197361148513E-4,4.1002119601098023E-4,9.8346159411821545E-3,3.4486284497903864E-3,8.5408741835929091E-4,2.7136905689202026E-3,0,6.5180206316075022E-4,2.1089614084027732E-4,5.1357441372270834E-5,1.097538221768573E-5,4.8745414884412434E-6,0,2.2167378485820267E-5,0,2.6324151845229028E-5,4.4084213443166001E-5,0,0,0,2.4638582788717994E-5,0,0,0,0,0,0,9.8315205101903705E-6,3.5146914100941938E-5,2.7224137601000487E-4,1.5016212193695849E-3,6.0778807058724899E-4,2.8374831524437824E-4,3.2252862441541686E-3,2.0756218886224778E-3,1.8035295072456797E-5,2.874575935306841E-3,7.6370740231036764E-7,0,1.281541951275775E-5,0,0,6.6480079244254461E-6,0,5.2774617991626895E-2,2.5216123189167153E-5,0,0,0,0,0,1.5085494136964683E-4,3.2051424138313196E-2,0,6.6919696124667985E-3,5.3870058684695183E-5,5.6824660694965959E-4,0,0,0,0,-1.4090372735475811E-2,null,null,1.2279223801863087E-2,6.1627232849684726E-3,3.5349235669044346E-3]
[null,"331","産業用電気機器",0,4.1383876841582517E-5,0,0,5.8959005066789498E-4,0,0,0,0,0,0,0,0,0,1.7189855340755825E-4,0,0,0,0,0,0,0,0,0,0,0,0,0,6.6019564898057542E-6,0,0,0,1.4355234636310131E-5,0,0,0,0,0,0,0,0,4.589092644602309E-5,3.643351177918941E-4,1.4471415807819598E-4,3.0593959961346187E-2,2.0226500535132589E-2,7.5733808068058281E-3,0,9.5728058202659383E-4,0.16484363237000363,1.6358832881324229E-2,1.1612409255898367E-2,4.1771838874321348E-3,8.5957641223117845E-3,7.3234430952316843E-3,3.5729368914839639E-2,1.6842141839535772E-2,4.8526326403271147E-2,2.0756839160059118E-2,9.3160123447929375E-3,1.9598876331090352E-4,0,1.8411210493134099E-3,3.5420965472946577E-3,1.5150445204819897E-3,4.1230852531106066E-3,0,0,0,0,0,0,0,0,0,1.1703326824641047E-4,0,1.1725803803850754E-5,0,0,0,9.5298905015581364E-6,0,0,4.2537715001563261E-6,0,0,0,0,1.9344099614375375E-6,0,0,0,0,0,0,0,0,0,1.7766467697864507E-2,0,0,0,0,0,0,4.0614791907212603E-5,0,4.0297800747524207E-5,9.4714759302438317E-3,3.3668786677934489E-6,2.6523700761976191E-5,0,0,3.0647617285808359E-3,1.5568135401536374E-2,3.7065315471645731E-2,null,null,1.4212625517071047E-2,3.4657506442523162E-2,1.6889760358205226E-2]
[null,"332","民生用電気機器",0,0,0,0,0,0,0,0,0,0,0,0,0,0,0,0,0,0,0,0,0,0,0,0,0,0,0,0,3.3009782449028771E-6,0,0,0,0,0,0,0,0,0,0,0,0,0,0,0,0,0,0,0,0,0,6.946834377630226E-2,0,2.2278314066304719E-6,0,0,0,0,0,2.5097835079337043E-4,2.5550850498815762E-3,5.0253529054077819E-6,0,3.7437802510254265E-3,0,0,0,0,0,0,0,0,0,0,0,0,0,1.5513165829925284E-5,0,0,0,0,0,2.9494561530571112E-5,0,0,0,0,0,4.8379293662312528E-4,4.7199603059075912E-4,0,0,0,0,0,0,0,1.2631215056408348E-4,0,6.5436890926788083E-3,1.3658733394132208E-5,0,0,0,1.4335485104127751E-4,0,1.1604226259203602E-5,0,0,1.0766511030071717E-3,4.8786071896327072E-3,8.5716549024975729E-3,0,0,1.5461860973020434E-4,3.0899946119288669E-3,0.15071377339719119,null,null,4.2919032719225441E-3,3.3426010215971753E-2,1.6703087891777654E-2]
[null,"333","電子応用装置・電気計測器",0,0,0,0,0,0,0,0,0,0,0,0,0,0,0,0,0,0,0,0,0,0,0,0,0,0,0,0,0,0,0,0,0,0,0,0,0,0,0,0,0,0,0,0,7.6851083904643782E-4,4.6946034729349311E-3,4.1514968006478963E-3,2.1939447125932427E-4,0,3.5043590447595514E-3,0,5.1993534482758619E-2,0,6.5267760989459256E-4,2.5578201987022431E-4,1.7006561698388627E-5,0,2.1094367339844181E-6,3.5415833945286719E-3,3.3015143902964184E-4,0,0,1.4944979868233E-4,4.7930941100063029E-5,4.3653825166430207E-4,8.1217828410874411E-4,0,0,0,0,0,0,0,0,0,1.2319291394358997E-5,0,0,0,0,0,0,0,0,0,0,8.3832837322379177E-6,0,0,8.2889466847598479E-4,0,0,6.5678836598691612E-5,0,0,0,0,0,0,2.2457284251756124E-3,6.7242995171112405E-5,0,0,0,0,0,0,0,0,4.1528956758048771E-4,0,2.3681875680335886E-7,0,0,5.1258830172165063E-3,6.0447114452570989E-3,9.8100460424330772E-3,null,null,1.4881083367722754E-3,5.2659876222957251E-3,3.0080615276784264E-3]
[null,"339","その他の電気機械",6.7736909842172999E-6,6.2075815262373782E-5,0,0,4.7904191616766467E-4,0,0,0,0,0,7.4027738193501106E-6,0,0,0,4.0991193504879273E-4,0,0,2.0831318399261976E-4,0,0,0,0,0,0,7.622077092228403E-6,3.1203974138146234E-6,0,0,2.4757336836771576E-5,0,0,0,0,0,8.369951872776731E-5,0,0,0,0,0,0,9.4841247988447725E-5,0,3.9324499477770645E-4,6.6959360233749044E-4,9.905791934404697E-4,2.9731721375466039E-3,9.4653043314737034E-3,7.1024043182618254E-3,8.8110864103495209E-3,7.1097914523520064E-3,2.8499319419237751E-3,6.9102874570863976E-2,1.4515550044055739E-2,2.3155003904041355E-3,1.4821218520145689E-2,1.0191459050001737E-2,2.8895064382118557E-3,1.5151655992340512E-3,4.4355128113112751E-3,2.5378032172309302E-3,0,4.3340441617875699E-3,4.0813196346703665E-3,1.1587522709618607E-3,1.7853288407435456E-3,4.8745414884412434E-6,0,2.2167378485820266E-4,0,1.8990995259772373E-4,2.6990334761122041E-6,7.2135302432129456E-5,2.5486797838719542E-5,0,3.6341909613359037E-4,9.6957286437033025E-6,1.2605239089139559E-4,7.6009790060959848E-5,6.2046286529751201E-5,6.8157033805888771E-5,5.7179343009348825E-5,4.6208146397894742E-4,0,0,5.4483601764737145E-4,3.3533134928951671E-5,0,6.4505724883083375E-4,5.5227404399041695E-4,8.1910298454074628E-4,2.1393240411605945E-4,2.5202344276242131E-5,5.3704731386835182E-5,3.2038548781894376E-6,2.8691276130579738E-6,0,7.977609509310535E-5,0,5.2126698955120608E-3,9.0357774761182295E-5,6.4660467883145606E-5,2.4052706038759842E-5,1.5730938035835077E-5,3.2580647963926704E-4,0,6.9625357555221608E-5,0,1.888959410040197E-4,2.3391085901225159E-3,6.9357700556545046E-4,1.9035491671853984E-3,0,0,3.0026381800285218E-3,3.2624655510693364E-3,-1.7838550704518636E-2,null,null,1.4733515213241162E-2,2.9708341394507502E-2,1.4233978764449082E-2]
[null,"341","通信・映像・音響機器",0,0,0,5.7208237986270026E-5,3.6849378166743436E-5,0,0,1.0385294423096895E-5,1.8338697402323512E-5,0,0,0,0,7.3464590067587421E-6,1.322296564673525E-5,0,2.6583654774025641E-6,0,0,0,0,1.5398118349937639E-5,1.5993858358390378E-5,0,1.0162769456304538E-4,4.6805961207219355E-6,0,7.2311808518331041E-5,1.6504891224514385E-6,1.6526376096249613E-5,0,1.1008366358432408E-4,2.8710469272620262E-5,0,2.0924879681941827E-5,0,0,0,0,0,0,3.0593950964015397E-6,8.226922014655674E-5,1.2583839832886607E-5,2.4729309177236861E-4,1.6486754953239441E-4,2.1888383834698927E-5,6.2684134645521212E-5,3.0880018775051415E-5,3.5427387141629835E-5,9.3519124660993175E-6,2.8357531760435571E-5,2.8961808286196132E-5,1.0292725908037724E-2,1.4808432729328773E-4,1.694703873244427E-2,6.160742207859898E-3,1.3078507750703391E-5,6.7578244824733451E-3,2.5550850498815762E-3,4.522817614867004E-5,6.1197637771182034E-5,1.3199305749170491E-3,3.810509817455011E-4,2.7572526336737905E-3,3.6767530429247198E-3,1.2186353721103109E-5,9.4147774346614439E-6,7.3891261619400893E-6,2.6446071171666736E-5,2.11533363042019E-4,1.0796133904448817E-4,2.008090851489009E-4,7.3628527089634235E-5,0,9.8554331154871976E-5,1.6094909548547483E-4,0,3.040391602438394E-5,0,1.3631406761177754E-4,9.5298905015581364E-6,1.2453259312907803E-4,0,4.2537715001563261E-6,9.3020783500770746E-5,2.850316468960892E-4,2.364569293703152E-5,2.4189646831156264E-4,2.2323090954989183E-3,3.0058825120761331E-5,2.2856988439768459E-4,1.8328977655448823E-5,0,3.5242403660083812E-5,2.8691276130579738E-6,5.3997502615504031E-5,9.3072110941956244E-5,2.2574722330915331E-4,1.2577251885121904E-3,5.9573091034407404E-4,6.4660467883145604E-6,8.3091166315715819E-5,7.8654690179175383E-6,2.1720431975951138E-4,6.1345929697564569E-5,2.9010565648009004E-5,0,0,7.3794592332273895E-4,2.5251590008450865E-3,8.6410427982409575E-3,0,0,2.1210359999061245E-2,1.1050318396494231E-2,4.2918951435644712E-2,null,null,1.0590215661796572E-2,9.824612330557668E-3,8.8461819553967945E-3]
[null,"342","電子計算機・同附属装置",0,0,0,0,0,0,0,0,0,0,0,0,0,0,0,0,0,0,0,0,0,0,0,0,0,0,0,0,0,0,0,0,0,0,0,0,0,0,0,0,0,0,0,0,0,7.6938189781784052E-5,0,0,0,0,0,0,0,9.1374865385242954E-5,4.7561993484289598E-2,0,0,0,0,0,0,0,0,0,0,0,0,0,0,0,0,0,0,0,0,0,0,0,0,0,0,0,0,0,4.6791486501719586E-5,5.3154733429011852E-5,0,0,0,0,0,0,0,0,0,0,0,2.4132268765664367E-3,0,1.3456779988976581E-3,0,0,0,0,0,0,0,0,0,1.33520215638598E-4,0,1.7442885532351396E-3,0,0,1.4960731014698431E-2,1.2792472367621148E-2,-3.8869993753036717E-3,null,null,1.487901223573003E-2,3.3481789991846814E-3,4.5454000510843154E-3]
[null,"351","乗用車",0,0,0,0,0,0,0,0,0,0,0,0,0,0,0,0,0,0,0,0,0,0,0,0,0,0,0,0,0,0,0,0,0,0,0,0,0,0,0,0,0,0,0,0,0,0,0,0,0,0,0,0,0,0,0,0,0,0,0,0,0,0,0,0,0,0,0,0,0,0,0,0,0,0,0,0,0,0,0,0,0,0,0,0,0,0,0,0,0,0,0,0,0,0,0,0,0,0,0,0,0,0,0,0,0,0,0,0,0,0,0,1.6274303376905223E-2,0,0,3.6404399451656143E-3,1.1517372332830731E-2,-3.303949469008121E-2,null,null,7.4652917111744307E-2,4.3981984688656293E-2,2.9045314605759064E-2]
[null,"352","その他の自動車",0,0,0,0,0,0,0,0,0,0,0,0,0,0,0,0,0,0,0,0,0,0,0,0,0,0,0,0,0,0,0,0,0,0,0,0,0,0,0,0,0,0,0,0,0,0,0,0,0,0,0,0,0,0,0,0,3.3413252718996492E-2,0,0,0,0,0,0,0,0,0,0,0,0,0,0,0,0,0,0,0,0,0,0,0,0,0,0,0,0,0,0,0,0,3.5689863788522568E-4,0,0,0,0,0,0,0,0,0,3.3861831998405123E-3,0,0,0,0,0,0,0,0,0,3.341755116185086E-4,0,1.0074269914414884E-3,0,0,1.6662916245031843E-3,1.1122400716478511E-2,-3.3340274403646376E-2,null,null,3.7412928316568381E-2,1.7000463439018943E-2,1.0998435568230379E-2]
[null,"353","自動車部品・同附属品",0,0,0,0,0,0,0,0,0,0,0,0,0,0,0,0,0,0,0,0,0,0,0,0,0,0,0,0,0,0,0,0,0,0,0,0,0,0,0,0,0,0,0,0,0,6.4573123566854482E-5,0,0,0,0,0,0,0,0,0,0.57629143577897135,0.55899440564300362,0.36342641715123947,0,2.7876264982415848E-2,0,0,0,0,0,0,0,0,0,0,0,0,0,0,0,0,0,1.4657254754813442E-4,0,0,0,0,0,0,0,0,0,0,0,0,0,0,0,0,0,0,0,0,0,0.1367490295873254,0,0,0,0,0,0,0,0,0,4.4383697562642613E-2,0,3.3865082222880314E-5,0,0,0,0,8.7943360866245573E-2,null,null,0.26873817836692276,0.11066216081841791,6.3213487939136642E-2]
[null,"354","船舶・同修理",0,0,0,0,3.6591432519576229E-2,0,1.5620118712902218E-4,0,0,0,0,0,0,0,0,0,0,0,0,0,0,0,0,0,0,0,0,0,0,0,0,0,0,0,0,0,0,0,0,0,0,0,0,0,0,0,0,0,0,0,0,0,0,0,0,0,0,0,0.14061294490560425,0,0,0,0,0,0,0,0,0,0,0,0,0,0,0,0,0,0,0,1.7634271294142686E-2,0,0,0,1.173228114216051E-3,0,0,0,0,0,0,1.342480513237651E-3,1.4728824309173051E-4,5.6298001083173538E-5,0,0,0,0,0,1.3296015848850892E-5,0,0,1.0506717995486313E-6,0,0,0,1.3032259185570682E-5,0,0,0,0,6.0517565272816807E-4,0,4.0969644926981082E-5,0,0,8.267954050662444E-3,1.857354025896314E-3,5.1479604821730175E-2,null,null,3.9370148049692667E-2,1.0168956203947897E-3,3.3258314392332015E-3]
[null,"359","その他の輸送機械・同修理",0,0,0,0,0,0,0,0,0,0,0,0,0,0,0,0,0,0,0,0,0,0,0,0,0,0,0,0,0,0,0,0,0,0,0,0,0,0,0,0,0,0,0,0,0,0,0,0,0,0,0,0,0,0,0,0,0,0,0,0.3243881432570157,0,0,0,0,0,0,0,0,0,0,0,0,0,0,0,7.779016550967989E-2,0,0,0,0.15015201340199788,0,0,9.569346629918628E-4,0,0,0,0,0,0,7.4697240660910507E-3,0,0,0,0,0,0,0,0,0,5.6172528232852131E-3,1.1557389795034945E-5,0,0,0,0,0,4.873775028865513E-4,0,0,2.1080055253551019E-3,0,4.1123577118903264E-4,0,0,1.4727422576801963E-2,7.368195503050662E-3,-2.8203882371995094E-2,null,null,1.2929041464580277E-3,9.2944996881738524E-3,5.2058656607124965E-3]
[null,"391","その他の製造工業製品",1.083790557474768E-4,2.0691938420791258E-5,1.7969451931716083E-4,1.7162471395881006E-4,5.5642561031782585E-3,0,6.248047485160887E-4,4.2802249158049345E-4,1.1681750245280077E-3,7.6273771992270924E-5,0,1.1450546601564188E-3,1.0995348121948407E-2,2.5051425213047313E-3,7.5238674529923572E-3,6.3761256819825154E-4,1.701353905537641E-4,5.207829599815494E-5,0,0,0,1.3550344147945121E-3,4.7981575075171131E-5,9.9370652533951648E-4,1.3338634911399706E-4,2.1530742155320901E-4,0,7.2311808518331041E-5,2.0796162942888125E-4,3.415451059891587E-4,1.0030090270812437E-3,2.9172170849845881E-3,1.4355234636310131E-4,4.5489006823351023E-3,1.6530654948734044E-3,0,0,1.4794358417989941E-3,2.7010953065371461E-3,4.0442712897181144E-5,0,1.0983228396081526E-3,4.113461007327837E-5,1.2269243837064443E-4,1.0462400036523287E-4,1.8630033097160568E-3,2.0502119525167995E-3,4.0744687519588793E-4,1.0869766608818099E-3,2.1861650148647413E-3,1.8002431497241185E-4,1.5738430127041742E-3,6.3270411948305398E-4,1.847077636001697E-3,7.2695942489432166E-4,4.7051487365541874E-4,3.5442510163661005E-4,3.8940202109352358E-4,6.8786659106331166E-4,2.5837938706667622E-4,4.0795814886100373E-2,3.0598818885591017E-5,1.4354715957470858E-3,4.4264224105908211E-3,2.6481180707577149E-3,3.0804239424304619E-3,1.462362446532373E-5,0,6.9457785922236832E-4,5.1834299496466803E-4,3.1965041526349535E-4,1.9523008810544944E-4,1.7546424915923381E-5,1.1327465706097575E-5,0,3.6957874183076993E-5,2.0942773870399135E-4,1.7588705705776133E-5,1.8242349614630365E-4,0,6.8157033805888771E-5,2.8589671504674413E-5,1.5730432816304593E-4,7.0293828201883877E-5,1.4101252523018221E-3,1.7541062031573912E-3,1.3455170390241859E-2,7.0937078811094561E-4,6.2086760199967748E-3,1.2418911952428991E-3,2.5249413101439519E-3,1.0421885960517087E-2,2.3751300211852434E-4,1.9691734841839566E-4,3.0052158757416926E-3,1.6009732080863493E-3,4.684283351894975E-3,8.7022423730729083E-3,1.8812268609096109E-3,8.971186659317721E-4,2.0708741169103524E-3,2.3601070777348144E-3,2.0007478204968412E-3,4.1529676414604599E-3,5.4040434756166432E-3,0,7.270047751391057E-3,0.1289149950127452,2.9215905541955047E-4,1.7159642541394566E-3,1.3427112127160273E-2,5.7721019689466668E-3,0,0,4.2699585704957322E-3,5.5710746486480611E-3,-1.6542884246084081E-2,null,null,2.6245902394798144E-2,8.8453127705544372E-3,7.8620536531618795E-3]
[null,"392","再生資源回収・加工処理",3.4545824019508229E-4,1.6139711968217183E-3,0,2.803203661327231E-3,0,0,0,2.5963236057742237E-5,6.5835923674341411E-4,2.5170344757449404E-3,0,8.6419219634446698E-5,0,4.2462533059065529E-3,0,2.5535178246674992E-2,0,0,2.2560429722470906E-2,3.2665998253501084E-3,0,2.2635233974408328E-3,0,2.3186485591255384E-3,1.2703461820380671E-6,2.1842781896702365E-5,0,8.5327934051630631E-3,4.2368055773328427E-3,6.0596712352915256E-5,0,1.0540510788199032E-2,2.4978108267179628E-3,8.339651250947688E-3,6.2774639045825491E-4,0,0,5.9177433671959761E-4,5.3030678495316445E-3,1.0784723439248304E-4,3.8738728416421279E-2,1.9338436404354131E-2,0,2.6426063649061872E-4,0,0,0,9.4026201968281831E-5,0,0,0,0,6.0151447979022741E-5,0,0,0,0,2.1811575829398883E-4,0,0,1.105577639189712E-4,0,0,0,1.6049200428834635E-4,1.097538221768573E-5,4.6941834533689173E-3,3.9165474128191611E-3,0,0,0,0,0,0,0,0,1.8227969850162208E-4,0,0,0,0,0,0,0,0,0,0,0,0,0,0,0,0,0,0,0,0,0,0,0,0,0,5.903846027695598E-5,0,0,0,0,0,0,8.9879413636568715E-4,0,3.2195509987416635E-4,0,0,0,0,0,null,null,0,0,9.2083170576301123E-5]
[null,"411","建築",0,0,0,0,0,0,0,0,0,0,0,0,0,0,0,0,0,0,0,0,0,0,0,0,0,0,0,0,0,0,0,0,0,0,0,0,0,0,0,0,0,0,0,0,0,0,0,0,0,0,0,0,0,0,0,0,0,0,0,0,0,0,0,0,0,0,0,0,0,0,0,0,0,0,0,0,0,0,0,0,0,0,0,0,0,0,0,0,0,0,0,0,0,0,0,0,0,0,0,0,0,0,0,0,0,0,0,0,0,0,0,0,0,0,0.1225545755374032,0.23286209928072377,0,null,null,0,0,2.6966382090497266E-2]
[null,"412","建設補修",3.6645668224615591E-3,3.3520940241681843E-3,7.9065588499550761E-3,5.7208237986270023E-4,6.817134960847536E-4,0,2.4992189940643548E-3,7.7370443452071862E-4,5.1531739700529067E-4,6.1019017593816739E-4,2.9611095277400442E-5,4.9907099338892969E-3,1.8838183845296221E-3,2.1598589479870701E-3,2.9751672705154312E-3,1.0745195994653695E-2,4.3145271698243615E-3,2.0905715964973626E-3,3.1632348552670846E-3,4.4956175814224262E-3,0,7.8376422401182574E-3,7.6290704369522105E-3,1.2145301976371868E-2,1.7264004613897334E-3,3.1952869517461744E-3,2.4615384615384614E-4,3.2540313833248971E-3,5.1429241055586826E-3,3.9773478471640741E-3,1.5045135406218655E-3,4.7335975341259353E-3,6.7038945751568312E-3,5.3070507960576198E-3,7.2609332496338143E-3,0,0,3.3533879080777196E-3,6.442979630272092E-3,2.723142668410197E-3,4.0789669672422289E-3,3.8487190312731369E-3,5.3181174451881318E-3,4.196710584267683E-3,2.035412370741803E-3,2.0690877466315498E-3,2.305576430588287E-3,2.3819971165298065E-3,5.6201634170593576E-3,2.726432668774596E-3,2.1532778453193678E-3,1.8857758620689656E-3,2.6154740713841738E-3,2.7477727376562346E-3,2.4905091408416575E-3,3.1462139142018962E-4,7.5054727405399766E-4,7.8513235238900038E-4,1.8962808726610211E-3,3.6890834708964331E-3,2.281510219055133E-3,3.0598818885591017E-4,8.3390475903417753E-4,1.4690833447169318E-3,5.0073505337964064E-4,3.5852915244440054E-4,1.7258314139826224E-2,5.3956089478044741E-2,4.8480056748488924E-2,2.9513815427580077E-3,3.7497814155248565E-3,3.4673583389788118E-3,5.406248476872837E-3,1.6756153645744839E-2,1.5799439155209247E-2,2.0468502651727474E-2,7.8147572868248621E-4,1.8541427264839004E-2,1.6266095073045408E-3,6.2046286529751201E-5,3.1352235550708833E-3,1.2560395681053625E-2,1.737885108851318E-2,1.9330802755518066E-3,5.7404646394609623E-3,1.2424918939031521E-2,9.9341912227019326E-4,8.938071930197914E-3,1.5320109659732301E-3,7.897228667568746E-3,1.0250059366179613E-2,4.5849092082136528E-3,2.5912592160390775E-3,3.4012996544995613E-3,4.3220002306775512E-3,2.6539430420786255E-3,1.532179136714927E-3,2.7988113361831126E-3,2.4079703819643018E-4,9.0591394697031884E-4,1.5465888889355855E-3,2.7028075575154862E-3,1.7033689094721742E-3,3.201245890292438E-3,5.9123015838538993E-3,8.5884301576590397E-4,3.1621516556329817E-3,0,1.4519801331842315E-2,4.8198967979626453E-3,0,0,0,0,4.5063041596547587E-2,7.3711577901733036E-2,0,null,null,0,0,8.6898877912888039E-3]
[null,"413","公共事業",0,0,0,0,0,0,0,0,0,0,0,0,0,0,0,0,0,0,0,0,0,0,0,0,0,0,0,0,0,0,0,0,0,0,0,0,0,0,0,0,0,0,0,0,0,0,0,0,0,0,0,0,0,0,0,0,0,0,0,0,0,0,0,0,0,0,0,0,0,0,0,0,0,0,0,0,0,0,0,0,0,0,0,0,0,0,0,0,0,0,0,0,0,0,0,0,0,0,0,0,0,0,0,0,0,0,0,0,0,0,0,0,0,0,0.42924334898386585,2.0209381036688585E-4,0,null,null,0,0,1.0550855140743656E-2]
[null,"419","その他の土木建設",0,0,0,0,0,0,0,0,0,0,0,0,0,0,0,0,0,0,0,0,0,0,0,0,0,0,0,0,0,0,0,0,0,0,0,0,0,0,0,0,0,0,0,0,0,0,0,0,0,0,0,0,0,0,0,0,0,0,0,0,0,0,0,0,0,0,0,0,0,0,0,0,0,0,0,0,0,0,0,0,0,0,0,0,0,0,0,0,0,0,0,0,0,0,0,0,0,0,0,0,0,0,0,0,0,0,0,0,0,0,0,0,0,0,7.1737512821610158E-2,7.2864034641643899E-2,0,null,null,0,0,9.2570510342609678E-3]
[null,"461","電気",8.7380613696403167E-3,1.2642774375103459E-2,5.2291105121293799E-2,8.8100686498855836E-3,1.1128512206356517E-2,0,1.2183692596063731E-2,1.1388217141670253E-2,1.5312812330940133E-2,3.635716464964914E-3,1.6138046926183242E-3,3.0268331676964955E-2,1.2456268501787705E-2,2.1282691742580077E-2,1.002300796022532E-2,0.1082276123490874,1.8289554484529642E-2,2.2750775594622543E-2,5.1387645478961505E-2,0.15854329053332902,0,3.3999045316662306E-2,1.8968716013050987E-2,5.6530860108203601E-2,1.0139903225027853E-2,1.3926333657854664E-2,5.7846153846153846E-3,1.0846771277749656E-2,2.4316656241077043E-2,2.6122691816138556E-2,2.106318956870612E-2,3.9299867899603699E-2,5.2611934942076631E-2,3.3358605003790752E-2,3.9045825486503455E-2,0,0,3.7281783213334647E-2,0.10603657629974723,1.3480904299060381E-2,4.8111186223174493E-2,2.3933647839149242E-2,7.7920704224524453E-3,2.1650496432481407E-2,1.1111068838787732E-2,9.8769401132365285E-3,9.970158836705361E-3,3.1686830063310974E-2,2.6075087853653416E-2,8.2221060991199239E-3,5.4872346394837746E-3,4.0409482758620692E-3,1.1867657903120523E-2,4.8232875371210394E-3,4.9137072238227292E-3,5.4676095860319443E-3,5.5839327287258069E-3,1.105218282403796E-2,1.5281792914974113E-2,1.3421373717074572E-2,1.0020553693383118E-2,2.9283069673510603E-2,2.6951198989267245E-3,1.5266004740370075E-3,1.5118346803962227E-3,3.0767654816912333E-3,0.10144895745743916,2.0881976350079084E-2,5.0933246634253034E-2,6.5258325223204836E-2,2.1899814038670178E-2,4.3337480848108295E-3,1.3748598723010187E-2,5.2757671526149456E-3,0,4.1374340147954693E-2,4.458096030374779E-3,1.8262939424497548E-3,3.8004895030479928E-4,1.9854811689520384E-3,2.7262813522355507E-3,4.7230137325722128E-2,1.1479938782398957E-2,5.2368902010403486E-3,9.426357644346418E-3,4.5181523414660075E-3,2.4646854172779478E-3,3.8069565628620749E-3,3.7090791807772939E-3,8.591681843724823E-3,1.4344071347627307E-2,6.7445005297641905E-3,6.7733209510906509E-3,1.9100982796584381E-2,1.8294011354461688E-2,1.1792114489668272E-2,2.8618676386217138E-3,5.2718702840693788E-3,3.6119555729464529E-3,3.0783483634913749E-3,4.069251879651849E-3,4.127277664981184E-2,1.637551959311568E-2,1.9726596296937186E-2,2.651195926984596E-2,6.0732470400588923E-3,1.4110739131191581E-2,0,2.6294314987759543E-3,1.4188000303337771E-2,4.6126237748770249E-4,1.8549894811028696E-2,0,0,0,0,0,null,null,0,0,5.3101407920859546E-3]
[null,"462","ガス・熱供給",0,0,0,5.1487414187643022E-4,0,0,0,3.1007521920389299E-3,5.2228610201817361E-3,4.5764263195362557E-4,2.2208321458050332E-5,8.188221060363824E-3,2.2682711160662795E-3,1.9835439318248603E-4,4.4958083198899852E-4,3.1332851289467343E-3,1.1377804243282975E-3,6.2493955197785928E-4,1.4383766039988062E-2,1.7788414890520393E-3,0,2.340513989190521E-3,1.2475209519544495E-3,1.2145301976371867E-3,2.8074650623041283E-3,1.7271399685463941E-3,1.2307692307692307E-4,7.954298937016415E-4,2.6919477587182962E-3,3.4264686439557535E-3,5.0150451354062187E-4,1.1338617349185381E-2,3.8759133518037354E-4,1.5921152388172859E-2,2.6783845992885539E-3,0,0,7.2985501528750373E-3,1.4001090350398969E-2,1.2537240998126155E-3,4.2393757805607435E-4,2.8452374396534317E-3,2.009719520723029E-3,2.7306932437363937E-3,1.4057661139983107E-3,9.2737996611971861E-4,1.7328303869136648E-3,2.3819971165298065E-3,1.3154887998171902E-3,8.6944712610083222E-4,3.0861311138127747E-4,1.8432395644283123E-4,1.6664178921595928E-3,8.6806122115980807E-4,4.4425298187986324E-4,1.2783265543288786E-3,3.1446540880503146E-3,2.8945690863734184E-3,1.6824844997629649E-3,1.4139094236704228E-3,6.181184073651572E-4,2.3867078730760993E-3,6.9701376696380802E-4,8.0523981048105891E-4,3.8839065037779818E-4,5.1218450349200075E-4,1.2868789529484883E-2,7.6542140543797545E-3,1.337431835311156E-3,2.8667541150086745E-3,3.3591498051072613E-3,7.4943162853382205E-4,1.6532631476336697E-3,1.755757184445124E-4,0,6.2212421541512936E-4,5.1969105530249703E-4,2.3451607607701509E-4,1.8242349614630365E-4,3.1023143264875596E-4,2.7262813522355508E-4,2.5730704354206971E-4,7.1442382374050034E-4,7.7323211022072263E-4,8.3161232828056172E-4,7.8403231807792483E-4,1.9281552584147211E-4,8.0395355985907169E-4,3.2252862441541687E-4,2.0485401491623519E-3,2.4272501285014774E-3,7.194884538429579E-4,1.346416150273178E-3,5.1198510588782876E-3,5.3728646307236866E-3,4.1917954426776991E-3,1.0866997401370187E-3,2.1938426150603971E-4,1.053487042109382E-4,1.4893342558605889E-3,1.4383696935820764E-3,1.5609036946991348E-2,1.2546766113673089E-2,6.1507967720115147E-3,1.1989678450725029E-3,2.0857616097171953E-3,2.4833044194695706E-3,0,1.0578172696225104E-4,2.1499724500188624E-3,9.7639481366010018E-5,4.6206891733687359E-3,0,0,0,0,0,null,null,0,0,1.3225568140293163E-3]
[null,"471","水道",8.8057982794824906E-5,1.4277437510345969E-3,1.0781671159029651E-3,2.8604118993135012E-4,4.9746660525103637E-4,0,4.6860356138706655E-4,1.747696690058306E-3,2.4225419268469358E-3,5.0849181328180614E-5,9.4385366196713912E-4,2.2901093203128377E-3,9.9957710199530974E-4,5.1425213047311201E-4,4.8924972892920419E-4,5.9685795043712617E-3,1.9432651639812745E-3,3.1246977598892964E-4,4.53595941509997E-3,3.1048869627090139E-3,0,3.2797992085367169E-3,2.4470603288337276E-3,4.5268852821022413E-3,3.798335084293821E-3,1.2996455228537907E-3,4.9230769230769228E-4,2.0970424470316005E-3,6.915549423071527E-4,5.508792032083205E-4,5.0150451354062187E-4,1.128357551739322E-3,9.0437978208753825E-4,7.5815011372251705E-4,7.1144590918602215E-4,0,0,3.0575007397179209E-3,1.5364028349110373E-3,3.9094622467275103E-4,6.5309302565395237E-4,5.6598809283428476E-4,3.4082962632144936E-4,6.2919199164433032E-4,5.0409745630521292E-4,5.6741914964065739E-4,4.0858316491437996E-4,1.1596564909421426E-3,1.3401928148372314E-3,3.616545770708046E-4,3.5537267371177404E-4,2.5521778584392012E-4,8.5325942873947067E-4,2.8717814835362075E-4,2.0193317358175602E-4,3.2312467226938392E-4,3.1620278675423052E-4,2.9869624153219359E-4,6.6927560211565453E-4,1.9450226081963683E-3,4.6233246729751598E-4,1.0709586609956856E-3,7.5101663539523824E-4,1.267773392096667E-3,6.8048609818258858E-4,1.0243690069840015E-3,4.0946148502906445E-4,2.6926263463131731E-3,8.3807468928724482E-2,8.1453899208733544E-3,2.606091032677674E-3,1.1821766625371454E-3,1.9301067407515719E-3,2.6053171124024421E-4,0,8.1245726745797584E-3,1.0374429648762535E-3,1.1330057925470791E-2,3.0403916024383939E-4,1.240925730595024E-4,6.8157033805888768E-4,1.7820895237913715E-3,4.8436624380204562E-3,5.9749753971601299E-4,4.4792213896646116E-3,4.5181523414660076E-4,1.5089910718028252E-4,1.3950958832848596E-3,8.0632156103854216E-4,3.6531332121747893E-3,6.9075180127509536E-3,8.5854451651839643E-3,3.5848425464448655E-3,3.7593311970784628E-3,4.4565621355615072E-3,7.8872318082963688E-3,2.1194019776585335E-3,6.2491274489599193E-4,1.3544833398549197E-4,9.9679851770196888E-4,8.3528408064116198E-4,1.2214362383126204E-2,8.4468730388844795E-3,1.3599395931979424E-2,4.6612047020391139E-3,1.5949941721366788E-3,4.9375982732911324E-3,0,7.9840017731032332E-4,2.574471342740004E-3,2.356815067455414E-4,6.4413517756729587E-3,-3.0355497977942081E-3,4.9769118649742169E-3,0,0,0,null,null,0,0,1.6768010083022511E-3]
[null,"481","廃棄物処理",6.7736909842172999E-6,6.0006621420294652E-4,7.187780772686433E-4,2.288329519450801E-4,3.6849378166743436E-5,0,9.372071227741331E-4,1.466551933890183E-3,1.7146682071172484E-3,1.0169836265636123E-4,3.2202066114172981E-4,4.3209609817223349E-5,2.3067163892199455E-4,1.763150161622098E-4,3.17351175521646E-4,2.8265299414974034E-3,9.6232830281972831E-4,7.8861419654348915E-4,1.0205908683974934E-2,8.9912351628448524E-3,0,7.6990591749688184E-4,9.5963150150342273E-4,7.0663575135254501E-3,3.664948735179824E-3,9.9696697371377211E-4,0,2.1693542555499312E-4,6.9320543142960411E-5,2.0382530518707858E-4,5.0150451354062187E-4,1.6787758696609424E-3,3.8041371786221847E-3,7.5815011372251705E-4,4.2477505754341914E-3,0,0,0,7.434207265698568E-5,0,0,6.761263163047402E-4,1.5278569455789108E-4,9.4378798746649548E-5,6.0111243846206527E-4,3.2973509906478882E-5,2.3712415820923837E-4,1.3790509622014669E-3,1.025216623331707E-3,1.9485062927896411E-4,6.5463387262695226E-5,1.4178765880217787E-4,9.6687883047762483E-4,2.6759782005678296E-4,3.3655528930292666E-4,4.3933617720837292E-5,5.1078911706452625E-4,5.4845355083594866E-5,1.4779836213387372E-3,1.0320821072274456E-2,1.0050705810815565E-4,0,8.5902237225809856E-4,7.0937792828093288E-4,5.151793337655918E-3,6.5486447232191531E-3,1.8223473354537587E-2,3.219853882654214E-3,2.9187048339663351E-3,0,1.5235102880426302E-3,4.5802598089624107E-3,6.8236096895257594E-5,3.6814263544817117E-5,0,4.6998096669479572E-2,3.0813025629689095E-3,0,2.8123622322555144E-3,1.1168331575355215E-3,3.4078516902944383E-3,3.0400350699970459E-3,1.5612454570182309E-2,2.0736679319555743E-3,1.3395126453992271E-2,4.4517089246797429E-3,2.3892358636878064E-4,4.3744531933508314E-3,1.6932752781809385E-3,2.7764586176512975E-2,9.103315187822569E-3,4.5297371671521435E-3,4.5280211882981697E-3,1.7471939277850377E-2,5.3824761953582554E-3,4.51600686295325E-3,5.3997502615504031E-5,8.8418505394858432E-4,1.053487042109382E-4,3.3275479929168669E-3,1.379532072807353E-3,5.565326470702342E-2,2.0705006680092449E-2,1.0712768802403688E-2,1.4613506633419926E-2,3.6807557818538741E-4,1.7197463316139739E-2,0,1.2499874069372663E-2,4.135736933197535E-3,0,3.367562721743763E-3,7.6083726169189521E-3,8.6167124618770179E-3,0,0,0,null,null,0,0,1.7338322915867275E-3]
[null,"511","商業",7.1442118810539856E-2,3.8880152292666774E-2,3.8634321653189578E-2,2.2940503432494277E-2,5.5071395670198066E-2,0,9.0596688534832857E-3,7.726807412132991E-2,6.0880807636233596E-2,6.6459879995932072E-2,6.0887814664154659E-3,5.7728038715810399E-2,8.6732536234669949E-2,5.8867176021157805E-2,6.6670192790839133E-2,5.784964613598019E-2,8.154270265384625E-2,4.943718241539137E-2,2.3216950164130109E-2,2.4353957113748829E-2,0,5.5848975255223809E-2,2.6022007549101146E-2,5.4764270729822234E-2,5.4847196409493551E-2,5.555087495943483E-2,6.030769230769231E-3,1.4968544363294527E-2,5.9275666343720959E-2,4.1332466616720284E-2,8.7763289869608824E-2,3.5969837076177895E-2,2.6628960250355292E-2,3.9423805913570885E-2,3.3814605566017994E-2,0,0,2.5840812703422429E-2,2.9166873172424047E-2,4.036182747138678E-2,1.1010919257078039E-2,3.7520421462268479E-2,2.9522897286878649E-2,2.843633206236551E-2,3.7381204203221656E-2,3.7471646216221045E-2,4.911753332506439E-2,5.4817275747508304E-2,3.8643255495099338E-2,5.1638369041187293E-2,5.6717011128775835E-2,4.1487068965517244E-2,5.2639200475864789E-2,5.0497666677544628E-2,4.3873347513529524E-2,1.9327957370218675E-2,1.322839570520171E-2,4.9735455539191016E-2,5.5020031790591103E-2,5.4130481590468668E-2,8.2807765175309439E-2,5.7525779504911112E-3,5.4061894822506389E-2,6.1042450037985273E-2,3.753266012287268E-2,3.3174921983324737E-2,4.3164064880147207E-3,9.377118324922799E-3,1.7785626671789793E-2,1.7454406973300047E-2,9.305587677288462E-3,5.2244291319278567E-3,1.5850270507384121E-3,4.310100701170127E-3,6.741840306155873E-4,2.3776232391112865E-3,1.1722135930237293E-2,8.4472690602940825E-2,4.2109423693771761E-3,2.2336663150710431E-3,7.838058887677208E-3,7.1092983141623706E-3,1.4485106885013813E-2,3.6552790664979616E-3,4.3048167581582024E-3,3.4949237229575294E-3,1.1317433038521188E-2,5.2966352178950606E-3,1.9754878245444283E-2,9.0627106693348634E-3,8.4134651513010968E-3,3.3747273769297551E-2,5.2212383973752906E-2,2.840980290363581E-2,2.4490266688880061E-2,1.941251742995025E-2,3.5105126387904556E-2,1.6300915430691194E-2,5.2373355807723565E-3,6.1209292507593258E-2,8.4200838015827326E-3,5.9009142990158678E-2,0.10132749071237555,3.9649829319322309E-2,1.869260375850355E-2,3.3310839825777559E-2,2.3951122998996235E-2,0.23883409065720934,4.0448917500327418E-3,3.471765589017637E-2,0.14643902077700827,0.16971332023804547,1.1001045920336008E-4,0,2.1701826294275108E-2,4.0923338313267131E-2,-7.3343976307813336E-2,null,null,2.2550485136780145E-2,5.5565912446556669E-2,7.9322319341726233E-2]
[null,"531","金融・保険",5.0396260922576713E-3,6.0420460188710477E-3,1.2039532794249776E-2,1.1441647597254004E-2,1.0575771533855366E-2,0,4.5142143080287411E-2,5.4418942777027732E-3,9.1986906170054734E-3,4.2459066409030813E-3,5.1116153222612514E-3,1.8925809099943826E-2,1.6108569451385953E-2,8.6100499559212465E-3,1.4968397112104303E-2,8.3481233155853554E-3,1.0136347565335978E-2,1.200032734928913E-2,1.2712623097582811E-2,6.7595976583977486E-3,0,8.0070215419675711E-3,6.4775126351481029E-3,6.2934746604836039E-3,9.1096524713949797E-3,1.0106967223345566E-2,3.9384615384615382E-3,3.9048376599898765E-3,4.3919515548432779E-3,6.6711471508527614E-3,7.0210631895687063E-3,9.0543813298106565E-3,9.2304158711474134E-3,1.8953752843062926E-2,1.5672734881774428E-2,0,0,5.6218561988361773E-3,8.152847301382762E-3,7.2122837999973035E-3,9.6703598886304521E-3,8.2022382534525269E-3,1.3850610848959588E-2,1.0321894622925239E-2,5.0257565266353683E-3,7.6649671570102372E-3,1.5445902859352541E-2,7.6161223594308283E-3,7.4791405473174531E-3,6.8374857183345584E-3,7.9350977274852703E-3,9.8684210526315784E-3,8.4969489848886193E-3,7.7277029011519763E-3,8.8446730028809133E-3,4.6683011862076783E-3,5.5839327287258069E-3,4.3277204034424324E-3,1.726173323789959E-2,1.300509581568937E-2,3.4081943404475581E-2,2.9986842507879197E-3,1.0039510005601228E-2,5.3323171973820123E-3,1.5198592806106399E-2,1.4257021500773764E-2,2.2425328117573941E-2,7.6165549446411086E-3,1.7527007256121892E-2,2.6710531883383404E-2,1.8084692317672343E-2,7.7798740271108918E-2,0.10275186430764732,7.2495780519024472E-2,7.044332688194338E-2,6.6203871953285254E-2,1.5423965126403214E-2,4.7976126263455363E-2,2.4718383727824145E-2,2.5438977477197991E-2,1.2609051254089423E-2,7.1760075476732773E-3,1.1348851842263086E-2,4.9205679741318707E-4,9.426357644346418E-3,4.7573486418965609E-3,3.231755878777717E-3,3.7833108699250433E-3,4.1928721174004195E-3,1.8222141836741604E-2,1.2803556560188289E-2,3.0783746992279291E-3,4.2003907127070219E-3,2.1660908326023524E-2,1.7928771898348093E-2,9.7751177776885158E-3,2.5176335594478755E-2,5.7831020934576954E-2,2.4079703819643019E-3,8.7542363937002342E-3,4.2709808651651866E-3,2.9355852418948104E-2,1.0189600921874624E-2,4.4990482782488322E-3,1.4431055004821936E-2,1.7974357401386417E-2,8.9526605589755788E-3,0,3.4439507963852874E-2,1.8160099227928578E-2,2.3568150674554141E-5,5.2274661920503021E-2,0,0,0,0,0,null,null,3.4396324569165712E-3,1.3636476074571581E-2,2.081465733782982E-2]
[null,"551","不動産仲介及び賃貸",2.8449502133712662E-4,0,2.8751123090745732E-3,1.6018306636155606E-3,1.1423307231690466E-3,0,4.8422368009996873E-3,3.8974526356393632E-3,1.8723810047772307E-3,1.1441065798840639E-3,7.4027738193501106E-6,3.2407207362917514E-3,5.2285571488985428E-3,2.960622979723773E-3,5.6990981937428929E-3,2.1363307697364097E-3,2.3526534475012692E-3,5.9146064740761683E-3,1.7905102954341987E-3,2.1346097868624471E-3,0,2.4944951726898973E-3,2.6869682042095834E-3,3.2019432483162196E-3,6.3352164098238409E-3,1.7208991737187648E-3,4.9230769230769228E-4,1.1569889362932967E-3,4.388650576598375E-3,3.9057335507469921E-3,3.009027081243731E-3,3.3575517393218848E-3,5.0530425919811661E-3,3.7907505686125853E-3,3.766478342749529E-3,0,0,1.0849196173192623E-3,2.9241215245081032E-3,1.3750522385041588E-3,5.1559975709522554E-4,1.8784685891905452E-3,6.7813342892233197E-3,3.3819069550882755E-3,2.5547278634637772E-3,3.4306189265199071E-3,2.24355934305664E-3,1.4103930295242275E-3,2.1183692879685272E-3,2.2156878374827659E-3,3.4952772842046197E-3,1.8007032667876589E-3,2.8271180550140688E-3,2.6629246483699377E-3,2.5982068334185942E-3,1.1479429146412324E-3,7.0537544737482192E-4,6.8641071323852958E-4,1.8962808726610211E-3,8.3973300796669778E-4,2.2262313370956474E-3,1.835929133135461E-4,8.4910091503464982E-3,3.2089765066492196E-3,1.9034351708597877E-3,2.3816579412378035E-3,6.3734629961369263E-3,1.6419371846049559E-2,1.2265949428820547E-3,1.5497397706596707E-3,3.4998900026512181E-2,1.7627387632488806E-2,4.9231369108544136E-2,0.17541430205820052,1.8174983829123605E-2,1.9834059144917984E-3,1.3124138292116791E-2,2.4717994418517391E-2,4.1622961037381612E-2,3.7227771917850718E-3,8.3696837513631411E-2,9.6699798919310423E-2,3.1811523197472644E-2,1.6905665682553073E-2,1.3497216969996022E-2,1.0351884335300059E-2,3.4191222701932346E-2,6.4576387411033082E-2,2.4995968392194808E-2,3.5989697332545383E-3,1.5495324349752465E-3,2.2850232679638476E-2,2.4632618554118597E-2,1.0937863625785431E-2,6.3532442234496547E-3,8.2028358457327463E-3,1.6928217069960515E-2,2.9876147612367954E-2,2.1069740842187641E-3,3.664700432727827E-3,1.0551896882866904E-2,1.4289963402175178E-2,5.6738146935794584E-2,3.3003507999181989E-2,7.1199576017167828E-3,2.6562787559045457E-2,1.8288260584504876E-2,0,1.9013006115191262E-2,1.3371220156986895E-2,0,3.1620040408384472E-3,0,0,0,2.626363762934086E-2,0,null,null,0,0,3.6067206693765784E-3]
[null,"552","住宅賃貸料",0,0,0,0,0,0,0,0,0,0,0,0,0,0,0,0,0,0,0,0,0,0,0,0,0,0,0,0,0,0,0,0,0,0,0,0,0,0,0,0,0,0,0,0,0,0,0,0,0,0,0,0,0,0,0,0,0,0,0,0,0,0,0,0,0,0,0,0,0,0,0,0,0,0,0,0,0,0,0,0,0,0,0,0,0,0,0,0,0,0,0,0,0,0,0,0,0,0,0,0,0,0,0,0,0,0,0,0,0,0,0,4.1736937699023965E-2,2.64353491518522E-4,0,0,0,0,null,null,0,0,1.1959094345930767E-2]
[null,"553","住宅賃貸料（帰属家賃）",0,0,0,0,0,0,0,0,0,0,0,0,0,0,0,0,0,0,0,0,0,0,0,0,0,0,0,0,0,0,0,0,0,0,0,0,0,0,0,0,0,0,0,0,0,0,0,0,0,0,0,0,0,0,0,0,0,0,0,0,0,0,0,0,0,0,0,0,0,0,0,0,0,0,0,0,0,0,0,0,0,0,0,0,0,0,0,0,0,0,0,0,0,0,0,0,0,0,0,0,0,0,0,0,0,0,0,0,0,0,0,0.18617163178898691,0,0,0,0,0,null,null,0,0,5.3247406651405489E-2]
[null,"571","鉄道輸送",1.2870012870012869E-4,1.034596921039563E-4,1.7969451931716083E-4,1.3157894736842105E-3,3.3164440350069095E-4,0,1.2496094970321774E-3,5.2965001557794161E-4,3.2459494402112618E-4,2.7967049730499339E-4,1.3324992874830198E-4,1.058635440521972E-3,1.0380223751489755E-3,6.6118131060828676E-4,8.5949276703779125E-4,1.0013365761738864E-3,1.6800869817184207E-3,1.5921079062293081E-3,8.3557147120262608E-4,9.05592030790129E-4,0,1.0162758110958841E-3,1.055594651653765E-3,8.8329468919068127E-4,1.1001197936449662E-3,1.1545470431114106E-3,1.2307692307692307E-4,2.1693542555499312E-4,1.7775767848801991E-3,7.9877484465206469E-4,1.0030090270812437E-3,1.0733157199471599E-3,1.0479321284506396E-3,7.5815011372251705E-4,2.2389621259677759E-3,0,0,5.9177433671959761E-4,1.2142538533974328E-3,1.8873266018684534E-4,6.9892411517352801E-4,7.0672026726875561E-4,2.2271453168246432E-3,7.1413291051631493E-4,9.7395433067271335E-4,1.1623162242033805E-3,1.5759636360983226E-3,1.8178399047201154E-3,1.6984010326278277E-3,1.1853413281136982E-3,8.4634807818198825E-4,2.4954627949183303E-3,5.9483098557033603E-4,5.5803935645987665E-3,1.5885409655098139E-3,5.3854112044897319E-4,3.6832412523020257E-4,3.8687069701274227E-4,7.4363955790628284E-4,1.0694035742481877E-3,2.0151665150685205E-3,2.1113185031057802E-3,2.1010883461809924E-3,1.6080830739071145E-3,9.533225054727774E-4,8.7437211667562987E-4,6.8243580838177407E-4,8.8498907885817583E-4,2.0246205683715846E-3,1.3450471797909702E-2,4.2245562970191662E-3,8.1726733656677548E-3,7.6034507969001321E-4,1.387614548996953E-4,1.272045340784127E-6,2.8334370207025694E-4,1.4524201508267548E-3,2.3744752702797777E-4,1.0185311868168619E-3,4.9637029223800961E-4,5.3162486368593239E-3,9.5298905015581375E-4,1.1273476851684958E-3,1.0895543371292002E-3,1.3548262227997898E-3,2.0996119704459683E-3,7.6287881963365048E-4,1.7970726632143955E-3,1.2901144976616675E-3,6.4299787118183745E-3,3.1802236977765486E-3,5.8437325124334133E-3,1.5174866083907004E-3,4.9229337104598914E-3,1.150183901270008E-3,3.9880873821505832E-4,4.407546150990517E-3,9.3072110941956241E-4,4.9664389128013721E-4,4.5442285365825054E-4,9.0778043481001749E-4,2.0691349722606593E-4,8.5277775955603079E-4,9.1239440607843441E-4,1.0947097715879373E-3,2.4538371879025828E-4,1.8044571833061602E-3,6.6496730577413283E-4,2.8460321777938971E-4,1.8154069669774598E-3,9.8986232833127383E-4,7.0899983505573584E-3,4.1048678807223911E-7,0,4.1415699034876158E-6,4.9371452044027487E-6,-6.4783322921727862E-4,null,null,2.5164253711597979E-4,9.117822776922014E-3,5.825759134132363E-3]
[null,"572","道路輸送（自家輸送を除く。）",9.5983201246359149E-3,3.6624731004800529E-2,7.7268643306379154E-3,3.0491990846681923E-2,1.2197144173192077E-2,0,7.6538581693220871E-3,2.173938845451983E-2,1.6888106437799724E-2,3.1348520288823352E-2,3.5052134034622771E-3,9.5709285745149714E-3,1.0572450117258082E-2,2.2494857478695267E-2,1.9199746119059582E-2,2.186507153969193E-2,2.4095424687176844E-2,1.2930296920684755E-2,9.668755595344674E-3,8.0856431320547231E-3,0,1.5521303296737139E-2,1.1579553451474633E-2,1.6672187258474108E-2,1.40258921958823E-2,1.5859419855712823E-2,2.5846153846153844E-3,1.9162629257357726E-2,9.2790498464219873E-3,8.9903485963597901E-3,1.3039117352056168E-2,1.6787758696609423E-2,3.5902441825411635E-2,2.1228203184230479E-2,2.0611006486712703E-2,0,0,1.1243712397672355E-2,2.64657778658869E-2,1.7012901225414202E-2,8.6964492363394708E-3,1.432714723644841E-2,1.2657707156834515E-2,1.0765474977034492E-2,8.135942719310927E-3,7.9424941987231001E-3,9.5250950320664822E-3,9.9354353413151127E-3,8.263493024203759E-3,9.5639183871091549E-3,9.6020761245674737E-3,6.7774500907441014E-3,1.062452797822072E-2,8.4978624808275949E-3,1.2290999165342882E-2,1.3766811694845595E-2,1.3363911185239236E-2,8.8473995496774465E-3,1.44637894012772E-2,1.0220340199526305E-2,1.6071078591494089E-2,0.50365655885682814,1.9398332692834197E-2,1.9299393433940378E-2,1.7708687753176137E-2,1.8669125152283427E-2,6.9364725380518895E-3,2.3631091361000226E-2,9.4654706134452548E-3,3.618351457707443E-2,4.5695907158477033E-3,8.3184211733778133E-3,8.7732124579616903E-4,8.3256872939817175E-4,5.1517836301757143E-5,1.1148958711894891E-3,3.2247993468957187E-3,3.0750920475598603E-3,1.9914564995971483E-3,3.9089160513743251E-3,5.0436205016357689E-3,2.1918748153583714E-3,6.3544394230863766E-3,8.0627020947560801E-2,4.9641513406824328E-3,3.0298198054536755E-3,7.1299828142683489E-3,7.0937078811094557E-3,1.2659248508305111E-2,6.1988167214265888E-3,3.0164031008683995E-3,1.0473680121513606E-2,8.7765254673507452E-3,6.6414851148386177E-3,4.6872396867911467E-3,3.2421142027555102E-3,1.1744456818872127E-2,2.7456272727877091E-3,2.5885681606116246E-3,9.0151630645104539E-3,2.918766259146098E-3,7.0738551864161286E-3,1.2544579504033201E-2,3.2720351114536961E-3,3.3492906106916656E-3,5.4597877430832466E-3,1.359435106265702E-2,4.7124016402526878E-2,2.5896374205377742E-2,1.0568795518664392E-2,2.8463592257525816E-2,1.4876362255494994E-2,2.2987260132045389E-5,0,2.0086614031914938E-3,3.4981319488261607E-3,-3.1188542606603271E-2,null,null,9.1885770857205295E-3,1.6020918153130802E-2,1.2223016430631435E-2]
[null,"573","自家輸送",8.3058998848472537E-2,1.6077636152954808E-2,1.8508535489667566E-2,3.1006864988558352E-2,2.6642100414555503E-2,0,0.29037800687285226,7.2682224826788122E-3,8.7879037951934282E-3,2.5678836570731211E-3,3.7754146478685565E-3,1.6549280559996542E-2,9.1115297374187842E-3,2.2120188069350573E-2,8.9783936741332348E-3,5.6903087271850828E-3,4.4899792913329307E-3,1.33246040189565E-2,4.4165920620710232E-3,4.39858986383777E-3,0,4.5886392682814164E-3,1.5034226856886956E-3,5.410179971292923E-3,2.2637568963918358E-3,2.3090940862228212E-3,6.1538461538461541E-4,4.3387085110998625E-4,1.6273822747371184E-3,2.0382530518707857E-3,1.5546639919759278E-2,7.3756054601497138E-3,3.6821176842135483E-2,5.3070507960576198E-3,5.6225151705377695E-2,0,0,7.1999210967551037E-3,5.3030678495316445E-3,4.4082557057927444E-3,3.0935985425713532E-3,4.7084090533619696E-3,1.0759638720596099E-2,1.0123699145557276E-2,6.091019075808648E-3,6.7554478420898609E-3,7.1283170021669501E-3,4.5445997618002885E-3,8.1523249566135738E-4,2.8474762415084984E-3,2.8990928644907882E-3,3.5872277676950999E-3,3.4887839827833188E-3,1.4358907417681038E-4,5.0348671279717835E-3,1.3775314975694789E-3,2.0014593974773272E-3,1.4989657431693274E-3,1.9055763671348498E-3,6.3159405727409744E-4,4.246925740360117E-2,1.5697194088308192E-2,2.2350908127306109E-2,2.1166303589787834E-2,2.4866631144436383E-2,1.3111923289395221E-2,4.7039325363458003E-3,6.9951796339534529E-3,9.0516795483766097E-3,2.3695679769813398E-2,3.9449561984916261E-2,1.0464152786887016E-2,4.2637812545693815E-3,3.4208946432414677E-3,9.0696832797908244E-4,3.831299623645648E-3,2.4316887438407884E-3,0,4.0893267052796401E-3,3.0402680399578084E-3,3.4078516902944383E-3,9.2344638960098341E-3,5.2238145644144841E-3,9.5599606354562078E-3,7.8333202175378744E-3,8.0795194812098015E-3,1.4159366223749843E-2,1.0167647962923553E-3,1.4594420254797614E-2,1.4349453093943653E-2,1.5648624357868349E-2,7.6824252278098618E-3,5.0076294369490806E-3,1.0937863625785431E-2,6.6512027271212722E-3,7.3851344760112242E-3,1.4019101616550235E-2,1.1075581202092793E-2,9.7221804171808684E-3,6.7371852755268372E-3,6.8009985584782913E-3,5.9888525353369457E-2,6.2908759339556425E-3,2.1055860560965249E-2,3.5265293356154269E-2,1.3618796392859334E-2,3.4748855533185186E-2,0,8.5078731828210474E-3,1.0233090119156069E-2,0,0,0,0,0,0,0,null,null,0,0,0]
[null,"574","水運",1.9779177673914516E-3,4.076311868895878E-3,7.187780772686433E-4,1.0869565217391304E-3,1.8793182865039153E-3,0,1.5620118712902218E-4,1.0971321751257362E-3,9.3710743725873146E-4,4.8052476355130679E-3,2.6649985749660395E-4,4.1049129326362185E-4,2.3067163892199455E-4,1.9394651777843079E-3,1.2429587707931135E-3,2.9404675825500121E-3,1.6481865959895898E-3,6.6957809140484928E-4,1.9098776484631453E-3,5.8540056276076202E-3,0,2.3867083442403337E-3,2.0951954449491394E-3,3.3123550844650546E-3,1.0378728307251009E-3,1.6054444694076238E-3,4.9230769230769232E-3,2.1331983512907656E-2,4.3077766095982542E-4,6.1147591556123576E-4,5.0150451354062187E-4,2.2567151034786439E-3,8.5557198432408381E-3,2.2744503411675512E-3,4.9173467252563302E-3,0,0,2.5643554591182564E-3,6.1208306487584878E-3,4.3947748014936845E-3,1.9191768736322286E-2,8.2297728093201411E-4,2.2976617912359777E-3,1.7145481772308001E-3,9.4351825783919104E-4,1.0317960808235683E-3,6.3841119517871864E-4,5.0147307716416969E-4,5.187843154208638E-4,8.443527268755111E-4,7.5049097540447023E-4,3.1193284936479129E-4,7.9310798076044793E-4,4.5034755082726886E-4,3.7694192401927786E-4,2.91662533127365E-3,2.9326939782480283E-3,1.4196509219715134E-3,2.0543042787161065E-3,1.4067322184741261E-3,6.7339728932464286E-4,0.11878461491386433,8.8037234349843145E-4,7.5730886938099584E-4,1.6915857251991705E-3,2.0962980035779746E-3,4.1921056800594695E-3,4.4908488363335089E-3,4.2856931739252514E-4,5.6065670883933486E-4,1.7345735769445556E-4,2.5550850240528864E-4,1.2672417994833552E-4,8.7787859222256202E-5,1.2084430737449206E-5,7.3915748366153985E-5,6.0927958797031556E-3,6.5605872282544966E-3,0.45654520302214924,1.7372960228330334E-3,2.044711014176663E-4,9.5298905015581364E-5,5.3417928105367683E-4,1.3707296499367355E-3,9.570985875351734E-5,7.9732100143517775E-5,4.0658926101353902E-4,1.4187415762218912E-4,4.0316078051927108E-4,2.3986683521825465E-4,1.9838824579702477E-4,3.8282640736558008E-4,2.123106578422822E-4,5.0124415961046165E-4,1.7300816342222963E-4,1.6640940155736246E-4,4.1173095744321826E-4,1.0636812679080714E-4,4.5149444661830663E-5,1.0290478815099739E-3,1.2502994414628714E-4,4.396911816053901E-4,3.5641737130162311E-4,2.280986015196086E-4,2.3458066534027229E-4,2.4538371879025828E-4,3.0751199586889544E-4,3.0588496065610108E-3,2.2667512920482365E-4,2.0916867211970705E-3,1.8181144806084622E-4,5.2585604948185828E-4,0,0,7.7309304865102172E-5,1.6654636489518606E-4,-1.5964461719997223E-3,null,null,2.1900149691064776E-2,7.6379795893527296E-4,1.9218255537673261E-3]
[null,"575","航空輸送",0,0,3.5938903863432165E-4,2.288329519450801E-4,7.3698756333486873E-5,0,4.6860356138706655E-4,9.7918490274913583E-5,4.4012873765576431E-5,2.5424590664090307E-5,4.0715256006425605E-5,4.9691051289806856E-4,5.3823382415132059E-4,3.0855127828386715E-4,5.421415915161452E-4,1.2051096649795132E-4,2.5254472035324358E-4,6.3981906512018932E-4,2.3873470605789316E-4,3.2342572528218892E-4,0,1.3858306514943873E-4,7.9969291791951889E-4,0,2.8506568324934227E-3,3.8224868319229139E-4,0,7.2311808518331041E-5,3.2184537887803053E-4,4.7375611475915561E-4,5.0150451354062187E-4,4.4033465433729633E-4,2.7274945808989249E-4,7.5815011372251705E-4,4.6034735300272021E-4,0,0,2.9588716835979881E-4,3.2214898151360462E-4,2.1569446878496609E-4,3.2081762663702926E-4,1.6214794010928159E-4,9.2259054021495777E-4,5.7571067235456222E-4,4.2039825601302664E-4,7.4602566163408475E-4,1.6015000839054714E-3,2.1939447125932427E-4,5.4966433419591514E-4,4.4727076266307667E-4,3.109510894978023E-4,4.6789927404718693E-4,3.9432615897359353E-4,4.1771367033253926E-4,1.8847096200963893E-4,1.9840988648120065E-4,1.9806108620869383E-4,3.3750987743750687E-4,7.4363955790628276E-5,2.3684777147778654E-4,5.1761134925700154E-4,0,1.1805278215242875E-4,2.1089614084027732E-4,8.9875522401473956E-5,2.5975071248522896E-4,2.6566251112004777E-4,1.2239210665059878E-4,8.7930601327087057E-4,4.0250920323276771E-3,1.5296212518638439E-3,7.818200302471685E-4,1.3452259102207924E-4,1.1044279063445135E-4,0,6.1596456971794985E-6,1.4349678392680889E-4,0,1.9762545415849561E-4,2.9161754668983061E-3,9.5419847328244271E-4,1.7153802902804646E-4,2.5234235976155287E-4,2.3548432447631096E-2,8.2948544253048364E-4,1.9401477701589326E-3,2.3766609380894495E-3,9.9311910335532386E-4,6.1280438638929204E-3,8.8112373743479827E-4,1.4533441945888102E-3,1.7925283544882454E-3,4.2080277867301259E-4,8.9507885644725304E-5,7.0484807320167625E-5,1.405872530398407E-4,3.6988289291620263E-3,1.1434573630011767E-3,1.8661770460223338E-3,1.5538329834765988E-4,1.5507915761337799E-3,3.2976838620404257E-4,1.6180911335165712E-4,5.5844830027214527E-4,1.0034839572889427E-3,5.5211336727808112E-4,7.7748315936664134E-4,2.2165576859137761E-5,2.541280059640745E-3,6.8262997687529455E-4,6.9694388423324392E-4,3.3847320816120063E-3,0,0,4.1415699034876158E-6,3.620573149895349E-6,0,null,null,1.2535526385962696E-3,0,1.0575509994800128E-3]
[null,"576","貨物利用運送",6.7059540743751272E-4,2.151961595762291E-3,3.5938903863432165E-4,2.8604118993135012E-4,9.9493321050207273E-4,0,1.5620118712902218E-4,1.6215895434921294E-3,1.1058234533601078E-3,1.9068442998067731E-3,1.9987489312245298E-4,5.1851531780668016E-4,5.7667909730498631E-4,1.2268586541287099E-3,1.05783725173882E-3,1.6520957952628234E-3,1.9166815092072488E-3,1.1829212948152336E-3,7.758877946881528E-4,6.1450887803615902E-4,0,1.1702569945952605E-3,9.1164992642825155E-4,1.3249420337860219E-3,7.9904774850194423E-4,1.0796575051798597E-3,4.9230769230769228E-4,1.1569889362932967E-3,5.100011388374945E-4,5.12317658983738E-4,5.0150451354062187E-4,1.2109202994275649E-3,2.7992707540804755E-3,1.5163002274450341E-3,1.5693659761456371E-3,0,0,6.9040339283953057E-4,1.7098676711106706E-3,1.0110678224295286E-3,6.1871970851427069E-4,8.2909607112481717E-4,6.8165925264289872E-4,6.1346219185322206E-4,4.6224785615911978E-4,4.2865562878422549E-4,5.0343282819807528E-4,5.0147307716416969E-4,4.2614425909570951E-4,5.0336412563732396E-4,5.6812868231553349E-4,4.5372050816696913E-4,6.3047628807642354E-4,5.1561531181672812E-4,4.8463961659621444E-4,1.0019699267300633E-3,9.7988116334827473E-4,5.6490715736102711E-4,7.9941252474925403E-4,6.5312567286298718E-4,7.9400575905442963E-4,1.774731495364279E-3,9.1302524068952867E-4,9.4423953967124165E-4,8.8912570375743877E-4,9.731505566348015E-4,4.9476596107678617E-4,1.5157791669804927E-3,2.3645203718208286E-4,2.009901409046672E-4,1.3021053680586502E-4,1.2865392902801506E-4,7.6034507969001319E-5,6.7964794236585451E-5,4.4521586927444445E-6,1.2504080765274382E-3,1.0355038191475127E-3,5.2472972022232127E-4,3.3444307626822337E-4,6.2046286529751193E-4,3.6804798255179933E-3,8.5769014514023228E-5,2.9494561530571113E-4,8.1540840714185298E-3,8.0821658502970201E-5,6.6443416786264817E-5,4.0658926101353902E-4,1.182284646851576E-4,6.4505724883083375E-4,1.0639254787906455E-4,1.4428236057965438E-4,3.7944852730058964E-4,5.7965391835356904E-4,4.4753942822362648E-4,2.5630839025515503E-4,2.1231544336629005E-4,4.1173095744321826E-4,9.9720118866381691E-5,6.4714204015290614E-4,5.8048854854408785E-4,1.0401650815531451E-4,5.7547816415999585E-4,7.9373929927907484E-4,2.3596407053752614E-4,1.3466667825089704E-4,3.6807557818538741E-4,1.7986550701765583E-4,3.1253463371384241E-3,8.0595601495048414E-5,5.7997749924885501E-4,4.5116174148432213E-4,5.6422068808400247E-4,1.2314603642167174E-6,0,1.214860505023034E-4,2.0275209639413955E-4,-1.2725295573910831E-3,null,null,1.8329518135608403E-4,8.6618374431533644E-4,5.6184619340229327E-4]
[null,"577","倉庫",3.0210661789609157E-3,7.0766429399106105E-3,1.6172506738544475E-3,1.0297482837528604E-3,4.274527867342239E-3,0,3.1240237425804435E-4,9.3712446033559337E-3,4.5076518214911196E-3,3.9433540120004065E-2,1.7507560082763011E-3,2.8950438577539646E-3,3.5754104032909152E-3,3.2471348809873643E-3,3.292518446037077E-3,8.6285852012533137E-3,5.9095464562659E-3,3.2660531347414312E-3,6.3264697105341692E-3,5.1748116045150228E-3,0,2.9410406048380887E-3,3.2947348218284179E-3,6.0726509881859339E-3,2.8074650623041283E-3,3.4558401357996957E-3,9.4769230769230772E-3,4.4833321281365244E-3,3.0088416702289725E-3,2.0437618439028689E-3,5.5165496489468406E-3,7.2380008806693088E-3,6.3306584746127678E-3,8.339651250947688E-3,6.9679849340866292E-3,0,0,3.0575007397179209E-3,6.195172721415473E-3,3.8150959166340878E-3,8.5474981954008506E-3,8.4928807876106741E-3,2.5385930788080365E-3,3.0830407590572186E-3,2.178081462148939E-3,1.8341514885478879E-3,3.6371197805324714E-3,2.2879709145615244E-3,1.896033152788157E-3,2.7116712574655837E-3,2.5530721032451138E-3,2.0559210526315788E-3,4.5536873951526847E-3,2.3626929478184249E-3,2.2616515441156674E-3,2.5977522994288628E-3,2.4392786406754927E-3,1.9090402442558984E-3,2.8351258145177033E-3,2.8206416421445489E-3,3.1659723304069028E-3,2.7477739359260733E-2,2.2568175481693029E-3,2.4708400137082491E-3,2.3496029427813908E-3,2.6121409678092041E-3,7.4019912501980282E-3,2.6935678240566394E-2,9.310298964044512E-4,6.7173020776033513E-4,5.5703785601064998E-4,6.7025997990119738E-4,5.302919530145733E-4,3.9079756686036634E-4,1.0812385396665079E-5,3.449401590420519E-4,2.2494090453391662E-4,1.2312093994043291E-3,7.1449202657302259E-4,1.302972017124775E-3,4.7709923664122136E-4,3.335461675545348E-4,1.1633965937058607E-3,2.1088148460565162E-4,5.4022898051985337E-4,7.1758890129166003E-4,1.2952173366307582E-3,8.2759925279610321E-4,2.580228995323335E-3,4.1957352063580183E-3,6.9285591903354862E-4,1.4209615473393001E-3,1.0943927075107568E-3,1.8080592900234511E-3,9.8358344760415741E-4,7.1441277565143543E-4,1.7076710202153151E-3,3.3240039622127232E-4,4.3644463173102971E-4,1.7297386042475344E-3,3.8244453503570185E-4,2.4829619667127911E-3,2.7966737294158033E-3,8.3373971589925904E-4,4.2572046672864232E-4,8.5884301576590397E-4,6.382324442561981E-4,7.558461708965976E-3,2.2667512920482365E-4,2.5466333827057152E-3,1.1918750483988808E-3,1.1096142850021379E-3,5.7468150330113473E-6,0,1.780875058499675E-4,3.8312246786165329E-4,-1.2748432474954304E-2,null,null,1.09769995614378E-3,4.4832687702222162E-3,2.3177594806549819E-3]
[null,"578","運輸附帯サービス",1.35473819684346E-5,0,1.7969451931716083E-4,0,2.3767848917549518E-3,0,0,6.3201934631989675E-4,8.2707525284479038E-4,4.3221804128953521E-4,0,3.672816834463985E-4,1.8069278382222905E-3,9.4034675286511899E-4,1.5603099463147594E-3,3.8826442297158134E-3,2.9507856799168461E-4,2.3584028330593024E-3,4.9537451507012829E-3,1.6818137714673825E-3,0,5.0813790554794206E-4,7.836990595611285E-4,1.8770012145301975E-3,7.8253324813544944E-4,1.9674105694101199E-3,0,2.1693542555499312E-4,2.2149564023298306E-3,1.746287074170376E-3,5.0150451354062187E-4,1.0678115367679436E-2,2.7274945808989249E-4,6.0652009097801364E-3,4.3942247332077843E-4,0,0,7.1999210967551037E-3,3.9649105417059028E-4,4.1790803327087183E-4,1.3405593684475865E-3,1.6092418207072098E-3,6.4640101543723155E-5,8.9030666817672749E-4,1.2954353499767925E-3,4.9597654484328656E-4,2.2982803026433871E-4,4.7013100984140914E-4,5.743683492159563E-4,5.0867823370856838E-3,2.3613578976900776E-4,1.786524500907441E-3,1.628544758246875E-3,3.3939235714518814E-4,2.2078026978271993E-3,1.1762871841385468E-4,2.1161263421244658E-3,1.3466644109756524E-3,1.4872791158125655E-4,3.1579702863704872E-4,1.3266931670276546E-3,4.5898228328386526E-4,0,0,2.2468880600368489E-5,0,0,0,0,0,4.2974177887336387E-3,8.097100428336612E-6,0,0,0,3.0613439114982105E-3,2.5389235026401467E-2,0.12808974930231468,6.8165579726668798E-2,0.28950797294781905,4.6823882224645584E-2,1.5438422612524183E-2,1.2721987540186341E-2,0,0,0,0,0,2.3383325270117722E-3,2.1181789077741035E-4,1.5029412560380665E-6,3.9408600758221476E-5,0,0,0,0,0,3.8093085406957806E-3,0,0,0,2.2456580495816468E-2,3.1574643199972011E-3,0,1.8853334955125588E-3,0,0,0,1.4476984918548071E-2,3.3904415484433299E-3,4.3769422681314831E-4,1.3279611787748348E-2,4.4784108578681286E-4,3.5724346856869896E-4,0,0,0,null,null,5.6935418479985879E-3,1.5876758967315673E-2,1.078233306310078E-2]
[null,"579","郵便・信書便",1.151527467316941E-4,1.4484356894553882E-4,1.7969451931716083E-4,1.1441647597254005E-4,2.210962690004606E-4,0,4.6860356138706655E-4,7.8631514917733628E-5,2.3840306623020566E-4,0,1.7026379784505254E-4,1.5123363436028172E-4,2.3067163892199455E-4,1.6162209814869232E-4,3.3057414116838122E-4,8.1071013825894514E-5,1.7279375603116668E-4,2.8271074970426968E-4,1.1936735302894658E-4,9.7027717584656685E-5,0,1.2318494679950111E-4,9.5963150150342263E-5,2.2082367229767032E-4,2.2612162040277597E-4,3.3700292069197934E-4,0,1.4462361703666208E-4,1.8815575995946397E-4,2.0382530518707858E-4,0,1.6512549537648613E-4,2.1532851954465197E-4,0,1.8832391713747646E-4,0,0,0,1.2390345442830946E-4,1.2132813869154343E-4,1.1457772379893901E-5,5.2009716638826172E-5,1.5866206742550228E-4,2.1707123711729398E-4,1.978344734178949E-4,2.4180573931417847E-4,2.2617996629188889E-4,6.2684134645521212E-5,1.0499206383517482E-4,1.6975623005364296E-4,2.9224726456560367E-4,7.0893829401088933E-5,9.802458189174076E-5,1.8927650686943184E-4,5.3848846288468269E-5,9.3536089341137455E-5,4.1697070780777653E-5,1.0209673792484583E-4,7.4363955790628276E-5,7.5360654561113904E-4,2.3116623364875799E-4,9.4856338545332153E-4,2.687584614959548E-4,9.1068788090119756E-4,4.8147601286503905E-4,4.9755066053508651E-4,1.1455172497836922E-3,3.982450854861791E-3,7.1674523770818861E-4,1.5656074133626708E-3,1.3773172304735904E-3,7.4340378710383813E-3,4.1136618413998145E-4,4.2761183040518347E-4,0,9.2394685457692478E-4,3.4322879398709694E-4,0,7.1449202657302259E-4,5.5841657876776077E-4,3.0670665212649945E-3,8.291004736355579E-4,9.3071727496468846E-4,1.6378461971038944E-2,2.8500269051047384E-3,2.1394780205177271E-3,9.5988598734124159E-4,2.0098838996476793E-3,2.4189646831156266E-3,4.1657518519557365E-3,1.2729912438642424E-3,8.1046602359336629E-3,3.63524723499735E-4,5.245162098780903E-3,5.4817956965821273E-3,1.6526175051213927E-3,5.6427390233201712E-3,1.595521901862107E-3,1.9564759353459953E-4,1.1287277332801707E-3,1.3133397494357892E-3,1.383734012699316E-3,6.4504984376674123E-4,1.8562506882285391E-3,6.0382800893144168E-4,1.7790319612293725E-3,2.1583860842118701E-3,0,2.1911929156466286E-4,1.1632547566914296E-3,1.1077030817040446E-3,5.1235738034406686E-4,0,0,0,0,0,null,null,5.1260516819921807E-5,2.1214334730749138E-5,1.6980692065817352E-4]
[null,"591","通信",1.8966334755808441E-4,2.069193842079126E-4,1.0781671159029651E-3,1.6018306636155606E-3,2.8926761860893599E-3,0,1.0934083099031554E-3,9.8511935670519122E-4,6.1251249323760533E-4,3.050950879690837E-4,5.0709000662548258E-4,9.7221622088752542E-4,1.1918034677636385E-3,9.0361445783132533E-4,1.5470869806680243E-3,4.6013278117399591E-4,8.7460224206544368E-4,1.6888247416544531E-3,5.9683676514473295E-4,4.8513858792328344E-4,0,6.0052661564756785E-4,4.4782803403493058E-4,7.7288285304184605E-4,7.1164793117772527E-3,1.6725330138046381E-3,1.2307692307692307E-4,6.5080627666497942E-4,9.25924397695257E-4,1.2009166629941385E-3,5.0150451354062187E-4,1.6512549537648614E-3,1.4498786982673232E-3,7.5815011372251705E-4,1.0671688637790332E-3,0,0,1.9725811223986585E-4,5.4517519948456164E-4,6.6056431065395871E-4,1.374932685587268E-4,6.271759947623156E-4,8.5207406580362337E-4,1.1986107440824492E-3,1.1965181132678451E-3,1.3106970187825356E-3,1.3060069021370358E-3,4.0744687519588793E-4,6.2377637925603861E-4,1.0141089569291541E-3,1.274198073506032E-3,3.5446914700544465E-4,5.4581869462446558E-4,1.0247038475345103E-3,3.2309307773080963E-4,5.8389195164467627E-4,3.7874839292539701E-4,6.1215854020227811E-4,5.20547690534398E-4,4.5934113256297995E-4,1.4473016367574413E-3,2.4479055108472814E-4,4.9079816239541657E-3,4.8649905216563974E-3,4.4456285187871938E-3,4.8950204690878362E-3,3.2659427972556333E-4,1.1109437372900505E-3,1.174871059748474E-3,5.1887191638810134E-3,1.0952257390035556E-2,1.1317047365338471E-2,4.0395769361992497E-3,2.5288567188862837E-3,0,3.6711488355189808E-3,2.5053762815329334E-3,0,4.8798285219136227E-3,2.60594403424955E-3,5.4525627044711015E-3,1.5629020422555345E-3,2.1006682156773427E-3,2.6711654716715873E-3,0.23669686135469861,4.0477329506192525E-2,1.4184516074946557E-2,3.1283251755692701E-2,6.5312046444121917E-3,6.7791397098578496E-3,6.8083238898524411E-4,1.7385948694505653E-2,1.9138507501897813E-3,6.0149299153255398E-3,1.0780971665107457E-2,2.5190940442649007E-3,1.1555465559717863E-2,3.6896443980561225E-3,4.3644463173102971E-3,2.6444478322563999E-3,3.2717919837944383E-3,5.6513248929869258E-3,5.5452420467540873E-3,7.896930893989209E-3,1.8983657546981295E-3,5.6438255321759404E-3,3.9396348149996225E-3,0,1.3187455294627295E-2,7.0943601252900189E-3,9.0400692230254102E-3,3.1061621779842154E-2,0,0,0,0,0,null,null,2.2782451919965245E-5,2.5678354973319902E-4,9.0826043951883206E-3]
[null,"592","放送",4.7415836889521102E-5,2.0691938420791258E-5,0,5.7208237986270026E-5,0,0,0,8.9016809340830519E-6,3.6677394804647027E-6,0,3.7013869096750553E-6,2.1604804908611675E-5,3.8445273153665758E-5,7.3464590067587421E-6,1.322296564673525E-5,1.0955542408904664E-5,1.0633461909610256E-5,2.2319269713494974E-5,0,0,0,0,0,0,6.3517309101903361E-6,6.2407948276292468E-6,0,0,1.4854402102062947E-5,1.6526376096249613E-5,0,0,1.4355234636310131E-5,0,0,0,0,0,0,0,1.1457772379893901E-5,6.1187901928030793E-6,1.7629118602833589E-5,1.887575974932991E-5,1.1413527312570859E-5,1.3738962461032868E-5,3.6480639724498207E-6,0,0,2.9522822618024862E-6,2.3379781165248292E-5,0,1.3366988439782831E-5,0,4.0386634716351203E-5,2.8344269497314381E-6,1.0424267695194413E-5,8.4377469359376721E-7,9.2954944738285345E-6,7.1772051962965618E-6,2.0101411621631128E-5,6.1197637771182034E-5,7.5352839671763028E-6,7.1896411650094545E-6,6.4196801715338543E-6,4.390152887074292E-5,2.4372707442206217E-6,0,0,2.009901409046672E-4,8.9784160757834731E-5,2.923952932454888E-4,5.4588877516206075E-5,2.8318664265243938E-6,0,3.3262086764769289E-4,1.3574020101184623E-5,0,6.080783204876788E-5,0,6.8157033805888771E-5,1.9059781003116273E-5,5.0468471952310574E-4,7.0293828201883877E-5,2.126885750078163E-6,3.65571679158029E-2,1.6766567464475835E-5,0,0,6.770434865031381E-6,9.9194122898512384E-5,2.2519200433269417E-5,2.5966051678552498E-5,3.5803154257890122E-5,5.1261678051031002E-5,7.4597317939507313E-5,3.2398501569302419E-4,8.1770497470432988E-4,0.27383138187400297,3.5181124154187142E-5,2.5216123189167153E-5,3.6209862014561539E-3,2.8819515053714064E-3,4.2080259245858833E-3,1.1511828947254102E-3,1.8403778909269371E-4,1.2184437572163782E-4,0,5.3218283112199151E-3,8.1300042332897845E-4,6.262394322095815E-4,5.6793874256581521E-3,0,0,0,0,0,null,null,0,0,1.6306747566196759E-3]
[null,"593","情報サービス",3.2649190543927388E-3,2.3174971031286211E-3,7.5471698113207548E-3,5.7208237986270026E-5,8.4753569783509901E-4,0,3.1240237425804435E-4,2.2743794786582198E-3,3.5375347289082057E-3,7.3731312925861897E-4,1.1067146859928415E-3,1.3178930994253123E-3,1.6147014724539619E-3,1.395827211284161E-3,1.2297358051463782E-3,4.2748526479546006E-3,1.379691682771931E-3,1.644186202227463E-3,4.4165920620710232E-3,3.2989423978783271E-3,0,7.9608271869177592E-3,3.4386795470539313E-3,5.5205918074417574E-4,8.4744793803759461E-3,4.7118000948600811E-3,3.6923076923076921E-4,4.3387085110998625E-4,1.9690335230845659E-3,1.4543210964699661E-3,7.5225677031093277E-3,2.9997798326728315E-3,2.1245747261738994E-3,6.0652009097801364E-3,3.8083281021134129E-3,0,0,2.4657264029983232E-3,3.7914457055062693E-3,3.3837069790641555E-3,8.3641738373225474E-4,1.4195593247303144E-3,1.0600976653170597E-2,2.5324977663684295E-3,4.0061480867123718E-3,5.7099127988052599E-3,3.2285366156180914E-3,4.0744687519588792E-3,3.971170414471612E-3,9.3705438989610916E-3,1.5804732067707847E-3,7.4154945553539017E-3,3.6358208556209301E-3,6.3440263681754398E-3,4.1153980775961878E-2,1.4724848003854821E-3,1.6261857604503284E-3,1.4411671766581544E-3,2.3331691129309623E-3,3.0287805928371492E-3,2.7287666276364256E-3,6.1197637771182034E-5,1.5824096331070237E-3,2.0274788085326663E-3,1.9965205333470288E-3,2.8645747588159757E-3,1.1099330969180711E-2,1.2954733750094148E-2,3.1174723277225234E-2,2.7239453306816741E-3,1.4292604229539083E-2,3.7660513770018958E-2,3.4468976945947263E-3,3.0329289428076256E-3,0,4.8661201007718034E-4,2.8835096986373622E-3,0,2.4323132819507151E-3,4.1571011974933297E-3,3.7486368593238821E-3,9.4250617060409984E-3,1.8814253083000974E-2,2.1791086742584003E-3,2.0956205295520142E-2,4.6776165417530434E-3,2.7819927065431529E-2,5.4361448062235466E-2,1.3304305757135947E-2,1.4217913216565899E-2,4.883056140867678E-3,3.3703361328452669E-2,5.9653185194462818E-3,1.2208875601940531E-2,9.8774845894580351E-3,9.812416436658269E-4,2.9644628935911715E-2,1.2265574620564948E-2,3.4012581645245761E-3,1.6007411490155149E-3,1.3414977536636926E-2,1.3992525249912709E-2,7.4563388720155516E-4,3.5394610580628924E-4,1.6577033684045908E-2,6.7480522667321026E-4,5.1812870247344087E-3,0,2.8938858161815821E-3,7.7298935534004069E-3,3.4342162411493178E-4,6.5257776624733565E-3,0,0,8.0293996242215573E-2,8.5752945912257711E-2,2.8227019273038569E-3,null,null,2.3502170287436875E-3,1.079907928149096E-2,1.727770177745919E-2]
[null,"594","インターネット附随サービス",4.0642145905303798E-5,4.1383876841582517E-5,1.7969451931716083E-4,5.7208237986270026E-5,1.105481345002303E-4,0,0,7.6480275358663556E-4,3.466013809039144E-4,7.6273771992270924E-5,3.5903453023848034E-4,8.6419219634446698E-5,7.6890546307331517E-5,1.763150161622098E-4,3.0412820987491077E-4,1.1612874953438944E-3,2.4456962392103591E-4,3.0503001941776468E-4,4.1778573560131304E-4,3.8811087033862674E-4,0,8.9309086429638297E-4,9.4363764314503234E-4,1.1041183614883516E-4,2.552125479714477E-3,7.1925160388427068E-4,1.2307692307692307E-4,1.4462361703666208E-4,3.9446690026589379E-4,4.2417698647040678E-4,0,3.5777190664905331E-4,2.8710469272620262E-4,2.2744503411675512E-3,5.2312199204854572E-4,0,0,0,1.2390345442830946E-4,9.4366330093422672E-5,1.1457772379893901E-5,3.3653346060416933E-5,2.1742579610161425E-4,1.9819547736796406E-4,2.3568933900458824E-3,4.1079497758488275E-4,2.0429158245718998E-4,1.8805240393656366E-4,2.84096172730473E-4,2.0223133493347032E-4,5.6579070419900872E-4,7.0893829401088933E-5,1.8491000675032915E-4,5.4824919231145778E-4,1.2115990414905361E-4,1.4455577443630335E-4,3.4052607804301748E-4,1.0504994935242402E-4,8.9236746948753937E-4,8.8279623914447715E-4,6.9852405385168175E-4,6.1197637771182034E-5,1.3061158876438925E-4,1.2701699391516703E-4,1.1555424308760938E-4,1.2804612587300019E-4,1.9498165953764974E-5,5.6488664607968667E-5,2.6600854182984318E-4,4.5487242415266789E-4,1.278695675882E-2,3.337804732125426E-3,1.0332894672710436E-4,6.5416114452713494E-4,0,1.5522307156892335E-3,9.6763371864158967E-4,0,3.496450342804153E-4,2.481851461190048E-4,2.5218102508178845E-3,7.433314591215347E-4,9.0122271343411736E-4,1.9330802755518066E-3,2.3393616365109716E-2,1.3089353106894169E-2,1.9520476170515992E-2,0.12021470289186825,9.1920657958393815E-3,3.1530882371431858E-3,1.6682647942022538E-4,1.6112487910004266E-3,5.5750640368656837E-5,9.3088201070514311E-4,1.0508644000461354E-3,3.7298658969753657E-5,5.3322533832810231E-4,5.8568949814188183E-3,0.2253559281220841,2.0522322423275831E-3,1.0669572124416353E-2,6.2397351507235506E-3,8.516844547360871E-3,4.8136670389655337E-3,1.1902796722821224E-3,3.6807557818538741E-3,9.3414021386588992E-4,0,2.167266096452786E-2,3.2826294489139837E-3,4.5688543521957099E-3,5.9617937931461572E-3,0,0,0,0,0,null,null,2.5889149909051418E-6,4.2346760833194228E-5,1.7687825792052426E-3]
[null,"595","映像・音声・文字情報制作",5.4866896972160129E-4,4.9660652209899026E-4,2.3360287511230908E-3,6.8649885583524025E-4,7.369875633348687E-4,0,1.2496094970321774E-3,8.782991854961945E-4,6.6019310648364644E-4,3.050950879690837E-4,2.1097905385147815E-4,9.5061141597891372E-4,1.730037291914959E-3,8.0076403173670293E-4,1.0975061486790257E-3,3.6591511645741578E-4,8.9852753136206674E-4,1.5028308273753283E-3,4.8940614741868095E-3,8.0856431320547241E-4,0,5.2353602389787967E-4,2.2391401701746529E-4,5.5205918074417574E-4,1.6793976526543249E-3,1.0375321400933623E-3,1.2307692307692307E-4,3.615590425916552E-4,3.2844733536783625E-4,1.1348111586091403E-3,1.0030090270812437E-3,3.0273007485689122E-4,4.0194656981668367E-4,1.5163002274450341E-3,7.3237078886796399E-4,0,0,9.8629056119932927E-5,2.2302621797095704E-4,3.7746532037369069E-4,2.5207099235766584E-4,4.3443410368901862E-4,5.8763728676111953E-4,5.9458643210389219E-4,5.630673474201624E-4,6.5122682065295789E-4,9.4849663283695347E-4,6.5818341377797283E-4,9.5728058202659383E-4,9.6096787621670929E-4,7.8322266903581783E-4,9.2161978221415612E-4,7.9756364357370891E-4,1.1095519368208074E-3,1.7500875043752187E-3,1.9557545953146922E-4,2.0501059800549011E-4,2.1474065951961375E-4,7.7152604132776838E-4,1.5000358860259816E-3,1.3719213431763245E-3,1.4381444876227778E-3,1.4882185835173199E-3,1.3444628978567679E-3,1.4412181985093502E-3,1.2182674261631162E-3,2.5591342814316526E-4,2.4478421330119757E-4,1.3152644568253358E-3,1.1001565607413363E-3,2.122854816661684E-3,2.8780693633609802E-3,9.3385972608081103E-4,5.9186008314359828E-4,0,2.1928338681959014E-3,1.2294183920215787E-3,0,4.8646265639014304E-4,1.613203449773531E-3,3.0670665212649945E-3,2.3634128443864181E-3,1.1437335526854799E-3,2.9874876985800645E-3,3.7837297493890521E-3,0.18953649072449902,5.0425451649411075E-3,6.266108628313353E-3,6.9021125624899204E-2,5.0362363346026289E-3,3.3515590009648884E-3,1.593120834651645E-2,2.7241443040410813E-3,4.4037879737204846E-3,9.0508900308851614E-3,1.7386913335131319E-3,2.0890283824373124E-2,1.2697695135652602E-3,0.18840863257381935,5.0133101919716679E-4,3.750898324388614E-3,4.0283471491199714E-3,2.1625569338484985E-3,5.2855951800405854E-3,1.5764689528145335E-2,3.128642414575793E-3,2.2164072155078881E-3,0,1.5867259044337657E-4,2.8951778413677846E-3,4.8382046456191862E-3,6.9125026923332411E-3,6.2886575932667027E-4,0,0,5.5789740809751055E-4,5.3214872399990742E-4,null,null,4.7118252834473578E-5,8.1974155206693971E-4,2.4762549710180158E-3]
[null,"611","公務",0,0,0,0,0,0,0,0,0,0,0,0,0,0,0,0,0,0,0,0,0,0,0,0,0,0,0,0,0,0,0,0,0,0,0,0,0,0,0,0,0,0,0,0,0,0,0,0,0,0,0,0,0,0,0,0,0,0,0,0,0,0,0,0,0,0,0,0,0,0,0,0,0,0,0,0,0,0,0,0,0,0,0,0,0,0,0,0,0,0,0,0,0,0,0,0,0,0,0,0,0,0,0,0,0,0,0,0,0.10098880728584238,1.2028218572143034E-3,0,4.0754139858290026E-3,0.24454832496761258,0.74233151377326678,0,0,0,null,null,0,0,3.3656923777283493E-2]
[null,"631","教育",0,0,0,6.2929061784897024E-4,0,0,0,2.9523908431375458E-4,1.4120796999789106E-4,3.559442692972643E-4,0,0,0,9.5503967087863645E-5,2.9090524422817549E-4,2.3663971603234076E-4,2.2596106557921797E-4,2.2319269713494974E-5,1.1936735302894658E-4,2.5874058022575116E-4,0,1.3858306514943873E-4,3.1987716716780758E-4,3.3123550844650548E-4,2.4898785167946116E-4,9.1427644224768465E-4,0,7.2311808518331041E-5,1.8485478171456111E-4,7.7123088449164862E-5,0,2.7520915896081021E-5,3.8759133518037354E-4,1.5163002274450341E-3,1.8832391713747646E-4,0,0,9.8629056119932927E-5,4.9561381771323783E-4,0,0,2.4475160771212317E-5,9.2259054021495777E-4,2.5167679665773213E-4,8.122626937446261E-4,3.8881263764723015E-4,3.86694781079681E-4,8.7757788503729707E-4,1.7107530401378483E-3,1.1528662232338708E-3,2.2608248386795098E-3,9.2161978221415612E-4,8.0424713779360033E-4,3.1459060796919362E-3,3.0963086615869254E-4,1.190459318887204E-4,1.6331352722471246E-4,2.4806975991656756E-4,6.5998010764182601E-4,8.6126462355558741E-5,8.0405646486524511E-5,3.0598818885591017E-5,2.361055643048575E-4,2.8758564660037818E-5,1.2839360343067709E-4,1.7926457622220027E-4,7.0193397433553908E-4,6.9669353016494685E-4,1.1822601859104143E-4,2.4330385477933398E-4,2.2093484584388649E-4,2.1592267808897634E-4,5.8488083053077937E-6,0,0,6.4183508164610374E-3,2.1524517589021331E-4,4.6903215215403018E-4,7.6009790060959848E-5,6.2046286529751201E-5,6.1341330425299892E-4,3.5260594855765108E-4,3.5393473836685337E-4,2.8117531280753551E-4,6.5720769677415237E-3,9.0363046829320152E-4,4.5646979922035463E-3,8.2287011420869687E-3,1.5320109659732301E-3,1.6442484672219069E-4,3.005882512076133E-6,0,1.2906655099045213E-4,0,1.0572721098025144E-4,1.7214765678347841E-5,0,7.8446493508220266E-4,1.3544833398549197E-4,2.9317603461822616E-6,6.5246718751970007E-4,2.4570977795595328E-4,6.3849001484707942E-4,1.1640894146517956E-3,1.4769893743646773E-4,7.3615115637077483E-4,4.409605978497369E-4,0,2.445572782865375E-3,5.0477301023381003E-4,0,2.7430242963019449E-2,0.13741619912221506,0.16762884240867837,0,0,0,null,null,0,0,2.1963648043288504E-2]
[null,"632","研究",0,0,0,0,0,0,0,0,0,0,0,0,0,0,0,0,0,0,0,0,0,0,0,0,0,0,0,0,0,0,0,0,0,0,0,0,0,0,0,0,0,0,0,0,0,0,0,0,0,0,0,0,0,0,0,0,0,0,0,0,0,0,0,0,0,0,0,0,0,0,0,0,0,0,0,0,0,0,0,0,0,0,0,0,0,0,0,0,0,0,0,0,0,0,0,0,0,0,0,0,0,0,0,0,0,0,0,0,0,0,0,7.2845449592713184E-4,8.3123574584628419E-4,7.4100460946144017E-2,0.10177908037820817,0.25698433246340835,0,null,null,3.0393861993226363E-4,9.1573846443928714E-5,3.0502728052828037E-2]
[null,"641","医療",0,0,0,0,0,0,0,0,0,0,0,0,0,0,0,0,0,0,0,0,0,0,0,0,0,0,0,0,0,0,0,0,0,0,0,0,0,0,0,0,0,0,0,0,0,0,0,0,0,0,0,0,0,0,0,0,0,0,0,0,0,0,0,0,0,0,0,0,0,0,0,0,0,0,0,0,0,0,0,0,0,0,0,0,0,0,0,0,0,0,0,0,1.0571237862780108E-2,0,0,5.0209733228514543E-4,0,0,0,0,0,0,0,0,0,0,0,0,0,4.2047918728515572E-4,1.8538033944870729E-2,3.3626368916022532E-2,0.43095940614055395,0,0,0,0,null,null,5.177829981810283E-7,1.3244625196765002E-4,4.5414444371367942E-2]
[null,"642","保健衛生",0,0,0,0,0,0,0,0,0,0,0,0,0,0,0,2.1911084817809329E-6,2.6583654774025641E-6,7.4397565711649914E-6,0,0,0,0,0,0,1.5244154184456806E-5,0,0,0,0,0,0,0,0,0,0,0,0,0,0,0,0,0,0,0,0,0,0,0,0,0,0,0,0,0,0,0,0,0,0,0,0,0,0,2.3965470550031513E-6,0,3.6584607392285771E-6,2.4372707442206219E-5,0,1.1822601859104143E-4,0,1.9273039743828396E-5,1.0976069469522964E-4,2.5344835989667106E-5,2.8318664265243938E-5,0,4.3117519880256487E-5,1.9391457287406605E-6,0,6.080783204876788E-5,0,0,1.0768776266760694E-2,7.7013577329824578E-4,3.5146914100941938E-5,6.1679686752266728E-4,3.189284005740711E-4,1.0059940478685501E-4,1.8916554349625216E-4,1.6126431220770844E-4,1.9344099614375376E-5,7.5147062801903327E-6,2.2519200433269417E-5,8.8987186517204032E-3,4.6060757952775637E-2,1.7364893439786751E-3,9.3533560185689942E-4,6.7496878269380039E-6,0,1.5049814887276886E-5,0,3.4672169385104836E-5,0,4.3950853761733896E-4,0,7.8193555113424101E-5,3.558063922458745E-3,8.7031696944027013E-5,0,1.284492398827334E-4,5.2409159456795007E-4,3.7597934083249442E-2,1.0296879545810044E-3,6.8415832968000091E-3,1.7147686491297549E-4,0,0,0,null,null,0,4.3821116142667138E-4,1.4211762302552041E-3]
[null,"643","社会保険・社会福祉",0,0,0,0,0,0,0,0,0,0,0,0,0,0,0,0,0,0,0,0,0,0,0,0,0,0,0,0,0,0,0,0,0,0,0,0,0,0,0,0,0,0,0,0,0,0,0,0,0,0,0,0,0,0,0,0,0,0,0,0,0,0,0,0,0,0,0,0,0,0,0,0,0,0,0,0,0,0,0,0,0,0,0,0,0,0,0,0,0,0,0,0,0,0,0,0,0,0,0,0,0,0,0,0,0,0,0,0,0,0,1.7985865843352603E-2,2.0206797243003397E-2,4.5255347411388216E-2,1.8168382115779547E-3,0,0,0,null,null,0,2.2313548522589497E-3,1.0646765232347954E-2]
[null,"644","介護",0,0,0,0,0,0,0,0,0,0,0,0,0,0,0,0,0,0,0,0,0,0,0,0,0,0,0,0,0,0,0,0,0,0,0,0,0,0,0,0,0,0,0,0,0,0,0,0,0,0,0,0,0,0,0,0,0,0,0,0,0,0,0,0,0,0,0,0,0,0,0,0,0,0,0,0,0,0,0,0,0,0,0,0,0,0,0,0,0,0,0,0,0,0,0,0,0,0,0,0,0,0,0,0,0,0,0,0,0,0,0,4.3402957653135591E-3,0.12802385092433416,0,0,0,0,null,null,0,0,1.1803782311998101E-2]
[null,"659","他に分類されない会員制団体",2.4656235182550974E-3,1.8622744578712133E-3,1.7969451931716083E-4,1.2013729977116705E-3,1.0981114693689543E-2,0,1.4058106841611997E-3,1.4509739922555377E-3,1.5202780146526193E-3,8.6443608257907043E-4,2.154207181430882E-3,3.672816834463985E-4,1.5378109261466302E-3,7.8607111372318544E-4,5.5536455716288053E-4,6.2665702578934687E-4,3.110287608561E-4,5.8030101255086939E-4,1.1339898537749925E-3,2.1346097868624471E-3,0,8.1610027254669479E-4,6.0776661761883437E-4,7.7288285304184605E-4,1.6743162679261725E-3,5.3826855388302251E-4,1.2307692307692307E-4,3.615590425916552E-4,4.4068059569453405E-4,4.9028249085540524E-4,0,1.6512549537648613E-4,1.4068129943583928E-3,7.5815011372251705E-4,6.2774639045825491E-4,0,0,3.9451622447973171E-4,2.7258759974228082E-4,5.9315978915865672E-4,5.4997307423490722E-4,1.6031230305144067E-3,3.5258237205667176E-4,2.0448739728440735E-4,3.0588253197689902E-3,4.5201186496798135E-4,6.4205925915116846E-4,3.7610480787312733E-4,3.3350420277055527E-4,3.5279773028539711E-4,1.4729262134106425E-4,2.8357531760435573E-4,4.099209788200068E-4,1.9580328296837777E-4,4.0386634716351203E-4,4.3933617720837292E-5,1.4941450363111991E-4,6.7080088140704494E-5,5.856161518511977E-4,3.8756908060001434E-4,6.7842264223005064E-4,1.9277255897922341E-3,6.5180206316075022E-4,1.4954453623219665E-3,7.7036162058406255E-4,9.1461518480714422E-4,1.2064490183892078E-3,5.8277472320554342E-3,8.5418298432027428E-3,1.8565141962510049E-3,6.026350475997074E-4,3.0858949410216201E-3,5.3809036408831697E-4,6.2017874740884227E-4,0,6.3444350680948831E-4,1.4931422111303086E-3,0,1.0641370608534379E-3,6.2046286529751201E-5,8.178844056706652E-4,3.5069997045733946E-3,2.5594725061528932E-3,7.0293828201883877E-5,1.0974730470403322E-3,2.9766650720246639E-3,2.1796537703818586E-4,6.3843370929985105E-4,2.0964360587002098E-3,2.901614942156306E-6,4.7943826067614321E-4,5.3235389824248898E-3,1.5289422194253561E-3,3.7593311970784624E-4,2.2426984147326064E-5,3.1560403743637711E-4,0,1.7284820603506159E-3,2.5584685308370709E-4,1.6329905128235197E-3,2.0971409118990684E-3,1.2608791237213393E-3,1.0473860175059968E-3,1.3607261400997342E-3,8.3189254467892857E-3,2.3924912582050182E-3,2.3962727225255438E-3,0,2.3423096684498443E-4,1.1189480034903042E-3,0,1.1455041675956869E-2,0,0,0,0,0,null,null,4.4736451042840848E-4,2.9731193901804333E-3,4.5348336850601131E-3]
[null,"661","物品賃貸サービス",5.3512158775316672E-4,3.3107101473266016E-3,1.6172506738544475E-3,6.0068649885583521E-3,8.1068631966835561E-4,0,2.9678225554514216E-3,2.0555464890286783E-3,3.289962313976838E-3,6.8646394793043836E-4,2.7390263131595407E-4,1.9444324417750508E-3,1.3455845603783014E-3,6.6779312371436968E-3,3.3586332742707534E-3,8.348123315585355E-4,1.6455282305121873E-3,6.152678684353448E-3,5.9683676514473295E-4,2.9108315275397003E-3,0,9.7008145604607116E-4,5.5978504254366318E-4,1.7665893783813625E-3,6.5676897611368073E-4,1.5992036745799945E-3,0,4.6279557451731866E-3,1.9904898816764348E-3,3.7459785818165794E-3,1.0030090270812437E-3,1.7613386173491853E-3,2.6700736423536844E-3,7.5815011372251705E-4,5.0219711236660393E-3,0,0,1.3808067856790611E-3,3.221489815136046E-3,2.4130818695318082E-3,5.2705752947511939E-4,1.7652709706236882E-3,1.2105328107279063E-3,2.5073300867026567E-3,5.3053879457933542E-3,6.0891081627297674E-3,1.6525729795197688E-3,6.1117031279383192E-3,2.8471377310597405E-3,7.8870220624053418E-3,2.9341625362386608E-3,1.8290607985480944E-3,7.2092624318562072E-3,2.6041836634794245E-3,9.6927923319242888E-4,2.093224302376667E-3,2.3350359637235485E-3,2.0486849560456669E-3,8.6912873330296809E-3,5.3829038972224219E-3,3.3167329175691363E-3,5.4986077537407058E-2,2.048090182278519E-2,1.2303872580386179E-2,3.5850703917930805E-2,5.2352573178360937E-2,2.4616434516628281E-3,3.5399563154327033E-3,8.8669513943281063E-4,3.2158422544746753E-3,4.9785552177289399E-3,2.8456809616476341E-3,1.1951064970512257E-3,5.3522275461311041E-4,0,1.3551220533794897E-3,4.9933002515072013E-3,0.18200206374146949,1.6418114653167328E-3,6.1425823664453684E-2,5.9296619411123228E-3,4.0502034631622079E-3,4.2930972894497949E-3,1.757345705047097E-4,5.9637876432191688E-3,9.7007388507946626E-3,3.2652890137066688E-3,3.4262609065758669E-2,3.386550556361877E-3,4.997548135373878E-3,8.311265145890508E-4,1.5684623101772149E-3,7.1223352339464885E-3,8.7896743703120249E-3,4.5078238136125387E-3,1.1499463473136358E-2,1.869663528061827E-3,2.6658511776946037E-3,8.2773981880022876E-4,3.5855429033809058E-3,5.8743060312763983E-3,8.9748729421806096E-3,1.1938888633784431E-3,2.7371832182353033E-3,2.0373765193442165E-3,1.5336482424391142E-3,1.7000191469733277E-3,0,3.9038494474164073E-4,6.4367183172817097E-3,2.1379679540488401E-3,2.0047891857188343E-3,0,0,0,0,0,null,null,5.0587398922286465E-4,3.1627378647043109E-3,1.9356769758952065E-3]
[null,"662","広告",4.1996884102147263E-4,0,3.5938903863432165E-4,2.2311212814645309E-3,1.0317825886688161E-3,0,3.1240237425804435E-4,5.8862365176624186E-3,5.6162260794615761E-2,1.2712295332045154E-4,1.9347149376871514E-2,7.99377781618632E-4,6.5356964361231789E-3,1.7925359976491331E-3,6.4660302012535375E-3,2.0464953219833915E-3,3.9529894648976131E-3,1.0043671371072738E-3,3.5810205908683975E-3,2.8461463824832629E-3,0,1.1548588762453228E-3,9.5963150150342273E-4,3.4227669206138896E-3,6.2653473698117468E-2,3.6474325370079136E-2,2.4615384615384614E-4,1.4462361703666208E-4,5.8245761131311266E-3,5.4977744480190381E-3,3.009027081243731E-3,2.0090268604139147E-3,4.7372274299823432E-4,7.5815011372251705E-3,2.5109855618330196E-3,0,0,9.8629056119932932E-4,6.4429796302720925E-4,6.0664069345771712E-4,7.2183965993331573E-4,1.3369556571274728E-3,1.8686865719003602E-3,1.9190355745152075E-3,4.6700349253935769E-3,3.4993137388250714E-3,6.1506358575503977E-3,4.9207045696734158E-3,2.1863053292736404E-3,3.9737719243861467E-3,1.0682222014401945E-2,2.8641107078039929E-3,4.9012290945870379E-3,6.0046340110302514E-3,4.8598583775342616E-3,7.8414421564320241E-3,5.844539421105667E-3,4.4580835936026695E-3,1.3664376876527946E-3,2.0813895069260028E-3,1.316642461216839E-2,1.2239527554236407E-4,2.9839724510018159E-3,4.8889559922064287E-4,8.4418794255670178E-4,1.00241824254863E-3,2.9271621638089669E-3,1.4950666566242374E-2,8.5492189693646831E-3,1.1107349892100029E-3,1.2068213398617231E-2,3.3009179412852259E-2,2.2272262026612078E-2,1.8197573656845753E-2,0,4.8045236438000087E-3,3.9209526635136157E-3,0,1.2009546829631656E-3,1.1230377861884966E-2,3.5441657579062158E-3,5.1461408708413942E-4,9.9986563588636071E-3,8.7867285252354844E-4,2.4505977612400594E-2,2.0610747887099348E-2,1.5240809825208534E-2,3.2985741647158971E-2,3.8219641993226902E-2,1.5562328139764989E-3,4.8094120193218131E-3,2.576196529566021E-3,1.5388704156553909E-3,4.6186068992678251E-3,8.5542925247657979E-4,1.5062919968554362E-3,4.799028044952921E-3,1.3462216046961527E-2,8.2773981880022876E-4,2.533040939101474E-3,1.6817052823575394E-2,3.543393639996379E-3,9.8353701602128876E-3,1.6824238229325616E-2,9.9566460177760007E-3,3.8647935709465678E-3,1.0617867027171296E-2,0,3.3673849749649913E-3,9.6163053171463599E-3,0,1.3735487894594813E-5,0,0,0,0,0,null,null,3.0031413894499644E-4,4.3059365899439465E-4,2.0160761840408995E-4]
[null,"663","自動車整備・機械修理",1.9135677030413873E-2,7.22148650885615E-3,6.7744833782569638E-2,7.3226544622425633E-3,1.971441731920774E-3,0,1.0153077163386441E-2,4.8247110662730146E-3,1.1210445722040363E-2,2.4407607037526696E-3,1.543478341334498E-3,8.6203171585360581E-3,4.3827611395178961E-3,1.308404349103732E-2,2.9354983735752254E-3,5.0264028572054604E-3,4.2081925507282594E-3,2.9833423850371614E-3,1.2712623097582811E-2,1.7270933730068889E-2,0,1.1071247093605161E-2,5.741795150662146E-3,5.631003643590593E-3,7.7249751329734866E-3,4.8693801642577198E-3,2.0923076923076924E-3,7.9542989370164144E-3,8.1220569715835279E-3,1.7369221277158346E-2,5.0150451354062184E-3,7.7058564509026864E-3,1.2675672183861845E-2,1.1372251705837756E-2,1.5149612889725885E-2,0,0,3.0575007397179209E-3,1.008574119046439E-2,1.9547311233637553E-3,5.2362019776115128E-3,6.9295298933494866E-3,8.9967268603127412E-3,7.4685089408182016E-3,8.6343334119598544E-3,5.9173711319668561E-3,4.8738134671929608E-3,1.0217513947219958E-2,1.069683850367781E-2,6.3105033346028145E-3,5.3750116898905829E-3,4.3670598911070783E-3,4.5470039009327928E-3,4.1575563750285548E-3,3.7694192401927788E-3,2.8911154887260667E-3,3.182876402932694E-3,5.0668670350305723E-3,2.0264177952946205E-3,2.73451517978899E-3,3.4775442105421852E-3,3.4576665340717849E-3,3.086954665219892E-3,8.2369322280458311E-3,7.6522587644683544E-3,5.7840264287203798E-3,3.7007518980245922E-2,2.9185810047450476E-3,2.4576233614612735E-2,1.717407861888038E-2,8.6164589879115735E-4,3.2334421043824207E-3,2.3882633913340158E-3,1.4470837439539651E-3,0,2.0511620171607728E-3,3.1241576835740782E-2,0.19400342393471073,6.8408811054863862E-4,7.4455543835701436E-3,9.6101417666303156E-3,7.1283580951654862E-3,9.8446292042039581E-3,2.741459299873471E-3,9.2583336700902442E-3,8.7971083825014625E-3,1.7751603303013789E-2,5.202052446146934E-3,3.305918400258023E-3,1.2181946732152891E-2,3.5529531292739893E-3,1.6485180677174877E-2,2.5095425239918681E-3,1.347988757809563E-2,8.4229344747600316E-3,2.6395974040133358E-3,7.3369106678816106E-3,0.11747694803252205,1.9564759353459952E-3,4.5858595334982939E-2,4.2258019777845959E-3,3.6209862014561539E-3,2.0969586446518808E-3,7.2126350894303826E-3,5.2954413157368877E-3,1.9630697503220662E-3,1.6884149207141241E-3,0,8.9410745408569331E-4,9.1811272069982717E-3,5.6226873752150599E-4,9.2735856976627288E-3,0,0,0,0,0,null,null,1.0355659963620566E-6,1.238376551328943E-3,3.1701130066072976E-3]
[null,"669","その他の対事業所サービス",6.5027433448486076E-4,5.5868233736136401E-4,1.7969451931716084E-2,3.2036613272311211E-3,7.148779364348227E-3,0,7.9662605435801316E-3,2.3818672759372727E-2,1.6204073024693056E-2,2.4153361130885794E-3,1.2906736154036917E-2,8.3826643045413294E-3,2.8949290684710315E-2,1.3686453129591537E-2,3.078306402559966E-2,8.6724073708889324E-3,1.0056596601013901E-2,3.0592279020630445E-2,1.1578633243807819E-2,1.7432646592709985E-2,0,9.3620559567620838E-3,8.8605975305482698E-3,1.1814066467925361E-2,1.7361821269914264E-2,1.6511582915200079E-2,2.2153846153846156E-3,4.8448911707281803E-3,2.661743807777435E-2,2.2955136397690715E-2,2.0060180541624874E-2,4.3510568031704097E-2,4.6798064914371024E-2,1.5921152388172859E-2,3.6869637999581505E-2,0,0,5.0300818621165791E-3,1.8164246419190167E-2,9.0861294975666963E-3,3.838353747264457E-3,1.3663258500529275E-2,1.410329488226687E-2,2.2484175821410143E-2,2.7616931587317289E-2,2.0968404508028362E-2,2.6043528699319272E-2,3.0997304582210242E-2,3.1547027180592525E-2,2.7048810082634381E-2,2.3092209856915739E-2,2.7733666061705988E-2,2.0850274134654585E-2,3.1282837842247821E-2,2.7705231415416923E-2,1.4859483283967063E-2,1.6922061225198931E-2,1.9404708515922662E-2,1.155429963096887E-2,1.375870236130051E-2,1.432225578041218E-2,2.2704323613108535E-2,6.9987717487133505E-2,3.0009562222749461E-2,0.11471005514505267,5.1364788778769217E-2,4.5294239510596038E-2,3.3855539655042552E-2,0.11123590524184609,4.0631743748148777E-2,6.027854713245373E-2,8.0812660986100876E-2,4.4833065262952672E-2,3.5338861136597906E-2,1.3070265876556904E-3,2.7404263706751586E-2,1.9234386483378614E-2,6.0974179780023919E-4,5.7767440446329487E-3,1.0796053856176708E-2,5.9637404580152674E-2,0.12613763067862349,0.1324141954047473,1.412905946857866E-2,0.11285043101339726,9.4509116036783081E-2,0.13396906568302805,0.16294247002908421,4.2089985486211901E-2,7.2796682873798133E-2,4.636874363128643E-2,0.1245210447557849,2.9921292315117892E-2,7.201804478974598E-2,5.6532019325652626E-2,2.6117668661666732E-2,6.15571529816746E-2,8.3884563990400271E-2,4.6308280408150979E-2,3.2703786661663126E-2,0.14083204801149854,2.8114371435591708E-2,1.3720975490292546E-2,3.6322735924743194E-2,3.0030669249950043E-2,1.6808784737132692E-2,2.0150738899107054E-2,0,2.3491099223259891E-2,4.1068010536187909E-2,4.804535858941251E-3,3.7185281193263405E-3,0,0,1.1095265771443324E-2,1.5604341133035327E-2,0,null,null,9.6188547572089635E-3,3.8390574086108577E-3,5.2061027266168862E-3]
[null,"671","宿泊業",0,0,0,0,0,0,0,0,0,0,0,0,0,0,0,0,0,0,0,0,0,0,0,0,0,0,0,0,0,0,0,0,0,0,0,0,0,0,0,0,0,0,0,0,0,0,0,0,0,0,0,0,0,0,0,0,0,0,0,0,0,0,0,0,0,0,0,0,0,0,0,0,0,0,0,0,0,0,0,0,0,0,0,0,0,0,0,0,0,0,0,0,0,0,0,0,0,0,0,0,0,1.1962186558381936E-3,0,0,0,0,0,0,0,5.5495933258010852E-6,0.10879058351374192,7.3072795599244409E-3,0,0,0,0,0,null,null,1.8194894556081336E-3,5.330203986886101E-3,5.5071425586333406E-3]
[null,"672","飲食サービス",0,0,0,0,0,0,0,0,0,0,0,0,0,0,0,0,0,0,0,0,0,0,0,0,0,0,0,0,0,0,0,0,0,0,0,0,0,0,0,0,0,0,0,0,0,0,0,0,0,0,0,0,0,0,0,0,0,0,0,0,0,0,0,0,0,0,0,0,0,0,0,0,0,0,0,0,0,0,0,0,0,0,0,0,0,0,0,0,0,0,9.7195211027981763E-3,0,7.8722959030152698E-3,0,1.3337647857902628E-2,2.7285403600181328E-2,0,0,0,0,0,2.133795440143805E-3,5.4271651262001756E-3,0,0,0,0,0,0,9.9772688657375191E-4,0.40460454326607431,3.972610963500664E-2,0,0,0,0,0,null,null,1.0749175042238147E-3,8.4867987044676078E-3,1.9011297003141529E-2]
[null,"673","洗濯・理容・美容・浴場業",0,0,0,0,3.6849378166743436E-5,0,0,1.0162752399744818E-4,1.2653701207603223E-4,2.5424590664090307E-5,5.1819416735450774E-5,8.6419219634446698E-5,7.6890546307331517E-5,6.6118131060828686E-5,3.966889694020575E-5,6.1351037489866127E-5,5.3167309548051282E-5,5.207829599815494E-5,5.9683676514473291E-5,9.7027717584656685E-5,0,3.0796236699875278E-5,1.5993858358390378E-5,1.1041183614883516E-4,9.2735271288778902E-5,1.0921390948351182E-5,0,0,5.1165162795994596E-5,4.957912828874884E-5,0,0,0,0,0,0,0,0,0,4.0442712897181144E-5,2.2915544759787803E-5,2.7534555867613855E-5,4.113461007327837E-5,4.0897479456881476E-5,3.4240581937712575E-5,1.7860651199342729E-5,2.5536447807148748E-5,1.2536826929104242E-4,9.2640056325154251E-5,1.1809129047209945E-5,4.9097540447021419E-5,2.8357531760435571E-5,4.2328796725978965E-5,1.3053552197891852E-5,1.0769769257693654E-4,3.5430336871642978E-5,1.0424267695194413E-5,4.6407608147657197E-5,1.1154593368594242E-4,1.5789851431852436E-4,7.0354940675708955E-5,0,1.0047045289568405E-5,1.9172376440025211E-5,7.3826321972639326E-5,2.9267685913828617E-5,6.3369039349736166E-5,9.4147774346614439E-6,4.4334756971640534E-5,6.875978504633352E-5,6.6750527893259321E-5,6.927519255354657E-5,5.6538480284642006E-5,3.6814263544817117E-5,0,2.1743549311043628E-3,6.593095477718246E-5,1.1725803803850754E-5,6.080783204876788E-5,2.481851461190048E-4,6.8157033805888771E-5,3.8119562006232546E-5,5.8989123061142223E-5,3.1632222690847742E-4,5.0619880851860278E-4,8.1060968479243077E-4,4.6108060527308547E-5,5.4385093755172497E-4,1.5320109659732301E-3,1.2573664749343993E-4,2.2844707091778611E-4,5.1794160996519656E-5,1.1101250799983503E-2,8.8791822559567499E-3,1.2437364637131397E-2,9.9702184553764582E-3,7.424656609631805E-5,9.3072110941956244E-5,6.3209222526562918E-4,2.052232242327583E-5,8.0376392665470304E-4,1.066251115393071E-2,1.9089102156215766E-3,1.837373562585537E-2,1.7810754220279934E-4,3.6807557818538741E-4,2.8082227547272715E-3,0,1.5942817420739263E-3,9.4421080823197279E-4,1.5689654591917472E-3,1.0527541014936513E-2,0,0,0,0,0,null,null,1.242679195634468E-5,5.8843158573630044E-4,3.2708998825304579E-3]
[null,"674","娯楽サービス",0,0,0,0,0,0,0,0,0,0,0,0,0,0,0,0,0,0,0,0,0,0,0,0,0,0,0,0,0,0,0,0,0,0,0,0,0,0,0,0,0,0,0,0,0,0,0,0,0,0,0,0,0,0,0,0,0,0,0,0,1.6935439291224227E-3,0,0,0,0,0,0,0,0,0,2.0213188024015148E-5,0,0,0,0,0,0,0,0,0,0,0,0,0,2.3395743250859793E-5,4.1048742890554407E-2,0,2.8374831524437824E-4,4.854055797452024E-2,0,1.1572647671493112E-4,3.3778800649904123E-6,0,0,0,0,0,0,1.4237124883363934E-2,0,0,1.6229777438669546E-3,1.4650284587244632E-4,0,3.7919530143615494E-2,0,1.0559845895875277E-3,0,3.4504991890067598E-4,4.3454815631110554E-4,5.7327843076519051E-2,2.3348198051999954E-2,0,0,0,0,0,null,null,8.0256364718059395E-5,2.8722898687381466E-3,8.4473693710987001E-3]
[null,"675","獣医業",0,5.8765105115047176E-3,0,0,0,0,0,0,0,0,0,0,0,0,0,0,0,0,0,0,0,0,0,0,0,0,0,0,0,0,0,0,0,0,0,0,0,0,0,0,0,0,0,0,0,0,0,0,0,0,0,0,0,0,0,0,0,0,0,0,0,0,0,0,0,0,0,0,0,0,0,0,0,0,0,0,0,0,0,0,0,0,0,0,0,0,0,0,0,0,3.1712060502403201E-4,0,0,0,0,0,0,0,0,0,0,0,0,0,2.1068819016672605E-3,2.2697993988098891E-3,0,0,0,3.0507764391025426E-5,0,2.0667172906229125E-3,0,0,0,0,0,null,null,0,2.5219666654817218E-4,6.9538203068892637E-4]
[null,"679","その他の対個人サービス",2.0321072952651899E-5,0,2.5157232704402514E-3,5.7208237986270026E-5,1.0317825886688161E-3,0,1.5620118712902218E-4,2.5221429313235314E-4,7.8856398829991106E-5,5.0849181328180614E-5,5.1819416735450774E-5,6.481441472583502E-5,7.6890546307331517E-5,5.1425213047311194E-5,1.1900669082061724E-4,3.0675518744933063E-5,4.5192213115843593E-5,1.1159634856747487E-4,2.9841838257236647E-4,2.9108315275397004E-4,0,6.1592473399750555E-5,6.3975433433561513E-5,2.2082367229767032E-4,7.2409732376169832E-5,5.3826855388302251E-4,0,7.2311808518331041E-5,4.126222806128596E-5,6.0596712352915256E-5,0,2.2016732716864817E-4,1.2919711172679118E-4,2.2744503411675512E-3,2.5109855618330194E-4,0,0,0,9.9122763542647569E-5,4.0442712897181144E-5,3.4373317139681701E-5,4.2831531349621553E-5,6.4640101543723155E-5,5.9773239206211383E-5,1.1793978222989888E-4,1.6074586079408456E-4,9.849772725614516E-5,9.4026201968281831E-5,2.593921577104319E-4,1.1513900821029697E-4,1.8470027120546151E-4,5.6715063520871141E-5,1.4703687283761115E-4,1.8274973077048591E-4,5.3848846288468269E-5,4.8185258145434445E-5,7.644462976475902E-5,4.8095157534844733E-5,2.9745582316251311E-4,1.0765807794444843E-4,1.9598876331090352E-4,9.1796456656773051E-5,2.436408482720338E-4,1.2701699391516703E-4,4.269087314070013E-4,4.463322101858864E-4,4.1433602651750566E-5,7.5318219477291551E-5,3.3251067728730399E-4,0,5.4387578008803549E-4,1.9702944375619091E-4,1.4933957206219233E-3,9.3451592075304989E-4,4.3185939319621109E-4,2.4022618219000043E-4,4.3242949750916729E-4,0,1.520195801219197E-4,1.240925730595024E-4,2.044711014176663E-4,2.4777715304051155E-4,5.6367384258424792E-4,3.1632222690847742E-4,3.8709320651422567E-4,1.2225588688672727E-3,9.2216121054617089E-4,9.4582771748126081E-5,2.9027576197387518E-3,3.3175130838653769E-4,3.6837090185493008E-3,3.0108170979281212E-3,2.6577017600400794E-4,2.3272050267628578E-4,1.9543514756955568E-4,2.4674497472298572E-4,2.2881441733319835E-3,8.9748106979743519E-4,1.5049814887276886E-3,4.3096877088879247E-4,7.6068638287320916E-4,1.6941042585384147E-3,4.635612436560988E-4,1.5573628655476727E-3,2.1850754567806843E-3,1.4109563830439851E-3,3.3130065970026282E-3,0,1.4607952770977525E-3,4.9106401482899333E-4,5.2725319937645407E-3,1.7782602038985813E-2,0,0,0,0,0,null,null,1.8122404936335992E-5,2.2318463040287744E-3,6.0630621044259056E-3]
[null,"681","事務用品",2.70947639368692E-4,2.4830326104949513E-4,8.9847259658580418E-4,2.860411899313501E-3,9.0280976508521423E-4,0,7.8100593564511096E-4,8.8275002596323608E-4,2.4207080571067037E-4,0,3.7013869096750553E-6,9.5061141597891372E-4,1.1533581946099726E-3,1.079929473993535E-3,1.1107291143257611E-3,5.3243936107276674E-4,5.8749877050596675E-4,8.7789127539746905E-4,9.5493882423157265E-4,8.0856431320547241E-4,0,2.4636989359900222E-4,4.1584031731814984E-4,5.5205918074417574E-4,8.1683259505047718E-4,5.8663471379714926E-4,0,7.2311808518331041E-5,1.2708766242876076E-4,3.3052752192499227E-4,1.5045135406218655E-3,1.5411712901805372E-3,7.0340649717919642E-4,1.5163002274450341E-3,8.9976982632349869E-4,0,0,9.8629056119932927E-5,2.4780690885661892E-4,6.0664069345771712E-4,1.6040881331851463E-4,5.2621595658106481E-4,9.3434328595018012E-4,3.9953691469414977E-4,1.0709693128295656E-3,1.2227676590319252E-3,1.2403417506329391E-3,8.4623581771453647E-4,1.5810569612826324E-3,9.5506331169310441E-4,6.9671747872439912E-4,3.8282667876588021E-4,9.0004388827871057E-4,9.7901641484188879E-4,7.5388384803855573E-4,1.1762871841385468E-4,1.2856596824073108E-4,3.2485325703360035E-4,5.856161518511977E-4,1.6220483743630231E-3,1.8995833982441417E-3,2.4479055108472814E-4,6.0031095605171214E-4,2.1568923495028364E-5,2.1088649363488711E-3,3.9877222057591488E-4,3.6559061163309328E-5,1.1297732921593733E-4,8.7191688710893051E-4,2.8350188296026742E-3,1.9837128711940447E-3,3.3728921673148843E-3,1.1268704001559681E-3,4.8708102536219574E-4,0,2.8395966663997485E-3,1.7588051759677792E-3,9.2047559860228419E-4,1.2313585989875496E-3,1.3650183036545262E-3,4.7709923664122139E-3,3.1543937560157432E-3,3.4082604435326617E-3,3.2335160972866584E-3,2.6968911310991106E-3,2.0065911869451974E-3,6.1617135431948694E-4,1.7970726632143955E-3,2.1770682148040637E-3,2.5582571740011433E-3,1.76445303458869E-3,7.0012194147034612E-3,1.2509527249843823E-3,4.9587368647177818E-3,4.004818597736797E-3,4.8402182832288018E-3,4.4682933414329591E-3,1.522393814693427E-3,1.0835866718839357E-3,1.3632685609747516E-3,1.6033251661112114E-3,2.2695824226984106E-3,6.2318374736786868E-4,3.8855416948512639E-3,1.9374625322548416E-3,2.9446046254830993E-3,2.5761382295431995E-3,0,1.1081895205569156E-4,1.3533508264514376E-3,0,0,0,0,0,0,0,null,null,0,0,0]
[null,"691","分類不明",8.3451872925557145E-3,1.4484356894553882E-4,1.0781671159029651E-3,7.4370709382151027E-4,9.4887148779364341E-3,0,3.4364261168384879E-3,3.6637835111196829E-3,5.0559788738205923E-3,2.4661852944167597E-3,4.7340738574743954E-3,1.9876420515922743E-3,2.8065049402176004E-3,5.7816632383191303E-3,1.7586544310157883E-3,1.9259843554854401E-3,2.2622690212695824E-3,2.1277703793531875E-3,2.9841838257236647E-4,1.4230731912416314E-3,0,4.7734166884806677E-4,1.0875823683705458E-3,7.6184166942696255E-3,4.6748739499000874E-4,1.2450385681120348E-3,2.4615384615384614E-4,6.2911273410948005E-3,1.4243721126755914E-3,5.4812480719227891E-3,4.0120361083249749E-3,1.2879788639365918E-2,8.9576664130575218E-3,1.5163002274450341E-3,1.0043942247332079E-2,0,0,7.5944373212348355E-3,1.5190563512910741E-2,8.2907561439221344E-3,3.6664871615660483E-3,8.1594067221029062E-3,3.0968485012311002E-3,6.1534976782815507E-3,7.1182365339400259E-3,5.2647704150677946E-3,2.1669499996351937E-3,9.4026201968281829E-4,5.1260831166585351E-4,2.9980426368604249E-3,9.3051529037688208E-4,1.1484800362976406E-3,5.0193041591384529E-3,3.5897268544202591E-3,1.6423898117982822E-3,3.6564107651535551E-4,1.1431946905729872E-3,4.218873467968836E-4,3.3742644939997583E-3,1.3213234766381971E-2,1.6784678704061993E-3,2.0807196842201892E-3,1.3871201902910378E-2,1.7444466013367941E-2,1.1882827997509164E-2,1.4330190715558336E-2,3.3780572514897815E-3,2.1559840325374707E-3,6.923611213737863E-3,7.515973426987687E-3,4.1070377619958224E-3,9.6949282461950368E-3,1.0147682409709022E-2,6.7511695608341547E-3,8.2682947150968243E-5,5.734630144074113E-3,1.787892361898889E-3,0,1.0458947112388076E-2,3.1643606130173107E-3,6.0659760087241003E-3,2.4205921873957669E-3,4.4831733526468093E-3,9.8411359482637414E-4,6.4508444799870682E-3,4.8902354754690909E-3,8.844364337511003E-4,1.1326286916838098E-2,3.9509756490888562E-3,3.8301317236463241E-4,8.6283857509145395E-3,6.5643469262980346E-4,1.3746733241586618E-3,1.7901577128945061E-2,6.4749907088208535E-3,3.156040374363771E-3,1.2601667172893254E-2,3.6630523663584206E-3,1.8059777864732265E-4,5.3885755162829969E-3,3.4504061897177056E-3,1.9133032446622785E-2,1.4147364370070562E-3,8.8958454592647368E-3,1.1294624627494591E-3,1.4723023127415497E-3,5.2393081560304262E-3,4.8764269090103071E-4,0,4.0593625299138077E-3,0,1.0064797164142751E-5,0,0,0,0,0,null,null,4.9448276326288202E-4,2.6710895141720765E-2,1.107930890818485E-2]
[null,"700","内生部門計",0.4679672153356364,0.7114716106604867,0.39029649595687332,0.38449656750572081,0.45531091662828188,0,0.44392377382068104,0.67840748928089256,0.63048808443136284,0.73975388996237157,0.16089928896357464,0.55947802791340795,0.56406904771058397,0.52892300910960921,0.57853119297596067,0.72271522163062296,0.54805660191774486,0.39391279117347283,0.62667860340196957,0.5566156732106472,0,0.63866775480036342,0.70713645959951377,0.5946781494976261,0.59523340705575678,0.61432043985121942,0.58547692307692312,0.71096970135223081,0.58703606813879294,0.45200740381649113,0.59027081243731194,0.50660501981505945,0.50109817544967772,0.50492797573919634,0.49001883239171373,0,0,0.68892395699773157,0.57178966149576249,0.59012658569136822,0.82232432370498532,0.76513329784435025,0.52266810833681021,0.48579913674858749,0.52630818045547578,0.50251903876723036,0.55753361690950609,0.59390083369899083,0.66700840554111052,0.64634610785868019,0.64613064621715144,0.66755047640653353,0.61093152314605437,0.64763893874620626,0.69708677741579383,0.85147886226102243,0.80651516730949646,0.73965964660184513,0.69920709432138239,0.71943587167157108,0.58613706147514211,0.82338361739236865,0.52820959141178569,0.52019929685309407,0.50094048314512973,0.47194143536048644,0.53190509267722008,0.75417074640355497,0.52324619090546354,0.35018829602674229,0.30603941853709166,0.36654943864602085,0.27949310328020666,0.35633092058313792,0.10904227070269693,0.34616592853579065,0.21895863996075168,1,0.72560465787993489,0.76378978718123725,0.31815703380588878,0.39867343924218313,0.40479319396606817,0.21833263039505132,0.54844726705815539,0.54103545420719712,0.36309678501068871,0.59123690619753611,0.48089017900338654,0.29165679311582182,0.20485690496301262,0.4528566168729613,0.47339243410350679,0.44623261309321349,0.30996975560994988,0.23290430311759405,0.38272754885086563,0.4130473803524774,0.83076483159257142,0.64146916374467888,0.27522347789176399,0.58409093848203086,0.58582552167039481,0.3470638204156114,0.3225136621517129,0.3059321514017545,0.26007972103440075,1,0.34997380642951409,0.49283184528237772,1,1,1,1,1,1,1,null,null,1,1,1]
[null,"711","家計外消費支出（行）",2.7907606854975274E-3,1.4484356894553883E-3,1.4375561545372866E-3,1.1670480549199084E-2,2.6771073238139105E-2,0,1.0153077163386441E-2,6.167381273830542E-3,4.7020420139557489E-3,2.0085426624631341E-3,1.9506309013987541E-3,9.2468565008857976E-3,8.6501864595747956E-3,6.9277108433734936E-3,1.060481844868167E-2,1.0727667126799447E-2,1.2510267936656468E-2,1.3160929374390871E-2,2.6201133989853773E-2,1.1772696400271678E-2,0,1.2672651401998676E-2,4.7181882157251616E-3,1.2145301976371868E-2,8.2115177206940667E-3,8.9461793854065247E-3,1.7230769230769231E-3,4.3387085110998622E-3,1.3964788465061622E-2,1.2009166629941387E-2,1.0030090270812437E-2,9.9350506384852481E-3,9.646717675600408E-3,1.1372251705837756E-2,1.7137476459510359E-2,0,0,2.2684682907584573E-3,4.1631560687911979E-3,1.9951738362609362E-3,5.7976328242263135E-3,7.0794402530731625E-3,1.3644937798593196E-2,9.2805818767538722E-3,1.1999421714616163E-2,1.0908736194060097E-2,1.162273181622513E-2,1.1753275246035229E-2,1.0128646158216865E-2,1.0765497267662768E-2,6.7731226035724302E-3,1.8049568965517241E-2,8.7776557421240589E-3,8.53702313742127E-3,2.0987587840930508E-2,4.4245404685307752E-3,4.0341915980402375E-3,5.4026893630808913E-3,7.2597811840600865E-3,5.4403215387927939E-3,1.4282052957168917E-2,6.9153330681435699E-3,1.3298520321404978E-2,1.2138510833590962E-2,1.1012961334266326E-2,9.6619948123026714E-3,4.8233588028126105E-3,8.7463282368004814E-3,8.7043906187654254E-3,1.726928447509838E-2,1.3746378078750581E-2,2.4337184854103744E-2,5.1859433640395773E-3,3.5285055674493947E-3,0,1.2984533129654382E-2,5.1523102012639354E-3,0,6.156792994937748E-3,9.5551281255816835E-3,9.2693565976008727E-3,1.1340569696854184E-2,2.0662578938916765E-2,3.1280753549838324E-3,2.1119975498276157E-3,7.6011268803486947E-3,9.5317936035545121E-3,3.6650824052398855E-3,1.491694887921303E-2,9.9515720466154117E-3,3.7558501988391281E-3,2.5198985284828478E-3,6.0225965746195593E-3,1.5198438982474355E-2,1.3686868039625277E-2,1.2276997056275069E-2,3.5051128885289058E-2,4.1151169052193511E-3,9.029888932366132E-3,5.8371348492488829E-3,1.0279772886783809E-2,2.0348649242825922E-2,1.2293119395446167E-2,1.3819629064481115E-2,1.620344225405955E-2,1.6318017299552175E-2,1.4841805385521406E-2,0,1.9897039119090077E-3,8.9096770988621957E-3]
[null,"911","雇用者所得",0.21107498475919528,0.10385283893395134,0.16783468104222821,0.22322654462242564,0.17053892215568861,0,0.26944704779756329,0.15423497470439002,0.10057491816356284,5.9874911013932677E-2,5.1841625056908827E-2,0.25240893574731021,0.26288877782476644,0.16356156332647664,0.23744479411842487,0.10273669449374438,0.22285077797065697,0.28954044623659914,0.10480453595941509,9.7318800737410657E-2,0,0.11345333600234052,8.4639498432601878E-2,0.18206911780942917,9.9690416635437318E-2,0.15153273920966576,1.2676923076923077E-2,3.5360474365463877E-2,0.22748361476923687,0.28222643338768677,0.39518555667001004,0.22834103918978424,0.19247498600364624,0.30250189537528432,0.26135174722745347,0,0,9.3204458033336615E-2,0.21170144223620954,0.1172569055932272,4.7274768839442233E-2,0.1534164265041516,0.2359363706345895,0.34265795864950233,0.21037793993441026,0.33110212582966159,0.29755068984889721,0.15664765247915752,0.25260472958367558,0.21281083841863954,0.1382586738988123,0.23869952359346641,0.18419932853161405,0.19436739222660968,0.14799009181228293,7.6997208089454511E-2,0.12567844608916223,0.18763228805117999,0.18348376541890146,0.17435584583363239,0.25255916096707892,0.24512713809246964,0.32882220999831713,0.34277093563593575,0.33207721591310319,0.40929761212267551,7.7229798072118841E-2,8.1786171574903963E-2,0.1198442372205063,0.45479837515338722,0.43770530488068576,0.30446627062848791,0.18500755471072769,0.10239745811669555,0,0.2920903989602518,0.57716539555664148,0,0.13959958042595885,0.1970590060184898,0.46339967284623773,0.31476275337596371,0.27730131316342282,0.595669900182764,7.5415114926271509E-2,0.15886620953595917,0.35012365343505053,0.19408384762715472,0.2381067569746815,0.33886316660976279,0.60106678770353583,0.36931376114559678,0.45125332021793152,0.49136248903528401,0.62945175635324424,0.65143542454481296,0.53205764233404207,0.1225028420233877,9.3910844896607767E-2,0.26567025905034419,0.45145265883005592,0.33254878632301782,0.30978136090210767,0.31557834793688749,0.25647486077203102,0.35273909576099627,0.37943499022343935,0,7.4198325626378941E-3,0.25724536905935536]
[null,"921","営業余剰",0.23012937749779855,4.2377089885780497E-2,0.23737646001796944,0.28209382151029749,0.19288807001381852,0,0.1162136832239925,8.7209026304467155E-2,0.10127362253459136,0.12750432218041288,7.026342770636157E-2,1.0499935185585275E-2,3.6984352773826459E-2,0.17312665295327653,8.6650093883056098E-2,4.7744253818006531E-2,0.10230985376331508,0.13469679272094218,0.10152193375111906,0.17804586176784501,0,7.1385676670310885E-2,9.02533427163969E-2,0.11195760185491885,1.2258840656667349E-2,0.12810479542674555,8.1107692307692311E-2,0.14209270373852051,5.9026442486230797E-2,6.9493411484729622E-2,-5.8676028084252756E-2,8.9553060325847644E-2,0.13285769655905025,2.2744503411675512E-2,0.10223896212596778,0,0,0.16658447578656671,0.11909600039649106,0.22878442685935371,8.7961318560445478E-2,1.0814961665779442E-2,0.11424256491922925,2.8077692627128243E-2,0.10979242598327538,3.4317180435167897E-2,-1.7649333498712234E-2,5.95185858459224E-2,-8.2937554426033094E-2,-3.4420658890355192E-2,1.3158140839801739E-2,-6.9206556261343019E-2,6.3800635823083457E-2,1.4365434193779983E-2,-3.8448076249966344E-2,2.1467949717265913E-2,-4.882032037249383E-3,-2.7709560937619317E-2,2.0914862566114205E-3,1.5337687504485753E-2,1.1206536979059354E-2,-0.1222728802668217,4.6579357843100321E-2,4.7880613611907964E-2,2.1775555141842835E-2,2.2141004393811347E-2,9.285026627182881E-2,-1.2653460872184982E-2,0.13140083053778059,5.716582744467482E-2,8.8425646492964874E-2,0.22396669752561607,0.18978018228785884,0.19723666474099749,0.44350051613239705,-0.19313569083506316,1.1731831658880996E-2,0,2.9263769173469543E-2,-0.47639138797542968,3.5509814612868049E-2,5.2376278196563521E-2,0.18619261259548864,3.4268241248418388E-2,0.16600981345085086,7.9413171742943711E-2,0.12623129479817244,0.12782861601759241,0.11232059345266893,0,3.7167737261821383E-3,4.3754806441842473E-2,1.3378626273673019E-2,1.0257603694885519E-2,1.184465148466635E-2,1.8431275786284423E-2,-8.7948432385002197E-3,0.10834258514436149,-1.1919453390723294E-2,1.850820306544862E-2,9.3160967122378049E-2,-0.12946318879563412,-1.0629109459491963E-2,9.2081045792760621E-2,0.12799416154788487,0.22121342248941783,4.6411102923684805E-2,0,0.57553570888868744,7.9423619837138332E-2]
[null,"931","資本減耗引当",0.17881189460136829,0.12651051150471776,0.14573225516621743,7.3627002288329524E-2,0.12672501151543067,0,0.10793502030615433,5.7568654214204117E-2,8.0519718684381847E-2,3.8950472897386353E-2,6.465582653820387E-2,0.19172103875902,9.8919687824381985E-2,8.3823097267117244E-2,5.0207600560653744E-2,8.6345011941541219E-2,6.8896858077842252E-2,0.12376779031790079,0.10098478066248881,0.14036676477247001,0,0.152841722741481,0.13479623824451412,0.11990725405763498,0.27169274899102752,0.10416354626925285,2.3630769230769229E-2,8.3230891604599025E-2,8.8976218102234592E-2,0.15673064210479926,4.5135406218655971E-2,0.14770475561426685,0.11231535579449047,0.13343442001516301,9.1420799330403854E-2,0,0,3.9451622447973171E-2,5.4046686821628588E-2,2.6907884980924522E-2,3.6286765127123984E-2,5.8559881540221868E-2,7.1374424850005586E-2,9.6433110599368294E-2,0.12187364464363164,0.10965065940150331,0.17551200577853332,0.24895004074468752,0.16085401779924283,0.18167016512114689,0.18523566819414569,0.18871937386569873,0.14363497427968641,0.18224064223476813,0.22693250047117741,9.0931250974334257E-2,0.10205705549185169,9.9311437661292801E-2,0.13101999460861322,7.8231536639632532E-2,0.12857867943776352,3.1945166916557022E-2,3.6512218462952779E-2,2.884484035401793E-2,8.2191165236147931E-2,6.6876662313098384E-2,0.24834570248236026,0.16624613994125179,0.19756306619179215,5.1945372995387804E-2,9.7008260142789723E-2,7.4959357054238882E-2,0.26223716917678025,0.28292611094119913,0.37561972458946324,0.56372461456017053,0.10574743402541445,0,8.9737158145969206E-2,0.55630700502574926,0.10905125408942203,0.16686838268228299,8.6091347934233689E-2,7.0258681287782926E-2,0.19065403863700653,0.18236060171158242,9.8046694890388572E-2,5.3486557423565298E-2,0.12441541686824706,0,7.0850153750890488E-2,7.7838742257617402E-2,6.2744672759015185E-2,1.7024399849626753E-2,2.4666478707180479E-2,7.7589818039926775E-2,4.4014714319462724E-2,0.33035280978054926,7.5429672215031759E-2,3.4506819274565219E-2,0.10097796531101987,0.19198339519184759,6.7765219349746025E-2,0.1604634334345357,0.18095726287804412,3.0427581129992026E-2,0.17282754379144885,0,3.5157312539668147E-2,0.11893744426408433]
[null,"932","資本減耗引当（社会資本等減耗分）",0,0,0,0,0,0,0,0,0,0,0,0,0,0,0,0,0,0,0,0,0,0,0,0,0,0,0,0,0,0,0,0,0,0,0,0,0,0,0,0,0,0,0,0,0,0,0,0,0,0,0,0,0,0,0,0,0,0,0,0,0,0,0,0,0,0,0,0,2.2093487224200865E-2,2.4980958828756401E-2,0,0,0,0,0,0,0,0,0,0,0,0,1.1535650731956703E-3,0,0,0,0,0,0,0.35777492559775687,0.10746480863048986,4.4191678930247905E-2,0,1.9691734841839567E-3,3.0500698440363446E-3,0,0,0,0,0,8.1952400364793243E-5,0,0,0,0,0,0,0,0,1.4694783166289574E-2]
[null,"941","間接税（関税・輸入品商品税を除く。）",2.5381020117862224E-2,1.9698725376593278E-2,5.7322551662174301E-2,3.4496567505720825E-2,2.9608475356978352E-2,0,5.2327397688222428E-2,1.8695013575063424E-2,8.2487460915651165E-2,3.3306213769958307E-2,0.65038920083355234,-2.335479410620922E-2,2.8487947406866325E-2,4.3637966500146931E-2,3.6561500013222968E-2,2.9731150989285481E-2,4.537564033378437E-2,4.4921250176694218E-2,3.9809012235153686E-2,1.5880203111355476E-2,0,1.0978858383505536E-2,-2.1543727208751841E-2,-2.0757425195981009E-2,1.2914339286598991E-2,-7.0645797448763079E-3,0.30104615384615385,2.4007520428085908E-2,2.3514518527565646E-2,2.7532942576351856E-2,1.8054162487462388E-2,1.7861074416556582E-2,5.1607068517534917E-2,2.5018953752843062E-2,3.7832182464950827E-2,0,0,9.5670184436334946E-3,3.9203052981117113E-2,3.4929023038865449E-2,3.5519094377671094E-4,5.0021109826165174E-3,4.2139469833639885E-2,3.7757811418576266E-2,1.9652191777694925E-2,1.150775495736113E-2,-2.4562414726504642E-2,-7.0770388014793462E-2,-7.6520686524577403E-3,-1.7167521352381459E-2,1.0446086224632938E-2,-4.3812386569872956E-2,-1.1339661859749101E-2,-4.714943053878537E-2,-5.4548881290218357E-2,-4.5298394297132977E-2,-3.3399353695402895E-2,-4.2931256410050876E-3,-2.3062121789568596E-2,7.2059140170817482E-3,7.2365081837872068E-3,1.4901624797282825E-2,4.6581869604422711E-2,4.8175388899673349E-2,5.4535183057180088E-2,4.4153962661749695E-2,4.4872591671845867E-2,2.5608194622279128E-3,3.655400712311762E-2,4.365717429018745E-2,5.7792795079639962E-2,1.7101076104646926E-2,7.8299946385923871E-2,5.9067069924445804E-2,7.1837488575442782E-2,-7.2622222769746286E-3,8.3577180908722473E-2,0,1.0778188230644107E-2,-5.031953837562822E-2,6.4612868047982552E-2,5.5978576806152494E-2,2.5955214146902581E-2,7.8342471530999575E-2,1.7366022149388202E-2,3.0723435921968852E-2,5.2982353187743636E-2,2.969899032891159E-2,2.9350104821802937E-2,1.7535426300431278E-3,8.4946239791271524E-3,1.2847203847180202E-2,1.1932928161099494E-2,1.7955281860331896E-2,7.3336238161756228E-3,1.0239916451003908E-2,3.211501468057102E-2,2.1639265794004825E-2,2.7842157541462238E-3,3.4008420015714233E-2,6.8878891163009631E-2,4.9788560270022111E-4,3.496388814179726E-2,7.1001588824741613E-2,9.5860954482662755E-2,7.3369731918287218E-2,0.12641644086776405,0,3.2883005409979751E-2,3.0510644179994491E-2]
[null,"951","（控除）経常補助金",-0.11615525299735827,-5.3592120509849362E-3,0,-9.6109839816933638E-3,-1.8424689083371719E-3,0,0,-2.2825393528477962E-3,-4.5846743505808781E-5,-1.3983524865249669E-3,0,0,0,0,0,0,0,0,0,0,0,0,0,0,-1.2703461820380671E-6,-3.1203974138146234E-6,-5.6615384615384618E-3,0,-1.6504891224514385E-6,0,0,0,0,0,0,0,0,0,0,0,0,-6.1187901928030793E-6,-5.8763728676111954E-6,-6.2919199164433037E-6,-3.8045091041902865E-6,-5.4955849844131472E-6,-7.2961279448996414E-6,0,-6.176003755010283E-6,-4.4284233927037293E-6,-2.3379781165248294E-6,0,-4.4556628132609438E-6,0,0,-1.417213474865719E-6,-3.4747558983981377E-6,-3.3750987743750688E-6,0,-7.1772051962965618E-6,0,0,-3.7676419835881514E-6,-9.5861882200126054E-6,-2.5325638276701055E-3,-2.4072671664124037E-2,-2.6809978186426838E-5,-8.5674474655419151E-4,-3.9406209821626494E-2,-5.2892142343333471E-6,-7.1780321192258445E-4,-1.1380024813114424E-2,-3.8992055368718625E-6,-1.4867298739253067E-3,0,-1.4567562073829513E-2,-2.3327923116750146E-3,0,-1.1401468509143978E-3,0,0,0,-2.1498258182282943E-3,0,-4.2537715001563261E-6,0,-1.2574925598356877E-5,0,0,0,-2.059029520772151E-4,-3.3227080239289024E-3,-1.8724578089845595E-2,0,-3.2038548781894376E-6,-2.8777349958971476E-3,-1.7171205831730284E-2,0,0,0,-5.5685605376077466E-5,-6.4660467883145604E-6,0,-7.8654690179175383E-6,-4.3440863951902279E-6,0,-1.1604226259203602E-5,0,-2.9593697423963088E-3,-2.5533828881019599E-3]
[null,"960","粗付加価値部門計",0.53203278466436366,0.2885283893395133,0.60970350404312668,0.61550343249427919,0.54468908337171806,0,0.55607622617931896,0.32159251071910744,0.36951191556863716,0.26024611003762838,0.83910071103642536,0.44052197208659205,0.43593095228941603,0.47107699089039085,0.42146880702403933,0.27728477836937709,0.45194339808225514,0.60608720882652722,0.37332139659803043,0.4433843267893528,0,0.36133224519963658,0.29286354040048623,0.40532185050237385,0.40476659294424322,0.38567956014878058,0.41452307692307694,0.28903029864776919,0.41296393186120706,0.54799259618350893,0.40972918756268806,0.49339498018494055,0.49890182455032228,0.49507202426080366,0.50998116760828627,0,0,0.31107604300226849,0.42821033850423751,0.40987341430863183,0.17767567629501471,0.23486670215564978,0.47733189166318979,0.51420086325141257,0.47369181954452416,0.49748096123276964,0.44246638309049385,0.40609916630100923,0.33299159445888943,0.35365389214131987,0.35386935378284862,0.33244952359346641,0.38906847685394558,0.35236106125379368,0.30291322258420611,0.14852113773897763,0.19348483269050348,0.26034035339815492,0.30079290567861755,0.28056412832842892,0.41386293852485789,0.17661638260763135,0.47179040858821431,0.47980070314690593,0.49905951685487027,0.52805856463951362,0.46809490732277997,0.24582925359644497,0.47675380909453646,0.64981170397325771,0.69396058146290829,0.63345056135397915,0.72050689671979329,0.64366907941686202,0.8909577292973031,0.65383407146420935,0.78104136003924829,0,0.27439534212006506,0.23621021281876281,0.68184296619411122,0.60132656075781687,0.59520680603393183,0.78166736960494865,0.45155273294184456,0.45896454579280282,0.63690321498931135,0.40876309380246389,0.5191098209966134,0.70834320688417818,0.79514309503698744,0.5471433831270387,0.52660756589649316,0.55376738690678651,0.69003024439005012,0.76709569688240598,0.61727245114913432,0.58695261964752266,0.16923516840742858,0.35853083625532117,0.72477652210823595,0.41590906151796914,0.41417447832960519,0.65293617958438865,0.67748633784828716,0.69406784859824555,0.73992027896559931,0,0.65002619357048586,0.50716815471762233]
[null,"970","県内生産額",1,1,1,1,1,0,1,1,1,1,1,1,1,1,1,1,1,1,1,1,0,1,1,1,1,1,1,1,1,1,1,1,1,1,1,0,0,1,1,1,1,1,1,1,1,1,1,1,1,1,1,1,1,1,1,1,1,1,1,1,1,1,1,1,1,1,1,1,1,1,1,1,1,1,1,1,1,1,1,1,1,1,1,1,1,1,1,1,1,1,1,1,1,1,1,1,1,1,1,1,1,1,1,1,1,1,1,1,1,1]

{"sheet":"逆行列係数","index":10,"n_rows":118,"n_cols":114,"rows_kept":118,"cut":false,"hidden":false,"merged":[]}
[]
[null,null,null,null,null,null,null,null,"^"]
[null,null,null,"1-3　逆行列係数表　【統合大分類】　[I-(I-M)A]-1"]
[]
[]
[null,null,null,"011","012","013","015","017","061","062","111","112","113","114","151","152","161","162","163","164","191","201","202","203","204","205","206","207","208","211","212","221","222","231","251","252","253","259","2611","2612","262","263","269","271","272","281","289","291","301","311","321","329","331","332","333","339","341","342","351","352","353","354","359","391","392","411","412","413","419","461","462","471","481","511","531","551","552","553","571","572","573","574","575","576","577","578","579","591","592","593","594","595","611","631","632","641","642","643","644","659","661","662","663","669","671","672","673","674","675","679","681","691"]
[null,"109部門",null,"耕種農業","畜産","農業サービス","林業","漁業","石炭・原油・天然ガス","その他の鉱業","食料品","飲料","飼料・有機質肥料（別掲を除く。）","たばこ","繊維工業製品","衣服・その他の繊維既製品","木材・木製品","家具・装備品","パルプ・紙・板紙・加工紙","紙加工品","印刷・製版・製本","化学肥料","無機化学工業製品","石油化学系基礎製品","有機化学工業製品（石油化学系基礎製品・合成樹脂を除く。）","合成樹脂","化学繊維","医薬品","化学最終製品（医薬品を除く。）","石油製品","石炭製品","プラスチック製品","ゴム製品","なめし革・革製品・毛皮","ガラス・ガラス製品","セメント・セメント製品","陶磁器","その他の窯業・土石製品","銑鉄・粗鋼","鉄屑","鋼材","鋳鍛造品（鉄）","その他の鉄鋼製品","非鉄金属製錬・精製","非鉄金属加工製品","建設用・建築用金属製品","その他の金属製品","はん用機械","生産用機械","業務用機械","電子デバイス","その他の電子部品","産業用電気機器","民生用電気機器","電子応用装置・電気計測器","その他の電気機械","通信・映像・音響機器","電子計算機・同附属装置","乗用車","その他の自動車","自動車部品・同附属品","船舶・同修理","その他の輸送機械・同修理","その他の製造工業製品","再生資源回収・加工処理","建築","建設補修","公共事業","その他の土木建設","電気","ガス・熱供給","水道","廃棄物処理","商業","金融・保険","不動産仲介及び賃貸","住宅賃貸料","住宅賃貸料（帰属家賃）","鉄道輸送","道路輸送（自家輸送を除く。）","自家輸送","水運","航空輸送","貨物利用運送","倉庫","運輸附帯サービス","郵便・信書便","通信","放送","情報サービス","インターネット附随サービス","映像・音声・文字情報制作","公務","教育","研究","医療","保健衛生","社会保険・社会福祉","介護","他に分類されない会員制団体","物品賃貸サービス","広告","自動車整備・機械修理","その他の対事業所サービス","宿泊業","飲食サービス","洗濯・理容・美容・浴場業","娯楽サービス","獣医業","その他の対個人サービス","事務用品","分類不明","行和","感応度係数"]
[null,"011","耕種農業",1.0100066963347243,3.1836634344396542E-2,3.7696667961690643E-3,6.4376219787089955E-4,1.5689060642982246E-3,0,1.7896266561029068E-5,2.4445242869772812E-2,1.9434894350595856E-2,7.8944084520084126E-2,1.1069933155640973E-2,2.3358024585710254E-3,8.8088681333689663E-4,5.5082526041090596E-5,1.6583155561530468E-5,1.6072597649672E-3,8.4215950282628756E-5,4.003665932406104E-5,2.5226413470631646E-5,9.2139938780768041E-6,0,1.1767945704613807E-4,7.4359245414116472E-6,3.9502745346752026E-4,1.042971555041658E-3,3.8262939275371432E-4,6.5102474894088195E-7,4.1051761270031971E-6,7.4095167691867302E-6,8.8341609761210197E-3,3.8938931886264172E-4,1.3473436005549803E-5,1.1917165267140965E-5,2.3651175455640825E-5,1.728649213467528E-4,0,0,4.9203525366480583E-6,7.7134229418044973E-6,2.7806226736665905E-6,4.0501704258760417E-6,1.1825577776543039E-5,9.3383647798700075E-6,5.8581237032531417E-6,2.0255100361831396E-5,1.7961908913485247E-5,2.2530410339159291E-5,1.1801571335833237E-5,7.221003538378832E-6,2.4863004546326622E-5,1.9463084740426481E-5,4.7020424039254011E-6,1.2866593419801689E-5,2.0770259458558929E-5,7.5170930669247919E-6,3.0637093745584048E-5,3.9759939759229307E-5,3.5459646709048225E-5,3.0845522078864061E-5,3.07036935395544E-5,8.7731709543102817E-4,1.5761217124734886E-5,2.1749297162900589E-4,1.6487087745377746E-5,5.3989514541892981E-4,5.4658412447248996E-4,6.0383277990193996E-6,7.265450514455719E-6,1.430826920577234E-5,3.8615160424825322E-5,5.3426597034013678E-5,5.880709786755888E-6,4.4897088643743957E-6,3.5901920499277914E-6,3.3747162744012289E-6,8.5764832749530714E-6,9.1707753414320746E-6,3.6648520747750374E-5,9.310699404308295E-6,1.6005665889375053E-5,7.8465413001204503E-6,9.4003965371603055E-6,9.5437984924373506E-5,3.6220214346853647E-6,1.0124310561955992E-5,7.1172190420369918E-5,1.2070285709342599E-5,9.1960513076947902E-6,9.3927572757507868E-5,1.7252566654406181E-5,4.1365412558825101E-4,2.3667528844318239E-4,3.8616318565549816E-4,2.4658512244319397E-5,8.2283716797596331E-4,1.4008290356125163E-3,7.0581979324941613E-4,3.4341061990437986E-5,4.5809396758214392E-5,7.6693995566144287E-5,7.4633778394818577E-6,5.5707180699270248E-3,6.5006402400708584E-3,6.3413806128017919E-5,1.7498876843922732E-3,1.0654910574382835E-3,1.1459304432629895E-3,1.2441900086120782E-4,2.8830784116453933E-5,1.2217438005990577,0.95236850593704114]
[null,"012","畜産",2.9186815723946718E-3,1.0322517348675568,1.0684967942111413E-2,1.7499076390090624E-4,2.4748682633012655E-4,0,3.5914940557851445E-7,1.9584010295068118E-2,6.1913493767013557E-4,2.5689487145873166E-3,3.2698689247336537E-5,1.6358852707600347E-4,1.3143785813241409E-4,1.1412683497793283E-5,1.3532508734849365E-6,2.6965288762576205E-5,2.3936792178568678E-6,1.3067565792692401E-6,1.9013856142275631E-4,1.2753090291721342E-6,0,5.8700629363573915E-5,1.830382789680282E-6,2.6848000997186919E-6,7.5327668761686104E-5,7.4883403387844051E-5,3.1332261164105254E-8,2.7586287966568234E-7,5.4049753207613449E-7,2.6481221253439831E-5,6.7202122712182125E-3,9.8250745717384818E-7,4.3166860901633221E-7,4.7011161762409597E-6,7.9681224377594404E-6,0,0,1.3935340996086212E-7,3.3308927326794022E-7,6.0070441074623079E-8,1.0820317564438876E-7,2.8786517392650895E-7,3.4119284291898828E-7,2.5320649446278097E-7,3.2606927365493807E-7,2.8314047073040524E-7,3.4054524287724885E-7,3.7669295694005664E-7,4.3365975554731954E-7,4.5085435288191435E-7,5.2366196879574707E-7,2.3930067507821454E-7,3.8006714253417047E-7,5.7127828625758965E-7,2.9573291900177413E-7,3.8503378405560662E-7,4.4020235963641505E-7,5.343543671067473E-7,7.4905846386379758E-7,3.5564604625726788E-7,4.0154445943354281E-5,2.1496583321396433E-7,1.1603809617465018E-6,5.4516666499998706E-7,1.9417581668970611E-6,1.8677557697926114E-6,1.7279320877083441E-7,3.5560305600440235E-7,3.1456767510996153E-7,5.5937137805840507E-7,4.2524614023894297E-7,1.8778305595162664E-7,1.6222539977122181E-7,1.3442254421602818E-7,5.731769644656107E-8,6.9574021668507109E-7,2.2767916324643706E-7,7.121204318100224E-7,4.4081236489246561E-7,1.1151875792275396E-6,3.4381372978976376E-7,3.0841738672138519E-7,7.9717631927294579E-6,1.5996378976729215E-7,8.826878878521965E-7,6.2672683609695765E-7,7.5706256474641122E-7,8.6705383649062061E-7,1.1131194414316705E-6,4.4458047349858204E-6,8.2462921778086014E-5,3.3108903797031164E-4,6.1916058325055107E-5,1.5627118572397792E-6,1.9251001410731868E-4,3.5322723847234534E-4,1.1144645615253882E-5,5.1872198322753997E-7,5.6845754233537748E-7,4.9257849199407889E-7,3.3749411729124438E-7,9.896854083600666E-4,2.10485161481336E-3,1.2725972391349454E-6,8.163344961070525E-6,1.1663026037939628E-5,6.8116812945016015E-5,3.6448097244814717E-6,1.562545797081887E-6,1.0808898572327579,0.84257064198771858]
[null,"013","農業サービス",2.484837391216722E-2,2.4937656864508089E-2,1.0003425347120409,1.9889523895309725E-5,4.4284062130798632E-5,0,4.4748180003091781E-7,1.0580546048405558E-3,4.9131549030379852E-4,1.9969765522777675E-3,2.7236116513121631E-4,6.1136156875591841E-5,2.4688055547064613E-5,1.6185030778658463E-6,4.385289710604057E-7,4.0064450232508917E-5,2.122217843968186E-6,1.0128623525869296E-6,5.0685054876930838E-6,2.559058397617522E-7,0,4.2609148615920063E-6,2.2527141883418583E-7,9.7546545620622316E-6,2.7351653630277191E-5,1.1140051576420137E-5,1.6705838411974765E-8,1.0717438715974115E-7,1.9443786596607803E-7,2.1736197492448859E-4,1.6681862712841086E-4,3.5355729814198902E-7,3.0248425180625795E-7,6.9028584816189054E-7,4.4276335441698906E-6,0,0,1.2397981429827168E-7,1.9704034200005995E-7,6.9627115248907857E-8,1.019013058559577E-7,2.9687193220972473E-7,2.3709721577631828E-7,1.4965198698128139E-7,5.0458061819451868E-7,4.473135597154252E-7,5.6074311481288153E-7,2.9836167561513763E-7,1.8731257914749317E-7,6.2055372385024044E-7,4.8977288887860236E-7,1.2096261781589836E-7,3.2457048756125607E-7,5.2295815550284561E-7,1.9134926829036207E-7,7.6067815039056702E-7,9.8579422215956381E-7,8.8249174492989451E-7,7.7431068456883879E-7,7.616244208794237E-7,2.2464277012684571E-5,3.9172514160509655E-7,5.3632497189766399E-6,4.1726135617742536E-7,1.3291531344045445E-5,1.3453910722457741E-5,1.5219139902921576E-7,1.8657639816479074E-7,3.5840856480712221E-7,9.6049633382215717E-7,1.3207496639613586E-6,1.4867509975835616E-7,1.1394940656527178E-7,9.1229518751282717E-8,8.4138522069487747E-8,2.2670183736878822E-7,2.3032905681285214E-7,9.158202959104553E-7,2.3874973504431103E-7,4.1878940315457421E-7,2.0055731425283588E-7,2.3785213274557715E-7,2.5280828053535746E-6,9.2608150127682811E-8,2.6905201513185936E-7,1.7608450305188462E-6,3.1385580225932607E-7,2.4591171620246633E-7,2.3305208269374591E-6,5.2732403669988073E-7,1.2078604243899377E-5,1.3554807205584675E-5,1.0923292290248015E-5,6.4155607296894749E-7,2.4693031940693362E-5,4.263488295855991E-5,1.7577784056501627E-5,8.5468193319860376E-7,1.1372164008055077E-6,1.8931807847985188E-6,1.9100867636409923E-7,1.598355554055359E-4,2.0874769585853631E-4,1.5856110098638914E-6,4.3123764186716674E-5,2.6414291873996392E-5,2.9708957734892607E-5,3.1378607822497653E-6,7.4391704800733816E-7,1.0552697276009091,0.82259934803277224]
[null,"015","林業",6.2260913896311585E-4,1.136222227749425E-4,1.199417920406852E-5,1.1078977319459684,1.9585974968076885E-4,0,1.0247449069136002E-5,5.4776605751411173E-4,3.3569895468955778E-5,2.5884291321637341E-4,7.8632695047850802E-6,2.5383828920331955E-5,1.286664272468229E-5,4.100458956784641E-2,1.1823230213988316E-3,2.5623939966828313E-4,5.6025522248827185E-5,1.6267241418464659E-5,7.66925746263006E-6,1.1481922832426516E-4,0,1.0286793856877944E-5,5.5762953261749535E-6,1.1934005115535172E-5,1.1308280002388243E-5,9.4770290279795762E-4,6.4945683922666836E-7,4.1462403113481293E-6,8.1812228602023215E-6,1.2251720302541683E-5,6.6045532905567377E-4,6.5670933934738451E-5,6.9662743110039271E-6,2.2388320215708331E-4,2.3446633938284339E-5,0,0,3.3736007891502687E-6,1.029923089931107E-5,1.6638777882658279E-6,3.4202406629685358E-6,3.3289833079214926E-5,2.2233981655183423E-5,9.2285623711083626E-6,6.0943099504712943E-6,4.5566166531315458E-6,8.1259637332948372E-6,4.5572794447043155E-6,7.0103354558189597E-6,6.8649653775307301E-6,6.6499370260850302E-6,3.0441206908808305E-6,8.8173692374149917E-6,5.5845420569457264E-6,5.2857070402129561E-6,4.199762623031843E-6,6.1985326485618021E-6,7.8248240142696412E-6,4.5449831299838677E-5,2.4995474740988021E-5,5.2422331392881197E-4,2.8121090284131961E-6,6.3140843065219302E-4,1.8911462071794906E-4,8.6985865812064142E-5,5.6295821277684988E-5,4.5816662676776473E-5,1.3326419990037051E-5,1.4039399040021101E-5,5.2692129602330746E-6,9.6028971905515211E-6,3.5597447542365711E-6,2.4958058329672429E-6,4.6486742941681159E-6,3.3871021297688918E-6,7.0710638439178612E-6,2.4872518653052606E-6,1.2504483957076092E-5,7.0276425505421992E-6,1.7256035374376841E-5,4.350023060008628E-6,1.368853591434094E-5,1.2247279640672932E-4,1.7255872882414331E-6,4.9097571933013295E-6,5.7182808719819718E-6,4.8670876205833922E-6,4.5151226133998122E-6,8.1808482919123303E-6,6.3595595899792293E-6,4.448393750256763E-5,5.0738476805071311E-5,1.746317800431467E-5,8.9635692480694773E-6,7.8385864438286552E-5,1.4658581773137051E-4,7.9805329789421506E-6,5.0086010677195743E-6,4.1788691224542675E-6,3.8964198773768336E-6,5.4850296478467192E-6,1.0357508674554991E-3,1.4905540812623144E-3,1.3827378078830645E-5,1.280109308563698E-5,3.0200727787469029E-6,8.625388616703079E-5,4.2834392179609077E-5,5.5685143395892009E-6,1.1594874194599236,0.90383867778366556]
[null,"017","漁業",2.2504779624922657E-6,9.6115223293797485E-5,7.1872580664612526E-6,5.0922797823500507E-5,1.0067235610220335,0,4.2908679686353438E-7,8.7732976895781647E-3,2.5346186568322759E-4,8.3023123039696384E-4,3.6048820165950521E-7,1.3378359779963901E-6,1.9721594453893523E-5,4.7033215107217151E-6,2.2282697580900626E-6,1.0234049320101091E-5,9.273918918017039E-7,6.1609842337594331E-7,9.643245822187793E-6,6.2137265217832404E-7,0,2.6556553007766961E-5,8.5559291222827001E-7,8.2131265465069604E-7,5.5892863373382749E-5,3.3258350628356691E-5,1.8781719062707423E-8,1.6700435827798799E-7,3.191546750830985E-7,4.1818003320855758E-7,4.8963948316817921E-5,1.1161746432014935E-6,2.9911444792175689E-7,3.1817534059034208E-6,3.7951768821249012E-6,0,0,4.059993185643794E-7,7.7164822496891916E-7,7.130755771233033E-8,8.577977542961197E-8,3.9045612344974525E-7,2.084326232292535E-7,1.7754157284208895E-7,2.2560078496716416E-7,6.1720807883500293E-7,6.3292415991511383E-7,2.8856619833702421E-7,5.1042904077961496E-7,7.7927025837054515E-7,2.6014404339062603E-7,5.0212516224510808E-7,3.6296493646856642E-7,6.8764070420325587E-7,3.664326217999969E-7,2.8464440966483472E-7,2.8328818260463775E-7,3.4470815088061016E-7,4.9092952100848025E-7,2.6202633612327492E-7,7.2172642032456726E-4,2.1290941267277575E-7,6.2675278963693725E-7,1.213028410826845E-6,9.0280372302081056E-7,9.1358360319270968E-7,1.4384849021782668E-7,2.3066745661424502E-7,4.6750447640987803E-7,5.1235276810661936E-7,3.1266058419182389E-7,3.0731176090441852E-7,1.9724611201449827E-7,1.6829393468379361E-7,6.4296543241986811E-8,4.1091891642246802E-7,2.4501318823924029E-7,6.7630885651527294E-7,3.2968539380474573E-7,8.3751952659770533E-7,3.7971240394220402E-7,3.220468673066188E-7,5.3185211080500985E-6,2.1013792595325254E-7,9.2790669809087349E-7,9.1216364896501869E-7,3.3393009561542888E-6,6.9319528764493368E-7,2.0651752164792932E-6,2.851025626928215E-6,2.889173352429868E-5,3.9651514947969035E-5,3.8484822232379282E-5,1.1510582724396136E-6,1.0679812002462971E-4,2.1187707457205105E-4,5.2710547534999086E-6,2.2289188356553068E-6,9.6664448279945424E-7,4.45309451467597E-7,7.1816931820658111E-7,9.9924026527147816E-4,1.4466829916761038E-3,1.5613286798917323E-6,5.3939370178900191E-6,4.6661659752353323E-6,5.4776029166423486E-5,2.931257184815378E-5,9.180202440922619E-7,1.0206990783907977,0.79565098330903572]
[null,"061","石炭・原油・天然ガス",0,0,0,0,0,1,0,0,0,0,0,0,0,0,0,0,0,0,0,0,0,0,0,0,0,0,0,0,0,0,0,0,0,0,0,0,0,0,0,0,0,0,0,0,0,0,0,0,0,0,0,0,0,0,0,0,0,0,0,0,0,0,0,0,0,0,0,0,0,0,0,0,0,0,0,0,0,0,0,0,0,0,0,0,0,0,0,0,0,0,0,0,0,0,0,0,0,0,0,0,0,0,0,0,0,0,0,0,0,1,0.77951572618585518]
[null,"062","その他の鉱業",7.1429678597192847E-6,3.2414615906288843E-6,8.8380918078417574E-6,2.7859364985581087E-5,3.5604087260288151E-6,0,1.0000030234300366,4.6489908193164241E-6,7.9754727302671958E-6,1.6108860845990363E-5,6.3807550886280932E-7,3.11704441163574E-6,2.3191784236879135E-6,6.6606417229737785E-6,3.1270627810380563E-5,1.4480111851695342E-4,9.5151315450004321E-6,-1.4127738145480343E-6,3.5159032606174833E-4,1.6510653601939113E-3,0,9.0491305486289881E-5,1.1903243182646457E-5,8.382867075678154E-6,2.1230850073953962E-5,1.1715530812129759E-4,-9.5291134748453599E-5,1.0150556369988356E-3,1.3474047952852965E-5,2.7434928244922166E-5,5.3303146896625321E-6,3.3394624714239065E-3,2.4373202480999587E-3,3.2748230006146815E-3,1.6768235753837034E-3,0,0,2.9099009579165817E-4,6.3611887901079996E-5,-2.0081599017698837E-6,3.0169883955470159E-2,4.8919363835805939E-3,7.9717931915469499E-5,2.5346954540855896E-4,7.7215467733736588E-5,6.5545423040910703E-5,5.1158690017333373E-4,8.6519648318300347E-5,3.4462451535556988E-4,2.6197639574591805E-4,8.8135754009532134E-5,6.5997949119389254E-5,7.3233003110521118E-4,1.2484186460431449E-4,5.4062918546001947E-5,5.4427315883669095E-5,-1.6081754894244506E-6,1.5000504358495041E-4,6.1736938174955969E-5,5.6258410172763053E-5,2.2191230301554899E-4,1.2713783995174284E-6,1.1977775254688789E-4,6.9633036110190104E-5,3.5339443381658599E-4,3.8375152176549885E-4,1.2116644844026157E-5,4.6296104431904846E-6,1.0761855522312616E-5,2.7888054841846492E-6,1.4297918987588334E-6,9.2209271273536845E-7,9.7820789451513712E-7,1.7129801300893328E-6,1.285592967726143E-6,3.481221286034499E-6,1.0764878753511984E-6,5.9869015129933212E-6,1.5473662675908941E-6,2.5006483194491903E-6,1.0826503744394775E-6,2.3279975161364692E-6,3.38592544415787E-6,5.3429224173423699E-7,1.6751278920239742E-6,2.2106061490873171E-6,2.030744483446549E-6,1.5115169812066988E-6,5.1662464393785621E-6,3.4475225520089515E-6,2.7649234373625926E-6,5.2110681477671414E-6,7.6111122757355215E-6,4.4547520080570295E-6,2.1002114597105886E-6,1.9491984318214998E-6,2.0268453015831717E-6,4.0329312861441584E-6,1.263562631676181E-6,2.5583415094592497E-5,1.0283280771296175E-6,-7.9206081824037849E-7,-2.7102264110909678E-7,4.3062499350263774E-6,4.0486210209991187E-6,2.2943195400930533E-6,9.4738257037268419E-6,2.4359614639357353E-5,2.4761582476674982E-5,1.0540573572235223,0.82165428625763737]
[null,"111","食料品",2.0554111421968346E-4,9.611260832258061E-3,6.3830142961380837E-4,6.1346348098660491E-3,1.2414786953343486E-2,0,7.8686057615337159E-6,1.0661048338250714,3.0758102975197002E-2,7.4548668756305669E-2,4.0407022100126174E-5,1.2062021143766162E-4,2.0883610831489026E-3,4.8751423458223014E-4,5.387417853518761E-5,1.2139024037051004E-3,9.8642821696654114E-5,6.2354555501870692E-5,5.6887924191556257E-5,6.3435167628248174E-5,0,3.1829722014852773E-3,9.5645696842359325E-5,6.2094354377051486E-5,3.6063340549503573E-3,4.020524618653906E-3,1.448354536180709E-6,1.4116869255508267E-5,2.5206924272487253E-5,3.3351607488499357E-5,5.8978427786063143E-3,4.0634437778941981E-5,1.7704445344688707E-5,2.3708153080086487E-4,3.9949306734572622E-4,0,0,3.8695965901036234E-6,1.2088495628864603E-5,1.6412947849155647E-6,3.7659346821753363E-6,8.9798483675719867E-6,1.2421165896285026E-5,9.8432666726228103E-6,9.7920579286278052E-6,8.1804299068681862E-6,9.2000671272942102E-6,1.061733035807043E-5,1.3288159280168164E-5,1.3068126437201449E-5,1.2327986080604521E-5,7.276740570647304E-6,1.3448716433343239E-5,1.5645354677580938E-5,1.1636104923780485E-5,1.1675855510219188E-5,1.5042071257440296E-5,1.9586272761028951E-5,2.6066430926622393E-5,1.0433134906831794E-5,7.2309275676507275E-4,4.6527960786536495E-6,2.0690219914102547E-5,1.7325937823355802E-5,1.2366193631982181E-5,9.8233340922423158E-6,4.9190511019487671E-6,1.2084303303292495E-5,1.0643038893514118E-5,1.8849021045408423E-5,6.8377922366421765E-6,5.3430016368728225E-6,3.8289570578264548E-6,3.3407410782709487E-6,1.2679669406301054E-6,1.5313653113989676E-5,4.8678765272594933E-6,1.2487324864520482E-5,7.3457084845645344E-6,1.8872627066976552E-5,6.8404490254466337E-6,8.1177534623138015E-6,1.3004763715536194E-4,4.217560356014119E-6,1.9679933795374872E-5,1.0188851106480896E-5,1.6852729215013206E-5,1.9306401037017737E-5,2.6217160494128079E-5,1.8471230702625567E-4,1.7587444641481299E-3,7.142321766719018E-4,1.4187842842849827E-3,6.4562068969547341E-5,3.3519733987504856E-3,6.0732581891308245E-3,4.7722151280737404E-4,1.1244641900870878E-5,1.2488021185452735E-5,1.1186125571496676E-5,1.0294169800530139E-5,2.0335907889403471E-2,4.5591060405607203E-2,4.3342958017572396E-5,5.5026504628321109E-5,3.3473322936252971E-4,1.3375660572738286E-3,9.3267640385190161E-5,6.1579683645432651E-5,1.3057009507934865,1.0178144248393461]
[null,"112","飲料",6.8719506912452258E-6,4.5644638510131336E-5,3.4006508225214987E-6,3.9897710488474585E-6,3.4791346365118025E-3,0,5.0997112751240988E-6,4.2278462454576124E-4,1.0191965461840611,3.3440191850974904E-5,2.9172394127902263E-6,2.5978341074850857E-6,4.1875031555184958E-6,5.0197673982579218E-6,2.904539762093603E-6,3.4734241545593905E-6,3.0277290172566454E-6,2.6069919158967442E-6,1.5106620427845382E-6,2.1499657672117931E-6,0,2.8307790789725897E-6,1.4298509287465652E-6,5.6703958703314681E-6,3.1577960803240089E-5,4.7590981887516304E-6,3.1300255029562429E-7,4.0023312418126255E-6,2.3254590048128225E-6,4.171160034060798E-6,6.4907705573810162E-6,8.663615805125515E-6,6.509430845252929E-6,3.3165571711419719E-6,7.4142900979780531E-6,0,0,5.1326101302407707E-6,9.3904151970508651E-6,5.2624588498034092E-6,3.0563869700272741E-6,5.9805738372906634E-6,3.1218172055293883E-6,4.5882633925704317E-6,5.2931095274742331E-6,4.3009625813682235E-6,2.5817126616780447E-6,2.0097656978250878E-6,1.8622600063408231E-6,3.736347280993646E-6,2.2779520821322638E-6,1.8848883647849489E-6,4.4200136262649266E-6,3.7324250956415594E-6,2.1730471090497101E-6,1.2182255723726181E-6,1.6068462649700555E-6,1.7627493443403954E-6,3.827551031750934E-6,9.0872368217792869E-6,5.9675525814599347E-6,2.8709864199402016E-6,9.2220767160635969E-6,1.108079212543095E-5,8.13183625591849E-6,9.1767387709032492E-6,3.1014895616189651E-6,2.6099492664050672E-6,5.9719784632208461E-6,5.3762085393963928E-6,2.644920411527879E-5,6.5300734172868036E-6,7.0670510004529032E-6,5.843867218948219E-6,8.8061915120599947E-7,5.5491474528935957E-6,2.9235981620446706E-6,9.0171777284557354E-6,1.0356432192795169E-5,1.5899831225596104E-5,6.6851970993531294E-6,3.8081884130488438E-6,1.0443405680222407E-4,1.3236666049272426E-6,6.9256201838368621E-6,4.3780072163335618E-6,2.5505407546072881E-6,8.9844026849929461E-6,4.3520324107035579E-6,1.5417615309965904E-5,1.3926243051599866E-4,1.841931297065984E-5,1.8202345881320606E-4,1.1843732461107824E-5,3.9497574245707129E-4,7.4234518972540926E-4,8.8298671456698528E-6,4.1814748170482709E-6,2.6895498682654033E-6,4.7397125451915868E-6,4.3622752766518387E-6,5.7024673376225941E-3,1.6981510751710959E-2,6.9485485508815866E-6,2.6213493932741326E-6,3.6775317017017346E-5,2.8915810032153556E-4,4.61986010226829E-6,1.0331077723967329E-3,1.0492888580584374,0.81793716616814949]
[null,"113","飼料・有機質肥料（別掲を除く。）",1.9470629034788192E-3,7.8501881700591677E-2,7.8921755177064623E-3,1.1349596279650483E-3,1.5696315398151001E-2,0,3.8979533161002134E-7,1.6666326866890133E-3,8.4807957417512719E-5,1.0121284881524297,2.149259010625222E-5,1.6930119959515756E-5,1.2487223112960137E-5,4.2975445533665612E-5,1.9375782823167887E-6,5.7173899690563353E-6,1.0676161741309688E-6,6.0337415250272513E-7,1.3632191177570671E-4,5.0043357848979855E-7,0,5.5618729691975812E-6,4.2178192325815192E-7,1.3720607417036609E-6,8.994181343639653E-6,8.4224340276025359E-6,5.1914751326453951E-8,1.5624975618257877E-7,5.8293129156161563E-7,1.7465156169477936E-5,5.1346834284534727E-4,4.9789301552866651E-7,3.6201204492162833E-7,1.1433462150774162E-6,1.3345482584112436E-6,0,0,2.4676450035979788E-7,3.5138213172345403E-7,3.1317525731974557E-7,1.4188089525796157E-7,4.054839805237645E-7,4.0607340489844837E-7,3.1662275818386177E-7,4.6397446728312632E-7,4.3303256821337729E-7,5.2667938533048054E-7,5.7549150267662826E-7,5.4130399638531878E-7,6.5936310735605738E-7,7.3548891208895222E-7,4.5670794932449942E-7,5.8183007007319667E-7,7.6806047291159833E-7,4.4424988199894959E-7,3.8197722896440486E-7,3.4873582259635495E-7,5.9991017991079774E-7,7.0250784000360297E-7,5.7836301645981325E-7,1.7660665649399682E-5,1.7466692518458137E-7,1.5858138443221537E-6,7.8680032599045409E-7,3.7161905628694085E-5,1.4631800178974808E-6,2.2464634420102391E-7,2.6226038808883448E-7,3.2697536240388351E-7,3.4006155130354464E-7,1.396937853462105E-5,2.2092413286918392E-7,1.2638125171490982E-7,1.3977903836479766E-7,4.2142720357750049E-8,6.7224793438388923E-7,1.8188581868540653E-7,9.217616112586181E-7,1.4571849047308803E-7,2.5798642903299438E-7,2.1193281614475411E-7,2.0279192025191901E-7,1.2036687642113358E-6,1.0863415830404942E-7,9.3006983235710077E-7,1.6301076016805798E-5,6.6528772160718301E-7,1.0437029465092459E-6,1.8744724384360176E-5,5.5974284408553762E-7,8.4318886004754726E-5,9.7690791810618413E-4,2.0491323770938476E-5,4.8996421771540569E-7,3.3392174808760046E-5,3.7959437234165086E-5,2.4775010776759856E-6,4.5371507728517323E-7,1.0030454507039773E-5,7.1531642442837953E-7,2.402822537645042E-7,1.0253851795862763E-4,1.9599896787167846E-4,7.8776530116422997E-7,4.3983448621287167E-4,2.0342092126369275E-3,8.7561090687503257E-6,2.8879810472435242E-6,6.9342688389091985E-7,1.1239333814609558,0.87612374603406074]
[null,"114","たばこ",0,0,0,0,0,0,0,0,0,0,1.0123479051854438,0,0,0,0,0,0,0,0,0,0,0,0,0,0,0,0,0,0,0,0,0,0,0,0,0,0,0,0,0,0,0,0,0,0,0,0,0,0,0,0,0,0,0,0,0,0,0,0,0,0,0,0,0,0,0,0,0,0,0,0,0,0,0,0,0,0,0,0,0,0,0,0,0,0,0,0,0,0,0,0,0,0,0,0,0,0,0,0,0,0,0,0,0,0,0,0,0,0,1.0123479051854438,0.78914111246336049]
[null,"151","繊維工業製品",1.099977011497944E-4,2.4157062194440061E-5,9.329988597242081E-5,2.9352715158946973E-4,2.6702866582497455E-3,0,3.6747151278408636E-5,6.5589101287369901E-5,1.0355279992661419E-4,2.3169170651980405E-5,1.5308349552514941E-5,1.0366248900259072,3.9901655682562452E-2,1.1240668836661742E-4,8.8850068527659618E-4,2.0427318268601629E-4,1.9817190304647963E-3,7.1791388101328748E-5,2.8428453572750976E-4,2.3163926587072171E-5,0,1.8817956446087843E-5,1.7626103315654809E-5,2.2700901929887992E-3,6.1097035301844619E-5,4.9900625285341205E-5,2.2145447361193332E-6,1.062549660003034E-5,8.7807472712432289E-5,2.1994613053261756E-3,9.3820459030682073E-3,4.548013433451473E-4,3.538929469899313E-5,7.7445126126487009E-5,4.2185005329075748E-4,0,0,1.0964994376160464E-5,2.9531129989242209E-5,1.2528108958764036E-5,1.5090456874113961E-5,3.0092244577514744E-4,5.0053453091232403E-5,8.7207336929865471E-5,4.22974454000559E-5,7.5107361997356567E-5,2.152647944123451E-4,4.0162522115600948E-4,6.4063752260703545E-5,3.9740390827650146E-5,4.698693796515386E-4,1.8512171753828843E-5,1.0678591935055968E-4,5.6910772784790148E-5,2.4031868929301427E-5,2.0943259540267661E-4,6.1730550181784578E-5,1.7526629570015903E-4,6.5979312768733086E-4,2.5095244361321369E-4,1.3545921290896326E-3,4.7060468764907221E-5,1.3524190652030262E-4,5.7019476552712834E-4,1.5632779727290467E-4,8.0821775499895885E-5,2.1361535946341619E-5,4.237041967693823E-5,7.1375636890567493E-5,5.8895579764702376E-5,1.0430123079240434E-4,3.6177837688072828E-5,1.6807469927083768E-5,1.994436801217326E-5,1.1834197410501868E-5,1.7992708885121252E-4,3.7109285228273814E-5,6.3096348337930217E-5,4.2262861049509115E-4,7.8184069247464719E-5,1.352306215620023E-4,1.5146489906110166E-4,3.1615947420109608E-4,3.2673594255193648E-5,4.0240767582889266E-5,4.8867724928558966E-5,1.0793948680362695E-4,3.2398280491660989E-5,6.8626861747309419E-5,5.955261997908094E-5,2.4506471927358082E-5,5.4239982799443946E-5,5.5993340957790427E-5,5.8137731485820244E-4,7.8247815341891182E-5,6.0686414132841946E-5,1.4818013494285079E-4,6.1632399542190845E-5,3.3086130569278664E-5,5.5314776551734787E-5,8.6091283733649978E-5,2.4906101544364541E-4,3.4431488051008952E-5,9.9196264576340143E-5,5.3331680815153206E-4,6.2960934565034797E-5,1.2263873783949317E-4,3.5702608237598711E-3,4.0898685825491464E-5,1.1124487023230041,0.86717125803582873]
[null,"152","衣服・その他の繊維既製品",4.5840937211683432E-4,9.7030111623478131E-5,5.8067689800879571E-4,6.3395631134858472E-5,7.3186060394134949E-4,0,2.8526022342761762E-4,1.7344927264920624E-4,1.1976275707020222E-4,7.4844070598129736E-5,1.995156762564995E-5,2.7733520722524719E-4,1.0016985094247992,1.5538421154974542E-4,2.3120958093617413E-4,1.9575069325214798E-4,1.7699503980961616E-4,1.0557026727168794E-4,6.9092433195250529E-4,1.3550809235937119E-4,0,1.0330675054119282E-4,7.5621399908889911E-5,1.5535636720917907E-4,2.3953378476065181E-4,1.0954235029587399E-4,4.8381669737142013E-6,4.762642093806676E-5,1.4051123090457688E-4,2.5212775355158056E-4,5.2709656380914868E-4,6.2384841006244221E-4,1.2581586662155643E-4,5.2997969459773044E-4,2.5357093504122186E-4,0,0,4.9854400617757698E-5,1.8691651376684889E-4,8.9619086877261878E-5,5.7870863136094614E-5,1.3866185394484425E-4,1.4343568759662691E-4,1.2334728655701273E-4,1.8580650314901903E-4,1.1747067832482557E-4,1.8547998142400915E-4,2.0314877002639494E-4,4.1355852231520092E-4,2.1904886730115966E-4,4.3181885218512975E-4,1.0943078329667888E-4,9.3943175549553062E-5,2.3322453542232977E-4,1.2707787224734799E-4,2.6722831781996658E-4,7.8591412240142772E-5,1.0425394599690077E-4,1.5305009453087445E-4,1.0346244944336262E-4,1.3318187607390247E-3,2.3898926172893892E-4,4.6322848755377805E-4,2.2949471590764749E-4,2.3385285228089757E-4,2.4289206051249134E-4,5.1898848883138231E-5,9.2393318674708862E-5,1.553448844516601E-4,3.1834025307715739E-4,4.5626899894231961E-4,1.919915125682034E-4,5.4199455722282564E-5,3.7576934982954151E-5,1.732221870129666E-5,1.3953511024350656E-4,1.0939978491593519E-4,1.655135580999299E-4,2.0444881598864878E-4,2.1403948236088427E-4,7.2318345158064261E-5,2.2396467319991657E-4,3.2800188703410862E-4,1.781191934480226E-4,9.7261311683330583E-5,1.2110577684010158E-4,1.345222134581467E-4,1.2874923970098467E-4,1.9329726758255823E-4,4.6459038005721109E-4,4.3097898616486538E-5,1.3959739612306348E-4,3.6408463837344799E-4,1.2507510453011609E-3,6.5913505239383237E-4,3.3640131766729189E-4,2.3070296925730037E-3,3.6754276872622233E-4,7.0317959116459971E-5,1.4981216277641399E-4,2.2297874805870467E-4,6.4487815073773793E-4,1.8529690287217657E-4,1.225897926412122E-3,4.0768866575000164E-4,9.5342497063739514E-4,3.1676679707950397E-4,7.4656518423128705E-4,9.2821376375550814E-5,1.0306514717646578,0.80340903045714762]
[null,"161","木材・木製品",1.9083463342998579E-4,1.973532583803712E-3,1.4764289635956239E-4,7.4057759397972295E-3,4.0169591524819785E-4,0,2.3437774825438157E-4,2.4288523842174193E-4,1.2197973056343981E-4,6.0181595075096625E-4,1.4595568787770501E-5,1.1908678875596308E-4,1.3511166214624564E-4,1.0491074848209503,2.9801430689141661E-2,4.6873004238506943E-3,1.1899517120767414E-3,1.5963362904255815E-4,1.466669149460218E-4,1.6319667468907737E-4,0,9.7301215110650493E-5,6.5915960046756077E-5,1.4850796928793207E-4,8.0184332591455113E-5,1.6661713267666708E-4,8.8309458807514538E-6,3.3407301275729916E-5,1.6305027649890182E-4,8.861250030060258E-5,8.10821397561179E-5,1.6315121233558478E-3,1.1720491620634506E-4,5.6795175479877726E-3,4.531360564232519E-4,0,0,6.748969987805295E-5,2.1226396177514908E-4,3.6902536456385485E-5,7.9325655255823888E-5,8.1865004534291278E-4,5.1280953218790911E-4,1.8785869329081303E-4,1.2842838987277326E-4,8.1911672777366853E-5,1.6780961043768555E-4,8.5517432869466726E-5,1.3178131449056941E-4,1.2735071734462156E-4,1.373668398811465E-4,4.7854707470469367E-5,1.7251068597053126E-4,9.0057672920104711E-5,7.6591629989906934E-5,4.9816834988234681E-5,7.6318838364991738E-5,9.5543081235949557E-5,8.5461535772580316E-4,5.8758904731050167E-4,5.8529332778197119E-3,6.1529052226778037E-5,1.5933766964754348E-2,4.096754876076289E-3,4.265965058941457E-4,8.5546833240250696E-4,1.1490766666378055E-3,2.5875765078445142E-4,2.9833308045878451E-4,1.0191945005921963E-4,2.3219139349537707E-4,7.79392903135561E-5,5.2418224885358103E-5,1.0005432636120269E-4,7.2772729205650412E-5,1.4965649439183744E-4,5.4138169024707515E-5,2.8644428198745949E-4,1.684037154282667E-4,4.2985827801200949E-4,9.9559158265029906E-5,3.2690292064455751E-4,3.0954988345251572E-3,3.7257814144398923E-5,9.6111980374080083E-5,1.163652729913551E-4,7.1142640154694435E-5,8.7362044026131653E-5,1.3631226176893913E-4,7.5947784301218002E-5,9.8626458696259578E-5,1.3319060079707574E-4,5.5959421650753949E-5,1.2347301502448757E-4,1.0890089815896385E-4,7.2780507037369465E-5,1.4449530338110411E-4,7.7389602783158783E-5,6.0466867241212742E-5,4.5613711951757658E-5,1.0102301352549141E-4,2.1159640154342621E-4,2.6563685835559009E-4,1.3271455689432436E-4,2.5422661886574812E-4,3.0958884574815812E-5,2.5657026641807908E-4,6.3350238997509397E-4,1.0922833118995073E-4,1.148204071075732,0.89504313027415439]
[null,"162","家具・装備品",5.4763866931081424E-5,4.1154498474546605E-5,6.3502373780576141E-5,5.6866031380109259E-5,1.1687742156303911E-4,0,1.0956237716980006E-4,1.0581050222737269E-4,1.4053722205447099E-4,3.6862822544767508E-5,3.743727990320487E-5,2.4588161837799392E-4,2.1197987840065576E-4,1.3074473081363849E-4,1.0028099379687703,3.061339756324354E-4,1.8030703566742241E-4,1.3351723707673494E-4,1.8175036300906644E-4,1.8229109816058744E-4,0,1.2905913468161807E-4,1.1076939577194372E-4,2.2099118938570563E-4,3.3115050346919504E-4,1.3981223423583064E-4,7.4915784979688734E-6,7.8734683919904266E-5,1.7173986135985968E-4,2.3447286923217967E-4,2.5744723176341077E-4,1.2947814743947543E-4,1.4281114297577026E-4,7.1749006202752558E-4,2.4269917211300373E-4,0,0,4.7427441818264793E-5,1.855396840332024E-4,4.0848135967400959E-5,6.681640535773702E-5,1.6476993210485616E-4,9.103976138955513E-5,1.0715050039853328E-4,1.2290741325558197E-4,1.0051446874002255E-4,1.9504270578778521E-4,1.8520422029327747E-4,2.6540084957275497E-4,1.428050115122304E-4,1.6037310753288324E-4,1.1558981411026928E-4,1.2107661872750511E-4,2.7252589763496036E-4,4.3558910893230931E-4,1.069216345644033E-4,1.3044155987986027E-4,1.3711103515189434E-4,7.5512085371661527E-4,2.9293409912027022E-4,4.3246095859555961E-4,8.2283007090023296E-5,1.5083019253252835E-3,3.0918855635133609E-3,6.9710132857935016E-5,6.9409268059209553E-5,2.0676753836049354E-4,2.7578353495916446E-4,7.3726811885226691E-4,5.120710060738875E-4,1.9767302348095746E-4,4.3828401584937118E-4,1.6431148821676716E-4,3.7187659603621847E-4,1.0029014869536637E-4,1.8588755191192743E-4,8.5503455720407575E-5,1.7233836611894662E-4,1.5208506183031048E-4,1.9371070285627325E-4,1.2094719125445577E-4,4.2054237293809494E-4,5.1348292502810793E-4,6.6041199874278221E-5,5.8013349650479933E-4,2.1215873219093071E-4,3.815156566060109E-4,5.4302339858190544E-4,2.9400757969491278E-4,1.9436154120694023E-4,4.5380148872991519E-4,7.5058011884640194E-4,3.6051717532928091E-4,1.6646193770701934E-4,1.1557406618172034E-3,5.0217459412024831E-4,2.1661895282965231E-3,3.5899167747718765E-4,1.6750985202403462E-4,8.2255098536953544E-5,2.8795820438235305E-4,3.665131685471187E-4,4.035873915181912E-4,1.462454137590264E-4,5.9327493794311117E-4,6.2063281792272681E-5,4.0367818104519905E-4,9.7665816049984268E-5,1.2521641351975041E-4,1.0333277562681396,0.80549523631535913]
[null,"163","パルプ・紙・板紙・加工紙",1.5204049665074281E-3,2.7887970151339707E-4,1.3733750411512461E-3,3.4299321942089241E-4,2.0116526961983194E-4,0,1.7464657736627402E-4,7.0788456277114911E-4,1.0901705889312465E-3,2.4431379896411E-4,7.5570694263252822E-4,5.4685127885931747E-4,6.7384767149693086E-4,1.3382611920182853E-3,1.2098447864802666E-3,1.0732615144336943,4.697736864418136E-2,2.1812296007632865E-2,1.7158206124067885E-4,3.0992179526202095E-4,0,1.0513224569116007E-4,1.7074384291057045E-4,5.8765857174615452E-3,1.9422207943944718E-3,1.4296166858860414E-3,1.2716371629303157E-5,3.6575912053159506E-5,5.026184922766316E-4,9.9046153028083464E-4,3.8965680958875519E-4,3.2704544933592474E-3,2.0466686952763839E-4,4.63736918176684E-3,9.3568779016494513E-4,0,0,8.7727056448729069E-5,9.0873875039702016E-5,1.1977664142887125E-4,5.9362291326986303E-5,4.9631908440870469E-4,1.3905355687563077E-4,3.2264258449910156E-4,3.6501712282610772E-4,2.0463765089020155E-4,4.0998717791585236E-4,3.6169803113826436E-4,7.4376344804495621E-4,1.0303988201059921E-3,8.8123345377788662E-4,1.2430664869771333E-4,8.3380786172709397E-4,6.8840712276592062E-4,2.6977922596831035E-4,1.2635600958118033E-4,1.0957806867296971E-4,2.3954386731246934E-4,1.2578782556387056E-4,1.7552027425824293E-4,3.200721223410872E-3,2.4044139952671186E-4,1.2205038633605165E-3,1.0998026175724255E-3,1.9505659323109929E-4,1.0544986104576931E-4,1.0510243006264305E-4,1.8164196350474229E-4,2.3796977580704812E-4,3.2967176180988836E-4,2.8897994140680112E-4,5.2773001335585518E-4,1.3851306185971014E-4,1.1890291180472101E-4,6.9468787821351321E-5,2.2807666396347631E-4,2.3105346453391635E-4,3.5414363149863779E-4,2.4302251397789203E-4,5.9908151507581902E-4,6.3906103856864699E-4,1.2738941122381923E-3,3.5844592202205453E-3,2.2424821061367846E-4,3.7107104745963106E-4,2.3976045808850625E-4,1.289396895252653E-3,3.560075456520552E-4,7.7358823565578912E-3,2.7321994053166172E-4,6.9788878669924342E-4,1.7793259704985561E-3,3.9086441003599538E-4,1.5820121514575516E-3,7.3398372264555419E-4,5.943656966409407E-4,1.0471260703960701E-3,1.873669701798882E-4,4.784501928943917E-4,2.1708814253468961E-4,7.9157380168707204E-4,4.0396166525054258E-4,2.4905367954467173E-4,4.2704557372405733E-4,3.0786905226858801E-4,2.5706901449602381E-4,2.5772730698548659E-4,3.6498716083376577E-2,1.9336679754399107E-4,1.254298302884685,0.97774525242684096]
[null,"164","紙加工品",3.0130888590017817E-2,4.8738521345359932E-3,2.7523974303448856E-2,4.7713284666902377E-3,1.6965297017677563E-3,0,7.384490618903048E-4,1.1475216872608208E-2,1.9006918938629807E-2,3.5180719691969924E-3,2.9442159292859629E-3,2.2099299061644436E-3,2.8123602530256663E-3,2.0662255613206823E-3,4.2776491444763082E-3,2.0174802239466246E-3,1.0308167218745881,1.3684955773218626E-3,2.0179252768644717E-3,1.1385375284338013E-3,0,1.2654098939728384E-3,2.5329937194034906E-3,4.2731051526682193E-3,1.9078511601124493E-2,1.0446677520843762E-2,4.5170525154867397E-5,1.5775751410199658E-4,2.5578150397643131E-3,2.0425402213112656E-3,4.0015944892798881E-3,8.9175159015862388E-3,2.2721045261667326E-3,1.702789405012747E-2,1.7239342997659049E-3,0,0,1.9357519068651565E-4,3.693325477062187E-4,7.1449088141265903E-4,2.3950202610542595E-4,6.03605615471623E-4,6.2951320817894907E-4,2.66535789201936E-3,7.8591268562052069E-4,7.9663696966861231E-4,5.1329697101933107E-3,1.0609125221878852E-3,1.5278675747299611E-3,1.9486411416740422E-3,4.1469799354144988E-3,4.5963398461486667E-4,4.2451607675608478E-3,2.1332422617128272E-3,1.1822087487192096E-3,4.2585032825190832E-4,3.7257415745766298E-4,7.2662971991912259E-4,5.9593313066577279E-4,9.6635648783960555E-4,4.2720572261525534E-3,1.4866313917268996E-3,5.6801165676173126E-4,1.1626695067566515E-3,8.4126100421103619E-4,4.1598300302602272E-4,2.2455378011398047E-4,2.7399732667995343E-4,5.9214334037922096E-4,1.6824436738122224E-3,5.0095969844430616E-3,2.071011696988099E-3,5.6270714815334221E-4,4.0610810090035369E-4,1.6419373030612997E-4,1.1106378352723047E-3,9.7134634686461287E-4,1.4334601847814806E-3,1.1911630049213149E-3,2.4486571351989483E-3,1.6474005192180289E-3,2.230180461008667E-3,1.2330850729435239E-2,1.0880632510880362E-3,1.2363728617119252E-3,9.0750130250676672E-4,1.0056965269351398E-3,9.4911618373551743E-4,1.0207506092475018E-3,9.0309808694946777E-4,1.1591711810739541E-3,3.0612485338748019E-3,3.6475868066067393E-3,4.8827090362920994E-3,4.7320923439343396E-3,5.5079024506990591E-3,2.5823099074708347E-3,7.0812069016065163E-4,9.8844087373547822E-4,7.2766840570476915E-4,9.5249463866312967E-4,2.6477733858766539E-3,3.6423490820334213E-3,1.8414989821148521E-3,1.1579447333835561E-3,1.903931799665937E-3,1.8301267284204935E-3,0.21574161883606741,6.1274797001952387E-4,1.5722060842523815,1.2255593674798149]
[null,"191","印刷・製版・製本",4.3111013520509621E-4,2.8980036429635127E-4,4.4990489834265254E-4,3.0434750421516897E-4,5.8538112347320394E-4,0,7.9927763894666666E-4,3.7582088444346276E-3,1.3554184256604031E-3,4.8922191563955091E-4,5.7026591752164376E-4,4.3494172890140429E-4,5.7311873402258529E-4,4.6328259836562173E-4,5.5807483069175278E-4,4.9772682462803641E-4,2.0755735375585765E-3,1.0190236362235776,4.2015221708897399E-4,4.0813515791977362E-4,0,2.9723314901843669E-4,2.0292083125182593E-4,1.1591686271734663E-3,2.5579091575204044E-3,2.6226118063228773E-3,5.5711588683358749E-5,2.0373440233537697E-4,6.000267798655604E-4,3.3462857646630498E-4,5.66005367817905E-4,2.2670973737145507E-3,3.7429969106822644E-4,1.1722328604182584E-3,4.3218228012358896E-4,0,0,1.8074529851821522E-4,9.1233035953035562E-4,1.8956160043292973E-4,3.0001897436160945E-4,5.1062495749169161E-4,3.6759598631544503E-4,1.4730641009024375E-3,9.6678769474024015E-4,6.8528482937564019E-4,1.1853721648037148E-3,1.5325026000837176E-3,5.3105593835007993E-4,5.0371031885596755E-4,4.1665734353496225E-3,5.9581189790965919E-4,3.6832285982048551E-4,2.1161874584595848E-3,1.1456794894193017E-3,6.371068567586262E-4,4.4751440281107696E-4,3.8317530897738928E-4,8.3696617007593648E-4,1.7234904136476643E-3,2.361429758738951E-3,1.75780344706865E-3,6.0323671602430413E-4,7.2634036510570176E-4,5.9111358529158797E-4,4.6401387536080548E-4,1.0676649374486624E-3,2.8067201321511945E-3,1.8283635890464596E-3,2.6593325316484093E-3,2.8190179474577872E-3,7.5572549837563084E-3,1.0120818343062035E-3,8.0311712602730144E-4,5.0959459713979512E-4,1.1735435229996867E-3,8.473379907696255E-4,8.8107125979379193E-4,6.4098420071543466E-4,9.1730713379855255E-4,9.4667903724210889E-4,8.5448294831180825E-4,2.6582276780792165E-3,2.7716643921583805E-3,4.2145646383084379E-3,1.6035489430889318E-3,2.7324293712589847E-3,4.1387106633294542E-3,3.7653305297769508E-2,2.937912298388811E-3,1.652115455776591E-3,1.2000126239114799E-2,1.4318774084124586E-3,4.2465563397611275E-3,3.6324533480678739E-3,8.3270913875476988E-4,1.6203191435343534E-2,8.2248966598230753E-4,1.3811819861769751E-2,8.9889402359359606E-4,1.5875835338377434E-3,1.0482198725546565E-3,8.1025858867366863E-4,1.1010280169597938E-3,2.3762241301419395E-3,4.6591360607845271E-4,1.1952002422974206E-3,9.3246012013659162E-4,7.8886210306915747E-4,1.2264696621621718,0.95605238934526571]
[null,"201","化学肥料",1.8678135346722453E-3,6.064764292981017E-5,6.1513673119429897E-5,6.7622245860448219E-6,3.507264600185771E-6,0,2.6391179863770384E-7,4.6003154619392898E-5,4.6879056065504828E-5,1.4616202705659714E-4,2.0624512315404077E-5,5.7651163008718039E-6,2.5100504115124813E-6,2.3032069672446301E-6,1.6107214368947234E-6,4.4765762659170735E-6,2.1333907678012443E-6,1.6657920274823759E-6,1.0080651968144332,1.2285487852527029E-4,0,3.0621538976773348E-4,1.1074179369475398E-4,2.0960969708845685E-5,5.3889753855259275E-5,1.545665401899135E-4,7.5969858686908395E-8,-8.7923798030466936E-5,4.8330795696747027E-6,2.0373159209098809E-5,1.4493632269726387E-6,1.067878551484391E-6,7.2058492880998118E-7,6.5803301315409371E-7,6.9653682300662621E-6,0,0,2.572319151020105E-5,2.1521591540522952E-8,2.0574322422054759E-7,3.4254001664746805E-6,1.462081940169236E-6,5.1328651780828673E-7,5.2369543879925789E-7,4.5180333538877662E-7,8.1186664926053489E-7,6.7290015249054851E-7,7.2095766333518969E-7,8.7436400171474303E-7,6.3709571043362423E-7,6.0088845989936328E-7,2.7794949821482423E-7,1.0439388624931214E-5,6.3909100490509624E-7,5.5485907978183457E-7,6.6282467008354069E-7,7.7793608275987084E-7,1.0104104660818204E-6,1.1093052034267812E-6,5.9147388484441265E-7,3.5927187200204648E-6,2.2631867726770984E-7,9.3163133290719415E-7,6.6989048782910617E-7,9.6558729785126355E-6,9.2487271450005198E-6,3.9849956726511934E-6,6.0975133715614676E-6,5.5527755947851318E-7,7.2501374462429508E-7,3.0133043835967403E-7,2.0842600949875467E-7,4.0875466125253459E-7,2.1169727086955851E-7,4.5917518910214723E-8,2.8848075153053228E-7,1.1669755850867382E-7,2.5714612662707382E-7,2.0957118517381979E-7,1.5657250978955978E-7,1.6791074141892012E-7,7.0718921100002892E-7,4.407838085044131E-7,9.4060619057658081E-8,2.3494188033528328E-7,4.4361853560282385E-7,1.7673551117613579E-7,2.5425338085184015E-7,6.9321735381052195E-7,2.6007737904244774E-7,1.0356449475712047E-6,1.2491123876645367E-6,6.8409991402648766E-6,1.7234921458962418E-6,2.1492230687993123E-6,3.0094274365978142E-6,1.6564057881844073E-6,3.3468802358975052E-7,4.5361633852101278E-7,6.7022361373324228E-7,2.8338321056206696E-7,1.1106123837272512E-5,1.254771236577926E-5,1.6698588997204174E-6,7.001533603206199E-6,4.6798153562601508E-6,1.9336239839964179E-5,1.2746897049508643E-6,2.0668005006566921E-5,1.0112550512064058,0.78828921560027554]
[null,"202","無機化学工業製品",1.7680274701065832E-4,8.6202264889248285E-5,2.89989569559963E-5,1.1155480355081099E-5,1.2187546150426428E-4,0,1.0444656982135117E-5,3.0952748301853357E-4,4.4585964137448027E-4,1.9810510088548976E-4,5.9664720046553435E-6,7.2411325482296532E-4,8.4820794453481805E-5,5.1705957903207073E-5,6.2094516254669987E-5,6.0505294505912484E-4,1.2008070468843846E-4,4.1544115982245164E-5,2.7977744683667159E-3,1.0092497643327465,0,2.907273817850377E-3,1.088295556851019E-3,2.539124630706708E-3,2.08653628738872E-3,2.5032055775299346E-3,1.5746256984541066E-6,2.9032140720015314E-5,2.9497332056949681E-4,1.2751148278848589E-3,1.2424938529229969E-4,1.8208977153253783E-3,7.196485029872255E-5,1.2075017093419068E-3,1.3302828011322972E-4,0,0,3.6147288159553458E-4,1.0187100290111663E-4,1.6759298987635109E-5,1.9746038992207574E-4,2.2236630084147648E-4,3.3427026060271916E-4,6.1830551862321231E-5,2.0446661852182183E-4,7.1552304445075007E-5,6.3983700350990133E-5,6.1783090083316163E-4,1.8865853751999455E-4,8.6046895645008919E-5,3.3688364093921864E-4,1.509768167387581E-4,7.2047048463174973E-4,2.47300064932138E-4,1.6702127996256829E-4,3.6140937869980729E-5,2.7260648487352162E-5,4.2673428046273288E-5,1.7114361834144173E-4,1.25420544197126E-4,2.0187410951898261E-4,5.7603463848435197E-5,3.2236608942356359E-5,5.1654676208371534E-5,6.0066528437854297E-5,7.1531845469321537E-5,1.3266361224990085E-5,1.2793692401436736E-5,4.9633217454883572E-4,4.0566584553281861E-4,5.8935849028921699E-6,5.810665675748475E-6,3.2100459046133673E-6,2.9273766896463744E-6,1.3695743286179148E-6,3.2610997687810752E-5,8.8578315830691747E-6,2.1878588679673472E-5,7.3305047538421288E-6,1.2637226237134769E-5,5.5622022836934563E-6,5.992196447988334E-5,5.0314304666528456E-5,3.823621514254087E-6,1.400730816506915E-5,8.346906667657352E-6,5.9480440068598971E-6,6.3211498688172559E-6,2.9563289481769147E-5,2.6492935081165354E-5,1.2646771756321774E-5,4.90381200449581E-4,2.7839887608899992E-4,1.0999028753586842E-3,4.762977162616463E-5,4.038175439506001E-5,8.3294640476533201E-6,1.0208714769536738E-5,2.0081499653919076E-5,5.4301922314925504E-5,6.0835717704375208E-6,5.5000496543105151E-5,5.9529225548672775E-5,1.5596860237888433E-4,5.2685031814669112E-5,3.66838626700142E-4,2.6592980703508313E-5,6.6125590984055199E-5,5.3623977750930213E-5,1.0403890875724513,0.81099965511487859]
[null,"203","石油化学系基礎製品",0,0,0,0,0,0,0,0,0,0,0,0,0,0,0,0,0,0,0,0,1,0,0,0,0,0,0,0,0,0,0,0,0,0,0,0,0,0,0,0,0,0,0,0,0,0,0,0,0,0,0,0,0,0,0,0,0,0,0,0,0,0,0,0,0,0,0,0,0,0,0,0,0,0,0,0,0,0,0,0,0,0,0,0,0,0,0,0,0,0,0,0,0,0,0,0,0,0,0,0,0,0,0,0,0,0,0,0,0,1,0.77951572618585518]
[null,"204","有機化学工業製品（石油化学系基礎製品・合成樹脂を除く。）",1.2262448135300311E-4,4.9004617380679349E-5,5.6683553829516244E-5,2.3184589809312878E-5,5.102201276032707E-5,0,2.6323851234043887E-5,2.3828226582180601E-4,4.2493004057437888E-4,1.0189334730142542E-4,4.2256691400416401E-5,9.2509734746546444E-4,1.2952597996501134E-4,2.5337778472219895E-4,1.9981918438570994E-4,8.0266491894334874E-4,8.7925817833146489E-4,1.4912111862800946E-4,4.2280544203304206E-4,7.8237104954689948E-4,0,1.0137115916938366,1.9312908289004251E-2,1.0273273930669161E-2,4.4230895446645095E-3,7.1158561677222678E-3,1.6225977360014401E-5,1.0058493756512676E-4,2.9192349280667169E-3,5.0211836859329747E-3,3.620238305483554E-4,7.923046079280424E-4,5.5817504676735072E-5,8.8336112392079641E-5,1.5924202202562869E-3,0,0,7.8754988088674322E-6,2.7938318109519692E-5,2.5119018875462945E-6,3.0543843680953959E-5,3.8149085261503956E-4,3.7212136314800799E-5,5.6359771101961811E-5,2.0179522553050451E-4,3.4564759798830558E-5,1.5229234075932801E-4,4.4237080657376951E-4,1.3540041875346811E-4,1.3831585111431061E-4,2.9963388301762673E-4,4.6159213332968698E-5,2.566430686279561E-4,1.0712981980516787E-4,7.2687696647080223E-5,9.6457374631367068E-5,8.022910210242628E-5,1.4246978314335769E-4,7.9787789048305088E-5,4.4113417771454877E-5,2.7738499451130348E-4,1.427994984553092E-5,4.5211906146584943E-5,6.2152527641322694E-5,3.6787887246434334E-5,3.733143766476892E-5,8.6308285174902208E-6,1.737474250492956E-5,6.2053005080418749E-5,4.5247396720994952E-5,1.4478221657190869E-5,9.1244344918849073E-6,3.8157949691466703E-6,5.4501445962931057E-6,2.2333436447006798E-6,8.5139147912597087E-6,8.4548596837626495E-6,3.2149251996128317E-5,7.8478093705718806E-6,1.5010905151534019E-5,8.7771614541466364E-6,1.4496966305544282E-5,7.6725503730645353E-5,5.4103669604628022E-6,7.7228638231450298E-6,7.6391753330665834E-6,1.7915537807243977E-5,6.4550933797054354E-6,4.2637830899180011E-5,1.0307913641537208E-5,5.3054852873289344E-5,3.6391494266744574E-4,5.4540591154509646E-4,1.7192432536390078E-4,4.0441980486904322E-5,3.1674570079552644E-5,2.0787618380987952E-5,1.850435890913558E-5,1.6955201658117789E-5,9.5034355043995897E-5,1.3098772549475066E-5,2.8898199352752666E-5,3.0192007895439793E-5,9.7985772076853423E-5,1.9462257992736808E-5,2.8796987684391817E-4,2.750845992335561E-5,2.9102517225440891E-4,2.2708599793357762E-5,1.0774272497645423,0.83987148501263587]
[null,"205","合成樹脂",2.6083297602994584E-4,4.8523801562951372E-5,1.2139317909529786E-4,1.5410974561483808E-4,2.2226159256712993E-4,0,3.2444966143748415E-5,3.2333142926973027E-4,6.9210236802615881E-4,5.819193782542188E-5,2.6637190502073886E-5,2.1112561636734447E-3,2.5233616031374652E-4,9.3610919906944069E-4,8.259962227864133E-4,6.7421988440502631E-4,1.011351100236121E-3,6.2877632820731435E-4,1.7550004602011492E-4,1.0370540708270951E-4,0,6.2371184334551641E-5,1.0004504872808999,1.5495003771752407E-2,9.0046969967261356E-4,4.0324277663926957E-3,4.568067285748613E-6,2.0193625738942234E-5,3.4017573184609184E-2,5.8200802132097956E-4,1.8079568579115214E-3,5.8062201164079015E-4,4.6796068803390499E-5,1.1750534884131419E-4,5.9393217237283685E-4,0,0,1.5460146150960028E-5,3.0825146438027893E-5,7.8455310594413514E-6,1.6220602078000717E-5,2.7610782611377921E-3,9.1230251960631984E-5,1.2032138182574682E-4,2.2807947648312979E-4,1.4410750699014795E-4,2.1399403856118054E-3,1.1889609000072113E-3,9.2046261201006885E-4,1.1756330087886336E-3,1.6044883711676934E-3,1.2513295656142731E-4,2.1718847959691944E-3,9.3150893278266562E-4,7.9887513255500256E-4,7.6549643973132986E-4,4.4108119797951875E-4,1.3892775102425149E-3,2.3380772983472954E-4,1.4403770685053109E-4,2.6542993215212772E-3,4.6737681365165098E-5,2.1523660989068212E-4,2.5593057495593852E-4,1.8541127783095788E-4,1.8600644190196606E-4,2.0967152124063276E-5,2.9334632405910107E-5,5.3210952100968701E-4,5.978487253701601E-5,9.1320579468721569E-5,5.4578062572680596E-5,2.2614414324874347E-5,3.9965679037230681E-5,1.3377021757266718E-5,2.5386973504133081E-5,2.0189270505464324E-5,6.7942793773755595E-5,1.7726866631878127E-5,3.7998419322749745E-5,3.7149225504704238E-5,6.6447791399667068E-5,1.3072821674730225E-4,9.8938059787987448E-6,2.4261065239469734E-5,3.0470097752064233E-5,1.3313814448733988E-4,2.1128907007084129E-5,8.6389799713405024E-5,2.9958243772167766E-5,2.394573259714386E-5,1.9392314842046576E-4,1.8754833372260405E-4,1.7362775219816333E-4,3.7789424665251816E-5,3.620311470812709E-5,7.0624062919622522E-5,4.7777092691146479E-5,7.1960385499300785E-5,2.1966535642612073E-4,3.6365199893696832E-5,6.3512261535761036E-5,6.0609785006397819E-5,1.0253965214879658E-4,9.4244883362244316E-5,5.8458349794331726E-5,3.8863698074606872E-5,8.4070836987622602E-4,1.9331065625115352E-4,1.0925149114680597,0.85163255458189979]
[null,"206","化学繊維",2.9036121035751319E-7,6.8064620814384531E-8,3.6795545264882558E-7,1.8719764070404987E-7,1.6117030940040443E-6,0,1.3821843165782683E-7,1.2470437198961231E-7,1.5262976056557736E-7,5.2087208003802293E-8,4.8466963752901695E-5,4.908841617622784E-4,3.4889012360604128E-4,7.4925938846699354E-7,2.3590564357773349E-6,6.3732895846735919E-6,1.4304591970520769E-6,2.2345821582979374E-7,4.651476141453592E-7,2.5760867182053282E-7,0,8.6807663568859705E-8,4.8768989653246187E-8,1.000001625727299,1.9584711070050702E-7,1.029644267475778E-7,3.5453489449374909E-9,1.0074526268351226E-6,1.5332978883668652E-6,1.5360880712340479E-6,4.6858468070619733E-6,3.7072342916706212E-6,5.506305162460993E-7,6.1106263423572889E-7,3.1973204022120379E-5,0,0,7.0289138091421734E-8,3.4786516836060982E-7,4.2130952209580879E-8,1.9766284516603527E-7,2.7091386860524097E-7,1.7147895050928528E-7,1.3688909550848757E-7,1.8606803795692051E-7,2.068071950603511E-7,6.1646507100735925E-6,4.3462447207648838E-7,2.5815446012492905E-7,2.3794980711958877E-7,4.2890457641300915E-7,9.4802630680039144E-8,2.4838191071946793E-7,1.9556366796839069E-7,1.1809383900509749E-7,2.7526963148993666E-7,9.5311848655288793E-8,2.0003039583908251E-7,4.1662861643560533E-7,2.0938893172181417E-7,5.1442679372872832E-5,1.1636254838024522E-7,3.837558480949298E-7,6.3827589717392679E-7,4.0661532903897741E-7,3.821835800617476E-7,5.0239561598405763E-8,7.4122979552274823E-8,2.1892932319463281E-7,1.6134868374094891E-7,2.2414114491997547E-7,1.0617852621282174E-7,3.8104050139484142E-8,3.6170908752965793E-8,1.8285083116133499E-8,1.5325515051096825E-7,6.7052191224176522E-8,1.2170744720445626E-7,2.8115710768984465E-7,1.2716906835296136E-7,1.111045074300982E-7,1.7480269892470452E-7,3.102493533791086E-7,8.688112834745892E-8,1.0270275398199921E-7,1.14251590711327E-7,3.2716025136967391E-7,9.3605577221008828E-8,2.5741679968972217E-7,2.2333087447510615E-7,9.7603405289312141E-8,2.7951967607988685E-7,1.7750909415552404E-7,7.2705165783454511E-7,3.2696773269633562E-7,1.8836072083139756E-7,9.3339996764926263E-7,3.0351900535509903E-7,9.5486894009311975E-8,1.2681970999427213E-7,1.6336057865843162E-7,3.9313308746858186E-7,1.235039503757729E-7,5.3982654745276405E-7,5.001868838295045E-7,3.6337317613940509E-7,3.0317191195871501E-7,4.2892298250475707E-6,2.8302174803843152E-7,1.0010288330733768,0.78031771774617242]
[null,"207","医薬品",3.7478357305701739E-5,5.9716211096922343E-3,3.5564828297067198E-4,5.2458671757129443E-6,3.2683506498785773E-3,0,1.0329219296746549E-5,1.525433471232368E-4,1.7130087237819081E-5,2.5494559396339319E-5,4.4961102189290491E-6,8.6574648695526459E-6,6.9704215250561646E-5,1.2538966419937907E-5,1.0833171979761755E-5,2.1296137735128259E-5,1.2676600552023615E-5,1.3109127595583202E-5,4.1280308311206803E-5,4.092433196582518E-5,0,9.7624987622367225E-6,7.7939677184988451E-6,3.4543257287000554E-5,1.0423934729154551,6.7957963401355241E-4,1.5223134159948742E-6,7.4278056682029771E-6,5.3208366945048582E-6,8.296893024647811E-6,4.658673095470924E-5,1.637202316725286E-5,2.3565267017345753E-5,8.8198446729488947E-6,2.6791400342686531E-5,0,0,6.5220251256933489E-6,1.461917968905911E-5,5.2641531988506025E-6,7.2826789190942553E-6,1.0957936613265099E-5,5.7969913468873952E-6,7.0257069158066076E-6,7.9838962730149724E-6,5.4261567441080895E-6,5.3138191744298262E-6,9.1639519084613859E-6,8.1590143013398646E-6,5.9311581873864394E-6,3.7651395003238549E-6,3.6661482315943068E-6,9.4900422453272389E-6,6.2329492003578314E-6,5.4200476799556002E-6,3.9316635820068155E-6,6.3566592017480438E-6,5.673439972930898E-6,1.3632467927420545E-5,4.5964785192968386E-5,1.2273179825537327E-5,3.0475020950770499E-5,1.276708225636373E-5,1.379112663783492E-5,2.5587287752663708E-5,3.0806203780710767E-5,6.9081972237754332E-5,1.897351096705705E-5,4.2545791128232918E-5,3.2650921722706095E-3,1.1659469399057421E-5,2.7146575106720897E-5,9.2607154380720897E-6,7.6263302597486059E-6,2.1782575503203584E-6,1.6260957110162552E-4,2.6950791689786917E-5,1.0507386048431967E-5,2.8554044435287394E-5,1.6786283507570761E-5,1.8647954571843096E-5,1.4026875923005015E-4,6.5929881049874996E-5,4.6009454889127621E-4,7.3310662217513032E-5,3.212121721858953E-5,6.4043916746919854E-6,2.7790586377763565E-5,1.9793444795394166E-5,2.9907467646468383E-4,5.29625649227292E-5,4.1326523517897266E-4,0.11877200100106046,1.2314826062123887E-2,4.8143432803466569E-3,2.5903473833267486E-3,1.1311071732840654E-5,1.046433081680281E-5,1.497768477628069E-5,1.7549836748502102E-5,9.526873553466081E-6,2.2098188117948604E-4,9.6047612530061026E-5,4.9410891213645108E-5,1.4862464863744034E-4,5.0980580635410166E-2,6.5182829298782776E-5,8.5966874187012587E-6,7.5854670370765933E-4,1.249870449423121,0.97429367102030529]
[null,"208","化学最終製品（医薬品を除く。）",1.0717753025314058E-2,9.5394337443392685E-4,2.1125065783970452E-3,3.5587209112108553E-4,1.29041141584025E-3,0,7.3816592276888565E-4,1.0855772374408163E-3,1.9415878666927029E-3,9.3498264689129737E-4,6.2637712450161346E-4,4.7248078059605268E-3,4.7601010911565451E-3,9.2323856329914761E-3,9.0526236470477601E-3,2.4100854877299872E-3,6.8035117372289801E-3,9.3213516546327476E-3,1.5015952405534911E-3,2.2585166059498601E-3,0,4.5797262667257692E-3,2.8239308201512855E-3,5.1557283111943264E-3,5.8326856726634672E-3,1.0386141537077003,3.1581062617878902E-4,2.9769578059677814E-3,1.6412432814064285E-3,3.3682008791779713E-3,1.8670803407356969E-3,1.0713320704956229E-3,2.2312229422169197E-3,5.8117754416915841E-4,5.3823810903102067E-3,0,0,4.4623797939521385E-4,1.5783180867775402E-3,9.9182147508046779E-5,1.1770258287506127E-4,1.0315591419119618E-3,2.082369496071552E-3,1.8214349002499447E-3,9.1617725627584799E-4,1.0873056895655089E-3,1.2922546881207623E-3,9.7336166575691938E-4,1.4890087045416067E-3,1.4994568632345961E-3,1.0220841682419596E-3,9.3798753255106904E-4,1.856425554380478E-3,1.6798124316712733E-3,2.2358959907022857E-3,2.309579457665625E-3,3.3718538184035847E-3,4.3043924765525134E-3,5.6382520884302083E-3,1.9424531230687527E-3,6.9501240145553277E-3,2.5257133083628338E-4,1.9067364285952058E-3,2.0856274992141063E-3,7.7564138296763469E-4,7.7027632896340195E-4,3.241927988333133E-4,1.795864745916847E-3,7.2351339437085505E-4,1.0063561079646885E-3,1.8521734410452778E-4,2.2274933533711672E-4,1.0887672682749003E-4,1.2124608225651132E-4,6.3546443128308344E-5,2.7223193250911371E-4,2.2875667437045202E-4,5.5651772062987259E-4,1.8733795895903001E-4,2.4495725562707768E-4,1.5620449614404012E-4,3.2098826764171302E-4,5.2236994787356074E-4,9.4424803429136753E-5,2.6759614729665777E-4,3.5498984763652797E-4,4.7092133252198121E-4,2.6524128089364926E-4,1.4481729615289519E-3,3.2047954765094475E-4,1.7245335963357711E-4,3.3651708797550646E-3,1.3838245727286062E-3,3.9458667890676195E-3,1.3522836850708186E-3,1.0597581738576078E-3,9.3846258790824155E-4,9.8456545006701877E-4,1.2765000564401725E-3,2.0016481419647199E-3,1.2014245739065453E-3,1.5750271324035869E-3,9.9378196554336293E-4,8.596637784882219E-3,8.4784844226540128E-4,4.5611914989576112E-4,2.3612627858706566E-3,4.4157014895780207E-3,2.890390108352737E-4,1.2472179995599575,0.97222604463904982]
[null,"211","石油製品",6.0063347781780403E-4,1.7096398585542049E-4,2.0201107868413014E-4,3.4680030895036776E-4,7.8723881527899546E-4,0,1.6500607990020263E-3,1.5403669585197009E-4,1.6192353504597935E-4,1.3404657960240467E-4,3.4348178306037677E-5,2.320619975151162E-4,1.0909606122054904E-4,1.8388394988464436E-4,1.0464013744577075E-4,1.932051810486621E-4,1.2123317548698938E-4,1.1416229869335345E-4,8.7669138049748354E-4,3.2438218328664743E-4,0,1.4259968597782921E-4,5.3711936388592995E-5,2.3000996642503287E-4,8.2003420915499647E-5,1.2926273157122897E-4,1.0009852389975409,1.2912224698296948E-3,5.2071229092906819E-5,9.1598584797161474E-5,1.4085525037640822E-4,4.892121215814406E-4,3.4519158689113607E-4,6.4724758334779812E-4,5.6579551316329356E-4,0,0,1.0151342681996171E-4,1.3722863523707495E-4,5.0906591762924121E-5,1.735952125228297E-4,1.2120316787334099E-4,1.3537405790723202E-4,1.3062253927667176E-4,6.674570682390889E-5,7.4778317525496193E-5,8.4260112630509814E-5,7.607483150300934E-5,4.9448730988687412E-5,6.2161955062994907E-5,5.1874879449561588E-5,4.0059594357549265E-5,6.5624252945729175E-5,3.2708408820553839E-5,5.112415501011763E-5,4.5809476143090262E-5,4.926638727434436E-5,6.9031294450075471E-5,9.8615594223255796E-5,9.2680528904754127E-5,2.5701676814172741E-4,4.8157467240862777E-4,1.765054733317398E-4,1.8835256403912744E-4,3.1942304303618648E-4,1.6958635735354188E-4,3.5265746518431434E-4,5.1356055542605881E-4,2.8504534074809911E-4,3.595102462499975E-4,2.3426200369566555E-4,8.2818566772159443E-5,6.1666914260957091E-5,5.246596160294812E-5,1.3893799484103627E-5,1.0485601359605424E-4,8.1149361746332758E-4,4.7516752294172329E-3,1.110049436791572E-3,2.7705495833164014E-3,3.6911018435742892E-4,1.0037182777069283E-4,9.6321013684763014E-5,1.6819468037089752E-4,9.4814756194265643E-5,8.658627040627425E-5,1.0166803355662137E-4,4.1649631995559836E-5,1.3570391041346392E-4,2.5981466505842069E-4,1.2366868597664499E-4,1.4697878968662574E-4,9.1061699993819379E-5,1.9651379310886815E-4,8.8653456657589137E-5,9.9132355483166055E-5,1.4483356008548841E-4,1.3432910589137654E-4,9.9375189890118959E-5,1.2542832344136179E-4,7.4054551360829978E-5,3.9507330535076498E-4,1.2837811704934809E-4,2.3862747672060087E-4,2.9552118481143138E-4,8.8036074920506629E-5,2.3991196286932018E-4,9.6854681570082997E-5,2.4543201890915003E-4,1.031211211674792,0.80384535651967104]
[null,"212","石炭製品",9.8405130111017125E-5,1.0822131145528859E-4,3.5898532294854739E-4,7.2116455758146458E-5,8.9700847593234543E-5,0,9.5716082041027444E-5,1.0487518029129012E-4,1.2626004127378598E-4,5.2734943499562454E-5,1.5242932030977013E-5,2.1201066166894188E-4,1.0044506017558506E-4,1.5837577085529343E-4,9.7718728920151101E-5,7.770218806035376E-4,1.7141597025506345E-4,1.7300489352943226E-4,2.328776748347553E-3,1.3509743380175983E-3,0,4.552545491536125E-3,2.1399809224229195E-4,4.2182900822839407E-4,1.1831734557896762E-4,1.8778610292499796E-4,3.8522506455855831E-5,1.0197759895550123,2.4806890815386938E-4,2.0247670346731225E-4,1.5533249908691334E-4,3.0264494333017734E-4,4.6422138950176495E-4,2.9596654753987183E-4,5.6394496780981492E-3,0,0,1.2763217080629472E-3,1.0170688784658139E-2,1.5466937491743083E-4,1.0428581696076851E-3,4.2199844627472381E-4,1.2470901296606705E-4,1.9755421967120615E-4,1.5802404475085533E-4,1.6351474506529602E-4,1.5723499394768202E-4,2.4935667205855161E-4,2.1275565607081998E-4,1.2782371539449074E-4,6.9615615651518226E-5,5.2995119118641373E-5,1.4715842792770956E-4,7.5767196765058872E-5,6.1794923171571345E-5,9.1211869245123178E-5,8.0677693713666901E-5,1.8677128903364662E-4,2.0348928418281246E-4,8.5478783480221452E-4,1.2059752212746007E-4,3.1358242127360695E-4,4.338359379749323E-4,8.8036829627091454E-5,1.3893152955213196E-2,5.5887176526417948E-3,9.4675603259913449E-3,1.4959254266845061E-4,3.7663160285816258E-4,4.9236139857624522E-4,1.4921907924480491E-4,4.3228320500699094E-5,9.7749517273197788E-5,5.5439657551694818E-5,6.0448514747210566E-6,3.1041309295538839E-4,3.7155667119091976E-5,4.8470616179921609E-5,1.8069019056846923E-5,5.8682892583757718E-5,3.4958286608020357E-5,3.1307048986502792E-4,9.9158119831934741E-5,4.0751291610094223E-5,9.7082658968359348E-5,5.0810803026800935E-5,2.9914015212449751E-5,4.610158760411059E-5,5.4164119902333564E-5,7.9581963073307215E-5,1.0858695030581693E-4,6.9085394196990066E-5,7.527207256508684E-5,1.5248418998046242E-4,1.4121962208681041E-4,1.03177573907464E-4,1.501161017470755E-4,5.7069271789836444E-5,4.769402636299441E-5,5.6180442987165553E-5,3.6049607361261185E-5,3.108260831361136E-4,3.9673985971848917E-4,1.5022114192988429E-4,1.900781386159567E-4,5.5073441546472555E-5,1.5635549700604448E-4,1.0041166405110844E-4,4.8762914267437343E-5,1.0903904690997481,0.8499765183464254]
[null,"221","プラスチック製品",6.6071564149859929E-3,1.2675823248169853E-3,3.0613213320290445E-3,4.6189601946846522E-3,6.5362168152523067E-3,0,7.5022755107184268E-4,9.425399173405756E-3,2.1619157607504717E-2,1.4086925781248783E-3,6.8389907290352563E-4,2.5588737817939344E-3,4.6399953594275312E-3,7.3612919281305297E-3,2.2347455693088259E-2,3.3704100247974444E-3,1.7815210508488437E-2,1.5745472175287326E-2,5.3286997297826624E-3,2.8691675911310974E-3,0,1.3872051357580904E-3,8.130895191705784E-4,3.4985908157661133E-3,2.7883709311628077E-2,1.1493147520361711E-2,1.0249887667465822E-4,2.0335828512136836E-4,1.0934553856757772,1.3459994363541365E-2,3.2408237724444046E-2,1.0587618635140968E-2,8.5683016135098817E-4,2.9623987189216616E-3,1.6506238109739394E-3,0,0,2.7040497537471049E-4,5.4506795450871229E-4,1.9023873416140779E-4,3.4365945632447106E-4,8.510947948196913E-3,1.2991935928377662E-3,2.0839899800164392E-3,5.3877289329031693E-3,2.415609510692183E-3,2.0013313733935469E-2,8.116010010582363E-3,6.4098148276102154E-3,9.3835079365167089E-3,1.8123279287247055E-2,1.8377333274999966E-3,3.7277941262109482E-2,1.821964999545456E-2,1.4431370049337184E-2,1.8278876242879653E-2,8.1986280124010866E-3,1.8932369441412442E-2,3.2784305767890242E-3,2.7507674723474536E-3,2.9360609726627813E-2,1.3711094979394281E-3,5.8593335570315654E-3,7.1450294762324465E-3,5.4554711691241747E-3,4.7350567197369155E-3,4.7173304006576717E-4,6.5022903634613714E-4,1.679808604280246E-2,1.6530524985002007E-3,2.7627288017332053E-3,1.5997948637864541E-3,6.4467724174672037E-4,1.2053778092585672E-3,3.9870153372054986E-4,6.5232377279993159E-4,5.1657905749474267E-4,1.6331157196921263E-3,3.9745077825912938E-4,1.0273763058245944E-3,1.0633039803623285E-3,1.9272524737762708E-3,3.7444335260884277E-3,2.4658644600524931E-4,5.9173338795450933E-4,7.9057815417446519E-4,3.8830072091749486E-3,5.1776638607285361E-4,2.1505508513625709E-3,7.6561368585180748E-4,5.9109183416308222E-4,5.4600292438556136E-3,4.1777106815262923E-3,1.0066137475666333E-3,8.3180303586071782E-4,7.6416766748097777E-4,1.8801860399454678E-3,9.8527763259292325E-4,2.0136024451453986E-3,4.5376195254061983E-3,9.1788059706474437E-4,1.6055653157980194E-3,1.6663892543238579E-3,2.10819918265035E-3,2.6995202119122386E-3,1.7107266869278899E-3,7.339084220607438E-4,2.0430144074966908E-2,1.227785890844118E-3,1.7004432959121154,1.3255222906508015]
[null,"222","ゴム製品",7.3292341057090921E-4,2.7237460883772685E-4,7.3859378613202673E-4,2.7902469249956578E-4,3.5128009124881437E-4,0,1.387074414645401E-3,1.7983999942407667E-4,2.0440153126647452E-4,1.2373934284134515E-4,3.9555591344829112E-5,2.0197878469803215E-4,1.0491778525513846E-3,3.0532825959265E-4,3.2043158740812581E-4,1.7868754394215886E-4,3.9078552545826538E-4,1.4611645897488843E-4,4.7416232206230839E-4,2.842283963758606E-4,0,2.1114368821240599E-4,1.9787801568316662E-4,1.3089014284499244E-4,6.6756314101496558E-4,1.2935349255235504E-4,2.1689316621249928E-5,1.3433427411287159E-4,2.8403614300606623E-4,1.009494431061887,2.9362106871949241E-3,1.9918298736822874E-4,5.8344454574880131E-4,3.1238425686147688E-4,5.6718129126995839E-4,0,0,2.7228934678285845E-4,3.2785513526080028E-4,7.0301256296656793E-5,1.7821516145377652E-4,1.9330625250280902E-4,6.2614084355508957E-4,2.6765748102129612E-4,1.6629909745170804E-3,1.5581948614264995E-3,1.9964843446870061E-3,6.9394036082554207E-4,1.6783582703416573E-4,2.0606985726282848E-3,1.4586706216533152E-3,1.3706518267549915E-4,7.8830797176712524E-4,1.6550702860983783E-3,3.9949357240888213E-4,3.0873136358269149E-3,4.1705952806549542E-3,3.4691909337030919E-3,2.6649702384184478E-3,2.9773086318781701E-3,1.512854900850876E-3,1.3040191396566955E-3,2.1469007578939588E-4,2.4799080050718226E-4,8.7010802628506817E-4,8.1639805768141387E-4,3.8518346997731172E-4,1.0352896606453652E-4,5.5869656110494486E-4,3.5685111252941708E-3,1.7726326011848994E-4,1.1028381592541491E-4,5.7344789459886615E-5,4.893241581438514E-5,1.4830821088361011E-5,3.0977053313034267E-4,6.0377098993011358E-4,2.8447940623537631E-3,3.5857647230457944E-4,2.2825315392055944E-4,2.7664195262789974E-4,2.4816721959248768E-4,2.2370556810764536E-4,1.4580163958345814E-4,2.4829594557700617E-4,1.6917167213160523E-4,1.9571376090849778E-4,1.6629309827880046E-4,1.2971413770885803E-4,4.7911820664085997E-4,1.4646034378600154E-4,2.6110849995303581E-4,3.7735719225384542E-4,3.6027052512950758E-4,4.4536719835564713E-4,3.3770316220553076E-4,1.008260382108446E-3,9.4945537342408667E-4,1.2079611333168335E-4,8.1354811357629495E-3,8.8572160796158037E-5,5.1947873009037279E-4,1.7762982125016881E-4,2.9112378678192077E-4,5.2584333490544193E-4,2.1009632361603972E-3,3.7415723507595497E-4,2.0902127970300797E-3,1.7945349821705167E-4,1.0895214431823628,0.84929909897736044]
[null,"231","なめし革・革製品・毛皮",1.3126147684747918E-7,2.3681848498851274E-8,3.5302600254743339E-8,9.6605864109998962E-8,3.4652381488317762E-7,0,1.9992882316946465E-6,8.4016937959151827E-8,8.2358182391996261E-8,3.2256853031996807E-8,1.1703917744603485E-8,1.5460733864498651E-7,5.7927505962382828E-6,1.2530046447116354E-7,9.0709333758750527E-7,9.0230880170676554E-8,1.290681042996229E-7,1.0999050919206622E-7,2.5954073494826564E-7,5.6542721648958897E-8,0,3.9071732756213216E-8,4.0180355818450512E-8,1.6614752226896065E-7,7.2350196225027741E-8,4.6261671648691201E-7,3.8922828969732761E-9,1.899420044887679E-7,1.0468156099552345E-7,1.8513662896436443E-7,1.0001846076933263,1.4801364868211019E-7,1.8217486374327518E-7,1.008097951186091E-6,4.4920223272151846E-7,0,0,1.7600821330391976E-7,4.0891836330391852E-7,3.7564718640971598E-8,1.0096568479003309E-7,9.8330825088307297E-8,4.6573312885020365E-7,8.4155372652616096E-8,5.8996637351371642E-8,3.3248930129178018E-7,5.96801127471211E-7,3.7372940386343553E-7,2.9421639482131861E-7,1.1597713407715126E-7,4.9299208743490446E-8,1.4777619893961922E-7,7.9925250366170798E-8,4.9695552922563127E-7,1.1041938822379083E-7,1.375144561189948E-7,1.207027269399305E-7,1.485038479840339E-7,8.3630587658227265E-8,2.1103773821427577E-7,5.1140670656111708E-6,1.7168860320474529E-7,6.6430639878996776E-8,8.8440865560961351E-8,7.7943249633373494E-8,1.1227641471131594E-7,1.8332221494641997E-7,6.4216687190767467E-6,2.3967087561073942E-7,3.8897521134217381E-7,1.6637751466675257E-7,1.662040415822106E-7,4.7409982733079454E-8,3.3063118133111698E-8,1.3427572671726368E-8,2.1139853990387989E-7,6.47014680462105E-8,9.5900115627663086E-8,2.6249292108752237E-8,5.2552498461359225E-8,3.1866265120635111E-8,6.7495703889546886E-8,1.0296627869699216E-7,4.6297521112228771E-7,6.540912127827404E-7,3.1277466780264864E-7,6.4378888777832355E-8,2.676328124421205E-7,5.9807090607530844E-8,3.1568086456906076E-7,1.3912656953197449E-7,5.3288201704977791E-7,9.177227501485324E-8,2.6155463946030905E-7,1.6553893799147882E-7,1.0541819337642578E-7,1.6459285521003554E-6,6.3923366763108719E-7,1.4143872892251668E-7,7.2430395907176784E-8,1.8352916413412141E-7,3.0458905059198735E-7,1.3307133064469998E-7,3.4034095476963977E-7,3.4108424369817836E-7,4.5773773986153887E-8,9.7414308737470201E-7,2.6612035904182853E-7,5.5540414258654533E-7,1.000225877793758,0.77969180147828565]
[null,"251","ガラス・ガラス製品",2.0367266121934567E-6,1.3330755341409899E-6,2.9030007903206724E-6,2.5586650462101279E-6,1.3863061520123699E-6,0,2.589420656375998E-6,6.7328397792269656E-6,4.4731485155444731E-5,8.5810855976745803E-7,1.7672840812108674E-7,3.0576655988468677E-6,7.0979007602468454E-6,2.0094595519069193E-6,4.9128573260436897E-5,9.9773948921481834E-7,1.036430963985045E-6,1.1134662188561615E-6,1.4180746530492445E-6,8.0291909085536756E-6,0,7.3878862248389548E-6,8.9162346562643387E-7,9.7420559343908577E-7,9.6977748531412584E-5,3.3310490757460804E-5,1.128057744337801E-7,6.7998026799563857E-7,2.348836989211023E-5,5.9560556083151263E-6,1.4007080209932076E-6,1.0003049211877388,2.6375381595395564E-6,1.4004092088439359E-6,4.4951084141322867E-5,0,0,4.8403484633330326E-7,1.1941300231183154E-6,2.4315828023946878E-7,7.8112765719747533E-7,7.2166778921598594E-5,4.1100836258304303E-6,1.8481061866303965E-5,5.0253385458940131E-6,2.1050980724591124E-6,3.37314994523689E-5,4.5207270450405333E-5,5.2213275370503882E-5,4.4998923631778628E-6,1.7425896797658378E-5,6.3432260277247605E-6,6.1563449658841012E-5,7.7385719340425024E-6,7.2363232179488814E-6,1.1585839237297514E-4,2.68388690207465E-5,2.4669421630409352E-6,7.3559257969153641E-6,7.3170603599144454E-5,4.6287058616421923E-5,1.121551997831931E-6,2.302629275529721E-5,1.6436855408968709E-5,1.4988419707573971E-6,2.1379763936178999E-6,1.7927049386214504E-6,1.2501400565185668E-6,2.540770146863901E-6,2.22224676445432E-6,1.0462393274010223E-6,5.1217370693926357E-7,3.5956936732774311E-7,5.2314670386236745E-7,3.1330219665959578E-7,1.963907803953048E-6,1.4220748370799796E-6,7.1292687579924352E-6,6.8095232280088985E-7,3.3975618801997622E-6,5.7287860248798769E-7,1.2473880509101345E-6,1.0525590000008407E-6,3.809120504622126E-7,9.1224954588777541E-7,1.0617058428128007E-6,1.1270611474514393E-6,6.7969884421286697E-7,9.1936396081393457E-7,1.6206622710670937E-6,3.5788352392095246E-6,1.2977961746233096E-5,1.3670535675032936E-5,4.7946968495702213E-5,2.530801425158789E-6,2.0592060129679532E-6,2.6359170734851619E-6,4.2261940686306122E-6,9.0649341515378303E-7,3.8107379853582514E-5,4.9987770990820143E-7,4.8843822291528852E-6,2.6719823522326511E-6,2.0233518368190573E-6,6.4170800852727908E-6,5.2139548521868518E-6,1.8351823399252469E-6,3.3166035117481142E-6,5.2087508601106141E-6,1.0015164744756018,0.78069784188794622]
[null,"252","セメント・セメント製品",6.8204987955711922E-5,5.1133525610074656E-5,1.0035994202622887E-4,3.8657143329202469E-5,2.2686454593757273E-5,0,9.6280297627861504E-5,2.4851881489889721E-5,2.5102136940787256E-5,2.1205613641549244E-5,4.9357795428577436E-6,7.2326811046704133E-5,3.4696419582604244E-5,4.2188213334211695E-5,4.5760873205334553E-5,1.4699113169618471E-4,6.4175307150285987E-5,3.7555867830370251E-5,5.7380013779287711E-5,7.8015313391019317E-5,0,9.4977788852328358E-5,8.7806611692886209E-5,1.4596915393075247E-4,3.4752202310924261E-5,4.7169310810002235E-5,5.1150046398779307E-6,6.2807165138615276E-5,7.1754197413303089E-5,5.471310130034828E-5,3.1644357377210335E-5,7.2968638346780176E-5,1.0277795051416914,7.9877619844953272E-5,1.7947406819595417E-4,0,0,5.1218576570112051E-5,1.0510876929243421E-4,3.5525038938864424E-5,6.1425282936607075E-5,6.2508206963715715E-5,6.9832999440493817E-5,7.8934798740937662E-5,3.9892257597808065E-5,3.4360023342853762E-5,3.7763854512243378E-5,4.1241543876667553E-5,7.4782840343281726E-5,4.4439646212120211E-5,3.3637544102170793E-5,2.9854087542886222E-5,4.4910606828020967E-5,4.1586731291300551E-5,3.6906083071649876E-5,1.4456957072613824E-5,1.8803938308783739E-5,2.2132804612221577E-5,3.6004051294594057E-5,5.7344434183570009E-5,1.4083069789118824E-4,2.3169106330262064E-5,8.5593801295221275E-3,1.0227311730390942E-2,1.6640269989926661E-2,9.150170138422585E-3,2.0566831845407986E-4,5.7100126516666403E-4,5.5989261128253629E-4,1.0715171693087288E-4,6.1782695599633733E-5,5.0988634517091268E-5,7.1267109744895375E-5,2.0536042118092043E-4,1.9450468248637771E-4,2.331385777295649E-4,1.6589586307605046E-5,2.2197201542581841E-4,3.4003786712351703E-5,3.313354409776061E-5,4.8375319547548534E-5,1.5072572909853899E-4,1.9515045912624974E-4,2.7390620209315495E-5,9.3753083776965977E-5,1.476954549180114E-4,2.3332548119498794E-5,1.1194786563638311E-4,3.2983468008285025E-5,9.8345337009943736E-5,1.2109444846564264E-4,7.5157612710567516E-5,4.2849921870520692E-5,5.9345814703986899E-5,6.2039696709633555E-5,4.3322395187787377E-5,3.1025690197970698E-5,4.3775290401246134E-5,5.5962676066586025E-5,2.3633565400644447E-5,2.4955394919623469E-5,8.1618734005748451E-5,4.7502601438530855E-5,6.2189733048527733E-5,8.4010734690265741E-5,2.2281914266629921E-5,5.3888919816704808E-5,3.3879111053320008E-5,2.9146827997224588E-4,1.0803510023308915,0.84215059611758136]
[null,"253","陶磁器",1.2865353931641362E-6,3.1368174319247597E-7,8.7825391842401087E-7,2.6765650389663337E-7,3.5150725730221527E-7,0,8.6542013900174489E-7,2.7940317972148786E-7,1.0339946712345841E-6,2.6303767464165434E-7,8.8638576488621399E-8,3.1504700875391121E-7,2.5828001983041418E-7,5.3517223980930151E-7,1.29770484625647E-5,4.4979489964492876E-7,2.9112397998638925E-7,2.6319690304580512E-7,3.6694518465917183E-7,4.2444747879946986E-6,0,6.1105386501018271E-7,2.3724066097263235E-7,4.3011465248658439E-7,3.183560568393478E-7,1.9195149065728061E-6,4.1724661471841178E-8,2.2782794357148333E-7,1.6083362203448847E-6,4.0195824152204748E-7,3.1321808984575827E-7,3.9769508950323751E-7,4.8881918862830503E-7,1.0000888842834152,5.6819682771165437E-7,0,0,2.0093315864692375E-7,4.3039772940678224E-7,1.7101501409352112E-7,3.1065074361581369E-7,4.516713789777019E-7,3.4710842375638622E-7,4.859910352770142E-6,4.4067577373154488E-6,2.8975430522800711E-6,1.9718872247238592E-5,9.3322059133546718E-5,6.2930720511946282E-4,5.3011872796923315E-5,9.0469365240157333E-6,3.5319191983942224E-5,1.5654110217791822E-5,5.0643281996164446E-5,2.2694460523274337E-5,2.7625915348502165E-6,1.985449930764375E-6,5.9365153435687345E-6,2.1288577183475001E-6,3.0049500746466215E-6,5.1323983771302412E-6,2.0082317276643623E-6,9.1424707506263751E-5,1.2316981013281972E-5,4.1442607745056783E-6,1.7950470671741876E-5,7.6004191343918174E-7,8.2850942147349106E-7,1.1381601934841364E-6,3.7787200529571691E-6,1.5087356913504046E-6,3.4261920605030233E-7,2.3549667309493303E-7,3.5320437839070158E-7,2.2576148959753204E-7,6.5136118482147599E-7,9.0225335554360988E-7,2.2666322990161576E-6,1.8708413428248318E-6,3.461305850774637E-7,2.5588862264959128E-6,4.3305522277786436E-7,6.4548432109479568E-7,1.8014062859795812E-7,5.1961966748879598E-7,6.9945180844320864E-7,4.3036051153093306E-7,4.3997354237250934E-7,8.1657242154009897E-7,1.5897362600875229E-6,2.4091806641956967E-6,1.0383110206184021E-6,3.1972456590696322E-6,3.9458712553312392E-6,1.2112278849770641E-5,8.0926132486228979E-6,3.2653790311788213E-6,1.2715415863796102E-6,3.1533965530407142E-7,1.0814940547474226E-5,2.7100882787371043E-7,1.6270355742187686E-5,1.3593004156144235E-5,4.0344708068683104E-7,6.2464278738000779E-7,1.9634416889997317E-7,3.2789001778941273E-6,6.1033532445269224E-6,1.0446210253251776E-5,1.0013345386615231,0.78055602005971547]
[null,"259","その他の窯業・土石製品",1.8667792053670424E-3,4.9615006951024966E-4,3.437869791859277E-3,6.1981483553588855E-5,7.9249617664089254E-5,0,1.0213890518537681E-4,1.5655689111321211E-4,1.0103591702644128E-4,2.4844472064291455E-4,2.8774634390053092E-5,7.3583942581138741E-5,4.6959024690080562E-5,1.4958194592808201E-4,6.2358069905254414E-4,7.1221080834707809E-4,9.6035088377043054E-5,5.8659358228774208E-5,2.817240573339611E-3,6.1099161970195092E-3,0,3.9833764574488542E-4,2.7721720978777901E-4,1.8755215786503125E-4,9.3101339095651181E-4,3.2508728579911777E-4,5.9784958216197549E-6,3.6814655375358315E-3,1.1464144876663356E-4,2.2202511321302415E-4,4.7926384381638723E-5,5.5611007229811205E-3,1.5470982973194726E-2,9.1864835399059451E-3,1.0219502362308697,0,0,6.7100146710024093E-4,6.9235354123135147E-3,3.1211880182778269E-5,5.3616684132561454E-3,1.454803395945267E-3,2.9333448889314936E-3,1.3867300591956183E-3,2.721519001257298E-3,2.8280349068756073E-3,9.5321853967300608E-4,4.8804389007946767E-3,1.6939928180105524E-3,2.6515406834961182E-3,8.3271689075926447E-4,5.4259416555628968E-4,3.0823419627338407E-3,8.6600498264206459E-4,8.085264898404816E-4,1.582013779222306E-3,5.3213542912753449E-4,1.3771381585056862E-3,8.8652120433689444E-4,1.1602549866743285E-3,2.3674720276592874E-3,3.2153534754485019E-5,3.5177991750594399E-3,6.2540830266514663E-3,5.813793765623171E-3,6.252801091751488E-3,1.9747062152563959E-4,4.1556547616019158E-4,2.6747455982771627E-3,8.4363370905338132E-5,8.9681755719650199E-5,5.279087896053691E-5,5.9432509041288494E-5,1.2652689705505276E-4,1.0423663352068713E-4,1.9958690368999585E-4,3.037816248523296E-5,2.3387532816860325E-4,4.3366310250253668E-5,7.190936091647507E-5,5.3193565113281505E-5,1.1711500306495581E-4,1.5773614783142742E-4,3.1728830019024864E-5,9.6515907576010933E-5,1.1866936113384941E-4,4.0259921160546728E-5,9.2444426938470306E-5,9.4885739479980488E-5,1.1649864952607367E-4,5.8020371068056751E-4,1.5474464586481227E-4,1.6652895401811051E-4,9.3691118363562815E-5,7.8888705400216843E-5,7.4623513186880517E-5,5.450037450378673E-5,8.1393218637088019E-5,5.5333036100374677E-5,3.6672975385086448E-4,3.1593037790469458E-5,1.4982840193472995E-4,1.0311780163448526E-4,1.2533971337245079E-4,3.0068151954194074E-4,7.9712973673118218E-5,4.5636364447451292E-4,2.5407413760486402E-3,6.1512550959805581E-4,1.1574383064158249,0.90224136194105808]
[null,"2611","銑鉄・粗鋼",0,0,0,0,0,0,0,0,0,0,0,0,0,0,0,0,0,0,0,0,0,0,0,0,0,0,0,0,0,0,0,0,0,0,0,1,0,0,0,0,0,0,0,0,0,0,0,0,0,0,0,0,0,0,0,0,0,0,0,0,0,0,0,0,0,0,0,0,0,0,0,0,0,0,0,0,0,0,0,0,0,0,0,0,0,0,0,0,0,0,0,0,0,0,0,0,0,0,0,0,0,0,0,0,0,0,0,0,0,1,0.77951572618585518]
[null,"2612","鉄屑",-5.8066740450750137E-6,-3.0191056635624709E-6,-6.6317078965125619E-6,-2.1481040121421296E-6,-7.8250261078971028E-5,0,-1.0430823511345226E-5,-4.2144955431856202E-6,-2.7995343555574589E-5,-1.6253776108447276E-6,-4.5429525058575712E-7,-3.2268457578322514E-6,-2.5168735326592501E-6,-9.5447029643655731E-6,-1.302188664366996E-4,-5.8668658111741409E-6,-3.4403569186557864E-6,-2.0788814702996866E-6,-2.7478485525034397E-6,2.4436665111670036E-5,0,-8.7480463875131594E-6,-4.1434732986256826E-6,-5.5404444475020139E-6,-1.2324625277925239E-5,-6.8925494999170561E-6,-5.0948075479856923E-7,-2.5636140536824531E-6,-5.7052730325861585E-6,-1.6180155802642364E-5,-9.1994218172035651E-6,-8.3045628222793829E-6,-1.5745642799250025E-5,-1.7154556010113444E-5,-1.5280436924927983E-5,0,1,-8.4029772444311167E-3,1.4741639135115705E-3,-4.6280586760219329E-3,-3.2668945369949525E-6,-5.945854023757576E-6,-6.242454611514464E-4,-1.682869637521664E-3,-3.770890467696726E-4,-7.3098820888388611E-4,-1.9961440799744153E-4,-1.3150671953698146E-5,-3.3665219536906649E-5,-2.9841135536881678E-4,-4.6760887121515855E-4,-1.5609323804863381E-5,-5.2214115395702676E-4,-2.2695854196401501E-4,-3.6060107908940156E-5,-1.9587536222702472E-4,-7.0902411285847706E-4,-2.5732439198851735E-4,-3.2205531401556585E-3,-7.8271123681306033E-4,-6.2751708124248403E-5,-3.0441229096831217E-6,-2.9398771883662268E-5,-3.3368689153971491E-4,-9.483240107191204E-5,-8.2636559237992449E-5,-8.8075557122315132E-6,-1.9846860557778181E-5,-2.1103883866399864E-5,-3.4089372263205281E-6,-3.9643971972513583E-6,-2.2338025558942179E-6,-2.6652073931130136E-6,-6.6254214697448037E-6,-5.657822782144747E-6,-2.1451716707321165E-5,-2.8126744720882544E-6,-1.673870946513681E-5,-4.1768165834277121E-5,-2.7993972078775907E-5,-2.9123236825739095E-6,-6.9053413752697406E-6,-1.3061163694373177E-5,-1.496491623141442E-6,-4.3740872782862632E-6,-5.7800032426174737E-6,-2.2492899908275835E-6,-4.4817333994985064E-6,-2.224289070773067E-6,-1.0454660405310887E-5,-5.1330914759914772E-6,-3.8274031659110935E-6,-3.4314098032436744E-6,-3.2259880637592008E-6,-3.268281204079426E-6,-2.2264339867494927E-6,-3.1264523038997255E-6,-7.7893089538220166E-6,-2.4667664010629331E-6,-5.1117818610980928E-5,-1.4607465104766415E-6,-4.6898295796885872E-6,-3.9695793496008695E-6,-4.8124862352927509E-6,-3.9229500332176941E-6,-1.7434226954487443E-6,-5.1970144285655594E-6,-4.8789241957646334E-6,-9.0144626799930552E-6,0.9766652706094664,0.76132593765964296]
[null,"262","鋼材",2.2480000458853654E-6,9.7707442663179882E-7,2.3029297204219023E-6,7.898540720451045E-7,1.4480906275975859E-5,0,1.0711027039078678E-5,1.3346048257176962E-6,8.81352178706343E-6,5.6105358767460806E-7,1.8216450511476788E-7,1.4992633127953846E-6,2.6688331493595037E-6,5.4406629255424657E-6,1.279267557227307E-4,1.7713255805120402E-6,1.1582080087880649E-6,7.6306975581004326E-7,9.7828461895673421E-7,2.6809710161544532E-6,0,2.6909447070302941E-6,1.2310289684759654E-6,1.6753332166017748E-6,4.0271789336006894E-6,2.2392858874049305E-6,1.5970045203860978E-7,8.3321632182247433E-7,8.0126122357743361E-6,2.2722673989573174E-5,3.1329584400816518E-6,2.8401370953922424E-6,5.2704717285629773E-5,6.2218534563768511E-6,1.2324747173947416E-5,0,0,1.0020675334940332,3.0677632448799445E-4,1.8980827884990006E-3,2.180126319755979E-6,9.2990597998256547E-6,6.6700743775115299E-4,5.159027073391348E-4,1.5954219590192539E-4,2.2570438039071398E-4,5.4650185759977083E-5,7.6287251137413845E-6,3.3161374041025491E-5,1.7946629703130245E-4,1.3401784769487531E-4,2.1686617797949133E-5,1.03789579594583E-4,3.3818855031507321E-5,2.1995316329220761E-5,1.5767936873019815E-4,1.6871878918816067E-4,1.0660100410205982E-4,5.7007428357953003E-4,1.7941768131554125E-4,3.0661204653736595E-5,9.8801645551275815E-7,9.6020251387087178E-5,8.9496591222602381E-5,8.4590618708652902E-5,1.2751413499444015E-4,2.6664365794596867E-6,5.4303062838348183E-6,6.2033430359421682E-6,1.2548703343169462E-6,1.2822616141715581E-6,7.5782371131117207E-7,8.2015080265246476E-7,1.905054094959641E-6,1.5439755781585162E-6,5.3740344902131373E-6,1.1234637248705909E-6,6.3767077503575909E-6,8.0880624184703264E-6,7.9943104780412886E-6,1.1516856153345691E-6,2.1270933626416416E-6,1.4162622903762383E-5,4.7904572119862894E-7,1.4108346338529491E-6,1.7020181482262291E-6,8.8142273735571068E-7,1.3937895062355206E-6,7.8694614723104035E-7,2.786718836341124E-6,1.5003440854163243E-6,1.3376180317320671E-6,1.1123188249807507E-6,1.1288671609698381E-6,1.1413070947219026E-6,7.4303252863232636E-7,1.2811157795347576E-6,2.9812492393290655E-6,7.82335584578957E-7,2.0741843979193949E-5,5.0700419443310133E-7,1.7182673723741791E-6,1.2741529107361018E-6,1.5695879284683389E-6,1.2881915408325419E-6,6.1157061589787221E-7,2.3953815853409731E-6,2.3242136698403774E-6,1.06459597823069E-5,1.0084948974962116,0.78613763237648893]
[null,"263","鋳鍛造品（鉄）",1.7400983501319636E-5,7.5164955766150814E-6,2.9875383519818765E-5,7.9089073400338827E-6,1.8316303533336055E-4,0,6.162584334328661E-5,7.2058131475233809E-6,1.9097237118115162E-5,4.1096258219206553E-6,1.5170053346229262E-6,7.2221859646988932E-6,6.1978067217626112E-6,1.3830132655930497E-5,1.2214858131740763E-4,7.8097908671904225E-6,4.9604567511544943E-6,4.312829212772124E-6,7.8412792271858762E-6,1.2801698125971024E-5,0,9.700699599088227E-6,4.9708598176257722E-6,7.0467669278197754E-6,1.0072065096461188E-5,6.3269333348566548E-6,1.2352425927981799E-6,5.3427976192127085E-6,1.6273227736341573E-5,1.4900485201634048E-5,8.6566842661089657E-6,1.3519610127176509E-5,3.318054321067092E-5,4.2051403421239841E-4,4.4219434868832836E-5,0,0,3.9867298070487354E-6,1.0010089030494786,3.574276136567128E-6,7.3718432718664828E-6,7.8870824845470476E-6,2.9380507207814716E-3,7.5175800912011628E-4,4.5291576216906319E-3,5.1262593512964227E-3,4.1710766595919242E-4,2.5363354894359327E-5,1.0654460612631413E-4,2.0376780056659436E-3,2.1630066669765474E-4,2.4603564643184081E-4,2.5591249995875729E-4,1.1031525125550116E-4,3.2764495121306874E-4,9.6042014682701205E-4,8.9722937932181814E-4,4.2677355909015845E-3,6.2718971818033036E-3,2.5127680628411753E-3,5.2470574212702269E-4,1.0654078774411558E-5,1.4350503038851588E-4,1.7445197615177958E-4,2.2542025750446273E-4,1.1117033493517525E-3,1.9698655312241232E-5,1.2999160572487205E-5,3.709095588314669E-5,1.1702020551785402E-5,6.4172888525871685E-6,4.4916352693706568E-6,3.6128758485071146E-6,5.2769693844493429E-6,3.2794535954455588E-6,4.9704200234156164E-5,1.3330210212274921E-5,8.2239955668650901E-5,8.042569582140515E-5,8.8929751942381382E-5,6.5690833288867529E-6,8.4815859071166018E-6,1.645850264033105E-5,4.0003637747667443E-6,9.017636403486672E-6,8.6210620086087827E-6,1.1387166203866768E-5,6.666616728794491E-6,5.8081262279692216E-6,2.0255907223258447E-5,6.9801785868795875E-6,1.172992111472588E-5,4.9244781382667029E-6,9.5914363304990825E-6,8.6982522174162964E-6,5.7415587325050748E-6,8.4803600756327474E-6,4.8936955319829035E-5,5.2537360295525013E-6,4.4013619343506721E-4,4.0278711510852201E-6,1.4822799708584565E-5,9.1736905394207344E-6,8.6961024016542417E-6,9.5206069428349262E-6,3.6127855008782028E-6,1.3456804228156682E-5,2.9123012134076386E-5,4.7410765919016404E-5,1.0375496289918562,0.8087862524974514]
[null,"269","その他の鉄鋼製品",9.6672186067379818E-5,4.2841373427678691E-5,1.052820511677053E-4,3.7580848058581059E-5,7.4695400354641943E-4,0,1.7342508943589665E-4,7.0887602422086581E-5,5.4602476384218806E-4,2.5379085841468742E-5,8.7453931491598171E-6,4.367245238510948E-5,4.2168835185321706E-5,2.1666268943382053E-4,2.1833913921850818E-2,6.8904831217697499E-5,4.8924334562512325E-5,3.075608792192966E-5,4.2530828913411348E-5,2.2320351369376984E-4,0,1.429070095076215E-4,5.2752212567362725E-5,6.2772648318442783E-5,2.3980461496988601E-4,1.4315115284264227E-4,8.1856789155994784E-6,4.0051563193817063E-5,1.1290208091264527E-4,3.0318808210926131E-4,1.7630628589086137E-4,1.7322911668584431E-4,1.6438769090918364E-3,1.0692975236397746E-3,1.1801130451369879E-3,0,0,2.713434721098036E-5,5.1490414486396463E-4,1.0000206883402736,4.6995558696705951E-5,2.9407060476764255E-4,4.80872114030024E-2,3.3007161107542357E-2,7.0308010372666539E-3,9.1375591629986996E-3,4.1171590380984441E-3,4.1092771043125447E-4,3.2049350241593706E-3,6.8493219788436574E-3,1.2493911936572887E-2,4.6833116972328545E-4,4.7497879764152023E-3,3.5422532985311703E-3,9.5374464202637832E-4,3.9731491207184661E-3,4.1956509147703189E-3,5.8497852380552757E-3,2.9746712823810695E-2,1.7569472687704101E-2,1.2828886937868889E-3,4.6004137350116058E-5,1.6634596948393351E-3,2.8133237113832092E-3,8.7966736610714188E-4,1.3212761456551517E-3,1.0566383770537185E-4,1.8463742776761818E-4,2.2591851338903379E-4,5.9828799442403543E-5,6.0054483663228803E-5,3.5831006930778491E-5,3.0805403465429666E-5,6.9239134351380734E-5,5.1601162314049906E-5,3.7769118289398298E-4,5.371652271961555E-5,2.6905900834110134E-4,4.0125729835533899E-4,6.1115099061293985E-4,4.3036733330055947E-5,8.9156310144173755E-5,1.683406403481072E-4,2.1743033763760913E-5,6.5795370223358781E-5,6.4579348103021105E-5,4.6193397819492453E-5,5.982451505935842E-5,3.9527595863440962E-5,1.6423880623671707E-4,6.1700499556930892E-5,6.9139774372102658E-5,6.0214757777784555E-5,5.0244667602758478E-5,6.5927772044491333E-5,3.8695830695368335E-5,9.4832534679355494E-5,1.5726382820775744E-4,3.2273697761715514E-5,1.1199015536260885E-3,2.6050674054654218E-5,7.3652135778234731E-5,6.8672885065652572E-5,7.7628364869262661E-5,5.8605761131913673E-5,2.8620030368927991E-5,9.2674694044969053E-5,1.1506116028278881E-4,2.9835652046105918E-4,1.2399397644967358,0.96655254594839124]
[null,"271","非鉄金属製錬・精製",9.4960197717967567E-5,2.9470698966489008E-5,8.6792308318195903E-5,2.4855501372785616E-5,9.6827423664401128E-5,0,8.8469751744315827E-5,1.1775539413703281E-4,2.3513129632665901E-4,2.4252737650460887E-5,1.4762461144639956E-5,4.7195264538052628E-5,5.4005867011317452E-5,1.685406857286354E-4,1.0529728063770158E-3,4.8391589532276252E-5,5.5847931791644713E-5,-1.7385739931461647E-4,6.0013234950453193E-5,8.2701560548088613E-3,0,2.9453087885949846E-4,4.3086080407118545E-5,6.982582065763579E-5,2.3978971719658323E-4,3.6138415776627453E-3,4.8839048631510187E-6,3.8712082996355426E-5,4.235957180019278E-4,1.8465788665227609E-4,1.6521256864209115E-4,2.1680265050451888E-3,1.3280745182250419E-4,1.1474433834249979E-2,3.3734942850599833E-3,0,0,1.0358947399513966E-2,8.9245621424822097E-4,-8.6630704604175436E-5,1.0850274464505036,0.17577430446070422,2.5183654594790423E-3,8.9661578761181578E-3,2.5805151973219138E-3,2.0625228568693626E-3,1.7860436165064011E-2,2.7768920035236453E-3,1.219759004306935E-2,9.2432566615810452E-3,3.0889082632107436E-3,2.3227354384585349E-3,2.6109599894220369E-2,4.4068475031680959E-3,1.8764978694240095E-3,1.8438699085016705E-3,-1.0401181705538544E-4,5.2974678257640302E-3,2.1379895513582276E-3,1.8975356727469195E-3,5.6540297865546926E-3,2.5736451259094286E-5,5.9547359689147788E-4,8.7134741418529009E-4,3.1736444753650616E-4,1.8227501665345354E-3,1.0046954895840262E-4,6.622459208155831E-5,1.2800346268465021E-4,4.0741891488879864E-5,3.0763786383103536E-5,1.6909995437816411E-5,1.6473653958572749E-5,2.5020819659305101E-5,1.6424269435686636E-5,7.0423106176002723E-5,3.3126252699739512E-5,1.8100850834489753E-4,4.7343476200543025E-5,8.3552735819470827E-5,2.4062199956826963E-5,3.7830608052783331E-5,6.331093168587598E-5,1.0929832016790159E-5,3.3862867568359088E-5,4.5865045334030274E-5,5.0441888695519037E-5,2.7968128722572932E-5,1.2781765294844505E-4,7.8784300229749681E-5,4.0561416847973829E-5,1.2149584917040641E-4,1.9919228893572804E-4,6.3813510133540005E-5,4.602111733553003E-5,4.9203545381570732E-5,4.745209486756322E-5,1.22613181691119E-4,2.5903594228007863E-5,8.7241070032276007E-4,2.3826332950910344E-5,9.3145726901070874E-5,5.4689971775739248E-5,1.1665696279081355E-4,4.5568787970145846E-5,3.2954809107843384E-5,8.6734045415302609E-5,4.5455345433054954E-4,4.768083169835315E-4,1.4252908094364143,1.1110366003438517]
[null,"272","非鉄金属加工製品",1.4322028371447967E-4,7.1888468663590209E-5,2.0208358396936934E-4,6.2049945175734637E-5,3.0114021654882242E-4,0,2.1964353217310048E-4,5.449998879418521E-4,6.0895760901946846E-4,6.7769300486316447E-5,5.4524755516975067E-5,8.2431745813498061E-5,7.1435107219233474E-5,5.4343519807203316E-4,5.1260924243898979E-3,1.139687281069116E-4,1.1186568883517506E-4,7.881080451900734E-4,7.6333971198885706E-5,3.3065837462482455E-4,0,1.2140751202985867E-4,6.3804933300375108E-5,1.0094325933102107E-4,8.4505350721466059E-4,1.3493380742759624E-3,1.0293336128537731E-5,5.1352121719653703E-5,8.541828545828268E-4,6.165682503747671E-4,6.5034429084824487E-4,5.989323824926009E-4,2.7203885056765748E-4,7.1503495329266629E-4,1.2006174214984557E-3,0,0,1.2393426905852403E-3,1.9747856237722338E-4,3.1627746345947657E-5,4.0865075648244156E-4,1.0175205934294607,1.428257491977458E-2,1.3362294530627986E-2,1.3616456592766991E-2,7.2261081992344486E-3,8.217935668746984E-3,5.6469790094039315E-3,1.8389833297339096E-2,2.3773894938955653E-2,1.3367497611922649E-2,8.5904355452122629E-3,1.462439852131835E-2,1.8813835759373235E-2,8.4362969518672164E-3,5.3147095342174506E-3,6.1501759765030745E-3,1.3065489775815854E-2,9.4344547620072283E-3,7.9561017421049748E-3,5.4824998610102944E-3,6.8520208509885913E-5,2.5563400917768932E-3,3.6673106653851107E-3,1.4362324767980218E-3,1.0067339225117008E-2,4.0961605189235902E-4,2.353820789717139E-4,4.0729483655616228E-4,1.0365990749037953E-4,7.5674026162264881E-5,5.2607321787538462E-5,4.676367870115545E-5,8.6724478058074076E-5,6.4363346147364319E-5,2.5297410952740136E-4,8.2081258053642666E-5,4.9349560640388483E-4,1.8339353309876068E-4,3.1208254754408791E-4,5.8251173472261595E-5,1.0853462938151502E-4,1.6771338705214465E-4,3.3747956430279628E-5,9.19423572685967E-5,1.0713170582027019E-4,9.1213917954482767E-5,8.0608620668658977E-5,2.4281346386042119E-4,2.2245936101656733E-4,8.695457036800907E-5,1.9032813425976988E-4,9.572853369798417E-4,1.0109155569390422E-4,1.3559319861615208E-4,1.9088219530574856E-4,1.5907642520582855E-4,2.8441776361566617E-4,6.6867275593115449E-5,2.2832364836829788E-3,5.4995358913619709E-5,3.6109548855194805E-4,1.9639459425263908E-4,3.5824782695988616E-4,9.2635774483062355E-5,7.2714246683874549E-5,2.4715127018758355E-4,7.854158367095258E-4,5.0963323582060784E-4,1.2810604735905615,0.9986067853589421]
[null,"281","建設用・建築用金属製品",2.4166941350891552E-4,1.8153682164177349E-4,3.5721636231136742E-4,7.3262249613854398E-5,2.8083424303439804E-4,0,3.456824038272126E-4,8.9781412462506478E-5,9.4402609624923711E-5,7.5132891589325086E-5,1.6780382805703222E-5,2.5623180036373806E-4,1.2821415750450876E-4,2.9274977217566285E-4,6.8508267031952552E-4,5.189914308146343E-4,2.2670042590350231E-4,1.3271825790305466E-4,2.0066446675900704E-4,2.7381531391681383E-4,0,3.3686020282605128E-4,3.0994119450426859E-4,5.1333786211037245E-4,1.2472349915389726E-4,1.6416850328481095E-4,1.8304536209128053E-5,1.4451879544891125E-4,2.5397207130423898E-4,1.9611836678052745E-4,1.1372714633159352E-4,2.5702354566972164E-4,4.03717827897272E-4,2.8518833094684997E-4,3.6861002694068244E-4,0,0,1.802227191638003E-4,3.5280077093541827E-4,1.2433678604457449E-4,2.1596311740257215E-4,2.2047211269197507E-4,1.0093783864315824,6.2261331184385255E-4,2.9336578359336144E-4,1.9016309132888554E-4,1.374565895906216E-4,1.4708374317165302E-4,2.8548091484469459E-4,1.619466206072031E-4,1.2286230761069546E-4,1.0935309423623528E-4,1.5493566977806413E-4,2.0662231903573357E-4,1.3474667153483199E-4,5.219091537392591E-5,6.766581016567776E-5,8.0055490629118907E-5,4.9291316559022177E-3,3.8077802297047949E-3,2.1309289463592369E-3,8.7014331144309392E-5,2.7084077152257295E-2,3.6057361354820822E-2,1.2025527450505278E-2,2.4148874872060522E-2,7.2321977943424392E-4,2.0031651745384383E-3,1.9745796960218848E-3,2.0402443478886029E-4,2.1842542392618773E-4,1.7857311497247648E-4,2.4977038727640351E-4,7.0394447911865162E-4,5.8874048043218387E-4,8.9757422391542781E-4,6.0376090283274217E-5,7.9863860724817021E-4,2.7345545909899214E-4,2.3657904328152482E-4,1.7052212133374591E-4,5.3176644220760509E-4,6.9895560826683731E-4,9.7538072376243874E-5,3.2884623716839494E-4,5.2124860926479539E-4,9.0626006368666454E-5,3.9388872485560312E-4,1.1964073140775711E-4,3.5136138251744769E-4,4.2645895448707835E-4,2.3689022595840801E-4,1.5108108395475335E-4,2.0481443571834871E-4,2.1981630787390951E-4,1.5331384804716708E-4,1.1225384054292856E-4,1.9636982119321291E-4,1.9882261896871111E-4,1.536335600489715E-4,8.9139504480985742E-5,2.7794559750798789E-4,1.6556624555205815E-4,2.1946380035115773E-4,2.9766484111219303E-4,7.8896662404738088E-5,1.9173401883122064E-4,1.8435709968076878E-4,7.0237022615111271E-4,1.1481471522823774,0.89499876117961907]
[null,"289","その他の金属製品",1.3153948250081682E-3,4.7670434476108637E-4,4.2645786714208853E-4,4.4989775190168083E-4,9.9317749499054815E-4,0,2.4131363984650927E-3,1.4452807237845381E-3,1.6133166343221143E-2,3.3718733554502733E-4,1.0463750978001208E-4,2.8682114821633166E-4,5.5989857819883037E-4,4.2867863127990053E-3,1.7724264822529645E-2,5.885522456018403E-4,7.0292430120875537E-4,3.1459912007231764E-4,2.4091993360858495E-4,2.7074199954932711E-3,0,3.2906968744702862E-3,7.6146376681705244E-4,5.2204008484927884E-4,6.5720357982948108E-3,3.1230977471702602E-3,1.320733197994469E-4,4.691543176104637E-4,9.1044669053722341E-4,8.2742062036004014E-3,4.7040424571509207E-3,3.0712996190821449E-3,2.6029469377829612E-3,5.4106700059075117E-3,3.3012839051930858E-3,0,0,2.2020316408400683E-4,3.5015419720533002E-3,1.7670671768927991E-4,4.4636220894904113E-4,1.4441445501461956E-3,1.2846940027596209E-2,1.0225517738867382,8.4685423424456351E-3,9.3458885521231719E-3,7.9497489158431248E-3,3.684764092053898E-3,8.6834647058323007E-3,1.1265633293019803E-2,8.5120651215667316E-3,6.0088913884868873E-3,6.1105392001360335E-3,9.2743425047006039E-3,9.9771238051838771E-3,2.2338948889406331E-3,2.7862168364701429E-3,3.9540960844525177E-3,1.5361700589532774E-2,4.8348635138575104E-3,5.3614220564019866E-3,3.4208412610564577E-4,5.1243139711752627E-3,2.0210512217462302E-2,2.259683957562532E-3,2.1508130848581801E-3,6.4373725583244954E-4,1.7100344500234148E-3,1.490911294092759E-3,3.1745063576482408E-4,9.4286688290977914E-4,1.9366620575825329E-4,1.9175868761044419E-4,4.863731019092122E-4,4.4320753378591948E-4,7.342869440482763E-4,5.5435000961203437E-4,1.0624523641097482E-3,6.2325343445794699E-4,5.3848407293833288E-4,5.047799884097113E-4,1.1266716888626873E-3,2.3315583387249288E-3,1.2066467974270919E-4,5.141736547022291E-4,3.8836981235056605E-4,2.2160751430277487E-4,4.1367506878094336E-4,2.8086754747615048E-4,1.5007466659127562E-3,3.6742000076045119E-4,3.5897774390741875E-4,1.0104120885996712E-3,3.5960056334076533E-4,4.5226434343051685E-4,3.4004211160037015E-4,8.3713461927125907E-4,8.1393167061268392E-4,1.8551658916946459E-4,2.4160437779918425E-3,1.7941891858432648E-4,7.8103797109441684E-4,1.2731981426850891E-3,1.4060645723128222E-3,3.1231277723505499E-4,4.3111033818530713E-4,1.743139600030291E-3,7.5629685285758127E-4,1.3423501759557079E-3,1.3224431832458052,1.0308652583273878]
[null,"291","はん用機械",2.5180040705522161E-4,1.0574167149226001E-4,4.6365324919153396E-4,1.0993521054802613E-4,2.2332490548529054E-4,0,9.914554172160302E-4,7.0553130614211382E-5,1.1363885360819927E-4,5.3983137450241782E-5,2.2321240529117554E-5,9.7476240154006165E-5,5.8223944843301676E-5,1.4507092463333907E-4,1.5445830523983753E-4,9.2132542956300612E-5,5.809135569781995E-5,5.5706103678734595E-5,1.1720993326502503E-4,1.61082573547341E-4,0,9.8886521387321638E-5,5.4409491733143862E-5,7.6369768153891732E-5,8.105960148383752E-5,7.4959927947498449E-5,1.719219201014701E-5,6.7605131288652883E-5,1.6631994661446323E-4,1.3095052650551788E-4,7.2622015516048431E-5,7.7679571197338351E-4,2.0106443770105369E-4,8.7154634571062187E-4,3.672368596377676E-4,0,0,4.8385730336294755E-5,3.5206513486096494E-4,2.9430031573746236E-5,9.2648552461314893E-5,8.5591849466571955E-5,2.7653002549573994E-4,2.2181451558895342E-4,1.0249490238446834,7.2265312642609764E-3,1.4090332605978184E-3,3.9388115802843198E-4,5.2155216717998752E-4,2.9104363870484326E-3,5.5400707524224484E-3,4.8034548315863861E-4,1.0563957340600399E-4,4.6870563069928954E-4,2.0846892059865681E-4,5.6158743630891749E-4,5.8098136645277074E-4,2.0458556787010243E-3,6.8386432201212634E-3,2.8043311325911939E-3,1.9981759297829104E-4,1.3801551486575489E-4,1.5833653345432293E-3,2.3592771570115831E-4,9.8321883254995292E-4,1.1279169611025815E-3,2.6747637481246096E-4,6.0843053733298024E-5,2.0611090957107867E-3,1.7821989943359883E-4,7.9304465660544763E-5,5.3264656903271684E-5,3.8675424708157347E-5,3.168894109710776E-5,9.1163960722596696E-6,1.4188128089869621E-4,2.0700616158534499E-4,1.3003259211346702E-3,1.0819119681776614E-4,1.9893060645593147E-4,9.2990668030130578E-5,9.9480133847875196E-5,1.6665872524199767E-4,5.2645519766904167E-5,1.1969212852648764E-4,9.2683665951491753E-5,1.4336875062478396E-4,7.1955713711779507E-5,6.0920926009565359E-5,1.8929241824447549E-4,7.0023014754978357E-5,1.4958009220721299E-4,5.5125942230071525E-5,1.337170351646156E-4,8.8168642156857542E-5,5.8121071920502189E-5,8.2598346571315643E-5,7.5126303037661231E-4,6.1903441669605288E-5,7.2352743604316158E-3,7.1232998915199579E-5,1.6358120681538157E-4,6.5015924328527266E-5,1.1830900700665972E-4,1.084358804631077E-4,4.6962185239377225E-5,1.0483715059502495E-4,4.8629456821960778E-5,5.5543849633891827E-5,1.0841167374549348,0.84508604586742353]
[null,"301","生産用機械",1.2341093118208603E-3,5.0210990020248898E-4,2.2728090983607555E-3,6.3981837986524343E-4,3.7079791111554534E-4,0,2.4337995629124098E-3,3.2985934951659454E-4,5.5584358457793368E-4,2.5962032707734542E-4,9.994816372698546E-5,4.5351045014284987E-4,2.7360161442135169E-4,8.3660591952906718E-4,5.0067355040045447E-4,3.8745387636346661E-4,2.8221882598202566E-4,2.8351942712391694E-4,5.361003744035601E-4,7.5751800324729631E-4,0,4.4920366652712122E-4,2.3904125242987494E-4,3.260593348644502E-4,3.9300176096365166E-4,2.6008098339885425E-4,7.9363181924288533E-5,3.0742760137087143E-4,2.3608065823401631E-3,6.499611281136241E-4,3.8941292791382418E-4,6.4201840610764692E-4,1.0570612152290733E-3,2.9816931293601802E-3,2.0030300076739494E-3,0,0,2.0459802033521101E-4,1.3088722247818199E-3,3.4224033477785757E-4,3.963480083896215E-4,4.7197951539686129E-4,5.477857671171663E-4,7.3887395843456806E-4,2.6071722760106957E-3,1.0655887120259175,8.691269529066284E-4,2.5910606597528991E-3,1.7545528171563193E-3,2.1776155890570318E-3,1.0682479392941913E-3,1.3411956142485883E-3,4.8950985619644583E-4,7.4718219963918972E-4,7.9957336894483793E-4,5.3887373490417478E-4,5.8276766986438671E-4,9.3372502141650902E-4,3.0751798948551092E-3,9.1713380880079954E-4,6.5593905758525343E-4,6.5828689135426807E-4,3.9783823366607414E-4,5.8733150078117322E-4,6.3003587141220296E-4,4.6641164135355112E-4,1.2982663428575279E-3,2.626369244070069E-4,1.2107506647372412E-3,7.9471072776398245E-4,3.5325945931971467E-4,2.3864957309594587E-4,1.6218847836213358E-4,1.3534794173058708E-4,3.3779548796229478E-5,2.4648701598506883E-4,1.0108256331518193E-3,6.2992061105088034E-3,1.7298153629180689E-4,5.0812481608257997E-4,4.1713434609404697E-4,4.3054134079811721E-4,5.4496823794651466E-4,2.3591111362358501E-4,5.2149161565522245E-4,4.308280921892763E-4,6.9426447411767447E-4,3.3207603975173261E-4,2.7944292653106837E-4,5.5759582598030426E-4,2.6560012716526563E-4,6.4661616012649684E-4,2.2481132658244788E-4,6.0582017200538061E-4,3.8041309373141533E-4,2.0593058431035572E-4,3.7722449470799582E-4,3.8053333847792381E-3,2.908027618159648E-4,3.5743277972842886E-2,2.2929711812514784E-4,6.724689395085511E-4,2.3254473799652609E-4,4.4816998139562492E-4,4.8080366417315785E-4,2.077344780184189E-4,3.7226766115704992E-4,2.251254311842314E-4,2.1176000506294927E-4,1.1814337201438254,0.9209461642983704]
[null,"311","業務用機械",3.7600146181867764E-5,1.8537145442162656E-5,7.4710615181992432E-5,2.0320904288548805E-5,1.3923974348720208E-5,0,6.6003596611678936E-5,1.2884753007223491E-5,1.7093460608894783E-5,9.8927891569607272E-6,3.4984788309811455E-6,1.5822875528161206E-5,1.1869481014195112E-5,2.2547893935484904E-5,1.1006116278300068E-5,1.3600069264650431E-5,1.0459130044287705E-5,1.0601171405824027E-5,1.6939212005818901E-5,2.2946845340782685E-5,0,1.4450642654603514E-5,8.064956272367562E-6,1.1657529792745209E-5,1.2669680480445169E-5,9.4609766324677372E-6,2.4663148153827027E-6,9.4307249265499135E-6,1.2790289973150795E-5,1.9363413808715935E-5,1.3996657672750069E-5,1.4992661544911822E-5,2.4175818964963043E-5,1.8113774069629339E-5,2.9854513946355152E-5,0,0,6.8914533038025414E-6,1.5802054050751554E-5,5.9308396642657819E-6,1.1187768430635325E-5,1.2907227027101362E-5,1.5712921907549796E-5,1.2556631497240071E-5,1.9501994621593096E-4,3.1007276294686394E-4,1.0031556537818156,2.1194991840965161E-5,1.63457085754226E-5,8.2683456350787977E-5,1.1974795218347263E-5,4.0870827675357925E-5,1.1044270625672601E-5,2.6302554999214531E-5,5.3546503922739466E-5,1.9939247017505717E-5,1.8836134383929E-5,3.0709612607138642E-5,1.0440717871828211E-4,1.463644074556886E-5,2.8035037859338662E-5,2.4979493112649318E-5,3.2365036840054186E-5,1.72089507493503E-5,2.4615668699257934E-5,1.785384933236312E-5,3.6988693945611802E-5,8.1083171290304294E-6,3.7217068103784032E-5,2.8314806390576103E-5,5.9172929286981684E-5,1.36252361211016E-5,7.5110766345407421E-6,5.9705599032697766E-6,1.4875925433425216E-6,1.1079692945127262E-5,3.0952391784521774E-5,1.8741947684501218E-4,6.9450933382481832E-6,1.9664284397265412E-5,3.989543066355155E-5,2.4854082777129399E-5,2.5097026580515021E-5,1.2673524089826601E-5,2.2524006861341874E-5,2.4723149003326581E-5,2.2108819439271222E-5,2.3519070788517226E-5,8.8425070289883717E-5,2.4260784303198614E-4,1.1024243536505874E-5,2.9065340099136564E-5,8.717462791152967E-4,5.1193830121276966E-4,1.7852169298726033E-4,1.4062529017136224E-4,1.8353547787331526E-5,2.2340450211104821E-4,1.7069773895861666E-5,9.8031173977158317E-4,2.1697923545081745E-5,2.8169265243357589E-5,1.1113288323197599E-5,2.008585203262558E-5,2.0138127346449919E-4,5.0361384932402992E-4,3.7835045721760958E-5,1.2529041370627264E-3,3.0247267379298095E-5,1.0110210256158429,0.78810678897210185]
[null,"321","電子デバイス",9.1351380330738678E-7,3.8214423105888938E-7,1.6877868290038702E-6,4.0631016656948456E-7,3.8991596920251428E-7,0,1.6387322814663371E-6,2.4537140095503132E-7,4.1247290688982531E-7,1.9494056181257122E-7,7.5155140816993657E-8,3.5238762355574292E-7,3.1620815296199116E-7,5.2889568005606916E-7,3.2503658672060159E-7,2.9915671470886295E-7,1.9496658627494238E-7,2.1585759120159027E-7,3.9411435900884314E-7,5.6144918636558614E-7,0,3.5392063978789705E-7,1.8361706070812585E-7,2.5750694262767233E-7,2.7005741351456654E-7,1.8860598593621989E-7,5.9165859901852999E-8,2.3011422472494353E-7,3.0215369410511281E-7,4.7872263757279346E-7,2.6738537761913807E-7,3.39530823851603E-7,5.8061773163852662E-7,4.6184574959095758E-7,7.4120494000974683E-7,0,0,1.6904288076929483E-7,4.1361668460653378E-7,1.0426594449121023E-7,2.6904125892985317E-7,3.2128407957512171E-7,3.4393750218125043E-7,1.3081686927324202E-6,4.4530881711146622E-6,1.5399344085636404E-5,1.0753320541695423E-4,1.0002665972949145,1.0816758085965939E-4,8.9428435245453961E-5,2.3212061368884778E-4,4.2457442382467608E-4,1.2441267575647119E-4,2.6083571234841193E-4,4.0768761045917404E-4,8.1157876690034359E-6,6.3966849335371108E-6,2.360799347394896E-5,2.0643727080235752E-6,3.3806443001963584E-6,3.3119428843437736E-5,4.9467669350367761E-7,8.3556174511513129E-7,9.2237858117558778E-7,6.8833949748362634E-7,8.3124626839988457E-7,9.7403396354989948E-7,2.0624412085852458E-7,8.1756658941530157E-7,6.050104573374259E-7,2.9669146974414796E-7,1.9869113398540088E-7,1.4011289180996923E-7,1.1875426421276455E-7,3.4398354759081746E-8,2.6888092693981295E-7,7.5501668442982627E-7,4.6910650425071244E-6,1.1392905043496484E-7,4.4913197516937548E-7,3.0948684390882626E-7,3.1416796998339647E-7,3.8958360811169017E-7,1.7355106374380529E-7,4.3481850674114134E-7,4.4763144455796711E-7,6.8171077352240416E-7,2.7569636695332485E-7,4.4609220458424759E-7,6.5318301896227725E-7,2.8991741841013308E-7,7.9737204945481193E-7,2.7086077556178823E-7,5.2620720694485395E-7,3.4690662200399106E-7,1.9828893243915874E-7,3.4404937906720416E-7,2.9168819295385566E-6,2.8180480120973335E-7,2.6437678795445936E-5,2.2237065662786362E-7,5.4065264385768811E-7,2.0327318254131382E-7,3.9001659533951281E-7,4.7034942771213063E-7,2.1726657961331503E-7,3.5546862883762039E-7,2.5210363776908826E-6,2.0959764324324798E-7,1.0021901807697531,0.78122300653906751]
[null,"329","その他の電子部品",5.8277388380671171E-4,2.4174123257194644E-4,1.0783900530076985E-3,2.8196530267911237E-4,1.9027814121783861E-4,0,1.0445779966446324E-3,1.6211964647959342E-4,2.6869528894524832E-4,1.2524135815915698E-4,4.8478637292340738E-5,2.24755584770382E-4,1.4381436197869287E-4,3.3164752034395279E-4,1.7673334764427168E-4,1.8934706677498227E-4,1.2817405193627518E-4,1.8067523673741313E-4,2.587170726934552E-4,3.6468683122446976E-4,0,2.1948370122255433E-4,1.1882550394991888E-4,1.6060974325975147E-4,1.8570579534139096E-4,1.2732563421016091E-4,3.7980298688980903E-5,1.4568595650890561E-4,1.7629374269078143E-4,3.0934965829048793E-4,1.7901592448266618E-4,2.1052686352523441E-4,3.7206211332585184E-4,2.6452541974063867E-4,4.5865561333317112E-4,0,0,9.9184679099824583E-5,2.4421717397384485E-4,6.968532308539189E-5,1.7238050873856606E-4,3.4561959142703606E-4,2.2312553845758041E-4,1.4255860056611521E-3,4.8641082613361652E-3,2.0177992323373133E-3,1.7439167581131031E-2,4.3908495329557075E-2,1.0756324066667255,1.0352074145895458E-2,1.3643780155847933E-2,5.4238972502206904E-2,9.1318345061125045E-3,4.4681111467570714E-2,3.8072097868974988E-2,1.3857304422744284E-3,1.1105732989858395E-3,3.8366963648776686E-3,1.4761402117476812E-3,5.3811481253201771E-4,1.0807083013093682E-3,3.1765112119539938E-4,4.2907870332065405E-4,3.6846426011083027E-4,3.2885187098948628E-4,2.7695713763630192E-4,6.1854944240055893E-4,1.218938220941561E-4,5.1272372507756296E-4,4.0527207095215331E-4,2.004389780540579E-4,1.6868047713592687E-4,9.7370874054354581E-5,7.8913359210175705E-5,2.1302541160918842E-5,1.5446224992355279E-4,4.9195954623472058E-4,2.9769589314001528E-3,8.256097009530775E-5,2.4145319480685035E-4,2.3087704388377402E-4,2.2091909473880879E-4,2.5186060712129206E-4,1.4643920254891289E-4,3.897615224094902E-4,7.0258903409496122E-4,5.222483741933612E-4,2.6851834344843162E-4,1.1234755367690622E-3,9.2338043423875651E-4,1.5563975398962074E-4,1.2316780620389653E-3,1.3732018817974226E-4,3.5034810652457773E-4,2.3095971999575606E-4,1.4865942049559393E-4,2.2940699531545555E-4,1.7704636638973643E-3,2.9652775986222922E-4,1.6817451326738047E-2,1.3742599106542763E-4,3.4956088543385358E-4,1.2453088994260258E-4,2.5695859055457627E-4,2.5527278483339138E-4,1.3871286008766546E-4,2.3997918904143932E-4,9.6401075183272806E-3,1.7874264195686344E-4,1.3803418273709251,1.075998161947757]
[null,"331","産業用電気機器",5.4503706742265172E-4,2.5809138732149541E-4,1.0043173965384713E-3,2.3463879419032514E-4,9.2249174896567312E-4,0,9.8291118744372953E-4,1.4846429916398117E-4,2.292875464805697E-4,1.1683237131392908E-4,4.3907852461582265E-5,2.1167327010197437E-4,1.2344457250381498E-4,2.9763153279642148E-4,2.4372372892139237E-4,1.9962516434814841E-4,1.2387045996396749E-4,1.2004226856072842E-4,2.4009059040823601E-4,3.4119899837149764E-4,0,2.1584435553985908E-4,1.2383343778825986E-4,1.7330162205000539E-4,1.5660284430683461E-4,1.1499400690248461E-4,3.5594709412238343E-5,1.4152426028159263E-4,2.0532958371223379E-4,2.8361143516516689E-4,1.5150286809343416E-4,2.0423320955048938E-4,3.6633291264058856E-4,2.8250861288247649E-4,4.4658748371618795E-4,0,0,1.0007517573020223E-4,2.5258963235719645E-4,6.7636076026118683E-5,1.7016785594586894E-4,2.1061658257161891E-4,4.5343840057688429E-4,2.8344566141922024E-4,2.1998221524933866E-2,1.5275032642152894E-2,5.4609739044518399E-3,2.8116726741333169E-4,9.6190489962511211E-4,1.1148108147643043,1.1714432880704589E-2,8.2776013454877034E-3,3.1480738073776248E-3,6.150052363597963E-3,5.2495673648531608E-3,3.2477330873134459E-2,1.9208821833964856E-2,3.8635444895725235E-2,1.6133024284857897E-2,7.5262684746229503E-3,3.615696859156922E-4,2.9084756511888902E-4,1.4916172952764502E-3,2.703753348669187E-3,1.3163320298081305E-3,3.0897040384101071E-3,6.104974908449298E-4,2.385728569389964E-4,6.1299559394036582E-4,3.5750154258962344E-4,1.6585940994257785E-4,1.1500495721674315E-4,8.7107042364379777E-5,1.0355994337868707E-4,5.4289232447103776E-5,3.5529437428201508E-4,4.3746158291897301E-4,2.7824906760595611E-3,2.4933823652760321E-4,4.3930282037392019E-4,1.7602606295250996E-4,2.1038769834279633E-4,2.4899089948198275E-4,1.0183908149958761E-4,2.4999588829430636E-4,2.2250747430957687E-4,3.0376126414789225E-4,1.6406770626695627E-4,1.2996094076111206E-4,2.9073778372795022E-4,1.4622998292805942E-4,2.9300128849081715E-4,1.0863759613214275E-4,2.7810187671586885E-4,1.7965405995924681E-4,9.9260568626174042E-5,1.6999137990199385E-4,1.6088412822123316E-3,1.38074320489762E-4,1.5471456477673255E-2,1.0363476154886943E-4,3.088991468757189E-4,1.1128824919219244E-4,2.0688732781459299E-4,2.2702165737006997E-4,9.6501349238817651E-5,1.9120105864350406E-4,9.9502822743478581E-5,1.6222213713065265E-4,1.3560975659576517,1.0570993789063494]
[null,"332","民生用電気機器",2.3764382747953128E-5,9.7409703498361455E-6,4.3941011958305397E-5,1.0323492793383514E-5,6.3528698170650376E-6,0,4.2500730394459896E-5,6.1169888171838193E-6,9.9752659428687114E-6,5.0237563884648066E-6,1.9464963136605324E-6,8.7396839322737578E-6,5.1955943787342255E-6,1.2884021021059993E-5,4.756644705364143E-6,7.4001233755074238E-6,4.8837167941907443E-6,5.0349249361038612E-6,1.017824259941357E-5,1.4475503799241663E-5,0,8.6500795414284333E-6,4.6095192617207157E-6,6.2300702051253957E-6,6.6163480978672575E-6,4.6520941573505206E-6,1.5357206743395734E-6,5.9265827865688887E-6,7.2620441144645491E-6,1.2130582588452058E-5,6.4386546777955398E-6,7.6465395697066968E-6,1.4820637658433243E-5,9.5247885891263306E-6,1.8161699992773941E-5,0,0,3.9725115722395457E-6,9.593090206829246E-6,2.5675273887955331E-6,6.9492572113528201E-6,7.29947501302993E-6,7.8253763964430889E-6,7.0675528717265617E-6,7.396245482021319E-6,5.9547444295233131E-6,5.1880461659607588E-6,8.548287652587544E-6,8.431587878892174E-6,6.2793970618759106E-6,1.0070443477547684,4.245052296483965E-6,5.3161259573693833E-6,4.0410534642828022E-6,4.1915786311961998E-6,3.7805508911153647E-6,3.8843427895890567E-6,5.0718242393714492E-6,3.146618617629566E-5,2.8197096610525269E-4,9.6390787614320589E-6,1.3452834418722751E-5,3.8648094981893008E-4,9.636815004532353E-6,1.0730451836884184E-5,8.7134468708837241E-6,2.5201998074567056E-5,4.5576913934625139E-6,1.9613229163489671E-5,1.5480682691516268E-5,6.8530698093872141E-6,4.7236766188271377E-6,3.2070535908475532E-6,2.6372080141982197E-6,6.2988864504641052E-7,8.8205731265235451E-6,2.105341577935401E-5,1.2301240809648288E-4,2.3820005913978361E-6,1.8226568198988319E-5,7.472253924829832E-6,7.6177120426098775E-6,1.1497430069757295E-5,4.3412315821244914E-6,1.0219444488502938E-5,9.1593609389482867E-6,1.3485145356865776E-5,6.5355777598800207E-6,5.5121321656491769E-5,5.8844490645404535E-5,5.176414718020169E-6,1.2447948421247023E-5,4.2731633072994211E-6,1.1881847526351712E-5,7.4280227175964188E-6,4.0337636898088158E-6,7.3822227269641927E-6,8.4350115120321117E-5,6.183701477307965E-6,6.9289297033295089E-4,5.8854527842766728E-6,1.3160581528345875E-5,4.4668021732524288E-6,8.6634782195283114E-6,2.4259060822080319E-5,4.0099439064953679E-6,7.9089167927416507E-6,3.3390077443174407E-6,8.9587712028961109E-6,1.0096188775118131,0.78701379247456893]
[null,"333","電子応用装置・電気計測器",8.4914585696083186E-6,3.5005774060519523E-6,1.5725435025595455E-5,3.7224451187934824E-6,1.1140718659797924E-5,0,1.5281805401157552E-5,2.3947692174000862E-6,3.6723934517337396E-6,1.8468954102872771E-6,7.6480467877433348E-7,3.1962552794943139E-6,2.0085160943908782E-6,4.7411883959046396E-6,2.0200040306635772E-6,2.7834947726944715E-6,1.8485562194123603E-6,1.9513024559962657E-6,3.7148537868523198E-6,5.2886866726601044E-6,0,3.1786810835470247E-6,1.7343482971665087E-6,2.3860858699627751E-6,2.4899570351607982E-6,1.7755598552953601E-6,5.667365225437035E-7,2.1804935505399787E-6,3.534713509748166E-6,4.4605761060056205E-6,2.436937452833584E-6,3.1511114795765876E-6,5.6738851198655998E-6,4.699504031589404E-6,7.1727417879545325E-6,0,0,1.4929610792508229E-6,3.9875158387461365E-6,1.0959569291643069E-6,2.576051482986561E-6,2.7789129318958477E-6,3.063426448514304E-6,2.8766779658472959E-6,8.6118937802386763E-5,4.8404559199881044E-4,4.0061087026959421E-4,2.5097972538539461E-5,4.0574209501080105E-6,3.7532706214285603E-4,6.5144823825104304E-6,1.0049547894036199,3.0542806419502461E-6,6.6108228099062016E-5,2.8092591646242938E-5,1.4196603256797989E-5,8.1546372585229049E-6,1.5451672383211E-5,3.7902472414563939E-4,3.8235587996497306E-5,3.4801941749298393E-6,4.7478659961694504E-6,1.764993294354918E-5,9.0514123138065307E-6,4.6294395323069121E-5,8.1666117361414844E-5,9.2676032197208843E-6,2.0983493088761425E-6,8.0305534037710722E-6,5.7178550541984672E-6,2.7494495573511921E-6,2.1005353920036076E-6,1.4411686901198558E-6,1.2740972646657643E-6,3.4986338833747274E-7,3.6028818047426936E-6,7.0093702273185588E-6,4.3416297721683562E-5,5.4967933257947641E-6,4.4142036658036319E-6,2.9762347572656932E-6,3.3490323953953441E-6,4.0045554662302894E-6,1.5968440340402717E-6,4.2915459389279499E-6,3.5133646209069767E-6,6.1447767092963431E-6,3.0738843435836082E-6,2.1736384745856393E-6,8.3500991144807134E-5,2.1593221147913564E-6,4.9949060354299651E-6,8.3492914669390944E-6,4.8133318459421593E-6,2.9998931374788775E-6,1.6256795052045244E-6,2.9424114438846502E-6,2.5866136252426353E-5,2.3931584846440597E-6,2.4559783311179023E-4,8.591375900234196E-6,4.9132414856767669E-6,1.7366013999464023E-6,3.3116235492590514E-6,3.5404650624882276E-6,1.7265308710681251E-6,2.5459878080473082E-6,1.7659190945973201E-6,9.7147577529039372E-6,1.0077603593365032,0.78556504832951257]
[null,"339","その他の電気機械",1.4735649993460252E-4,1.0060781971442903E-4,2.4030455824752706E-4,6.0910712691727348E-5,3.3957712525032609E-4,0,2.5626544668794573E-4,4.8220060471767834E-5,6.6622510954822506E-5,3.7303197818741583E-5,1.7034106708423412E-5,6.5982287245251381E-5,4.6786435429768233E-5,8.113965489563609E-5,2.799540158937831E-4,7.7224584466316698E-5,4.6461658091555176E-5,1.5901757477896031E-4,6.6884760474658281E-5,9.2902446058272092E-5,0,7.0014180197610384E-5,4.5686794145163464E-5,7.0490094041937321E-5,5.4267210582530242E-5,4.2825114154222551E-5,9.5301159901414607E-6,4.0683368164394285E-5,7.2868190608721807E-5,7.7967572950834462E-5,4.9307830935383177E-5,6.4172026926498149E-5,1.0337661986712186E-4,7.6494342816359721E-5,1.7179079412855399E-4,0,0,3.6148187673451317E-5,7.6597771710529801E-5,2.4748980371206187E-5,5.1480922337495891E-5,1.1052882862672667E-4,6.3655794631910118E-5,2.8401131452818705E-4,5.6410744978299459E-4,7.2213419655139846E-4,1.8093672379067914E-3,5.5323921075096736E-3,4.3464603959442582E-3,5.5925268883052111E-3,4.1628939206760302E-3,1.896622022191767E-3,1.0387656969263477,8.3800782996637357E-3,1.5167043475953533E-3,8.8583663245048426E-3,6.2126027048394084E-3,2.0872605591465048E-3,1.0622905250966129E-3,2.7686456624476516E-3,1.5113681654996033E-3,7.6917737206033627E-5,2.4888449821766291E-3,2.3678097124945393E-3,7.2557362606739094E-4,1.0728542505508126E-3,1.7467123652159476E-4,1.5673071264345125E-4,3.6666795587758541E-4,9.7054035818190464E-5,1.6471206711470942E-4,4.5632500954244984E-5,7.8969689939437879E-5,8.1414401425887787E-5,4.2516467202402753E-5,3.3067203885283464E-4,1.091884032394815E-4,7.3407462443534797E-4,8.9918448734128688E-5,2.1027985749758434E-4,9.9286402208977669E-5,1.1647416111863259E-4,3.5685389695628607E-4,3.1770900517567269E-5,8.586440561036969E-5,4.0914888041571735E-4,1.0725852266187456E-4,7.3620717967241869E-5,4.2319605811854489E-4,3.9984977019568867E-4,5.1861311407977613E-4,2.1562411086344224E-4,5.5796687248311806E-5,1.1289099629389937E-4,6.1116640900971944E-5,3.8294279661204286E-5,5.6481702927576711E-5,4.1119612906188559E-4,1.4217552328223056E-4,3.3280426349926377E-3,8.7287304636357027E-5,1.3881260263225238E-4,6.1662661630468952E-5,7.9876212485773408E-5,2.6393684875875738E-4,3.2742020728399248E-5,9.6638758807241927E-5,1.3795629857816038E-4,2.0602017462536103E-4,1.117179710411931,0.8708591532418597]
[null,"341","通信・映像・音響機器",6.0895831949588031E-6,3.387105989343785E-6,9.7876503682233176E-6,8.7843107966073265E-6,2.1566965163076624E-5,0,1.0305604175902435E-5,4.9348727366640308E-6,5.9327549469518779E-6,2.8698011902382381E-6,1.2361667174520642E-6,3.5075166845080676E-6,3.820579870376044E-6,5.3859602677447297E-6,5.0041991498854371E-6,4.1703651751252858E-6,3.4557757702883406E-6,3.4695975283503321E-6,3.7035010109044646E-6,4.6598176411632882E-6,0,4.8574966295039999E-6,3.6288944359801276E-6,3.5284826672852643E-6,1.3080472436858091E-5,3.5135805660676171E-6,6.0052544314022448E-7,8.6582747083912673E-6,4.0615338815735967E-6,5.6833031354041909E-6,3.6612869467889314E-6,1.4373775434015414E-5,8.791103288383476E-6,4.199087137895144E-6,8.3844705219865275E-6,0,0,1.9531471660259579E-6,4.2398813858183731E-6,1.8789041818950957E-6,2.8870165772110636E-6,3.788399591406812E-6,1.0616061005626379E-5,4.4262271788553197E-6,2.5983601132835053E-5,1.8776314794264214E-5,5.308831805751048E-6,9.7124095128956426E-6,6.9477238863647782E-6,7.3318627753938782E-6,4.1477903034362334E-6,5.5932631944922248E-6,5.897149273914695E-6,1.0009114341070386,1.6409837032158491E-5,1.4977538813641558E-3,5.4874800966092858E-4,4.4465676167990809E-6,6.5809069347953135E-4,2.4538474448799872E-4,8.5764502959725698E-6,1.4421333797947707E-5,1.2227684716265613E-4,3.8493261298260602E-5,2.5101299440355126E-4,3.2960992134155646E-4,9.0536535786627205E-6,6.201579241052602E-6,1.174115387836825E-5,8.2603541314339692E-6,2.398807392517845E-5,1.5689628111111959E-5,2.2871418806816967E-5,1.3743395442350362E-5,2.0696851878087424E-6,1.6929912257368211E-5,1.9349730426122819E-5,2.6318282166784337E-5,1.3947925433105594E-5,1.3241715185963068E-5,1.829046124133592E-5,9.8665376264062406E-6,2.0024739834731503E-5,2.7757492701114659E-6,9.1690707100473312E-6,1.5932037010184701E-5,3.3799414690135583E-5,1.2312605344967683E-5,2.6457942019066259E-5,2.0366708753420597E-4,6.5278033549702192E-6,2.8653809584625421E-5,6.5898443511771312E-6,6.7828731149625229E-6,7.9852413682404976E-6,3.2280382390285439E-6,1.0174086979315534E-5,2.5724691117545683E-5,2.7855673605065763E-5,1.2015386176338136E-4,5.9187961835472347E-5,7.2372914544607383E-6,1.2181650021080037E-5,5.7150336359163809E-6,2.4102737653166181E-5,8.8559838402136592E-6,6.1734602188836169E-6,4.8557496091613553E-6,2.4181003550834016E-5,1.005917110596708,0.78412820694956997]
[null,"342","電子計算機・同附属装置",4.6145035944164375E-6,1.9786630538574044E-6,6.5723230298531038E-6,2.5048623148496289E-6,1.3356102962212321E-6,0,1.029959406278634E-5,1.2629461244852519E-6,1.9072676086162077E-6,9.9039263827354405E-7,3.8269315739648952E-7,1.6926455567688869E-6,1.0648958298608053E-6,2.7899580795246023E-6,1.1814643243184082E-6,1.4231749750483213E-6,9.7970544569129733E-7,1.4570821301990506E-6,1.7004509408080548E-6,2.4184830705234321E-6,0,1.4297212730437389E-6,7.5590470823055873E-7,1.1849780782074252E-6,1.1461072271393557E-6,9.032130608550853E-7,2.3338697465720422E-7,1.2724647815435592E-6,1.2634029657367788E-6,2.0845872186102313E-6,1.2889390118263222E-6,1.4601088333262849E-6,2.9279605648542169E-6,1.6324810521865123E-6,3.8332019900521965E-6,0,0,8.1142879847628698E-7,1.7781413965484346E-6,6.5132411079359016E-7,1.4280190109687912E-6,1.4419024648174609E-6,1.4156237329645877E-6,1.4035886184975145E-6,1.6370623747047245E-6,7.0744869758928223E-6,1.0499175961900577E-6,1.8310879693779472E-6,1.5129685433297407E-6,1.7064450818580897E-6,1.0591002870976238E-6,8.6561275128739956E-7,1.4356306630729622E-6,7.0726528271848117E-6,1.0032270805526751,8.3982251015558991E-7,8.5913283280481846E-7,1.01885147272731E-6,1.3884080347822659E-6,1.0492478235672101E-6,2.2587820618692035E-6,6.4650128830063106E-6,3.0233350240577925E-6,2.7155082064571848E-6,4.7511995955387611E-6,5.5671354943741893E-6,3.8816410939542098E-6,1.1610976740325689E-6,3.1067292108242445E-6,2.8304328717760219E-6,2.0237066907131083E-6,1.1794960632455708E-6,7.1111245006360986E-7,5.8901874418538821E-7,1.6070546199770485E-7,8.8393576727821926E-7,3.168627375525431E-6,3.1278014921252027E-5,5.6062199628481381E-7,6.1515609309884773E-6,1.634329005877688E-6,1.6240360950343809E-6,1.7080366059150703E-6,8.2358941273554495E-7,6.3513156444609656E-6,6.1219006478570399E-6,2.4805236398131471E-6,3.9206318482089458E-6,1.387560744319061E-6,2.1675683505677662E-6,1.0715660457121258E-6,2.1405932458397318E-6,1.3376727430602425E-6,2.6470408698736634E-6,1.606921793765582E-6,1.632421987294383E-6,1.5059417351384333E-6,1.7408998264699754E-4,2.5856830762669493E-6,9.6052628960624503E-5,1.2660487806643902E-6,3.5764506421087631E-6,1.0034778141256169E-6,1.865728908361264E-6,2.0540467334481098E-6,9.6452122813883438E-7,1.6430976252513269E-6,7.2495487138640333E-7,9.6459587831438763E-7,1.0037438047246248,0.78243408084446908]
[null,"351","乗用車",0,0,0,0,0,0,0,0,0,0,0,0,0,0,0,0,0,0,0,0,0,0,0,0,0,0,0,0,0,0,0,0,0,0,0,0,0,0,0,0,0,0,0,0,0,0,0,0,0,0,0,0,0,0,0,1,0,0,0,0,0,0,0,0,0,0,0,0,0,0,0,0,0,0,0,0,0,0,0,0,0,0,0,0,0,0,0,0,0,0,0,0,0,0,0,0,0,0,0,0,0,0,0,0,0,0,0,0,0,1,0.77951572618585518]
[null,"352","その他の自動車",1.7238247064366182E-5,7.0300092043790248E-6,3.1997702507366731E-5,7.4284604655819838E-6,4.0992025403631806E-6,0,3.0688644210000376E-5,4.3889715677308587E-6,7.2056343177896871E-6,3.6115549120787531E-6,1.4015963276431697E-6,6.3233198364826288E-6,3.72815126779893E-6,9.3016631041571189E-6,3.3851256921609121E-6,5.3248686796223389E-6,3.503990936841393E-6,3.5807655285208731E-6,7.3657844256064294E-6,1.0502877033163687E-5,0,6.2690740524304123E-6,3.3338676897434793E-6,4.4974218312454824E-6,4.7632078302716505E-6,3.3386076608471265E-6,1.1139575861691867E-6,4.2766001187431279E-6,4.9735125472065471E-6,8.7947195282780008E-6,4.6325577989413551E-6,5.4940441913422387E-6,1.0692755326283983E-5,6.8801046196498982E-6,1.3119172429313855E-5,0,0,2.8622547061162128E-6,6.9384506822263435E-6,1.8383147601484269E-6,5.0080715255693471E-6,5.2622602256370954E-6,5.6600338682000248E-6,5.1017964870876193E-6,5.3289167162834977E-6,4.2753196193604706E-6,3.722548493752457E-6,6.1565214787037679E-6,6.0885554442957951E-6,4.486841987970681E-6,3.5281024120092636E-6,3.0434741215519612E-6,3.6240504914452482E-6,2.8814983050222917E-6,3.000233442419328E-6,2.7018948834270686E-6,1.0047794043377971,3.6440357160618501E-6,2.4892778125449747E-6,2.5187977253015738E-6,6.5307395512474869E-6,9.1469910755620264E-6,5.0033408869050931E-6,6.9131693498010897E-6,7.542220910885087E-6,6.0534460953069727E-6,1.8316203235212885E-5,3.2420507904265495E-6,1.4180552989207681E-5,1.1167600591981203E-5,4.8683937923289065E-6,3.3336058055013528E-6,2.2849553657559404E-6,1.8750657682363249E-6,4.4739962498975457E-7,2.9655431588652872E-6,1.4137231312964322E-5,8.876913617270941E-5,1.3866194015593341E-6,6.0928950446975443E-6,5.3096951073570001E-6,5.4087486233965532E-6,6.0003701273747934E-6,3.0346811037699488E-6,7.2884590421723873E-6,6.0337044137868675E-6,9.6887431369975523E-6,4.4647082070235624E-6,3.855055719522016E-6,5.8593826727089666E-5,3.7054435130956752E-6,8.9317196522518814E-6,3.030536175588192E-6,8.5471263339320441E-6,5.3339393272205791E-6,2.853100505995278E-6,5.2812386182556723E-6,5.2095534000166001E-5,4.0259561416659417E-6,5.055035707206175E-4,3.1380667796971525E-6,9.4193207656021451E-6,3.1937611719240444E-6,6.2404998645411449E-6,6.6479307765492849E-6,2.8736693867872475E-6,4.7987776644889989E-6,2.3439336448467739E-6,8.0300502777857064E-6,1.006089781089988,0.78426280631453005]
[null,"353","自動車部品・同附属品",1.888744392962375E-3,7.7023311258613838E-4,3.5022874935599587E-3,8.1472083080722261E-4,4.4731245205202456E-4,0,3.3737769041171312E-3,4.7971538816262723E-4,7.8756636617793754E-4,3.9481699765242528E-4,1.5223241548999365E-4,6.9243839535293092E-4,4.0782902177788051E-4,1.0175889911160935E-3,3.7045331222409242E-4,5.8245946097383464E-4,3.831783918042335E-4,3.9213734917519421E-4,8.0624871673172895E-4,1.1491858167262947E-3,0,6.8619763423427853E-4,3.6471581462897213E-4,4.9025781992885508E-4,5.2157575310370487E-4,3.6522164156364926E-4,1.2185885307282905E-4,4.6616404599651376E-4,5.4411649018311034E-4,9.6102113306696169E-4,5.0680312330254342E-4,5.9803372761795762E-4,1.1696603704029098E-3,7.5291979881277949E-4,1.4361072578930945E-3,0,0,3.1145767650024608E-4,7.5520852832073129E-4,1.9903968796870555E-4,5.4757938946248003E-4,5.7369418241037492E-4,6.1915711606777264E-4,5.5703357322641064E-4,5.8145821315313498E-4,4.932942949863173E-4,4.0736152761014255E-4,6.7388040372048236E-4,6.6629668575730893E-4,4.9030474381540196E-4,3.860002774804104E-4,3.3315559376473287E-4,3.9529471864506747E-4,3.1471210544476396E-4,3.2824288448600253E-4,0.22303787165704209,0.21739261535299523,1.1408665602059016,2.7141602316383003E-4,1.1858880726846368E-2,7.1677216094141727E-4,1.0012121437975008E-3,5.4487976838050003E-4,7.5276451832750825E-4,8.2331939558398385E-4,6.590392307699943E-4,2.0035416387976708E-3,3.5434063061398136E-4,1.5501481593806002E-3,1.2226156749764194E-3,5.341004596590887E-4,3.6311605771070256E-4,2.4708720546680769E-4,2.0278482210278273E-4,4.8771958825118245E-5,5.1774326866365944E-4,1.5467513737747274E-3,9.7706737053829956E-3,1.4864007822321375E-4,1.0425543805025628E-3,5.7975436398275597E-4,5.913777876679617E-4,6.5793018538086662E-4,3.3473083738443159E-4,7.9583681930544864E-4,6.5953210258967851E-4,1.0609304280256135E-3,4.851770811160003E-4,4.2225102594328187E-4,8.5968207308712334E-4,4.0420261563045237E-4,9.7818488824504761E-4,3.3159519699943669E-4,9.3087787769079947E-4,5.8219290019588597E-4,3.116835971035549E-4,5.7571502636406683E-4,5.7004555503082166E-3,4.4088720967843455E-4,5.5318058698336399E-2,3.4295314397635233E-4,1.0285626006677772E-3,3.4934675378746219E-4,6.8148400631388431E-4,7.2932716990737495E-4,3.1478234526215052E-4,5.2695328139742395E-4,2.5658272553182054E-4,3.1856927565873677E-4,1.7300785690414469,1.3486234521049285]
[null,"354","船舶・同修理",1.2509555824167025E-5,1.7689643541313835E-5,5.1786382162400614E-6,8.8702676499565698E-6,2.5879142479625396E-2,0,1.3022462945671862E-4,2.3125633751427358E-4,1.2034938859770283E-5,3.7464667403966462E-5,1.5514370586192915E-6,3.6571589757125223E-6,3.5644786915188096E-6,1.0447330682833906E-5,6.4161853276282802E-6,2.1249384959859535E-5,7.0419567943350619E-6,5.0396455412386896E-6,1.6066777355792964E-5,2.0292043790566491E-5,0,9.5727792398107942E-6,6.7641857257180402E-6,1.2447065291095282E-5,6.1063419890052212E-6,7.6101257013576014E-6,1.2891364444314358E-5,5.9955014183185277E-5,4.9796059798875198E-6,3.871881636151541E-6,5.2340548583256629E-6,1.638511097060442E-5,2.8763105413366115E-5,1.4358427660010971E-5,1.9879255489445285E-5,0,0,1.1979284500870521E-5,2.1569267217043035E-5,1.289246832082668E-5,7.2666312932020925E-5,2.2414891113011258E-5,8.7628918143246048E-6,7.9558520941206255E-6,5.2500072960186397E-6,5.1378454825258463E-6,4.678846600246731E-6,3.4114231727325093E-6,4.0030054156995436E-6,7.0075059461924802E-6,3.9419801899761772E-6,2.8247772016701282E-6,6.4018022039183073E-6,3.2888508722735028E-6,3.3358721548818012E-6,9.8205925983098642E-6,1.0458602137966104E-5,6.6745602997722413E-6,1.0987565992575057,6.3782370139033188E-6,2.5605660634470221E-5,3.1534104832785741E-4,6.2882368202618123E-6,6.1671484286480172E-6,9.3359519959320603E-6,9.3246015001099546E-6,1.5239786111153041E-5,1.4840402337887739E-5,4.0314544980497998E-6,5.3213638339307274E-6,5.7515578353640587E-6,2.7696401994509853E-6,1.8549230156253174E-6,1.5866813721131225E-6,4.0946888522041127E-7,3.8319381858955421E-6,2.5834746391563302E-5,6.6760744778771158E-5,1.3583503249550887E-2,1.1245154555562338E-4,1.9070862196375871E-5,7.9322890881959523E-6,8.3187091572768581E-4,6.5389666807329391E-6,3.3096531232761515E-6,2.4789800369858776E-6,3.402630972079987E-6,3.1139248987868706E-6,5.0229524023735372E-6,9.4543150446269844E-4,1.0689371931520386E-4,4.3323916228919813E-5,3.2917713432220115E-6,4.3821409619801304E-6,5.0009801991418432E-6,7.3747813651251789E-6,3.8003875158914045E-6,1.3212887216626836E-5,2.219018445971796E-6,4.9005843427574383E-6,2.3804236399589637E-6,4.2054763784514721E-5,4.1568265326780111E-5,3.6800124095435096E-6,1.4325664540089782E-5,2.6429580798384754E-6,5.764292851539203E-6,1.2571096914598517E-5,1.0324529267937355E-4,1.1421030257969453,0.89028726953316828]
[null,"359","その他の輸送機械・同修理",5.5116305178119617E-5,2.4544082841722869E-5,9.7067468787404739E-5,3.7667309315896806E-5,2.1098715850497352E-5,0,1.0962399891999951E-4,2.3129782870464414E-5,2.9191948192822357E-5,1.7218703703021164E-5,7.2792606989584469E-6,3.549216459704005E-5,2.9678467919191569E-5,3.9689528750708933E-5,2.7432294207652873E-5,3.0896854293799002E-5,3.1098678165411962E-5,3.3574234958898875E-5,3.4972269001408391E-5,4.4789308160995258E-5,0,3.0305860212058559E-5,2.7454747634075425E-5,2.5731263164183982E-5,5.5600730949069545E-5,2.7127835741429267E-5,4.7560653443530058E-6,1.6764060386822056E-5,3.6480404104128283E-5,3.8949668493142111E-5,3.0913241280810971E-5,3.49690436300148E-5,4.7066903137685541E-5,3.8474952788673836E-5,6.5181924532117081E-5,0,0,1.9152430575663125E-5,3.7228746620744494E-5,1.1944610390369548E-5,2.7508014566779554E-5,2.8418013377619543E-5,4.5536880799320564E-5,2.9451046188887702E-5,3.1248420238796042E-5,3.3067154925181056E-5,4.2736655988057886E-5,3.813617841820232E-5,4.0387807446340588E-5,3.2785336707026754E-5,2.4108470022176863E-5,3.6525520806826329E-5,2.4496090241440216E-5,5.9870021744686266E-5,2.7253416382045665E-5,1.8393660636515323E-5,1.7082244754089097E-5,2.1709352781131718E-5,2.013989662204787E-5,1.0754672571093982,4.6910370881659683E-5,5.026608060985667E-5,3.8966646251242325E-5,4.1210677661406462E-5,3.7712160330046644E-5,3.4120215016029462E-5,6.5738987329701096E-5,2.2866503790451231E-5,7.3410156270333916E-5,1.7679429773515451E-4,6.6629619117813469E-5,9.0594267778553217E-5,2.461366066912759E-5,1.796890106329724E-5,7.1726517561173495E-6,1.8117245227800269E-2,5.6972178556545251E-5,2.6694083885983561E-4,2.7817767953194307E-5,3.5003470567431028E-2,7.4777546104304199E-5,3.2866403632781034E-5,2.6025116768123112E-4,2.4060410049326399E-4,5.3078153611870723E-5,5.963517453582343E-5,6.010203156354298E-5,4.5538400963372141E-5,8.4746435601116909E-5,1.824037152291556E-3,5.4123889227385583E-5,9.405795670054509E-5,3.4025391626263909E-5,7.5057818989750485E-5,3.1597372168353883E-5,1.7278957807289322E-5,9.0759055658349053E-5,1.6866899017941271E-4,4.8728487019289878E-5,1.3768381156721956E-3,3.772618983576226E-5,5.1992639640395778E-5,2.7563662766168664E-5,3.7600772597647831E-5,4.4268981139180504E-5,2.1898391152559103E-5,1.5535281947913498E-4,2.5599922258593401E-5,2.247542664278391E-4,1.1369647271811307,0.88628188495630178]
[null,"391","その他の製造工業製品",1.3420175408049217E-4,7.7706570575124289E-5,1.885435818402294E-4,2.46690747116943E-4,1.8636243486649824E-3,0,3.9977824909010346E-4,2.5787924767658852E-4,4.586184657392255E-4,8.343220463290056E-5,2.4665161433175372E-5,4.6572905633266495E-4,3.5629981873792176E-3,9.3989739251769996E-4,2.4959617123862235E-3,3.1425245677369222E-4,1.438828854811158E-4,1.1961539166886838E-4,9.7956012135446763E-5,1.0252086255619029E-4,0,4.9423661254197429E-4,7.8334373401602836E-5,4.0366539177525145E-4,1.559612772117341E-4,1.5623305748455402E-4,7.9043338938590886E-6,6.0611053950654639E-5,1.3667024638631782E-4,1.7988142011362602E-4,4.3853812662948531E-4,1.0531357919950179E-3,1.7573093580779212E-4,1.567965818031257E-3,6.6845967274157354E-4,0,0,5.0096845780831401E-4,9.2186386320840979E-4,7.1050765331983734E-5,5.954118792903402E-5,4.2830121355098372E-4,1.1736396409887329E-4,1.1505132171315898E-4,1.6780758220608674E-4,7.4905822697981595E-4,7.6361796342772753E-4,2.4975105794867194E-4,5.0784874923561168E-4,8.941535132028761E-4,1.6009879029916344E-4,5.902145734293455E-4,3.1767715073729329E-4,7.0845331728846487E-4,3.5712958308875195E-4,2.510018372370059E-4,2.0334279300839199E-4,2.3789380957209131E-4,3.489463291916821E-4,2.2896513095385234E-4,1.0129233068593362,1.9336676279560946E-4,6.0590988005223287E-4,1.4864245223929339E-3,1.0733709850685824E-3,1.132116175688267E-3,1.1608751000890806E-4,1.5370636966308162E-4,4.9625674098480014E-4,3.6432650780718128E-4,2.8832195129745695E-4,3.3723526467357697E-4,1.4227821975331163E-4,1.2765114669673454E-4,4.9387408246918943E-5,2.4184312024703563E-4,1.919756430927288E-4,4.5854146974005385E-4,1.7171446601096476E-4,2.2229802346683777E-4,3.0123529054574714E-4,2.7694269911116617E-4,3.4593085303844543E-4,1.9316277508629864E-4,8.7220535182385242E-4,8.8127035666095931E-4,4.3717262980233693E-3,5.5598813139692729E-4,2.2034940042301287E-3,6.0250933449810043E-4,9.4612063851176316E-4,3.6993021742228365E-3,2.3229289378662741E-4,4.0859564524787904E-4,1.2191788268116487E-3,7.88894276925104E-4,1.763985179974907E-3,2.9321458493044416E-3,9.8058059508784943E-4,4.6182470811221427E-4,8.3037523727358419E-4,1.0071174942272707E-3,7.5183572845069263E-4,1.5764335285837223E-3,1.9318605913833239E-3,1.8251328313686682E-4,2.461515072811248E-3,4.0376583421190132E-2,2.5068938249649526E-4,1.1206878122304704,0.87359377377847247]
[null,"392","再生資源回収・加工処理",5.2819136239551237E-4,1.9641360864728458E-3,2.8772734512489204E-4,3.217530525939546E-3,1.4006906862895692E-4,0,7.2470062264484247E-5,2.2058530968540799E-4,9.1985306669329291E-4,2.6379673008655445E-3,3.7342929449324596E-5,2.7319569412839956E-4,1.1377043803902597E-4,4.7447022765778708E-3,4.5945356126115357E-4,2.7872294271085792E-2,1.3870444198882679E-3,7.3225795459353805E-4,2.3049345831275346E-2,4.2147979625258925E-3,0,2.508601069787929E-3,1.3962643499226682E-4,2.7351826210172225E-3,2.8199480551078837E-4,3.7747665498065024E-4,2.3163661675441443E-5,8.7542378295482805E-3,4.8007731943801694E-3,2.979828194859341E-4,2.7278589804937325E-4,1.0979734820090882E-2,2.7980116735610862E-3,9.1617151646869836E-3,1.0394467699273251E-3,0,0,1.1946031728777302E-3,5.8624350825906002E-3,1.6722074862723433E-4,4.2245848756081596E-2,2.6680268732258157E-2,4.6146588237823221E-4,1.0006930338066966E-3,4.8392237189427538E-4,3.2064159389971373E-4,1.011060079430158E-3,4.9525036522336677E-4,9.9946593133014858E-4,9.5418286059859318E-4,5.2104522360321985E-4,2.9929823317690777E-4,1.6150034046104236E-3,6.7355314396301677E-4,3.4303245520722619E-4,3.588244484323242E-4,2.5864846088900371E-4,8.908315011187728E-4,4.1047672300114599E-4,3.4399361038221868E-4,7.3467680960353457E-4,1.0001924033863596,2.5702588853668425E-4,2.4456945790960898E-4,4.2066880577193585E-4,4.1344038668501577E-4,5.1954280351203816E-3,4.0468854033773862E-3,3.0190749465367655E-4,2.6629142029180964E-4,1.1948768055606299E-4,5.0644993199213504E-5,6.8980948025641883E-5,4.4350539662696225E-5,9.7517825504696696E-6,1.7937907874258102E-4,2.1714116747309587E-4,6.6740263143791751E-5,2.5908229629495801E-5,5.3570094319801668E-5,4.5414706560299617E-5,2.2010712985576873E-4,1.8600813997404522E-4,4.2727150704395848E-5,7.444173473964635E-5,4.6392019581489119E-5,7.3182813017376246E-5,4.5216297284852695E-5,2.5054612038067861E-4,7.0083393560696727E-5,9.3080313890652792E-5,1.2559454863818212E-4,1.0568441810179116E-4,1.5933544336677513E-4,1.2441986695106101E-4,9.5891859537542928E-5,6.7639414543320522E-5,5.1643678001046358E-5,5.234201144351433E-5,1.5397527621454385E-4,5.2352158297728586E-5,2.7088529304254239E-4,2.3409824057508776E-4,1.3997954233989875E-4,1.3497392152968392E-4,6.3715751462290284E-5,9.2742058325384928E-5,1.1177749364836094E-3,6.9049186932393876E-5,1.2218037839909193,0.95241526393430709]
[null,"411","建築",0,0,0,0,0,0,0,0,0,0,0,0,0,0,0,0,0,0,0,0,0,0,0,0,0,0,0,0,0,0,0,0,0,0,0,0,0,0,0,0,0,0,0,0,0,0,0,0,0,0,0,0,0,0,0,0,0,0,0,0,0,0,1,0,0,0,0,0,0,0,0,0,0,0,0,0,0,0,0,0,0,0,0,0,0,0,0,0,0,0,0,0,0,0,0,0,0,0,0,0,0,0,0,0,0,0,0,0,0,1,0.77951572618585518]
[null,"412","建設補修",6.6104617277172066E-3,4.9963991605213509E-3,9.7934926443169409E-3,1.9484441841744816E-3,2.1372107651871897E-3,0,9.3939248172929622E-3,2.3883895490030517E-3,2.3725079527158982E-3,2.0480050436250284E-3,4.4969074607663362E-4,7.0653853659041269E-3,3.3416378321251615E-3,3.7829745910976237E-3,4.3937306423618488E-3,1.4363346679248122E-2,6.2624845852726806E-3,3.6549763377282515E-3,5.5353848833488949E-3,7.5269102251849743E-3,0,9.2783787177495095E-3,8.592626934286262E-3,1.4220614110431842E-2,3.3554040633342439E-3,4.5012319868230665E-3,4.9809570412836569E-4,3.9642627030491628E-3,7.0162136161756586E-3,5.303013265741432E-3,3.0535469455350308E-3,6.9994653962909062E-3,9.227831573766972E-3,7.7122757956957118E-3,1.0094434994204716E-2,0,0,4.9566324151808193E-3,9.3975037561891839E-3,3.4279600805668109E-3,5.9486203090992305E-3,6.0460436516667571E-3,6.5987372436718678E-3,5.6439717688234435E-3,3.2534510465688066E-3,3.2737310623893916E-3,3.6498002069048547E-3,3.9768227781867881E-3,7.2822974791565817E-3,4.2742904018220297E-3,3.257009465240936E-3,2.8924922619245198E-3,4.188113073683929E-3,4.0145242782633562E-3,3.5722268194279404E-3,1.3876512642143216E-3,1.8142923876932502E-3,2.1335623782036133E-3,3.4387826036146063E-3,5.2257007415620225E-3,4.5254211677572924E-3,2.2368426029271979E-3,2.5556654585168993E-3,1.0032734599596151,2.2134915157493791E-3,1.8627276281695073E-3,2.0023224724557687E-2,5.5700652365901319E-2,5.4824163489723125E-2,5.5691647932024748E-3,6.0094293570696717E-3,4.9008768424859614E-3,6.9097511913201433E-3,1.8612596980900956E-2,1.6306012288361392E-2,2.2579793345217411E-2,1.5901721342775003E-3,2.1737862846534693E-2,3.2349628602371932E-3,3.1887573765450898E-3,4.6731099856003443E-3,1.4731238158213044E-2,1.9018999955046804E-2,2.6624837889995326E-3,9.0404573417858271E-3,1.4409978953572022E-2,2.2299944787215458E-3,1.0864463664382247E-2,3.1684432329581796E-3,9.3224883817715834E-3,1.1760193151377317E-2,6.3246820185084837E-3,4.1525262972899471E-3,5.5968740006380703E-3,5.9930101512340947E-3,4.1882619034224406E-3,2.9362273900022397E-3,4.2197630860166587E-3,5.4480401576983885E-3,2.2405244675698173E-3,2.4042979172047376E-3,7.5765477515415723E-3,4.5157540235452997E-3,5.9591047225461928E-3,8.1295573886733963E-3,2.1611260879436647E-3,5.1302469406484703E-3,2.9159598702847918E-3,1.6657194992974578E-2,1.7478235502034116,1.3624559439815518]
[null,"413","公共事業",0,0,0,0,0,0,0,0,0,0,0,0,0,0,0,0,0,0,0,0,0,0,0,0,0,0,0,0,0,0,0,0,0,0,0,0,0,0,0,0,0,0,0,0,0,0,0,0,0,0,0,0,0,0,0,0,0,0,0,0,0,0,0,0,1,0,0,0,0,0,0,0,0,0,0,0,0,0,0,0,0,0,0,0,0,0,0,0,0,0,0,0,0,0,0,0,0,0,0,0,0,0,0,0,0,0,0,0,0,1,0.77951572618585518]
[null,"419","その他の土木建設",0,0,0,0,0,0,0,0,0,0,0,0,0,0,0,0,0,0,0,0,0,0,0,0,0,0,0,0,0,0,0,0,0,0,0,0,0,0,0,0,0,0,0,0,0,0,0,0,0,0,0,0,0,0,0,0,0,0,0,0,0,0,0,0,0,1,0,0,0,0,0,0,0,0,0,0,0,0,0,0,0,0,0,0,0,0,0,0,0,0,0,0,0,0,0,0,0,0,0,0,0,0,0,0,0,0,0,0,0,1,0.77951572618585518]
[null,"461","電気",9.3746605543676698E-3,1.1828855784537632E-2,3.8459220016622976E-2,8.003016576741552E-3,9.6677752840080393E-3,0,1.0582316648675262E-2,1.0920323862297403E-2,1.3725780927111967E-2,5.6199514324657817E-3,1.6390333632502975E-3,2.3432050479042316E-2,1.1189844203846114E-2,1.7512430637310897E-2,9.9398968724666008E-3,8.3603540210598404E-2,1.8613156172332626E-2,1.9263555795986913E-2,3.8815386078366231E-2,0.11376485092102785,0,2.5726217490098617E-2,1.4630592405775139E-2,4.2433907174571149E-2,1.0321754279487992E-2,1.2384254273918427E-2,4.3464629388450648E-3,8.6078110773063193E-3,2.042417842889142E-2,2.0159047095589452E-2,1.7146227055842959E-2,3.0108561337233906E-2,3.9704383808043628E-2,2.6508624718740235E-2,2.9872016731376547E-2,0,0,2.7326726723538305E-2,7.5758815865973231E-2,1.014036623975512E-2,3.8450805993621835E-2,2.487041508150763E-2,7.7061808258738372E-3,1.7359921331255666E-2,1.0142408348675153E-2,9.3218759682977773E-3,9.8159459063950922E-3,2.474397051086092E-2,2.1755420916101394E-2,9.2058479715471462E-3,6.4050470550851904E-3,5.0883025084442471E-3,1.2128932785008043E-2,6.4469933312474208E-3,5.7696390534488348E-3,7.2431620640767821E-3,6.9430417889521662E-3,1.1371668723854925E-2,1.4517054879172663E-2,1.2651481475811304E-2,1.0238307859908527E-2,2.2824318286959522E-2,4.4483145838946046E-3,3.8679217610606978E-3,3.7285017329212488E-3,4.7202044673509439E-3,1.0729732382824186,1.6396529288811652E-2,4.0625383833664562E-2,4.7227200398454183E-2,1.6898527798607513E-2,4.7243120651959359E-3,1.0980276163488609E-2,6.1189848196355765E-3,5.7078872078427062E-4,3.2445871589424517E-2,4.0928391116760226E-3,5.0129215794461985E-3,1.844099544316822E-3,3.7890166580406854E-3,3.8272171374708537E-3,3.5251688116114149E-2,1.0793465199284655E-2,4.5361492491521804E-3,1.0703186218663775E-2,5.5111532678921863E-3,3.2619899016173852E-3,5.0276637622689154E-3,5.9076016353970199E-3,8.4887387311812623E-3,1.1571410295003186E-2,7.3090125263091388E-3,7.8378514839153503E-3,1.6850336998393382E-2,1.4792911892047112E-2,1.0123875467678324E-2,3.8022782284683793E-3,5.4466002935373691E-3,5.2606138295012454E-3,5.0839859313708278E-3,3.8466365002793219E-3,3.4478048787384925E-2,1.5725426136854036E-2,1.6673695109758632E-2,2.1051142149354378E-2,5.9647316629323419E-3,1.2050751113057137E-2,9.3626476011303885E-3,4.3893951065153598E-3,2.7519514728638761,2.1451894507977181]
[null,"462","ガス・熱供給",5.1357288881602025E-4,4.3022242679345389E-4,8.2751669227841323E-4,8.4713261905714854E-4,4.8405811636856099E-4,0,5.3592062527925638E-4,3.6378502126934989E-3,5.7705087099171265E-3,9.696273198422674E-4,1.0362914189516206E-4,8.7232534875107317E-3,2.9459945065718695E-3,7.3233027175699267E-4,9.8449762495290451E-4,4.6162729468130388E-3,1.8261015270861075E-3,1.1806852329878418E-3,1.4761376142322247E-2,3.3961776474239341E-3,0,2.8501390777239352E-3,1.5611675469683387E-3,2.0304749992972148E-3,3.3443189559817861E-3,2.1797688748348772E-3,2.0340457013787804E-4,1.0108465226579386E-3,3.3802130500351448E-3,3.8711928329910944E-3,1.1559902842665549E-3,1.1648222717134886E-2,1.1847062304029424E-3,1.6040462274220617E-2,3.3270490259198304E-3,0,0,7.5277404117749464E-3,1.4710586120423747E-2,1.4728764101222787E-3,1.1422340140939688E-3,3.4474643838903014E-3,2.4057374569351137E-3,3.1783125963315215E-3,1.8758364825078057E-3,1.4039375910210549E-3,2.154824728837392E-3,2.9557505269262197E-3,1.9559899686124576E-3,1.4652676394952642E-3,7.6374897864642439E-4,5.3251058598743255E-4,2.2300913429349283E-3,1.3348570382863054E-3,8.2922785074432176E-4,2.2249183411301291E-3,3.9725353405410174E-3,3.7401190792784858E-3,2.4287990509875876E-3,2.0146995922563937E-3,1.2034523552139113E-3,2.9160419673922092E-3,1.1237193929198256E-3,1.2630923906740655E-3,8.1381426259399565E-4,9.2577178167576625E-4,1.3631553652148264E-2,1.0078389533652932,2.3208257861981178E-3,3.6111333165212856E-3,3.7242286746974012E-3,1.0697545550958001E-3,2.0011484597751931E-3,7.0121422676007548E-4,1.2694393984129433E-4,1.3773198474603527E-3,7.3158318693418249E-4,1.0355670424507363E-3,4.4070068476395461E-4,6.4788257915572567E-4,6.3287871677670583E-4,1.1503966291907552E-3,1.2321178046401293E-3,9.4330159237013028E-4,1.5314034304154697E-3,1.1852900475672399E-3,5.6279912243708738E-4,1.3052095944736423E-3,7.2285079161397688E-4,2.3794519929980075E-3,2.7668920372321639E-3,1.1915000059878143E-3,2.2048601822681293E-3,5.8159011651986725E-3,5.8426232212753695E-3,4.6856742939162281E-3,1.3899865941025494E-3,7.5011175444716222E-4,6.7708032662222551E-4,2.0915531807690992E-3,1.6763153077451205E-3,1.6233416668401904E-2,1.306489693510246E-2,6.6040954686974167E-3,1.7183065765623928E-3,2.4719634907787603E-3,2.8331995101764638E-3,1.134225711688896E-3,6.3752572279454146E-4,1.3057832799785207,1.0178786017338044]
[null,"471","水道",1.621684369037686E-3,2.2039770220504164E-3,1.8536562233444987E-3,1.0263315965442922E-3,1.2580516553842591E-3,0,4.6052758970441107E-3,2.5818897982798307E-3,3.2919816212372104E-3,6.5103330421887977E-4,1.1890555981665179E-3,3.1304347955564559E-3,1.6739697909428797E-3,1.242522467029588E-3,1.0610003319679534E-3,7.524865689744282E-3,2.9100556360197221E-3,9.6238942001333663E-4,5.4735401261391788E-3,3.890097512856701E-3,0,3.9876022754224173E-3,2.9441192472653838E-3,5.5172132624947412E-3,4.8255689233689426E-3,1.8777404520534371E-3,5.9365531357488644E-4,2.4948754304066493E-3,1.2469831336078118E-3,9.4396660647489143E-4,1.1456616978784012E-3,1.7732623189186622E-3,1.8892646759279558E-3,1.3893063324884193E-3,1.9452727810835542E-3,0,0,3.6389163160213062E-3,2.1149598233170465E-3,6.580892281421439E-4,1.1950883873645406E-3,1.1610301236542678E-3,7.9727384456294847E-4,1.0958304233160219E-3,9.3343193816498697E-4,1.0135027324547879E-3,8.8343449011914904E-4,1.7046424444352635E-3,1.8964307267279434E-3,8.4485918998282428E-4,7.7281872451556873E-4,6.3183045298032133E-4,1.3881291062509274E-3,7.184885195561843E-4,5.9859847199792544E-4,6.7097026052737973E-4,6.51980104285718E-4,7.0242007411096762E-4,1.1945538616495062E-3,2.6959424116016414E-3,1.5384337079510947E-3,2.0129423057604185E-3,1.5272302200774772E-3,2.0614362684877731E-3,1.533876962463454E-3,1.7091908038135665E-3,1.054659458014885E-3,3.4321589714721187E-3,1.0920961048019084,9.5880737707809381E-3,3.7610991501246232E-3,1.9161908115700069E-3,2.5881370411285414E-3,9.9313604627645677E-4,2.1478896818517354E-4,9.7805130755809818E-3,1.4565038342418785E-3,1.3457797134275074E-2,9.0903128640521056E-4,1.1996697193963964E-3,1.3525561474500381E-3,2.6745939360713284E-3,5.9575810598313812E-3,1.0101867176622666E-3,6.9615388152264963E-3,1.4162254528500813E-3,7.9445559777440908E-4,2.3362593492682712E-3,1.7449583771455201E-3,4.725761379975965E-3,8.1117968642500961E-3,1.0033910757462976E-2,5.159936976325585E-3,5.2096642671692166E-3,5.6545364126797237E-3,9.3356765970485003E-3,2.9083372676420379E-3,1.3632126636564227E-3,1.0189643222161654E-3,1.6322395850857222E-3,1.2811426790939127E-3,1.5447715832695379E-2,1.0273269610409072E-2,1.5905993215310603E-2,6.1410697123821939E-3,2.4606931917384232E-3,6.3332840529910436E-3,1.4204199883044084E-3,1.9877721341964175E-3,1.4021742542641109,1.0930168820517983]
[null,"481","廃棄物処理",7.799745064507532E-4,1.2439239818225404E-3,2.0199657409135136E-3,8.0077693850371604E-4,7.3836875202347213E-4,0,2.1635274717217846E-3,2.2004462675721545E-3,2.5026412149172319E-3,7.1069416983124065E-4,5.1278757885428504E-4,8.9728911512836887E-4,8.6551720058505584E-4,9.6744031765436849E-4,9.385030091911147E-4,5.0360245243616618E-3,1.8681776141819433E-3,1.6064544549286878E-3,1.1450875349551849E-2,1.1537180644317087E-2,0,1.6024445556069016E-3,1.4827781187714795E-3,8.3088826633587846E-3,4.5512171349153712E-3,1.6882653656221684E-3,1.5704034822256423E-4,6.534442567367357E-4,8.3465718172328598E-4,9.5018050267458144E-4,1.1997738641460168E-3,2.8708875724269647E-3,5.2638481035221958E-3,1.868566137896151E-3,5.5299940559788525E-3,0,0,8.2537205358584843E-4,2.0024091435105547E-3,4.5248435525874881E-4,1.0976866807808157E-3,1.5763763435819478E-3,6.8913355692034966E-4,7.8248967078656609E-4,1.1855481355303164E-3,5.6484805399793802E-4,8.2053303490612489E-4,2.2552299326202684E-3,1.8623992958310717E-3,8.2685624049250715E-4,5.4689749636472435E-4,6.0600255322993475E-4,1.6263058707512723E-3,8.9388962121317544E-4,8.0467506025492358E-4,4.5022216784964549E-4,9.1725792762796391E-4,5.7513932244731474E-4,2.2968286970317616E-3,1.177797884647838E-2,9.4429774671041461E-4,1.9111177968353778E-3,1.6196789550609872E-3,1.448126300915468E-3,5.9644860652525349E-3,7.2996483672896038E-3,2.0093486974195787E-2,3.9712921345089105E-3,4.6025005876962908E-3,1.0017848164205156,2.5605288948606698E-3,5.7435574177764131E-3,1.1361921403583088E-3,8.8349600632951937E-4,4.1719642604754582E-4,4.8535422110423804E-2,3.7052528802127764E-3,2.2815211254127309E-3,4.1106411132431553E-3,3.9941711233099815E-3,4.3748705278757859E-3,4.4415004808154839E-3,1.6454636915901957E-2,2.5685400442935127E-3,1.8055280624894619E-2,6.4086809627358727E-3,9.9694520549526203E-4,5.7799281974643211E-3,3.0347028092866475E-3,2.8565145259970264E-2,9.9384997873259058E-3,5.5536101975380983E-3,5.9340180726959145E-3,1.9542935333034642E-2,6.648962456833738E-3,5.58720461054453E-3,9.5444395123459795E-4,2.0378775864032866E-3,2.7057007290537411E-3,3.9909767302250664E-3,1.8681364744867761E-3,5.7674859203174396E-2,2.1827547636001237E-2,1.1868911646695729E-2,1.5945855938790752E-2,1.161991842990195E-3,1.7976790643831481E-2,1.0564784957454902E-3,1.6268599937534385E-2,1.5434701756649956,1.2031592748297084]
[null,"511","商業",4.4874186530591199E-2,2.7768543770322795E-2,2.5837043914546543E-2,1.6791666616584808E-2,3.3045307915717026E-2,0,2.0899515184281015E-2,4.6028683368309675E-2,3.7071448760535086E-2,4.1662908307903312E-2,4.2733085365242339E-3,3.301102750255356E-2,4.7567500793619676E-2,3.5216335022642098E-2,3.8559152552735683E-2,3.43157131365446E-2,4.6335387034633711E-2,2.8691819987128896E-2,1.4216601816842377E-2,1.5126625681349776E-2,0,3.0756102672122108E-2,1.4998705648285314E-2,3.0856159644453082E-2,3.2781834121948884E-2,3.1881570172206837E-2,3.3095232656031423E-3,8.7806130455648206E-3,3.492694624829272E-2,2.3939173820059709E-2,4.8527799636511236E-2,2.1487506138766498E-2,1.8165738182168621E-2,2.3716046909282775E-2,2.2859801741592495E-2,0,0,1.4429789170369392E-2,1.712337743977075E-2,2.1423643967895076E-2,8.1159229296254593E-3,2.2498335827595421E-2,1.8516635589986435E-2,1.7631263719792099E-2,2.2548475710325963E-2,2.3027469235835537E-2,2.8436148594210862E-2,3.1049224033049102E-2,2.3757016172182933E-2,3.2403374385617544E-2,3.2482150692951933E-2,2.3894058908607938E-2,3.1371353586795131E-2,2.9359923277881318E-2,2.5399167883505373E-2,1.8338814561904164E-2,1.4454189860801171E-2,3.2279215696695986E-2,3.4090865033080286E-2,3.2470860327431593E-2,4.8269159493115589E-2,7.3276829372571593E-3,3.1571371768852809E-2,3.5250343103209951E-2,2.31937277905442E-2,2.0263594360120867E-2,5.5405234655569466E-3,8.1387749548223632E-3,1.5101572657492447E-2,1.2549875582663936E-2,1.0084272582501692,5.3445931841967437E-3,2.4623096538790206E-3,4.1164552924166037E-3,1.3482905155163332E-3,4.6599416020508284E-3,7.9342056771573126E-3,5.2424318776044115E-2,4.1463587360238549E-3,4.963807031439494E-3,6.2570877142669769E-3,6.7686092923029241E-3,1.1231537803408808E-2,3.7350249888923287E-3,5.9639125413048361E-3,4.9564170534405604E-3,8.5579599588737273E-3,5.3403292094534776E-3,1.4021991876038309E-2,7.6791881355616782E-3,7.1405775596294612E-3,2.1360134429729425E-2,3.2724934539877244E-2,1.9196278619869982E-2,1.6137731759300625E-2,1.3733966732874279E-2,2.1175612332349845E-2,1.4005854001523316E-2,6.0564754879999291E-3,3.7321334538881729E-2,6.07711407517556E-3,3.7542758628301941E-2,5.6561538433615478E-2,2.4048710553610263E-2,1.3753144694151684E-2,2.0581185548470205E-2,1.5848581186470208E-2,0.13557645482225872,4.901566922745351E-3,3.3746717525590451,2.6306097018349566]
[null,"531","金融・保険",1.2732141001954821E-2,1.0228849062819708E-2,1.6286676680897519E-2,1.6133838485104215E-2,1.4792777371250379E-2,0,6.2235056308365039E-2,9.5803495335764818E-3,1.2991167409382149E-2,7.986574137562279E-3,5.9072433110819765E-3,2.2482047264333147E-2,1.9777782334543335E-2,1.3511531688880016E-2,1.8677208045196254E-2,1.3662921371731557E-2,1.3679568175167954E-2,1.5551496396348556E-2,1.5697980898350884E-2,1.1726716639773481E-2,0,1.067122224758002E-2,8.154403936243686E-3,1.0105281643585646E-2,1.2674882426119164E-2,1.2753274370323902E-2,4.2902505794754154E-3,5.5863470938516749E-3,7.6771133158548763E-3,9.348593417656299E-3,1.0806671514839305E-2,1.284514702837323E-2,1.53010811210125E-2,2.2368606144956883E-2,2.2224453576351916E-2,0,0,7.8690862586621359E-3,1.2426279048822434E-2,8.7990129480697895E-3,1.4630609407143075E-2,1.3055478991384342E-2,1.694208215002347E-2,1.3343712132788614E-2,8.0005788815641181E-3,1.0848196752070187E-2,1.8047357040874009E-2,1.0699992952107478E-2,1.0570893602913896E-2,1.0625883100692768E-2,1.0655138778295889E-2,1.196983039429088E-2,1.1957211236648611E-2,1.0479019722019959E-2,1.1233836669704964E-2,7.5350977688918757E-3,8.1707018489973349E-3,7.4265615756545873E-3,2.1758846240573681E-2,1.6650017280980135E-2,3.8994355136412612E-2,1.2888674475596594E-2,1.5441207958136327E-2,1.045087857047332E-2,2.0144208648650231E-2,1.9063433536086388E-2,2.6443288968699682E-2,1.1929877216548838E-2,2.2859679734012719E-2,3.0745627469132515E-2,2.5108630399771636E-2,1.0795574350074688,0.10554281717096708,8.8341057701367423E-2,7.0193560746895894E-2,6.7976785190052472E-2,1.7781291248644332E-2,5.9001697028507556E-2,3.250599261329383E-2,3.0249437777679713E-2,2.2383147372878755E-2,1.9619187961372336E-2,1.7247406916826219E-2,4.3802420929174067E-3,1.6833249943680587E-2,9.48636275861592E-3,9.2585752515996367E-3,1.392074883086219E-2,1.0413826892147765E-2,2.1385498796585894E-2,1.5340090578927683E-2,8.7444691068119598E-3,1.0559378220188763E-2,2.7226400694517421E-2,2.097467694847625E-2,1.3003555543880599E-2,2.9160275359715715E-2,6.2133381329234925E-2,7.6069993792363903E-3,1.2571026832804706E-2,7.1363782531834409E-3,3.9019989918837733E-2,1.986066363914862E-2,1.1753023977296592E-2,1.96333445851276E-2,2.2716898149860477E-2,1.4735958325270219E-2,8.8168071097789059E-3,3.9563000890589187E-2,3.0728491815744907,2.3953342612346495]
[null,"551","不動産仲介及び賃貸",5.5860228413577347E-3,3.4516590203479526E-3,5.9108702258252243E-3,4.4942655565630291E-3,4.6152049599346321E-3,0,1.5788553155382561E-2,7.6887859097796397E-3,5.3239651229658042E-3,5.9991536113160257E-3,8.4939237540439315E-4,6.3112918815963447E-3,8.5639447809728025E-3,6.4973368352356986E-3,8.9284276984407402E-3,6.0286276391645511E-3,5.7206281411784155E-3,8.7567729536538706E-3,4.355374102435171E-3,4.9197688361774959E-3,0,4.8922042487556756E-3,4.1264516367981851E-3,6.0458659834577424E-3,9.3435261446497275E-3,4.3380854169728965E-3,1.3058097628167323E-3,2.6559555301379125E-3,7.2625334909236366E-3,6.0412923359697487E-3,6.5443335374106831E-3,6.6090555327116924E-3,9.0899537325623316E-3,7.125147101281531E-3,8.3958056401249419E-3,0,0,2.938515168590583E-3,5.9637607545363425E-3,3.1889752595440392E-3,3.2396200064166562E-3,4.8644183561444131E-3,8.9503020302885931E-3,5.6353970261608568E-3,4.8969324139953984E-3,5.8112093535179366E-3,4.8801043227649837E-3,4.0600050044908801E-3,4.4017830335083812E-3,5.201846126107898E-3,5.9248242063781823E-3,3.8313996144043309E-3,5.6913138149883658E-3,5.0293482207221076E-3,4.9997596493459879E-3,3.1334153598509759E-3,2.5614289962554225E-3,3.1934015161248059E-3,4.9941073884063386E-3,3.5603470948994322E-3,7.1140910326823363E-3,9.1079967653997906E-3,1.2338952397483499E-2,6.9983978225091189E-3,6.2183191412701162E-3,6.1108698541869457E-3,9.2456460300154534E-3,1.9534186059480506E-2,5.0441935219000672E-3,4.8724965966049699E-3,3.7638024867914288E-2,2.0947556881590296E-2,1.0510550519146731,0.17351062963982944,1.9241160976082767E-2,4.7579151806204359E-3,1.4546269359176028E-2,3.2926064760510881E-2,4.6901070445735528E-2,1.0151601233214924E-2,8.4068338844319246E-2,9.7135516404406652E-2,3.3988747708926861E-2,1.8378370755426976E-2,2.0289446126079844E-2,1.3920430992070626E-2,3.6443634724492364E-2,6.8706724298318506E-2,2.7622193106754785E-2,6.2066097762982653E-3,3.9147294387015157E-3,2.5750568636538792E-2,2.8286343395749671E-2,1.4940344391825703E-2,9.8111426312607417E-3,1.1329506018074413E-2,1.9878162936417615E-2,3.2901195522696519E-2,1.1314506768126478E-2,6.7864337091315197E-3,1.2640843090860998E-2,2.0815203685762878E-2,5.9827928882069573E-2,3.5846808308719814E-2,1.0306401049249169E-2,2.8627762363495235E-2,2.0777099077967608E-2,7.2376070577594258E-3,2.1909416160067165E-2,2.5984407908021976,2.0255254599931227]
[null,"552","住宅賃貸料",0,0,0,0,0,0,0,0,0,0,0,0,0,0,0,0,0,0,0,0,0,0,0,0,0,0,0,0,0,0,0,0,0,0,0,0,0,0,0,0,0,0,0,0,0,0,0,0,0,0,0,0,0,0,0,0,0,0,0,0,0,0,0,0,0,0,0,0,0,0,0,0,0,1,0,0,0,0,0,0,0,0,0,0,0,0,0,0,0,0,0,0,0,0,0,0,0,0,0,0,0,0,0,0,0,0,0,0,0,1,0.77951572618585518]
[null,"553","住宅賃貸料（帰属家賃）",0,0,0,0,0,0,0,0,0,0,0,0,0,0,0,0,0,0,0,0,0,0,0,0,0,0,0,0,0,0,0,0,0,0,0,0,0,0,0,0,0,0,0,0,0,0,0,0,0,0,0,0,0,0,0,0,0,0,0,0,0,0,0,0,0,0,0,0,0,0,0,0,0,0,1,0,0,0,0,0,0,0,0,0,0,0,0,0,0,0,0,0,0,0,0,0,0,0,0,0,0,0,0,0,0,0,0,0,0,1,0.77951572618585518]
[null,"571","鉄道輸送",2.7202318624380167E-4,2.0787178351777523E-4,2.7826596940437939E-4,7.5573152950356333E-4,3.303211048099885E-4,0,8.9098898037316275E-4,4.3288600814123172E-4,3.5792797750493351E-4,2.9460408374781891E-4,1.0884940895987821E-4,6.4994621111173409E-4,6.6114817019834258E-4,4.9330218112176292E-4,5.8750590914867832E-4,6.9994621917914728E-4,9.4718351976493388E-4,8.6100529401993814E-4,5.8338167195337934E-4,6.0736439587071858E-4,0,5.8431251802102638E-4,5.4905178756014974E-4,5.8988373920247335E-4,7.0567116738945153E-4,6.7971514557561505E-4,8.2118584183371926E-5,1.7584033832104457E-4,9.7291647627239586E-4,4.77136989012628E-4,6.2433585222468856E-4,6.49121536725222E-4,6.6658343562834286E-4,5.5300613300263515E-4,1.1897975910671514E-3,0,0,3.4799910906992609E-4,6.8342994549102677E-4,1.7774974561919033E-4,4.949185662005539E-4,5.3287581879555429E-4,1.0919903797480528E-3,4.4384914371333383E-4,5.6720472842908395E-4,6.6095096064055191E-4,8.6398994679887456E-4,9.5853446684982099E-4,9.2093535816425434E-4,7.3112118151965483E-4,5.3679023671200957E-4,1.2163972409226847E-3,4.6181479524356344E-4,2.5346156637722312E-3,8.3961115584558718E-4,3.9428625563073597E-4,3.038860098855884E-4,3.5296404969513428E-4,5.6765443969513871E-4,7.2425282295936026E-4,1.1727937825675109E-3,1.2122192633565558E-3,1.1084937533284152E-3,8.9556061922567833E-4,6.5232536777188981E-4,6.1462678018429906E-4,5.9228858854778869E-4,5.6291365334506008E-4,1.2041011120014881E-3,5.8582081192313836E-3,1.9693330332929181E-3,3.8200223547677293E-3,7.5263380375143482E-4,4.758991507160288E-4,2.7087322161298727E-4,1.0007181046344784,7.4655942321555032E-4,5.7964873572317508E-4,6.7058755859634555E-4,4.6923948969236374E-4,2.4251151012272894E-3,6.443272789099201E-4,7.5941714420105927E-4,5.6050334470912589E-4,1.0099251222169454E-3,1.1167008766149954E-3,4.7381635442020261E-4,1.0151342148824398E-3,7.3840247004480796E-4,3.0076730056564941E-3,1.5111550005978724E-3,2.6713843805521403E-3,9.0831312850503745E-4,2.4850139161828517E-3,7.0358598945700467E-4,3.3337391380497308E-4,2.0706622143986902E-3,7.3554284937485176E-4,6.4556619665186231E-4,4.3014111545747424E-4,4.9769964298650225E-4,7.3543251822413196E-4,7.4896221593726486E-4,6.3258450074088837E-4,7.3113962525176736E-4,3.0531740471463609E-4,1.0033622337206854E-3,8.3363126240392491E-4,7.1145866199659208E-4,1.089719341049413,0.8494533634769047]
[null,"572","道路輸送（自家輸送を除く。）",7.8561567506326511E-3,2.6150832962177985E-2,6.8355052139697989E-3,2.2353743571498136E-2,9.0655709772902628E-3,0,6.6001028652052816E-3,1.5744239639066016E-2,1.2555750393516384E-2,2.2083615882843077E-2,2.5077374070456016E-3,7.0710427043682127E-3,7.5526712666046849E-3,1.744718511414358E-2,1.3572655907012619E-2,2.4094458340034791E-2,1.6964930307531802E-2,9.3083996413780602E-3,1.421749426233892E-2,7.7780332510020795E-3,0,1.117345769305101E-2,7.7910764062415049E-3,1.2396628740309272E-2,1.0366357576706852E-2,1.1152200368218967E-2,1.686862965445611E-3,1.4960266904059228E-2,8.5646438592052732E-3,6.5645838953089898E-3,9.2616201080753004E-3,1.496113529741178E-2,2.4573545888089632E-2,1.7362640111879043E-2,1.4541542279805704E-2,0,0,7.8889649318359418E-3,1.9293531817151665E-2,1.0799906343751066E-2,1.944144102487811E-2,1.8759989947224255E-2,9.3018886472279565E-3,8.2035015241070913E-3,6.3690363672711178E-3,6.2794619400129408E-3,7.3220423744910683E-3,7.3431266721472573E-3,6.8167250904394745E-3,8.020160804239616E-3,7.2273169483787246E-3,5.1209185931413862E-3,8.5451591074888061E-3,6.6566386311587558E-3,8.5798150716002927E-3,1.0538740927222626E-2,1.0153382301058857E-2,7.6034589666012101E-3,1.1300208478821409E-2,8.3112263244150223E-3,1.167189100237186E-2,0.30611690646429246,1.3468041527320833E-2,1.3519714580189615E-2,1.2656535988650443E-2,1.3062568572448672E-2,7.7699075932582762E-3,1.7094153681657395E-2,8.3610512093951189E-3,2.331001779924095E-2,3.9114413154131581E-3,6.6294936443293201E-3,1.7206446847681529E-3,1.7060260259774255E-3,7.0796969854553351E-4,3.2111909792230352E-3,1.0027253534312555,4.5846164570134728E-3,2.2750605380289527E-3,3.8932452658652292E-3,4.1219912903714285E-3,2.701827535698391E-3,5.6711357722785544E-3,4.9875181561176818E-2,5.4529608874360003E-3,3.2103545205582075E-3,5.2039735489287486E-3,5.7630810082136821E-3,9.0748730089320502E-3,5.4005452229305374E-3,3.0034526568682315E-3,8.1154473758393714E-3,7.3829693448328078E-3,6.3007219432545504E-3,4.4217473470570647E-3,3.2594472056900361E-3,8.4950811525938072E-3,3.3646698267145356E-3,3.2783876307019236E-3,7.2832632708621789E-3,2.4885838697378398E-3,7.878407992626825E-3,1.0149300770888423E-2,3.5497770313948464E-3,3.4739862078878416E-3,4.5843171806446651E-3,9.6200306348890111E-3,3.3957597020877986E-2,1.7354754510990715E-2,2.3378270291762546,1.8223729343452484]
[null,"573","自家輸送",8.7508765700469809E-2,2.2018437815711778E-2,2.1912406547405172E-2,3.609889912939087E-2,2.9500458333756859E-2,0,0.29346820853179856,1.3176294160903502E-2,1.364358374178604E-2,1.2239557229574942E-2,5.2939043074118298E-3,1.9701505371478394E-2,1.2804741837017108E-2,2.6976442558583374E-2,1.2654873113138029E-2,9.826579465585867E-3,7.7210883026666071E-3,1.5772950135764355E-2,7.02674537556179E-3,7.6892837450995748E-3,0,6.9522906946827825E-3,2.9025923710314389E-3,8.2337794698777861E-3,5.2030097300332333E-3,4.8498952411958687E-3,9.1743754298013894E-4,1.9783060732089385E-3,4.1873010405644425E-3,4.8055486784177445E-3,1.8722595464497241E-2,1.1175640482102888E-2,4.1735872325139388E-2,9.5974087183549137E-3,6.0596348587362327E-2,0,0,8.6814003913570342E-3,8.0022617296888459E-3,5.7913405861380694E-3,1.4302455015933285E-2,9.1622085519988995E-3,1.3061741837979158E-2,1.2327415232730914E-2,8.4159104143467396E-3,9.3290968210957732E-3,9.6244234547465599E-3,7.1658669419400979E-3,3.2559669975666698E-3,5.9337948309820619E-3,5.386470177282849E-3,5.4397603794037663E-3,6.4265076123927092E-3,2.5471134722536704E-3,7.1138982207100687E-3,3.3094195507445859E-3,3.6838607922344492E-3,4.0574596283077247E-3,4.9812841166893031E-3,3.4732719356420296E-3,4.686865607617767E-2,1.8214517822976336E-2,2.6188249375153211E-2,2.5129769698162184E-2,2.8762230070579084E-2,1.6639000706667018E-2,7.5308281592329773E-3,9.8783648034873467E-3,1.3777242644490243E-2,2.5874607592529644E-2,4.1445686615728006E-2,1.3081845251047223E-2,6.6046475271965468E-3,6.3029478022129434E-3,2.2866457531678344E-3,7.3215074991208494E-3,3.7522806645890875E-3,1.0065146378162475,5.950997547821392E-3,5.3441194278505931E-3,5.3285525518888977E-3,1.1933602598875926E-2,8.2562263945384386E-3,1.0542002518601233E-2,1.2782104797391289E-2,1.2087872839522172E-2,1.6378929439314655E-2,4.1964738552308948E-3,1.861994004360381E-2,1.6773379147574888E-2,1.7553648514102786E-2,1.0896602132835215E-2,8.1742252404480766E-3,1.4616088676239862E-2,9.3196357545356455E-3,9.5301990751017786E-3,1.6725559579392327E-2,1.4336913896042696E-2,1.4702295490841849E-2,9.8876580540081579E-3,8.4060806548316158E-3,6.601773094344536E-2,1.1675753885886469E-2,2.4258613323999294E-2,3.8997629215173468E-2,1.5704800815957515E-2,3.7283728019014216E-2,9.2166766231000005E-3,1.2320555630998282E-2,2.7823579430816547,2.1688917725102783]
[null,"574","水運",6.0774933024841096E-4,1.1043388366187895E-3,2.8720170966105242E-4,4.3215852931930175E-4,5.0111228502977686E-4,0,4.8294920515598084E-4,3.4699920341483772E-4,3.1584665818205714E-4,1.1835773610874806E-3,7.7788502421425557E-5,1.7671905763842936E-4,1.0840999086271261E-4,6.4186125896695506E-4,3.7465761400634878E-4,1.4815312995874552E-3,4.7932541296053893E-4,2.3683302054270704E-4,1.0710468680408625E-3,1.5099085539941976E-3,0,6.4967046196539289E-4,4.8614295982812232E-4,8.5418716880580957E-4,2.9639353919000026E-4,4.2771493524063802E-4,1.0300489679445129E-3,4.760902762133876E-3,2.8299600036011579E-4,1.9708262444161493E-4,1.9075142463318199E-4,8.4657167353242347E-4,2.0487292764145709E-3,8.5457355271358895E-4,1.2573880576807249E-3,0,0,6.6784601046868456E-4,1.5956232304932612E-3,9.521333744645854E-4,5.4473416597095028E-3,1.6049314466394494E-3,6.0847899138751773E-4,5.1434070139314372E-4,2.8813453213579219E-4,3.0975159399280648E-4,2.883375010955817E-4,1.9703124211764854E-4,2.4785880644063676E-4,3.1759834701522823E-4,2.4030578581093809E-4,1.2008781581050439E-4,3.7617525391225832E-4,1.7604063338820969E-4,1.4332235567841785E-4,7.3563182067351617E-4,7.2736529144542433E-4,4.4170996741283743E-4,5.8404320395062854E-4,4.037876561454449E-4,3.0531459041427416E-4,2.5046607022684964E-2,3.0574262301853429E-4,2.9009370320814151E-4,5.410254335790186E-4,5.7214631240638445E-4,1.1558104019480729E-3,1.1079398865856873E-3,2.0671547466150113E-4,2.5302313451572452E-4,1.3445231277879412E-4,1.0459588390544828E-4,6.5044759287992895E-5,5.4281551045420182E-5,1.6495338682335524E-5,9.3135785385514431E-5,1.2952081536894908E-3,1.4557216481673138E-3,1.0945614846849154,4.1819626074724185E-4,7.846844329797215E-5,9.9097294878400442E-5,1.7396181805471122E-4,3.803970278288501E-4,8.283865816363768E-5,6.3186501911990405E-5,1.3419500790009395E-4,6.870694654907621E-5,1.5754435598084102E-4,1.1109527970580805E-4,9.8877560617015141E-5,1.4499548427204388E-4,1.1855921998020292E-4,1.8956653675358484E-4,9.7473834428988491E-5,8.6403128110451249E-5,1.4616216509441793E-4,9.2628768482868183E-5,6.1037354933104844E-5,3.0287448267022634E-4,5.7484626586120175E-5,2.8284861208882622E-4,1.7210510050622333E-4,1.314926841162379E-4,1.4953660793651208E-4,1.1269593511677086E-4,1.6014013569567683E-4,8.4753971791540618E-4,1.1573318306220461E-4,1.1752917267584717,0.91615838386435766]
[null,"575","航空輸送",4.7745811829867326E-5,3.6776398226715785E-5,1.3833536473352239E-4,9.3204358088153907E-5,6.7821506980606571E-5,0,1.8316279294482604E-4,7.5037024104383671E-5,6.7050383562961696E-5,4.1265386020629956E-5,2.8098637303379145E-5,1.7303365760866802E-4,1.9639938671833559E-4,1.2897396419782339E-4,1.9805054256444288E-4,8.2572192548424763E-5,1.1327782590104602E-4,2.145232778967801E-4,1.0620838875965814E-4,1.3804639469278877E-4,0,7.0629974595354985E-5,2.3459081795906904E-4,5.060474277186549E-5,8.4636708671604797E-4,1.4931276099949885E-4,5.4337301838426683E-6,3.7309203449608944E-5,1.3848445824146997E-4,1.632491465493263E-4,1.8018599707440172E-4,1.6679569597986802E-4,1.2829668578225246E-4,2.4570840737612494E-4,1.7953912174597486E-4,0,0,1.0174716034615974E-4,1.279442488573984E-4,8.1113229885510836E-5,1.1915654416485441E-4,9.4801793225581142E-5,2.8199532162188765E-4,1.9097209700728759E-4,1.5833342016259089E-4,2.4962712714415977E-4,4.7259379135712126E-4,1.0730041929585039E-4,1.9759119883773317E-4,1.7992790259447353E-4,1.2816429710914884E-4,1.6560343281720426E-4,1.5573615100352551E-4,1.6122076598904176E-4,9.5174252748783864E-5,1.0471526150427979E-4,1.007598976252806E-4,1.4384857654172113E-4,7.1269463883618826E-5,1.2740831117382642E-4,1.9836137525453809E-4,5.663542817974609E-5,1.0170570839256344E-4,1.2293069942641738E-4,1.0661784448492167E-4,1.4030805363563124E-4,1.4060666220524817E-4,9.4254727152284629E-5,3.4418962016299112E-4,1.1282742109218111E-3,4.6453884131662869E-4,3.1851954483187413E-4,9.8596277787506203E-5,9.0060931895130658E-5,2.4542165579589458E-5,1.0779290244784098E-4,6.8968574260958631E-5,1.0425812867180625E-4,9.5282246008337548E-5,1.0008321499768733,3.154004315866073E-4,1.2055739434231116E-4,1.5802097776169494E-4,6.3462616000245732E-3,3.9433656088374414E-4,6.3153631954273009E-4,7.0387297942031159E-4,3.8663530791057434E-4,1.7061871801930658E-3,3.2634352927909293E-4,4.3722836030899033E-4,5.9247146982757876E-4,2.5511411119560998E-4,1.4086912183581591E-4,1.0102727454762591E-4,8.4790226383051485E-5,1.066304433350547E-3,3.8390045035071154E-4,7.2514089360576869E-4,1.1328506233079818E-4,4.7885456195802928E-4,2.3079343353381421E-4,1.2746972285782637E-4,2.2440619532733817E-4,3.4028883401272439E-4,2.2840825358384648E-4,2.7101590630766384E-4,1.0439789210114644E-4,7.6290573893124283E-4,1.0307395139317892,0.80347766071099402]
[null,"576","貨物利用運送",1.3321191709507829E-4,3.7708046159223981E-4,8.6844820926281472E-5,6.6068868812301689E-5,1.7351389087321469E-4,0,6.3019623372399978E-5,2.8500382657570272E-4,1.9985774656382739E-4,3.2706517988448255E-4,3.54723167868519E-5,9.5253600593004506E-5,1.0198410519020811E-4,2.1181390224696314E-4,1.849372917199115E-4,2.9474206926473053E-4,3.2146713898072464E-4,1.984285559221113E-4,1.4085281060725459E-4,1.1543395308232082E-4,0,1.9192342575985176E-4,1.4828011528607724E-4,2.2010144237011685E-4,1.4726756743590165E-4,1.8536494345958155E-4,7.5440489099053084E-5,1.8695467605194703E-4,1.0034439533080722E-4,9.1856497726912524E-5,9.427827381980935E-5,2.0603510397864544E-4,4.5472367063174505E-4,2.5738747638118204E-4,2.6326584597817699E-4,0,0,1.1433221752015643E-4,2.8059968188656851E-4,1.5799500319797004E-4,1.2536121113368567E-4,1.6312816175821326E-4,1.2455137214291857E-4,1.125753934389825E-4,8.7459008470699583E-5,8.3668376346784031E-5,9.3956794805047698E-5,9.2136033307454803E-5,8.5334582078896401E-5,1.0273182386435867E-4,1.0376909992421836E-4,8.0688177818815198E-5,1.1835863904691946E-4,9.5804231256076361E-5,8.7408668057140939E-5,1.8285625406650843E-4,1.7781509970773136E-4,1.1458049358449809E-4,1.5332887098730007E-4,1.2319216856422147E-4,1.4538084266862422E-4,3.2605808919963938E-4,1.6054539045025695E-4,1.6749311993108514E-4,1.5942025595105656E-4,1.6768916885792238E-4,9.924018745744672E-5,2.5140073210920869E-4,6.4914102900262661E-5,5.2458308434787318E-5,3.6168320449801036E-5,3.9870009801805299E-5,2.1932895876077098E-5,2.2261877095890701E-5,6.4092652506990941E-6,2.0572061960655677E-4,1.6394892336247079E-4,1.1309338802810182E-4,6.4758731158155863E-5,1.1157090394007196E-4,1.0005654723823705,3.0104820290201872E-5,6.4908531741841228E-5,1.2495060459306174E-3,3.3186791214600826E-5,2.5254345521735679E-5,7.320457800645082E-5,3.3565095790930202E-5,1.1919606120734598E-4,3.2865634797797537E-5,3.492345498435281E-5,8.3567272093367851E-5,1.1502987615404467E-4,9.455344324777758E-5,6.0083335642208302E-5,4.9504425547364151E-5,8.2577544918244322E-5,3.6774785406872288E-5,1.1359293585833976E-4,1.1151951590414074E-4,2.4881679200016451E-5,1.2124992055952053E-4,1.5109622028988047E-4,5.401622703567904E-5,3.6582868401947489E-5,7.3182576921267437E-5,4.3763941873548014E-5,5.6147945315216513E-4,2.7240817889549178E-5,1.0153801270808471,0.79150477711611245]
[null,"577","倉庫",1.9178951630172917E-3,5.4713464762848642E-3,1.4028031748967861E-3,8.2154894762542102E-4,2.7163690217401038E-3,0,5.4661509560405643E-4,5.3580701358483468E-3,2.8044390547104069E-3,2.0508072448605343E-2,9.4356570510157494E-4,1.8093150434592431E-3,2.0361077121554844E-3,1.9927106360372536E-3,1.9853703773349842E-3,5.4846461371843508E-3,3.4586124080152984E-3,1.9550125000686483E-3,3.9469923605855405E-3,3.2767225158965166E-3,0,1.7677625857580395E-3,1.8082655451775217E-3,3.4241101829668623E-3,1.7791290237371248E-3,2.0492412114380739E-3,4.7571689032231629E-3,2.5015280580096516E-3,1.9613228661212036E-3,1.2959180482342921E-3,3.0573288958649259E-3,4.2083500646143837E-3,3.6231019429571157E-3,4.8629968409563814E-3,3.9124669546180329E-3,0,0,1.8416960421633731E-3,3.7762667030859847E-3,2.0010371749003778E-3,5.4381039739111684E-3,5.6506522183258027E-3,1.6160227872707041E-3,1.9301450810199491E-3,1.4081115409089104E-3,1.2228399347315511E-3,2.1740701397294873E-3,1.4749976586790785E-3,1.388159744857381E-3,1.8738694319453853E-3,1.5804150892109929E-3,1.2348052153584026E-3,2.8028098939879174E-3,1.5159979888722803E-3,1.3622328507376614E-3,1.7548039854566016E-3,1.6511156569263825E-3,1.4498783306082055E-3,1.9124190803534579E-3,1.7971564879115927E-3,1.9538417935929956E-3,1.3948017395512794E-2,1.3960246285687104E-3,1.5409599772888943E-3,1.4517515284527464E-3,1.5836441119221247E-3,4.3519147581466229E-3,1.3787627381455022E-2,9.1360331459309498E-4,6.907751405448335E-4,5.2396635682085645E-4,4.9852851382690521E-4,4.3216300543988184E-4,3.6476573680437562E-4,7.0839383763081091E-5,4.700210431261687E-4,2.2436446242378246E-4,1.0233133713223202E-3,5.1281776777183129E-4,8.9217859067113319E-4,3.8082165063131298E-4,1.0004675367023239,8.3504641877289319E-4,2.0389040415698598E-4,5.3678358470615718E-4,5.3492789718774124E-4,7.8481440034583764E-4,5.9720094458577721E-4,1.5202435483053528E-3,2.2736802255172834E-3,5.3683198442925218E-4,9.6385181984388858E-4,9.0411546607313705E-4,1.2607292289147048E-3,7.8537541832858493E-4,6.2173847270927617E-4,1.0380533468853194E-3,4.062268019861841E-4,4.8682401064439938E-4,1.1878533086905766E-3,3.0461112755413028E-4,1.9153721044613944E-3,2.0291443938676929E-3,7.1869979593834068E-4,4.6001820753441969E-4,6.8783721842844174E-4,5.2993218253287379E-4,4.8396571301699614E-3,4.6559891018695706E-4,1.2332110480165619,0.96130740563504968]
[null,"578","運輸附帯サービス",5.2934016049158645E-3,1.7291166903030458E-3,1.5299952136721034E-3,2.407674687455705E-3,3.027230027559728E-3,0,1.6971899272435031E-2,1.4324117238430662E-3,1.4838182206202695E-3,1.4569929793986176E-3,3.7434861699371929E-4,1.5070192472434654E-3,1.7973008481283333E-3,2.3561904658913504E-3,1.7826643454505837E-3,2.8875820635216706E-3,1.0418452903814884E-3,2.2653021896117693E-3,2.9149672172645085E-3,1.431731449421615E-3,0,8.7820484520728377E-4,7.1068817886335285E-4,1.6309630197060845E-3,1.0330462807236365E-3,1.4648449529875347E-3,1.4644621743024598E-4,6.0257605423530208E-4,1.5559499321064819E-3,1.27079237587043E-3,1.6082841705078021E-3,5.76805265239897E-3,2.9884437846266305E-3,3.6360520688633598E-3,4.0310548745569521E-3,0,0,3.9135748256595914E-3,1.0539421439584103E-3,7.7605534650559743E-4,1.9541137230132482E-3,1.7739074302018081E-3,1.039285699024111E-3,1.3526786983499843E-3,1.3422515881991604E-3,1.0255529003375121E-3,9.5850582812017076E-4,8.4598938496096947E-4,6.8281245512463457E-4,3.14445609965187E-3,6.8784861133806428E-4,1.3089566011739858E-3,1.4431708864097587E-3,5.6779004216230542E-4,1.6316663089671053E-3,7.020076574737658E-4,1.5614948207007427E-3,1.2514519559431495E-3,6.9933375868883431E-4,6.5922197752023997E-4,3.6354123254807862E-3,5.6585297366888053E-3,1.8487387849059982E-3,1.8117991887919448E-3,1.9825053702360231E-3,1.3150166012631643E-3,6.4458425560961965E-4,9.4692266353126628E-4,1.0339999637670697E-3,1.9804282505020638E-3,4.4474285584568899E-3,9.4479854294634712E-4,4.6687778707579395E-4,4.4330167087738772E-4,1.5286441014226342E-4,1.8895692317077945E-3,1.1638197662562697E-2,5.7808275733233765E-2,3.3661769255672054E-2,0.12946969164059585,2.130912777998463E-2,7.652058919544155E-3,1.0063016172194357,2.0430075023460592E-3,9.1270473710129989E-4,8.9825448028211488E-4,1.1401527059058849E-3,4.581330954841759E-4,2.5918767707814329E-3,1.2149646048140474E-3,1.168024358590179E-3,9.0690794251042234E-4,7.3702946843335281E-4,1.0789251549687647E-3,6.9575757693545804E-4,6.8843193665419559E-4,1.3240923535036166E-3,2.6769385366440961E-3,1.0509090720605639E-3,8.8719802870167413E-4,6.1421353842900967E-4,1.4103141612830406E-2,2.3836015712009398E-3,1.5677817510067076E-3,3.2378908768804873E-3,1.0645421279273982E-3,2.3506218570105747E-3,1.4136874558397764E-3,7.4862588036661345E-3,1.463131523779202,1.1405340322641615]
[null,"579","郵便・信書便",2.6840645541731123E-4,2.4543298129965472E-4,3.5258950770911357E-4,2.3712250626423402E-4,3.3846554630129709E-4,0,7.7122908421709978E-4,2.29057784319927E-4,3.556767220092404E-4,1.4342433800493742E-4,1.7613528421814282E-4,3.2812395969643613E-4,3.6736687488180371E-4,2.9177037790971573E-4,4.2255670793482956E-4,3.1346664022070282E-4,2.9538216396210308E-4,3.6895114320328301E-4,3.152308997862988E-4,3.0921676819768582E-4,0,2.3771783766772696E-4,1.6759451043991711E-4,3.2559554831453427E-4,3.4990243268710622E-4,3.8952453426580307E-4,3.8375628480074844E-5,1.8140035217892284E-4,2.8626916318331698E-4,2.8571511640151519E-4,1.6523837558471267E-4,3.2997156435279597E-4,3.7116337495942439E-4,2.67745149004871E-4,3.845376806991102E-4,0,0,1.2365592005100022E-4,3.1893477513215523E-4,1.8223825724949152E-4,1.970338872727796E-4,2.2159761493424681E-4,2.6887445592796422E-4,3.0013757819039033E-4,2.7342015054818299E-4,3.0663451082042027E-4,3.3142329768906352E-4,2.0987184247519983E-4,2.2962200377202145E-4,2.8015082365275793E-4,3.3580758841204677E-4,1.7962057236026567E-4,2.2719057793393947E-4,2.7131293401109536E-4,1.7470316624710461E-4,1.8375829298116495E-4,1.5221893242357498E-4,2.0961625879119153E-4,2.6334900607325807E-4,7.158728778969242E-4,4.6746628195656323E-4,8.9691671560446521E-4,3.9770444773722466E-4,7.763816692914205E-4,5.8867929444118665E-4,5.6320743475549888E-4,1.0955132822067436E-3,2.8268307349380399E-3,8.6696891890819191E-4,1.3305284133692432E-3,1.1741290767684038E-3,5.3979900804095263E-3,8.8519639592308304E-4,8.3773280741409164E-4,3.706539365269347E-4,1.1078354223886873E-3,3.9804101603566663E-4,6.7482024046723458E-4,7.5624196458413679E-4,7.0836746061958219E-4,2.2497888171858949E-3,8.7287102837022403E-4,8.8642932614608095E-4,1.0107946147497873,2.6732596854607974E-3,1.7559194878254154E-3,8.5800490329483671E-4,1.7063027258174591E-3,1.782253631036437E-3,2.9798982478722452E-3,1.0115465382874343E-3,5.5643665756285226E-3,4.735004883439611E-4,3.9095503382321423E-3,3.8562329114054284E-3,1.2626024319434418E-3,3.9702453499757488E-3,1.5543366008880007E-3,8.0223084458955424E-4,9.5124042514989034E-4,1.0373778851698974E-3,1.4015860495821208E-3,7.382891619070489E-4,1.4686070170531083E-3,6.532829535700436E-4,1.392104732601583E-3,1.6114073448234359E-3,2.5642488124037543E-4,7.5661931074518494E-4,1.0972195023768996,0.85529985718061152]
[null,"591","通信",1.5554172097028034E-3,1.2508692299556738E-3,2.4451514805660128E-3,2.882687960746999E-3,4.6386838605095787E-3,0,3.1723663757640417E-3,2.4798583416599978E-3,2.1365892299623373E-3,1.4607300530016787E-3,1.0011648610827849E-3,2.2674059598109882E-3,2.7584957946984122E-3,2.3004929301625259E-3,3.1308005466041131E-3,1.7654912439175729E-3,2.2681149231912976E-3,3.0454294422059946E-3,1.5785325185312901E-3,1.474371847464699E-3,0,1.6319239945271518E-3,1.1175424077392046E-3,1.985193876554694E-3,1.0201520672932099E-2,3.1617623195306904E-3,3.1539610217886938E-4,1.2751150683830812E-3,2.1685413911151185E-3,2.3133882754371705E-3,1.7940445765623244E-3,3.047556745844606E-3,2.9234334231234681E-3,2.0680633070352364E-3,2.5909824726652935E-3,0,0,8.1562733429495693E-4,1.6334103136512082E-3,1.4500550404760722E-3,8.8324710327278408E-4,1.7160622895931493E-3,1.9301133788592994E-3,2.2788880547126786E-3,2.3743661068545839E-3,2.5277925933011726E-3,2.5873464011738497E-3,1.4665862620894983E-3,1.6610459362977931E-3,2.3854157780694375E-3,2.5170800020867931E-3,1.2444515140131818E-3,1.7054247881626565E-3,2.2146021392863389E-3,1.3592828331126607E-3,1.5407297818735839E-3,1.233405843500072E-3,1.7280379659289436E-3,1.871678117186349E-3,1.7785123151431005E-3,3.4317196550693991E-3,2.1671533949456875E-3,7.2290439855970745E-3,7.0825627269505958E-3,6.7593142055166399E-3,7.1249719554511634E-3,1.6412843173744061E-3,2.5565082394005353E-3,3.3432249953207599E-3,7.4340042046249447E-3,1.4405656810802818E-2,1.5680932483995876E-2,7.0654187484535825E-3,5.6543076716973608E-3,1.2369674220535237E-3,6.2344019934328461E-3,3.7783446309645591E-3,3.2037517678500391E-3,7.5052478422323729E-3,4.4943321475564586E-3,7.8736150811090869E-3,3.5353797432716538E-3,4.0545470605569739E-3,3.8021851337175553E-3,1.2845066942368555,5.1485889220746803E-2,1.8297050921542289E-2,4.0406512247790863E-2,9.1575672261612982E-3,9.2425812261969584E-3,1.7138960260329819E-3,2.2189992576082788E-2,4.6570764668506246E-3,9.258580790131225E-3,1.4197018384407963E-2,4.0241207625495608E-3,1.5245888727403546E-2,6.6234471237061384E-3,2.2115589493007588E-2,4.5252954771791967E-3,4.9465606570650664E-3,9.3919399697991318E-3,8.7916187339713188E-3,1.1135153246326822E-2,3.5559903722534657E-3,8.2594014359707833E-3,5.7963958292944831E-3,2.6037163396714648E-3,1.8315244219788633E-2,1.8488483782648408,1.4412063861906579]
[null,"592","放送",2.4285003718956452E-4,1.3563315143071928E-4,1.5695314436549085E-4,2.9821312909562397E-4,2.2286749016646709E-4,0,3.0429823510800863E-4,4.8581582045830997E-4,3.2392583882689522E-3,1.3464467182413138E-4,1.1095632752137997E-3,2.0734162221175214E-4,5.5342613227835546E-4,2.6752496876591736E-4,5.3304275239907822E-4,2.6989942536423617E-4,3.7046388804246315E-4,2.288604285922695E-4,3.1047457700885019E-4,2.7524179376177573E-4,0,1.6447945023727306E-4,1.2155508016783222E-4,3.196783139893695E-4,3.6702753590548906E-3,2.156174971849268E-3,3.4278398402228457E-5,8.0237549938247079E-5,4.6889719837082039E-4,4.3602494366345198E-4,3.0123700534669725E-4,2.8442008221106425E-4,2.1334726177180284E-4,5.6036947865896296E-4,3.3356264434830537E-4,0,0,1.4236155916689638E-4,1.9747337600817033E-4,1.2017680663648503E-4,1.4780340578998631E-4,2.1591937243004721E-4,2.3664446380191782E-4,2.4366140279523141E-4,3.9312841674081294E-4,3.3420543472280871E-4,4.6852569401754457E-4,3.8530507289474201E-4,2.3492863367566673E-4,3.7421537587642125E-4,7.1878090994049798E-4,2.5711411409099356E-4,4.2711258906214867E-4,4.5293726953233237E-4,4.2059786899158543E-4,5.692683480919286E-4,4.6738755965685882E-4,3.8710696862883433E-4,2.4742622980929011E-4,2.9082233576311072E-4,9.5441476791492338E-4,2.9372106284297625E-4,3.9253150894973658E-4,2.274356428373808E-4,3.0176634029609363E-4,3.2463394555778675E-4,3.3414136484716532E-4,9.4046007351204308E-4,7.3104377199846701E-4,4.7428188015171936E-4,9.7013221647712774E-4,2.4193625047852249E-3,1.6380110684073329E-3,1.4694082315697841E-3,1.8640955869006183E-4,8.6683186025202465E-4,3.4728071733528335E-4,4.9572225072346649E-4,3.7643742781885882E-4,9.3117097966960373E-4,5.3933034935760261E-4,3.6004786834198176E-4,1.3040457157884027E-3,2.0899243285885788E-4,1.9442846529640144E-3,1.0394044584529394,1.0676824460647747E-3,2.2179414330214271E-3,2.3067681019275895E-3,2.5500979229472575E-4,5.2048197375858846E-4,3.9816518416837507E-4,7.4682022122336345E-4,6.5407982404441182E-4,4.0159437381570454E-4,4.1588354520449654E-4,8.3433709519757995E-4,1.8910067090196804E-3,0.2848966767624001,3.5196060277001572E-4,1.1077018981805592E-3,4.3848971740702326E-3,3.8609800486661787E-3,5.5968793915947912E-3,1.9358114792436833E-3,7.295946602350284E-4,8.6952943681287522E-4,2.6952453456538679E-4,5.9460249277286719E-3,1.4063195221405755,1.0962481835507556]
[null,"593","情報サービス",8.9590259535753081E-4,6.9528429767531648E-4,1.5935620980515428E-3,2.5399619938849133E-4,4.867361994998938E-4,0,7.3542485930357376E-4,7.4319733780257966E-4,9.5772101058842307E-4,4.5066779844072361E-4,2.9665985446929491E-4,5.9086297078614076E-4,6.5241686400809137E-4,5.5328520586430091E-4,5.8865104185318947E-4,1.2173182371275301E-3,5.9638691959325015E-4,6.143925052046218E-4,1.0784791320029175E-3,9.9197748037154572E-4,0,1.5965294870916148E-3,7.69116948525309E-4,4.5323470713487312E-4,1.8110401150610417E-3,1.1000738220777176E-3,1.2537030498103413E-4,2.1290434355846386E-4,6.5279634992286345E-4,5.1426149436995005E-4,1.5492575411390928E-3,8.7099651250277781E-4,7.5692234626379882E-4,1.4004571250881902E-3,1.0620027155224959E-3,0,0,6.2428462224957404E-4,1.0184148371875598E-3,7.3219322448431006E-4,4.079059360303528E-4,5.5041270487534918E-4,2.0238632195491678E-3,7.0179017528361281E-4,9.6611203116675861E-4,1.2685246222765251E-3,8.6449873653689181E-4,1.0034826242007393E-3,9.8701257911682676E-4,2.0107734791574468E-3,5.6075407978799187E-4,1.4908750283407536E-3,9.263276432435266E-4,1.3437273075041171E-3,6.9897795215995654E-3,5.4134612023906442E-4,5.4212347566467913E-4,5.8232571048415205E-4,8.2526801426195781E-4,8.7458433044550275E-4,9.7746968543872457E-4,5.099971305114893E-4,7.2085060305860336E-4,7.3209545077080826E-4,8.4581036318436855E-4,9.2114703679013884E-4,2.3026817253511507E-3,2.4492521256976622E-3,6.1073124215433065E-3,9.709452302094475E-4,2.8132810224021018E-3,6.912629680695166E-3,1.4212337008143627E-3,1.2919919560991375E-3,4.7680161048966273E-4,7.8058650451263956E-4,7.4335488867676314E-4,1.0927504974173388E-3,8.6429800106337465E-4,1.4631299111319304E-3,1.0598869715698113E-3,2.1106374698737851E-3,3.5698579538445746E-3,5.1297383891405412E-4,4.9294687668723636E-3,1.4307914071783093E-3,1.0049939119977389,9.7756366892932101E-3,2.6225267257441579E-3,2.7194541503586275E-3,1.0982943609686294E-3,6.014458650162144E-3,1.486606829535514E-3,2.6057932631574107E-3,2.0437948038873745E-3,4.6411567368045384E-4,5.2884905767503704E-3,2.7089372945539219E-3,1.7158236940254272E-3,6.7677560933969503E-4,2.5570620977051622E-3,3.0670893115114423E-3,6.9969371947195319E-4,5.1620361623086301E-4,3.1778623779754787E-3,5.3133911906696205E-4,1.1717796668192745E-3,5.9109154724327638E-4,1.2409969216579401E-3,1.1604832410953037,0.90461493640892043]
[null,"594","インターネット附随サービス",3.1641086795888948E-4,2.0620647353522832E-4,3.1540618731027179E-4,2.0722242251090684E-4,3.1681986939801932E-4,0,3.5195506022870228E-4,5.9959350673724249E-4,1.0436461790897513E-3,2.7697301155266027E-4,4.0907714290614762E-4,2.6899282221340865E-4,4.2554438686612554E-4,3.4330338962426389E-4,4.6870190747106755E-4,6.069903709270642E-4,4.0747726678800423E-4,3.6651067077685806E-4,3.202674517097711E-4,3.2543568321610712E-4,0,4.6154797714253315E-4,3.9173468045050267E-4,3.1254657228573792E-4,1.7756949402553085E-3,8.7784386326851169E-4,6.959283134523169E-5,1.499120090825546E-4,4.5204237017577002E-4,4.0465448161675365E-4,3.4427763115790826E-4,4.2073550944437334E-4,3.8642239743025714E-4,9.3023452705108924E-4,4.8862308940111042E-4,0,0,1.449199566472475E-4,2.7565478930206339E-4,1.9976192487475422E-4,1.332946360289201E-4,2.4197757466007421E-4,2.7338051219696208E-4,2.8081631927520608E-4,9.3769798811255134E-4,3.8829719748373397E-4,3.7755454694054889E-4,3.6524009439664303E-4,3.3588971621206288E-4,3.9129790809660874E-4,5.241715977030569E-4,2.6646907645939516E-4,3.6671889324274375E-4,4.7843617980659935E-4,3.4414674922517402E-4,3.1455837041978864E-4,3.3135843442525312E-4,3.2308056832242303E-4,5.4236905868724474E-4,5.5408433658179416E-4,7.0127676385745518E-4,3.3775433854704311E-4,5.102875553916823E-4,4.1163865906585878E-4,5.5317736256012989E-4,4.3887533786096471E-4,2.9273399937226137E-4,3.9916327148445207E-4,6.6527803665994791E-4,4.518606743273618E-4,3.9337010870969438E-3,1.7928681711310882E-3,6.6666029762323901E-4,7.5610504874364277E-4,1.3632337925776903E-4,7.6236205195957178E-4,4.8094912451353814E-4,6.7368626713318726E-4,3.4204381133679077E-4,5.0519737066190317E-4,1.046055083265272E-3,6.4077191330117898E-4,8.1486173244426057E-4,6.5660524021844279E-4,8.8600160130565108E-3,4.5621838234850415E-3,5.9256625774671192E-3,1.0333944851788617,3.2249239008610465E-3,1.1957066890656879E-3,3.365391833302651E-4,1.0523036319189387E-3,5.2548671301525809E-4,8.0577591002510811E-4,7.1496919408426741E-4,2.9816546686033135E-4,6.6045376855414532E-4,2.2200873735678099E-3,6.1816823210774426E-2,9.3348843536066636E-4,3.4588358483117038E-3,2.2497338229497043E-3,2.8439569611377188E-3,1.8780610732891552E-3,6.9148995800413771E-4,1.3486212679469619E-3,6.1110264864872434E-4,6.3657814133990186E-4,6.2678003444902467E-3,1.18791706169425,0.92600003099516059]
[null,"595","映像・音声・文字情報制作",1.6031725182056402E-5,1.4258506059611935E-5,4.0470643586965612E-5,1.7303061988879037E-5,1.9972724347576899E-5,0,2.8226358407150953E-5,2.4754708660639323E-5,5.4825828177205618E-5,1.1738106199510549E-5,1.8559876674271866E-5,2.0340333612593011E-5,3.7080761046391797E-5,1.9797587928916255E-5,2.7903631319495207E-5,1.4217050659720028E-5,2.2248544601726936E-5,2.9080982514977461E-5,7.9389959264233512E-5,1.9666193639247833E-5,0,1.3331850126219026E-5,7.2621013144627356E-6,1.5989607853346862E-5,7.5903211182436117E-5,4.6165995456956417E-5,2.9760712554081176E-6,8.2120719646483724E-6,1.4903286237572266E-5,2.5263508277105888E-5,2.2633650210064947E-5,1.285546705788618E-5,1.4018278172066855E-5,3.4069660789909669E-5,2.0172333556417875E-5,0,0,5.1935817777255938E-6,9.420847810423016E-6,9.0874619167718843E-6,9.6773156741827833E-6,1.3865890538470884E-5,1.4979804493912904E-5,1.5024037792486409E-5,1.7621684794048377E-5,1.7652957170686599E-5,2.4121397561884795E-5,1.90507363327784E-5,2.1972961469473992E-5,2.4692328423115546E-5,2.44325038070237E-5,2.0822787975147488E-5,2.1342421091501166E-5,2.6617561232212853E-5,3.4832730002317257E-5,1.3844771186857947E-5,1.23352017819019E-5,1.2413502200176138E-5,1.9891596008009188E-5,3.0730122874205669E-5,3.7996395812449528E-5,3.3781270349408645E-5,3.2754393360581906E-5,2.7332319542711852E-5,3.2420281223705393E-5,2.6866960777094832E-5,1.3742414439551652E-5,2.2086625079913243E-5,4.0993116222533691E-5,2.5883626996710447E-5,4.8425435899720532E-5,7.867759260096154E-5,4.1169226649402458E-5,3.5559698496837643E-5,6.2116462819759391E-6,4.6547536072736426E-5,2.5382534287759772E-5,1.6312827321811077E-5,1.5848679848016985E-5,4.1156988800177273E-5,5.6713852618201983E-5,4.8605522012211309E-5,3.6961647980112967E-5,4.8511143288148589E-5,1.0398739189309251E-4,2.8788364348711014E-3,9.5068266706494365E-5,1.3355020270852455E-4,1.0010415897857599,8.2332375147529602E-5,5.7945755167846613E-5,2.4598008636309509E-4,5.751454855644169E-5,8.1798045480323018E-5,1.4178216198042838E-4,3.3605238174530636E-5,3.1597799634693242E-4,4.3034050603943231E-5,3.5264539731659295E-3,1.7370158822511042E-5,7.5289945076149179E-5,8.5405554135381352E-5,5.7903097512661599E-5,1.1001013489923441E-4,2.5412981182268467E-4,5.857572725112165E-5,4.6497337254063691E-5,1.403827885395122E-5,3.6892044205477256E-5,1.011684758019963,0.78862417881909264]
[null,"611","公務",4.9510552714765726E-4,7.1291291343182061E-5,1.2732638140349235E-4,7.9667437984317469E-5,5.4955794114178408E-4,0,2.7429881388267878E-4,2.6141526637530791E-4,3.32953914351043E-4,2.1258354088376922E-4,2.6703798952879877E-4,1.5495714914860495E-4,1.9653771105244294E-4,3.6260706372207203E-4,1.6432883805907983E-4,1.7910696735247813E-4,1.7037982764308486E-4,1.5660984920475035E-4,6.8275540225678908E-5,1.4364698627559672E-4,0,7.0201902474822061E-5,8.7308551545488451E-5,4.5354373467507511E-4,7.8683283340209482E-5,1.0886053279421125E-4,2.099039043120215E-5,3.6086338997468173E-4,1.2407050174589136E-4,3.3351457654670998E-4,2.5440517857461194E-4,7.2853079638746749E-4,5.4925397283169008E-4,1.469668166797107E-4,6.0280310933692781E-4,0,0,4.2822944405726705E-4,8.5583457554928291E-4,4.565326590092835E-4,2.5785773357404781E-4,5.1181808034757867E-4,2.3574590190466498E-4,3.8660482012820653E-4,4.3461468784528366E-4,3.4456223037247752E-4,1.6600717897612114E-4,9.7762655769931253E-5,8.5177850634527281E-5,2.3589601804615854E-4,1.0360873799074725E-4,9.7934278029395826E-5,3.2821541876128783E-4,2.407555872383026E-4,1.2727668684313812E-4,6.2445082937926074E-5,9.9538451691170586E-5,7.6855436425364226E-5,2.6836650143292066E-4,8.0204963653456713E-4,1.5958291759471868E-4,1.9536984414675177E-4,7.9259450629278372E-4,9.7670499880560886E-4,6.956993724092003E-4,8.1664478150180375E-4,2.6530765245202323E-4,2.0873750567197401E-4,5.1198821875364378E-4,4.5715606572298094E-4,2.8583918751176314E-4,5.9496486124084342E-4,6.3505267134454668E-4,5.2192232241965247E-4,6.8694375227234283E-5,4.1664039723713389E-4,1.3632033021786528E-4,1.8184160917357101E-4,6.6449335486326675E-4,2.6686148483691835E-4,4.0596206737212009E-4,2.5092314688893169E-4,3.2584797724573191E-4,8.4124863536918834E-5,5.1219872549795008E-4,3.4337799876956978E-4,1.1531720224516657E-4,7.2039902609367457E-4,2.6558854243294446E-4,1.0000845712888766,4.9709021130598481E-4,1.1150970434362085E-4,1.4192333145810263E-4,1.0514486626558709E-3,4.0125954751873543E-4,2.1291347377859224E-4,7.1883539812188835E-4,3.0337045645367696E-4,1.6706583560338132E-4,3.5274083315109129E-4,2.2438378762528344E-4,1.1234897755251819E-3,1.8405867870846502E-4,5.4527103227312921E-4,1.2141169766289717E-4,1.3234597066753622E-4,3.3100002744972221E-4,1.1754690956019302E-4,0.10107476171879642,1.1346645287772075,0.88448884412709605]
[null,"631","教育",1.3189306533188734E-4,9.9639671462296584E-5,1.1681732294498765E-4,7.7975820840628601E-4,1.309357497909449E-4,0,2.5362348717666004E-4,4.1033007941395136E-4,2.625585324351972E-4,4.4831813365795597E-4,3.6609551612945027E-5,9.3889222867366877E-5,9.5370765062180685E-5,2.3061153000802784E-4,4.0324025918504492E-4,3.9289947382301462E-4,3.3499282552857128E-4,1.3319425238927717E-4,2.1867072274112765E-4,4.0726045329095279E-4,0,2.2314898309592869E-4,3.7568112404157361E-4,4.4378025352517959E-4,4.2294819754859356E-4,1.0435410489423756E-3,1.4391635784365774E-5,1.2176014200925367E-4,2.9840309560360504E-4,1.6666648666653996E-4,1.0019307938929544E-4,1.6375144670735845E-4,5.464924527904297E-4,1.6325540591420882E-3,3.4980180729451792E-4,0,0,1.6692563090897765E-4,6.4208009444769105E-4,5.6843218279420761E-5,7.7488427107796464E-5,1.1563289776230144E-4,1.0139894970244098E-3,3.442515214141322E-4,9.591789046749338E-4,5.2728054812170816E-4,5.1485358806968562E-4,1.0474577882086764E-3,1.9292354159822992E-3,1.4047316556818261E-3,2.3972478952326592E-3,1.0962426394514487E-3,9.4252947003739106E-4,3.3341585423206821E-3,4.818855415778141E-4,2.8452767306356497E-4,3.0595799406954048E-4,4.1040446640906557E-4,8.5117775305205002E-4,2.0800649220010728E-4,2.2261696694314602E-4,2.1277243031007416E-4,4.3798233605043456E-4,2.2219971853913934E-4,3.328905605195936E-4,3.7118685880899909E-4,8.499777924121484E-4,8.0449636428257321E-4,3.2845954290185798E-4,4.4667330832881828E-4,4.6758404007445867E-4,4.8787374208331179E-4,1.535659831897397E-4,1.245822571768465E-4,3.8798676858902995E-5,6.5708236238001885E-3,2.9068087451470005E-4,6.7003492617939318E-4,2.0734874208919957E-4,2.220693896098834E-4,7.6500791086842566E-4,5.120669851332581E-4,5.2018269064524293E-4,3.5849250381649544E-4,8.6627242397340192E-3,1.4244846674560095E-3,4.8512743297321175E-3,8.9536784807259916E-3,1.7142539749340263E-3,3.4769818333492338E-4,1.0001075737254379,3.0032758338560217E-4,2.8124071591302866E-4,2.2851627283319078E-4,3.2074049304974125E-4,1.317086691676204E-4,2.2857981919001977E-4,9.6162227039736105E-4,1.1374540717231632E-3,1.9227442204447842E-4,8.1883352717527071E-4,5.409753352414279E-4,8.3003981705403193E-4,1.3785429940946794E-3,2.8297487787468534E-4,8.6724101363207207E-4,5.7506362221207874E-4,1.8393293048724003E-4,2.7092447967040738E-3,1.0836451838334393,0.84471846240372794]
[null,"632","研究",0,0,0,0,0,0,0,0,0,0,0,0,0,0,0,0,0,0,0,0,0,0,0,0,0,0,0,0,0,0,0,0,0,0,0,0,0,0,0,0,0,0,0,0,0,0,0,0,0,0,0,0,0,0,0,0,0,0,0,0,0,0,0,0,0,0,0,0,0,0,0,0,0,0,0,0,0,0,0,0,0,0,0,0,0,0,0,0,0,0,0,1,0,0,0,0,0,0,0,0,0,0,0,0,0,0,0,0,0,1,0.77951572618585518]
[null,"641","医療",0,0,0,0,0,0,0,0,0,0,0,0,0,0,0,0,0,0,0,0,0,0,0,0,0,0,0,0,0,0,0,0,0,0,0,0,0,0,0,0,0,0,0,0,0,0,0,0,0,0,0,0,0,0,0,0,0,0,0,0,0,0,0,0,0,0,0,0,0,0,0,0,0,0,0,0,0,0,0,0,0,0,0,0,0,0,0,0,0,0,0,0,1.0103205051980602,0,0,4.9018839563015777E-4,0,0,0,0,0,0,0,0,0,0,0,0,0,1.0108106935936902,0.78794283185311331]
[null,"642","保健衛生",2.9168318959360987E-5,7.7598475419328483E-5,2.245063753745325E-5,1.5292448409837614E-5,3.7825085660032606E-5,0,2.9962628278025419E-5,6.3442151312041096E-5,3.7484829097787043E-5,2.2039991029528175E-4,1.2961686077689116E-5,2.6482032385608225E-5,2.9641875117708503E-5,2.8252301311096462E-5,2.8986012791460087E-5,6.9571788190558843E-5,4.5602810059807354E-5,3.5913701859076628E-5,4.9269492056574101E-5,4.2524699939206287E-5,0,2.4042470346373582E-5,2.2881676491588032E-5,4.3336397381909998E-5,4.6928297728249236E-5,2.9112382611108762E-5,5.1247132323879527E-5,2.9914740458993831E-5,2.6792346461329752E-5,1.9627357092971461E-5,3.867724935758676E-5,5.5841897427149374E-5,4.7938799894274394E-5,6.0582581135365006E-5,5.2049334219543367E-5,0,0,2.6058059356474712E-5,4.7468991975562409E-5,2.536943754900187E-5,6.3132764772300221E-5,6.5950342257304966E-5,2.2846553962802992E-5,2.659172720811305E-5,2.0865509809012538E-5,1.8738209961777886E-5,2.9488812348820627E-5,2.1087870569464326E-5,1.9949340957880837E-5,2.738319964528708E-5,2.2187470216376439E-5,1.8039216581516588E-5,3.5555276093647111E-5,2.154099938893163E-5,2.0344825400340904E-5,2.2450297228359326E-5,2.1828496006124108E-5,2.0162093289607391E-5,2.6580423035529902E-5,2.5516014138840639E-5,3.2698532702841627E-5,1.5820665670822392E-4,2.6505176085495514E-5,2.8954094611217428E-5,2.7978529611387574E-5,3.1245029171579333E-5,7.82690067917622E-5,1.521916468609924E-4,1.4720062029232068E-4,2.1646951833217254E-5,4.4516864189451999E-5,1.3724281318950275E-4,5.0279374339081689E-5,5.2180798946858451E-5,1.0198491511691378E-5,6.3812491513986729E-5,1.9196666497713316E-5,6.7602908924757488E-5,1.0666711798045952E-4,1.150720332204165E-4,3.2484639692377712E-5,1.0531903966318357E-2,7.7621072874370345E-4,4.2849205310004474E-5,7.9033673806140192E-4,3.70379493213515E-4,1.2611581074915707E-4,2.3256314784637447E-4,1.9078169456694408E-4,5.5449781772145843E-5,2.4384705899119776E-5,5.4339295140109722E-5,8.7959784891023848E-3,1.044979398448715,1.7227097058279449E-3,9.3966738425486354E-4,3.6172964932550053E-5,2.2444573773938451E-5,1.4068375371273343E-4,2.0349458326347745E-5,4.6954648186001494E-5,5.0133291265249884E-5,4.682260675085861E-4,2.4555448773860526E-5,1.0003222678825368E-4,3.4972154501126686E-3,1.0127894116709839E-4,5.9181930332306331E-5,1.5859444362428804E-4,1.0778639817181419,0.84021192443859471]
[null,"643","社会保険・社会福祉",0,0,0,0,0,0,0,0,0,0,0,0,0,0,0,0,0,0,0,0,0,0,0,0,0,0,0,0,0,0,0,0,0,0,0,0,0,0,0,0,0,0,0,0,0,0,0,0,0,0,0,0,0,0,0,0,0,0,0,0,0,0,0,0,0,0,0,0,0,0,0,0,0,0,0,0,0,0,0,0,0,0,0,0,0,0,0,0,0,0,0,0,0,0,1,0,0,0,0,0,0,0,0,0,0,0,0,0,0,1,0.77951572618585518]
[null,"644","介護",0,0,0,0,0,0,0,0,0,0,0,0,0,0,0,0,0,0,0,0,0,0,0,0,0,0,0,0,0,0,0,0,0,0,0,0,0,0,0,0,0,0,0,0,0,0,0,0,0,0,0,0,0,0,0,0,0,0,0,0,0,0,0,0,0,0,0,0,0,0,0,0,0,0,0,0,0,0,0,0,0,0,0,0,0,0,0,0,0,0,0,0,0,0,0,1,0,0,0,0,0,0,0,0,0,0,0,0,0,1,0.77951572618585518]
[null,"659","他に分類されない会員制団体",2.2898283556433323E-3,1.9244943290339337E-3,4.762983994195023E-4,1.2841965669199028E-3,9.3653269309740429E-3,0,1.6154743575319485E-3,1.6599845790073911E-3,1.6113294945676825E-3,1.1797967575889862E-3,1.8960252149309441E-3,5.6785040914839155E-4,1.5047493244945039E-3,9.3475476535294583E-4,7.1574210712153875E-4,9.5827561466372408E-4,5.0005638551458556E-4,7.0085574319415239E-4,1.3082640376996331E-3,2.1252949197733033E-3,0,8.9641588681619113E-4,6.5438859190131507E-4,9.1561964575627831E-4,1.7031068939749971E-3,6.6923517386337163E-4,1.5165506602210323E-4,4.4232002111813459E-4,6.1138424190866549E-4,6.2180293241086235E-4,2.12550259663049E-4,4.7130136598759963E-4,1.509114301030135E-3,9.8480651308757456E-4,8.5356761996911116E-4,0,0,5.1356441503589963E-4,5.6749063908040679E-4,6.0283919961026807E-4,7.8987685089307693E-4,1.6886945443131695E-3,5.0629086135437081E-4,3.8957111626192122E-4,2.7857348359509662E-3,5.8739083213615428E-4,7.5386621435978086E-4,5.414876698071543E-4,5.2708169855867812E-4,5.5872358175798056E-4,3.261054006264607E-4,4.0209676139914117E-4,5.8393785247237598E-4,3.7140568763022939E-4,5.119382278648512E-4,2.053298724681835E-4,2.9515462233019703E-4,2.6327557079126141E-4,7.8360087635987775E-4,5.7437680262748057E-4,8.8820455566308442E-4,2.2686154792173783E-3,8.3617943953660779E-4,1.4794837557956361E-3,1.0072606413321561E-3,1.0651748379358254E-3,1.4420854956527088E-3,5.171882053552776E-3,8.1624960038893749E-3,1.9248429345422027E-3,8.0714234704348808E-4,2.9801804884516526E-3,8.8987944581262791E-4,9.502874544166101E-4,2.3040078889864494E-4,1.0096053544237774E-3,1.4326440232209799E-3,8.9694268680742231E-4,1.2150459811371501E-3,5.7301274149322925E-4,9.7545798784986451E-4,3.3040264386135472E-3,2.5281892668227524E-3,2.1401680751593975E-4,1.5723281208087638E-3,3.1319508435794494E-3,4.8749271108208456E-4,9.8636143633529043E-4,2.2636282149199314E-3,3.3130090470277724E-4,6.63420689616663E-4,4.8053903453034391E-3,1.6869928387838228E-3,7.3292689661763849E-4,3.5346076220113792E-4,5.4124030438164415E-4,1.000293056846935,1.9419545658369832E-3,1.3333899688904535E-3,1.6384618158723557E-3,1.9973855559118209E-3,1.7515431801490078E-3,1.3769760572979533E-3,1.525662919361016E-3,7.402380759346453E-3,2.2530089639527231E-3,2.2530207711384752E-3,3.3748503221753642E-4,5.2696369379751334E-4,1.1428865421484451,0.89089803285088609]
[null,"661","物品賃貸サービス",8.2860287449460623E-3,3.9500752685147772E-3,3.1738669087764152E-3,6.6662476550469465E-3,3.3618554610240227E-3,0,2.7437417457905476E-2,2.6052289155302001E-3,3.2396530058608833E-3,1.8627131354578149E-3,6.9188043205400485E-4,3.002065194463176E-3,2.1477199391330267E-3,6.2724938201311649E-3,3.2390208602711859E-3,2.5179123063105123E-3,1.8972614420534836E-3,4.7122547025777797E-3,1.8522403142151314E-3,2.6249984978781553E-3,0,1.4667508008264401E-3,7.5034074279024343E-4,2.0287202911115944E-3,1.2274527750644477E-3,1.560917982290276E-3,1.3433041115314758E-4,2.8315344466247547E-3,1.8682826930700241E-3,2.5477044054476768E-3,2.4985202866899293E-3,2.5472670432990477E-3,5.5060060008185136E-3,1.9081346641337236E-3,8.2177308571560644E-3,0,0,1.6593951283428441E-3,2.8421595076321424E-3,1.8463180608799077E-3,2.9366245859301109E-3,2.7234589564406339E-3,2.0812059071667302E-3,2.6468325271547734E-3,3.7487638670277677E-3,4.2824843470168628E-3,2.0470251486256002E-3,3.9797972874757344E-3,2.1403127973762121E-3,5.1455589663227802E-3,2.3129899311408403E-3,1.7150149965702618E-3,4.5563903942459376E-3,1.925393283121219E-3,1.4613547085374212E-3,1.905318411833551E-3,1.9798625178684142E-3,1.9588764040733876E-3,5.4651897157724835E-3,3.4759413677861776E-3,6.1761854818704253E-3,2.889865981523973E-2,1.2586095920951154E-2,8.5200381182256937E-3,2.0209910012785475E-2,2.6911100382050485E-2,2.5479785019930168E-3,3.2917323114591227E-3,2.5536021334550863E-3,4.2729933074382217E-3,6.4584222355647536E-3,3.0347129970854799E-3,1.5701800421979014E-3,1.3221195879093948E-3,4.4114448729387E-4,1.8597403513930801E-3,2.9656575379307824E-3,8.8552704787930731E-2,1.7066654478775783E-3,3.0451826632535428E-2,3.712789496737623E-3,3.6146525653289151E-3,3.4158002617108623E-3,1.4544286138469579E-3,5.467799074084745E-3,6.5606898388504082E-3,3.5974395606656277E-3,1.8006560196572173E-2,3.8129746690948566E-3,4.3124056032538783E-3,2.253422431723104E-3,2.3336461825973812E-3,4.5748609927231147E-3,6.1729725384705187E-3,3.3991443863326358E-3,6.6043079009260076E-3,2.8317920703236016E-3,1.0032093951886931,4.4533951131370212E-3,3.2450658770969533E-3,4.0025998305085915E-3,1.0763239254965182E-2,2.1985358787131688E-3,3.8871867701900796E-3,4.7692106069098543E-3,2.4064517547582177E-3,4.3853893212010059E-3,1.6717159728562292E-3,2.0891595505732811E-3,1.5730093978770001,1.2261855630832645]
[null,"662","広告",5.0707110056230382E-4,3.31275675673512E-4,4.6938880762530631E-4,7.4469718639692025E-4,6.1538420114357344E-4,0,8.1111995372858527E-4,1.567878976632607E-3,1.1258675806341097E-2,3.7562328684383471E-4,3.8200386007834299E-3,5.6117462496272361E-4,1.7066298256292823E-3,7.7236082409881137E-4,1.7348069119980595E-3,8.1144995335659235E-4,1.1796228445709511E-3,6.3460324763644636E-4,1.0226639361422599E-3,8.8874550697135685E-4,0,5.2723135595433509E-4,3.8635197336417203E-4,9.8941508761461348E-4,1.2824552791881678E-2,7.4983524218131389E-3,1.0814799066028016E-4,1.8619718562779607E-4,1.5264877990728892E-3,1.3678915379046496E-3,9.6057018676274871E-4,8.0457884097912512E-4,5.268678099421165E-4,1.8819739421034457E-3,9.7512335824746169E-4,0,0,3.8703549074900077E-4,4.8719722043686416E-4,3.059639332529418E-4,3.7568056840340928E-4,5.8063044444957204E-4,6.7835541274036267E-4,6.7209259685615792E-4,1.2130862181710176E-3,1.0122934781968327E-3,1.5540638098147648E-3,1.2874117252876459E-3,7.6839935697234688E-4,1.2033050794124484E-3,2.3803281786494725E-3,8.47937719846894E-4,1.3355107267787887E-3,1.5043408697922314E-3,1.2673327101644753E-3,1.9497037613061174E-3,1.5559692606424212E-3,1.3068276357618355E-3,7.1587604920266446E-4,7.8097924278589784E-4,3.1482645968019607E-3,6.2309845979289266E-4,1.1137876206967587E-3,5.1648289686093975E-4,7.8691990055555219E-4,6.943489001217521E-4,1.0429347227659891E-3,3.2167651292501153E-3,2.3995754998171891E-3,7.6985199682830924E-4,2.9499212353860643E-3,7.2019864011064732E-3,5.3010550543990866E-3,4.9139871042514008E-3,5.5892721611829532E-4,1.5894823614128958E-3,1.0775362578535428E-3,1.21789162313296E-3,8.3084233637372557E-4,2.8438830486269781E-3,1.4599023807726486E-3,1.0561511958272537E-3,2.5986680540115888E-3,4.2799364263731917E-4,6.6431096349673429E-3,4.8401475069458424E-3,3.6195686638503246E-3,7.5411622516621717E-3,7.8043529412777706E-3,7.7647371717200664E-4,1.2484807882127149E-3,1.2343779666447695E-3,2.2078885403363402E-3,1.7283095688910945E-3,7.9597577808855993E-4,7.3420883816141037E-4,1.5433719787917844E-3,3.4861045813913039E-3,1.00218812232553,9.8339439571549212E-4,3.7064509173076513E-3,1.6108866752135378E-3,2.8614052042031319E-3,3.8709026208272272E-3,2.3614296152041515E-3,1.804937560528481E-3,2.4355483797716877E-3,8.3998090210926721E-4,1.3492450096323539E-3,1.2011033690405388,0.93627896494191276]
[null,"663","自動車整備・機械修理",3.5558490281059799E-2,1.4515039410706211E-2,6.6087253548877858E-2,1.5337274947840408E-2,8.4101869282811881E-3,0,6.3367517619385916E-2,9.0391599587837622E-3,1.4850265931904503E-2,7.4383238023789672E-3,2.8672643926320098E-3,1.3046346240014519E-2,7.6808791035333215E-3,1.9177104991838043E-2,6.9756535690247085E-3,1.0981206110959459E-2,7.2205669565372412E-3,7.3806188105711096E-3,1.5208999826549711E-2,2.1681644022753278E-2,0,1.2943218681014366E-2,6.8778828992754953E-3,9.2429458493094186E-3,9.8315147987647587E-3,6.8854031583296367E-3,2.2989949495518468E-3,8.7965419692991754E-3,1.0261177353268485E-2,1.8132930113577569E-2,9.5430978755642482E-3,1.1272779481178675E-2,2.2031143161953568E-2,1.4197391277129085E-2,2.7037977943724222E-2,0,0,5.8676949033680051E-3,1.4243208644330724E-2,3.7494624155863529E-3,1.0318468122192885E-2,1.0816802666445349E-2,1.1667618810265524E-2,1.0498514869531256E-2,1.0962638391212472E-2,8.7956148386974034E-3,7.6725227968314222E-3,1.2707803346231283E-2,1.2568725914897829E-2,9.2440298120497963E-3,7.2774138789389884E-3,6.2768695665785636E-3,7.4519496730817494E-3,5.927207685301349E-3,6.1844505693085128E-3,5.5749776089919403E-3,5.7294847818346543E-3,7.5197280031787219E-3,5.1140506527798677E-3,5.1187833190722426E-3,1.3474345169068638E-2,1.8875210939094337E-2,1.0252335140507112E-2,1.417824304865885E-2,1.5507351791523198E-2,1.241910170055039E-2,3.780954641722388E-2,6.6754096360751754E-3,2.9240143677796794E-2,2.3021782817942621E-2,1.0026973444496674E-2,6.823835685542296E-3,4.6533143202587062E-3,3.8184904684409522E-3,9.1699534030458419E-4,6.0822890752892256E-3,2.9190244835921468E-2,0.1833596155306968,2.7944339428606743E-3,1.255854145401448E-2,1.0925950443075951E-2,1.1146915508446868E-2,1.2361186913153809E-2,6.2601604915915503E-3,1.5002472646238893E-2,1.2428201056197912E-2,2.0002796723841375E-2,9.1472400806514274E-3,7.9357597506875925E-3,1.5635381105176347E-2,7.6022917684081155E-3,1.8439343178839579E-2,6.2455060503509826E-3,1.754578431023417E-2,1.0976529654423478E-2,5.8714781891301727E-3,1.0834188807738843E-2,0.1075866858299738,8.299189025613685E-3,1.0442292499391612,6.4589509578904577E-3,1.9339965627671884E-2,6.5782543256465466E-3,1.2834118709879992E-2,1.3720461331433207E-2,5.9224609613459126E-3,9.8784009549415294E-3,4.8296956491503812E-3,5.935304112338979E-3,2.5931169457757819,2.0213754390712553]
[null,"669","その他の対事業所サービス",7.0914811162475716E-3,5.5234774426972189E-3,1.8633735734584839E-2,6.5393335303051692E-3,1.0278577851459967E-2,0,1.6352279122918624E-2,2.2378034553286949E-2,1.7750398236433006E-2,8.3502592154604434E-3,1.0169428395735957E-2,1.1223234024852018E-2,2.490258013827662E-2,1.5024823692786805E-2,2.6600249473180924E-2,1.4660885425692263E-2,1.2763046889157951E-2,2.5727916722576936E-2,1.3919482097478036E-2,1.9364074476629349E-2,0,1.1130011829393912E-2,9.0203459964603109E-3,1.3926081486056575E-2,1.8844641626655386E-2,1.6420640211010851E-2,2.6480789440610029E-3,5.965167785817147E-3,2.3958460252269227E-2,1.9816769560206067E-2,1.9080707917173249E-2,3.5090330779321575E-2,3.8414457704772385E-2,1.738580629018361E-2,3.1820579080120079E-2,0,0,7.0627454303864414E-3,1.8773365656680314E-2,8.8973991561356811E-3,7.9349057132480361E-3,1.49749672517754E-2,1.3991878987622582E-2,1.9487980706581993E-2,2.3437995982708317E-2,1.9254481297474809E-2,2.2637255029298489E-2,2.6389908199842316E-2,2.7067960540967842E-2,2.5420519026378104E-2,2.0545802551278327E-2,2.3091373152753548E-2,1.994047286050012E-2,2.6271224741782701E-2,2.3649734423060318E-2,1.6664189498821914E-2,1.7488244876086752E-2,1.9650591085401924E-2,1.4488220401828872E-2,1.5314566603778021E-2,1.7653790848527126E-2,2.5709867288163088E-2,5.2940546136678264E-2,2.637380368229739E-2,8.293260605921271E-2,4.0978217785576962E-2,3.7934604878610348E-2,2.9223336373333457E-2,8.8466006208115205E-2,3.434719568340347E-2,4.7346550225097511E-2,6.2975065504942709E-2,3.9429278573432015E-2,3.5659984793407241E-2,5.9856451055531014E-3,2.7641538289019583E-2,1.7483115142071286E-2,2.3653795635780642E-2,1.2165271137577805E-2,2.4467039192285749E-2,4.7714589259227433E-2,9.2508344741949536E-2,9.4775116138453977E-2,1.2541778946015238E-2,0.10301638447996792,7.398627433040611E-2,9.529700361493175E-2,0.12210436653810255,3.5122921726570326E-2,5.412866533385316E-2,3.4867896009190526E-2,9.0331080485533941E-2,2.7555445092581603E-2,5.7552094922036355E-2,4.3955057174253208E-2,2.2231833813548849E-2,4.7769329135826231E-2,6.5726489844344121E-2,6.0480920178670884E-2,2.9179639127250981E-2,1.0969974135405252,3.2588128029500361E-2,1.9945249653954795E-2,3.2410033996430519E-2,2.670182803227597E-2,1.7106054318812614E-2,1.9093147523566837E-2,1.1137470487860873E-2,2.8700778228705606E-2,4.2121037540250867,3.2834011165890322]
[null,"671","宿泊業",0,0,0,0,0,0,0,0,0,0,0,0,0,0,0,0,0,0,0,0,0,0,0,0,0,0,0,0,0,0,0,0,0,0,0,0,0,0,0,0,0,0,0,0,0,0,0,0,0,0,0,0,0,0,0,0,0,0,0,0,0,0,0,0,0,0,0,0,0,0,0,0,0,0,0,0,0,0,0,0,0,0,0,0,0,0,0,0,0,0,0,0,0,0,0,0,0,0,0,0,0,1.0010940057670452,0,0,0,0,0,0,0,1.0010940057670452,0.78036852088580488]
[null,"672","飲食サービス",9.2558622912056423E-7,6.9924152227055722E-7,8.197891615342523E-7,5.4721107431119077E-6,9.1886807392878223E-7,0,1.7798540546581544E-6,2.8795742213118376E-6,1.8425575396902177E-6,3.1461630657735086E-6,2.5691492378279059E-7,6.5888658763211083E-7,6.6928360926421968E-7,1.6183629966802285E-6,2.829819975671225E-6,2.7572514254953522E-6,2.3508798236147303E-6,9.3471757214302969E-7,1.534565969573349E-6,2.8580324999116504E-6,0,1.5659930662473869E-6,2.6364181776988891E-6,3.1143175752639938E-6,2.9681244142537696E-6,7.32326011221738E-6,1.0099621130958116E-7,8.5447639279547834E-7,2.094104002531425E-6,1.1696157377666125E-6,7.0312517418984024E-7,1.1491588559983015E-6,3.8351211820599783E-6,1.145677789529295E-5,2.4548048446563315E-6,0,0,1.1714343348365396E-6,4.5059267666404901E-6,3.9890876693125157E-7,5.4379069033471755E-7,8.1147721855408589E-7,7.1158761270504377E-6,2.4158545923012109E-6,6.7312317231846464E-6,3.7002977601325284E-6,3.613089057650408E-6,7.3507466212223921E-6,1.353879924825118E-5,9.857988157581193E-6,1.6823171362589901E-5,7.6931041696377026E-6,6.6143909523346059E-6,2.3398131089842915E-5,3.3817291316596265E-6,1.996730421941929E-6,2.1471220286488552E-6,2.8800962470766503E-6,5.9733118248203215E-6,1.459727577516135E-6,1.5622595354249267E-6,1.4931735109496031E-6,3.0736295181724587E-6,1.5593314104632439E-6,2.3361267542446657E-6,2.6048787635619987E-6,5.9648908586308921E-6,5.6457157492228208E-6,2.305031193021288E-6,3.1346201717621556E-6,3.2813654558746761E-6,3.423752538357731E-6,1.0776803082414887E-6,8.7428115606747663E-7,2.7227755241212887E-7,4.6112082123995824E-5,2.0399117561071776E-6,4.7021054453537095E-6,1.4551116832435543E-6,1.5584168008750004E-6,5.3685975504954494E-6,3.5935335086342879E-6,3.6504871114836003E-6,2.5157935630697449E-6,6.0792417272208245E-5,9.9966089079279571E-6,3.4044797594074447E-5,6.2834247432791245E-5,1.203012355821345E-5,2.4400422385757978E-6,7.0184569260719493E-3,2.1076094842991352E-6,5.7446009876428927E-3,1.603659106201868E-6,9.6323177270561441E-3,1.9704355172539274E-2,1.6041050555976432E-6,6.748378535715638E-6,7.9823137205496359E-6,1.3493245972308011E-6,5.7463296860112815E-6,1.5461278001147954E-3,1.0039243542070901,9.6742039346338667E-6,1.9858333680304521E-6,6.086039000811194E-6,4.0356251350161395E-6,1.2907864951988463E-6,1.9012672643825273E-5,1.0481416846818099,0.81704292648040666]
[null,"673","洗濯・理容・美容・浴場業",2.8302590387690183E-5,2.1288630925504316E-5,3.7899417500985163E-5,1.9571751884574983E-5,7.5165624576934418E-5,0,4.1386838622515838E-5,1.4707183278694924E-4,1.7702104378450751E-4,5.6048445851524539E-5,7.2214381349253848E-5,1.1454672127026039E-4,1.1890368114408656E-4,1.0122059873428692E-4,8.3145779726217394E-5,9.9889523636114509E-5,8.6341243773389786E-5,9.1595691370590558E-5,8.7177823168936154E-5,1.3486212732040527E-4,0,5.3224028582694362E-5,3.3191716789324755E-5,1.4573427997950899E-4,1.4506942014211162E-4,4.7612676400360063E-5,4.9055069772018548E-6,1.6679022581717669E-5,9.0959052574866628E-5,8.3891853028935317E-5,3.4944386946991629E-5,5.5292767865080668E-5,5.5445441731401933E-5,3.8898414263720169E-5,5.3230081281952581E-5,0,0,2.0342697083535144E-5,4.3873014652491024E-5,6.2015448517294873E-5,4.6022054641035919E-5,6.4532271803982233E-5,7.0776816329233541E-5,7.5864575358069298E-5,7.3877419304605357E-5,5.2263660993027962E-5,6.3051462503916367E-5,1.6706734827515591E-4,1.3727222529558963E-4,5.2847288473783697E-5,8.4616259817405943E-5,6.4501307941199149E-5,8.1238010655211329E-5,6.0486997296385885E-5,1.4544764981326983E-4,7.1465192475545628E-5,4.5630376543564858E-5,8.2546075641755736E-5,1.5549043006190367E-4,2.1116041861362904E-4,1.1192921889339648E-4,6.1834267282447346E-5,8.5656987614082577E-5,7.4697648398161314E-5,1.7043320864949072E-4,9.434007949260985E-5,1.1609488281627293E-4,5.373948159471423E-5,1.5015843829455897E-4,1.3511171879187689E-4,1.387958273778313E-4,1.6938712132768196E-4,1.2707718641681058E-4,1.0534229047302662E-4,1.6035878619033897E-5,2.2533157680513947E-3,9.5230278697651282E-5,6.9187257299029061E-5,1.0645505799947486E-4,3.0471768332532544E-4,1.3818203270588679E-4,2.3128147996033348E-4,1.6827371732023216E-4,3.4842394353237159E-4,7.8175663529954993E-4,9.7612621526508485E-4,1.547588614849866E-4,7.2439180780645607E-4,1.6254880597991064E-3,1.9595552397252511E-4,3.019684167101151E-4,1.6616388490806993E-4,1.1479311686655589E-2,9.4684036346019459E-3,1.2668357711646169E-2,1.0163527129276833E-2,1.567534283018517E-4,1.7853517870845161E-4,9.9354102251713152E-4,7.0156039293372237E-5,9.1072366627561541E-4,1.0876801284311023E-2,1.9963154439965715E-3,1.0186379022513732,2.3360923556333486E-4,4.4383785485016373E-4,2.8861923113250769E-3,4.9816737835783904E-5,1.6848405323277235E-3,1.0975360574080915,0.85554661680562882]
[null,"674","娯楽サービス",1.8588974483033118E-5,1.0694207217753693E-5,1.6661166552864638E-5,2.2066004441931179E-5,2.2760641385926787E-5,0,2.4600958985922094E-5,4.0828555508842E-5,2.6355058363811189E-4,1.1855506375896324E-5,8.9952126784003484E-5,1.7389146894075733E-5,5.0072862167439124E-5,2.3603344700537761E-5,4.7533325206300549E-5,2.2491311532902704E-5,3.0982836965997718E-5,1.8966625034636953E-5,2.8485989317874566E-5,2.3247711325441871E-5,0,1.4902513347311334E-5,1.044592519961494E-5,2.7578242806205567E-5,2.9874809751989103E-4,1.7604466587482868E-4,2.8923301146225235E-6,7.0915900780726981E-6,3.8229215542026518E-5,3.5979429063603036E-5,2.6394905221468267E-5,2.5514310518396234E-5,1.7572626482736158E-5,5.0879623329383252E-5,2.888193154431232E-5,0,0,1.2625007880752491E-5,1.822893546456325E-5,1.0589825230311494E-5,1.1617463669324238E-5,1.8472631112506783E-5,1.9244031307152262E-5,1.9789002330045092E-5,3.2692937417599679E-5,2.8502529558723664E-5,3.9956545672222524E-5,3.2494064121079978E-5,2.1113957962799987E-5,3.2770091871748124E-5,5.8673009928631673E-5,2.2737704834800841E-5,3.5544169696981175E-5,3.9425882739442838E-5,3.4238280896990712E-5,4.6757766084751991E-5,3.8060836529867361E-5,3.2342275360426202E-5,2.1303368131113273E-5,2.5312314049697422E-5,1.5888524513751718E-3,2.1302191379105784E-5,3.4044768565772718E-5,2.2119846994979791E-5,2.705523561104447E-5,2.6859777993517504E-5,2.7132889795698311E-5,7.669836768762113E-5,6.1531249657886735E-5,3.0452687690990144E-5,9.5290416752085387E-5,1.8469712492602227E-4,1.3132366063970969E-4,1.1947875687772092E-4,1.4778609373833965E-5,5.6249015722250456E-5,2.8639269252219145E-5,3.6632660882553629E-5,2.75487761646103E-5,7.2812226165984642E-5,4.2864995968008609E-5,3.0334851788876264E-5,8.3974465740033446E-5,1.6207700703399735E-5,1.9118464925378662E-4,3.7780583895999066E-2,9.8358545389108627E-5,4.4404014706714469E-4,4.3000168194199606E-2,2.4639843555815524E-5,1.4601728551129624E-4,5.293428845069158E-5,5.9850829732655282E-5,5.3682851417327488E-5,3.588926615873357E-5,3.0740885841905587E-5,7.0669861710857452E-5,1.2117171080152212E-4,2.3044974789815771E-2,2.9009263374705074E-5,9.3565151492385534E-5,1.6220005950484517E-3,3.1178006029970978E-4,2.6233833026739702E-4,1.0335248639186347,5.4388280864611437E-5,1.0023878224768462E-3,8.4250141692211825E-5,5.4179081616368525E-4,1.1477361433399427,0.89467837324538813]
[null,"675","獣医業",1.2355636190281202E-5,4.3493260387295653E-3,4.5071750418440037E-5,9.4793425286871552E-7,1.1069141268185018E-6,0,9.6342698070966334E-8,8.267020044866516E-5,3.0664831955100798E-6,1.0943847132294065E-5,2.8197941060935054E-7,7.3687961479296381E-7,6.5112535401286925E-7,1.3617634596534185E-7,1.6919186602757538E-7,2.369255788209768E-7,1.3305665530179206E-7,6.4441784334468548E-8,8.9388035097311624E-7,1.3309138875983201E-7,0,3.2057891227401076E-7,1.0891133175074063E-7,1.5387547966533378E-7,8.6484479203559097E-7,8.1872113567873142E-7,7.7734642570398276E-9,3.9559840823511306E-8,1.2787544707979461E-7,2.0382223429869432E-7,2.8377581462336094E-5,7.9914468169465154E-8,1.526214301222174E-7,4.6786452928405231E-7,1.5673749895678673E-7,0,0,5.7612901268753131E-8,1.7493147966347999E-7,2.9174794614964788E-8,3.5624107766174626E-8,5.5409591696463421E-8,2.6106090840052455E-7,1.0923361322121534E-7,2.688508693575783E-7,1.6413821931275798E-7,1.788571255709676E-7,2.888359127328117E-7,4.7237674457979844E-7,3.7079950951186643E-7,6.3590618100594892E-7,2.8461126393295203E-7,2.6959987266717693E-7,8.2005931064072863E-7,1.6253421170352393E-7,1.369488678717979E-7,1.2891628221179773E-7,1.4442267755134636E-7,2.2887140044397495E-7,8.7030481389267441E-8,2.6199443273783519E-6,8.1463639238426416E-8,1.5590262616789266E-7,8.6233571203272828E-8,1.2474145080124334E-7,1.3284190305538855E-7,2.349766776426841E-7,3.0027995714862664E-7,1.6895786563908354E-7,1.4992017625781034E-7,2.5205427249095128E-7,3.9072597323092522E-7,2.3397935441698166E-7,2.0937905310772384E-7,3.1387999366140228E-8,1.5819246993112458E-6,1.1031490519767819E-7,2.1068554312204643E-7,9.0618195031093604E-8,1.651822167553417E-7,2.4014258411437881E-7,1.635535086513776E-7,2.7871620358116512E-7,1.0666878860332708E-7,2.2621879695200431E-6,5.739836029049354E-5,1.2548165173420519E-6,2.7102437468725837E-6,6.5351065691414065E-5,1.3501011533659576E-7,2.2796470921137917E-4,1.5432591984913341E-6,4.1523473968494205E-7,1.396365795446163E-7,9.3826353971642191E-7,1.5646713501455157E-6,2.0568432138661551E-7,4.0387530774295421E-7,3.5073053132641923E-5,8.9615055213706664E-8,3.2894270812994773E-7,6.7431558909551685E-6,9.5282841762392733E-6,7.1509597077956755E-7,1.5613545635300482E-3,1.0016277514045759,1.9319765438559336E-6,1.8444761058364098E-7,1.4410267551052066E-6,1.008161817563916,0.78587799133118752]
[null,"679","その他の対個人サービス",1.5644985064603559E-4,1.1946682005814723E-4,2.2574889404929988E-3,1.0904611523298182E-4,9.8399544178655275E-4,0,2.5851426488373316E-4,3.2105848227192112E-4,1.654993645874415E-4,1.2953474414911347E-4,7.5447791007827894E-5,1.167593638951181E-4,1.4706445668961947E-4,1.2390236615640314E-4,1.8579384605334765E-4,1.0325318492245187E-4,1.0839622085328944E-4,1.6866846850475956E-4,3.1654835517654209E-4,3.181154139299327E-4,0,1.0968924680465047E-4,9.308365747539153E-5,2.5851371531341975E-4,1.5923421821921704E-4,5.531629899301634E-4,1.0211616929751514E-5,1.0059648606696119E-4,1.0593410673331768E-4,1.150461179556944E-4,7.0791956494161727E-5,2.7312077265782229E-4,2.1100204847364498E-4,2.0448876515483196E-3,3.1559029964029921E-4,0,0,3.8431889712832534E-5,1.588201244933209E-4,7.4757574728951079E-5,8.2490476287105992E-5,1.0687567381935964E-4,1.172411392522378E-4,1.095041422692141E-4,1.7514008203735752E-4,2.0929623871015362E-4,1.5135584509611471E-4,1.5767309197046268E-4,3.0695673014346158E-4,1.8688195299613794E-4,2.3272835990752782E-4,1.1432706601561102E-4,2.0223611989296375E-4,2.4094528446226972E-4,1.1680066156823305E-4,9.9792632751032325E-5,1.2084536678677978E-4,1.0689296766677044E-4,3.5190265049473221E-4,1.6471361506282286E-4,2.6364406014209275E-4,2.8043855479619964E-4,3.2584511969353011E-4,2.0373577001270754E-4,4.9842215328343932E-4,4.9168173519142954E-4,1.2221116460162072E-4,1.6558321618735113E-4,4.5221220338975064E-4,8.7030887254009262E-5,5.9522335269135125E-4,3.0674836466114121E-4,1.4333295422108629E-3,1.1006050164253758E-3,4.2173734988615926E-4,2.9889072248185668E-4,4.4274409123925645E-4,2.8129488110925204E-4,2.6151460689803705E-4,2.5605658158372113E-4,3.6176343870235789E-4,4.4296761080439941E-4,6.4255007639238849E-4,3.426639314946743E-4,6.026553268707308E-4,1.3062548144695046E-3,9.6437811853838885E-4,3.5790059838022566E-4,2.7152885600374046E-3,3.6648148144413807E-4,3.2501261392907299E-3,2.760368676444803E-3,3.5802843435682517E-4,3.4170559967576898E-4,2.7488070416066676E-4,2.9729414365367953E-4,2.0928535563054019E-3,9.5199932587948705E-4,1.7538059411783562E-3,4.7326785706273917E-4,7.7288963586568955E-4,1.6330650204005935E-3,5.751822454332353E-4,1.5062476274053749E-3,2.0415084876893711E-3,1.3143701345822208E-3,1.0029582983372896,1.2973240688447221E-4,1.3975101125692586E-3,1.0554874657786679,0.82276907836652624]
[null,"681","事務用品",6.9093297729400419E-4,5.6666545296945572E-4,1.2451019155382437E-3,3.4338588126202677E-3,1.2390805509992747E-3,0,1.5975814854744409E-3,1.2610628196163909E-3,5.8671269798789066E-4,3.8167892340453739E-4,9.9028357875369545E-5,1.2507746243919811E-3,1.5018531529638133E-3,1.5452152429475635E-3,1.4756352281356604E-3,8.8228140909440587E-4,9.0326640686012177E-4,1.1671959635623651E-3,1.2274770113742356E-3,1.0749835982375633E-3,0,4.6654240580962518E-4,5.5989901002675101E-4,8.1718895524231987E-4,1.1697870122710295E-3,8.6513492830525356E-4,5.5529730340122082E-5,2.0777413888181857E-4,3.7750491224479302E-4,5.4758052509685325E-4,1.7941125977590929E-3,1.8481248071647225E-3,1.0977722205885189E-3,1.8547669637838003E-3,1.3220733209264536E-3,0,0,2.4536521644794002E-4,4.9266550432371602E-4,7.562028637119393E-4,4.1182922776083179E-4,8.1629430055994224E-4,1.2003520270652992E-3,6.4240450101396823E-4,1.3536395501085182E-3,1.540229337230493E-3,1.5378330618230557E-3,1.1634249612023717E-3,1.9353821967618946E-3,1.3549026678353125E-3,9.8204632594388677E-4,6.7564715733072986E-4,1.2041909681837961E-3,1.2992686932425763E-3,1.0385442425815258E-3,3.9847952025866073E-4,3.8803663925049219E-4,6.2340591624892E-4,9.6642528813995236E-4,2.0372468126891416E-3,2.3793752550945518E-3,1.1179038934419135E-3,1.0219043452049693E-3,3.943241668917864E-4,2.5725690204890053E-3,7.9741150224657434E-4,3.9955052065107524E-4,4.2070809705072818E-4,1.3869732788131793E-3,3.2238135834912252E-3,2.3819216172462116E-3,3.9591866197721242E-3,1.6856373363738489E-3,1.1128446086986141E-3,2.9022788272081322E-4,3.4002773753574141E-3,2.0187725533073997E-3,1.9712442130949718E-3,1.7335029403707397E-3,2.1554390390333745E-3,5.2091089895973299E-3,3.6705713237096195E-3,3.8645007520011761E-3,3.4953990294280769E-3,3.919972627566346E-3,2.6082049946325602E-3,1.0320976039491941E-3,2.438738246389926E-3,2.6193562200023668E-3,2.9579802307807762E-3,2.0146770651103276E-3,7.4875736748683357E-3,1.7374828868507127E-3,5.6727343456104071E-3,4.4034857654070333E-3,5.1198209346851997E-3,4.8805076320070509E-3,2.1673104584294858E-3,2.12257966617499E-3,1.8023784958901554E-3,1.903278595714046E-3,3.0556556107398753E-3,1.159768594018379E-3,4.3344198307263201E-3,2.3659905599079751E-3,3.2909262743019219E-3,2.929129004683415E-3,1.0007037325283192,8.1935231949686177E-4,1.1823883172498533,0.92169028775469064]
[null,"691","分類不明",4.9025782208348368E-3,7.0593260044547908E-4,1.2607969618167996E-3,7.8887393687920155E-4,5.4417707854128358E-3,0,2.7161308391958081E-3,2.5885568252666719E-3,3.2969387727160514E-3,2.1050208097028525E-3,2.6442335215719976E-3,1.5343992400069506E-3,1.9461335996983852E-3,3.5905668505989566E-3,1.6271985230398604E-3,1.773532851472612E-3,1.6871159509868814E-3,1.5507644204716287E-3,6.7607036918882857E-4,1.422405018300821E-3,0,6.9514537661703496E-4,8.6453691148532098E-4,4.4910297176928571E-3,7.7912875154076704E-4,1.0779465142715119E-3,2.0784868140674432E-4,3.5733008406890173E-3,1.2285569567597498E-3,3.3024904988007064E-3,2.5191423229163831E-3,7.2139756470774785E-3,5.4387608646279152E-3,1.4552782692415656E-3,5.9690090965301944E-3,0,0,4.2403653985653182E-3,8.4745487995208976E-3,4.5206263077956447E-3,2.5533298244051735E-3,5.0680673839320657E-3,2.3343765338014267E-3,3.828194732847436E-3,4.3035926408669673E-3,3.4118853329678021E-3,1.6438176015511146E-3,9.6805436560133142E-4,8.4343852476083609E-4,2.3358629969603452E-3,1.0259427829213718E-3,9.6975378422085032E-4,3.2500177750618936E-3,2.3839828760117867E-3,1.2603048819349808E-3,6.1833667132219167E-4,9.8563845208542123E-4,7.6102925156675851E-4,2.6573885626089864E-3,7.9419656305516791E-3,1.5802040036281388E-3,1.934569279482328E-3,7.8483401041602122E-3,9.6714182992686283E-3,6.8888760161318436E-3,8.0864880321870006E-3,2.6270995725406168E-3,2.0669370327461717E-3,5.0697521093054781E-3,4.5267993355840898E-3,2.8304046279377633E-3,5.8913940785223183E-3,6.288347079365644E-3,5.1681204724240842E-3,6.8021770999630914E-4,4.1256096436297126E-3,1.3498558293892834E-3,1.8006115138965838E-3,6.5798713018014026E-3,2.6424857566797865E-3,4.0198718876149351E-3,2.4846629407030201E-3,3.2265751621705957E-3,8.3301175444927056E-4,5.0718365654938797E-3,3.4001589680890103E-3,1.1418810197328954E-3,7.1334541466029112E-3,2.6298809696921467E-3,8.3743229719853189E-4,4.9222307369073352E-3,1.1041788425919295E-3,1.4053372375851286E-3,1.0411536594147633E-2,3.9733071248479633E-3,2.1082878340760499E-3,7.1179709657058395E-3,3.0040007858990378E-3,1.6543005120410238E-3,3.4928705728020024E-3,2.2218678847268632E-3,1.1124893992907706E-2,1.8225651302871482E-3,5.3993214389568374E-3,1.2022292462495286E-3,1.3105013736120219E-3,3.2775912137752825E-3,1.1639597765273531E-3,1.0008511283107915,1.3334599387439896,1.0394529924897669]
[null,"700","内生部門計",1.3532309769836777,1.3534922608977651,1.3070945039490987,1.2944617430926424,1.2512591887441089,1,1.586159330536717,1.3244909444031532,1.3158796142539262,1.3331371876067932,1.0804484059168462,1.2304507134006737,1.2344874760615077,1.3093831862099736,1.2893917417224849,1.3771740336656177,1.2740661381945142,1.2300477861397963,1.2354637148043042,1.2950320572385114,1,1.1876595641657945,1.1246305254378044,1.2426318300247952,1.2916284708594572,1.2332237363310254,1.0317758051035797,1.1241544410611441,1.2936248916436754,1.1982018270403534,1.2423348048961695,1.2613160756044015,1.3218677746570839,1.2776311804602973,1.3340510166191821,1,1,1.1282894477782528,1.2655976520293697,1.0947885804143103,1.3173385715867285,1.403264632730221,1.231189553033198,1.2269779250349688,1.2331466813995877,1.2557856317190703,1.2404104556319147,1.2402187427656395,1.2834533179854866,1.3514527771943519,1.2355324408516222,1.1991778201321566,1.2935055307133176,1.2502771796756502,1.2134669661306308,1.4015189617614019,1.3723837783281823,1.3669358983519848,1.3529019895915524,1.2991217520355764,1.337713527410082,1.5281638504515829,1.3009663281163306,1.2903766146565403,1.3223516349627698,1.2787323791775498,1.3091276323646825,1.249316490814496,1.4526935772754286,1.2805183766613728,1.2712560824145978,1.2918466872872565,1.271591682168963,1.3737263104601016,1.1272594882956002,1.2995690777112847,1.1446150215912099,1.6109555298809481,1.2916866562683527,1.3341164640467271,1.2593715101126002,1.3559177457739511,1.3101346266405365,1.1592058687323081,1.578459069763871,1.3364719579370132,1.2683756518137947,1.4029566106025748,1.2905458331876136,1.2317017865265201,1.1772392612167601,1.3151579598121284,1.3451352300381396,1.3507767031906104,1.2444088108721694,1.1931368549516967,1.2529315182332152,1.3749970693188098,1.5663501746961945,1.348906688821994,1.1920194636071897,1.490587629061453,1.3780268716641224,1.2900025817476446,1.2692569399486564,1.2290147619698264,1.2278204073095116,1.5899866826459161,1.3383064726100069]
[null,null,"影響力係数",1.0548648277206261,1.0550685026406565,1.0189007214394221,1.0090532856866694,0.97537621516058837,0.77951572618585541,1.2364361423897992,1.0324615203530134,1.0257488530783125,1.0392014029026784,0.84222652374462026,0.95915568139243002,0.96230240136942991,1.0206847852540166,1.0051011398868477,1.0735288169371577,0.99315459092350511,0.9588415932560671,0.96306339482195169,1.0094978545322406,0.77951572618585541,0.92579930762227591,0.87666718072743022,0.9686510533634366,1.0068447054243357,0.96131729637571317,0.80428546597631256,0.87629606546883221,1.0084009468217181,0.93401716732257978,0.96841951760460054,0.98321571662465834,1.0304167182834976,0.9959335974342004,1.0399137469888804,0.77951572618585541,0.77951572618585541,0.87951936823270249,0.98655327278078764,0.85340491528164286,1.0268861332630661,1.0938668492136259,0.95973161850511202,0.95644858824764778,0.96125723084487724,0.97890464864325433,0.96691945709043969,0.96677001389626604,1.0004720451951021,1.0534786930205462,0.9631169678566347,0.93477796928628909,1.0083079030994122,0.97461072364846768,0.94591658330586548,1.0925060712406853,1.069794737569181,1.0655480294533621,1.0546083768747476,1.0126858359418531,1.0427687317477123,1.1912277536157385,1.0141237120049473,1.0058688638272386,1.0307938950010567,0.99679199915195438,1.020485577012725,0.97386185157322647,1.1323974888153838,0.99818421227752274,0.99096410825160086,1.0070148085615174,0.99122571353783262,1.0708412624789221,0.87871649861864054,1.0130345333407944,0.89224540975891053,1.2557651697282668,1.0068900618656043,1.0399647642878902,0.98169989724320084,1.0569592062452695,1.0212705448869324,0.90361920456377054,1.2304336680216337,1.0418009088183029,0.9887187673000879,1.0936267411211125,1.0060007723333724,0.9601309125686357,0.91767651760188274,1.0251863120920592,1.0485540656613581,1.0529516827025642,0.97003623787909588,0.93006894192677947,0.97667982229671113,1.0718318389934751,1.2209945938896456,1.0514939770940344,0.92919791780143235,1.161936498111491,1.0741936175688809,1.0055772992926435,0.98940574526051361,0.95803633467004545,0.95710531642968666,1.2394196235485706,1.0432309418558201]

{"sheet":"需要増加額","index":11,"n_rows":119,"n_cols":113,"rows_kept":119,"cut":false,"hidden":false,"merged":[]}
[]
[]
[null,null,null,"需要増加額計算"]
[]
[null,null,"単位:百万円"]
[null,null,null,"011","012","013","015","017","061","062","111","112","113","114","151","152","161","162","163","164","191","201","202","203","204","205","206","207","208","211","212","221","222","231","251","252","253","259","2611","2612","262","263","269","271","272","281","289","291","301","311","321","329","331","332","333","339","341","342","351","352","353","354","359","391","392","411","412","413","419","461","462","471","481","511","531","551","552","553","571","572","573","574","575","576","577","578","579","591","592","593","594","595","611","631","632","641","642","643","644","659","661","662","663","669","671","672","673","674","675","679","681","691","700"]
[null,"109部門",null,"耕種農業","畜産","農業サービス","林業","漁業","石炭・原油・天然ガス","その他の鉱業","食料品","飲料","飼料・有機質肥料（別掲を除く。）","たばこ","繊維工業製品","衣服・その他の繊維既製品","木材・木製品","家具・装備品","パルプ・紙・板紙・加工紙","紙加工品","印刷・製版・製本","化学肥料","無機化学工業製品","石油化学系基礎製品","有機化学工業製品（石油化学系基礎製品・合成樹脂を除く。）","合成樹脂","化学繊維","医薬品","化学最終製品（医薬品を除く。）","石油製品","石炭製品","プラスチック製品","ゴム製品","なめし革・革製品・毛皮","ガラス・ガラス製品","セメント・セメント製品","陶磁器","その他の窯業・土石製品","銑鉄・粗鋼","鉄屑","鋼材","鋳鍛造品（鉄）","その他の鉄鋼製品","非鉄金属製錬・精製","非鉄金属加工製品","建設用・建築用金属製品","その他の金属製品","はん用機械","生産用機械","業務用機械","電子デバイス","その他の電子部品","産業用電気機器","民生用電気機器","電子応用装置・電気計測器","その他の電気機械","通信・映像・音響機器","電子計算機・同附属装置","乗用車","その他の自動車","自動車部品・同附属品","船舶・同修理","その他の輸送機械・同修理","その他の製造工業製品","再生資源回収・加工処理","建築","建設補修","公共事業","その他の土木建設","電気","ガス・熱供給","水道","廃棄物処理","商業","金融・保険","不動産仲介及び賃貸","住宅賃貸料","住宅賃貸料（帰属家賃）","鉄道輸送","道路輸送（自家輸送を除く。）","自家輸送","水運","航空輸送","貨物利用運送","倉庫","運輸附帯サービス","郵便・信書便","通信","放送","情報サービス","インターネット附随サービス","映像・音声・文字情報制作","公務","教育","研究","医療","保健衛生","社会保険・社会福祉","介護","他に分類されない会員制団体","物品賃貸サービス","広告","自動車整備・機械修理","その他の対事業所サービス","宿泊業","飲食サービス","洗濯・理容・美容・浴場業","娯楽サービス","獣医業","その他の対個人サービス","事務用品","分類不明","合計"]
[null,"011","耕種農業",{"$f":"投入係数!D8*D$119","v":0},{"$f":"投入係数!E8*E$119","v":0},{"$f":"投入係数!F8*F$119","v":0},{"$f":"投入係数!G8*G$119","v":0},{"$f":"投入係数!H8*H$119","v":0},{"$f":"投入係数!I8*I$119","v":0},{"$f":"投入係数!J8*J$119","v":0},{"$f":"投入係数!K8*K$119","v":0},{"$f":"投入係数!L8*L$119","v":0},{"$f":"投入係数!M8*M$119","v":0},{"$f":"投入係数!N8*N$119","v":0},{"$f":"投入係数!O8*O$119","v":0},{"$f":"投入係数!P8*P$119","v":0},{"$f":"投入係数!Q8*Q$119","v":0},{"$f":"投入係数!R8*R$119","v":0},{"$f":"投入係数!S8*S$119","v":0},{"$f":"投入係数!T8*T$119","v":0},{"$f":"投入係数!U8*U$119","v":0},{"$f":"投入係数!V8*V$119","v":0},{"$f":"投入係数!W8*W$119","v":0},{"$f":"投入係数!X8*X$119","v":0},{"$f":"投入係数!Y8*Y$119","v":0},{"$f":"投入係数!Z8*Z$119","v":0},{"$f":"投入係数!AA8*AA$119","v":0},{"$f":"投入係数!AB8*AB$119","v":0},{"$f":"投入係数!AC8*AC$119","v":0},{"$f":"投入係数!AD8*AD$119","v":0},{"$f":"投入係数!AE8*AE$119","v":0},{"$f":"投入係数!AF8*AF$119","v":0},{"$f":"投入係数!AG8*AG$119","v":0},{"$f":"投入係数!AH8*AH$119","v":0},{"$f":"投入係数!AI8*AI$119","v":0},{"$f":"投入係数!AJ8*AJ$119","v":0},{"$f":"投入係数!AK8*AK$119","v":0},{"$f":"投入係数!AL8*AL$119","v":0},{"$f":"投入係数!AM8*AM$119","v":0},{"$f":"投入係数!AN8*AN$119","v":0},{"$f":"投入係数!AO8*AO$119","v":0},{"$f":"投入係数!AP8*AP$119","v":0},{"$f":"投入係数!AQ8*AQ$119","v":0},{"$f":"投入係数!AR8*AR$119","v":0},{"$f":"投入係数!AS8*AS$119","v":0},{"$f":"投入係数!AT8*AT$119","v":0},{"$f":"投入係数!AU8*AU$119","v":0},{"$f":"投入係数!AV8*AV$119","v":0},{"$f":"投入係数!AW8*AW$119","v":0},{"$f":"投入係数!AX8*AX$119","v":0},{"$f":"投入係数!AY8*AY$119","v":0},{"$f":"投入係数!AZ8*AZ$119","v":0},{"$f":"投入係数!BA8*BA$119","v":0},{"$f":"投入係数!BB8*BB$119","v":0},{"$f":"投入係数!BC8*BC$119","v":0},{"$f":"投入係数!BD8*BD$119","v":0},{"$f":"投入係数!BE8*BE$119","v":0},{"$f":"投入係数!BF8*BF$119","v":0},{"$f":"投入係数!BG8*BG$119","v":0},{"$f":"投入係数!BH8*BH$119","v":0},{"$f":"投入係数!BI8*BI$119","v":0},{"$f":"投入係数!BJ8*BJ$119","v":0},{"$f":"投入係数!BK8*BK$119","v":0},{"$f":"投入係数!BL8*BL$119","v":0},{"$f":"投入係数!BM8*BM$119","v":0},{"$f":"投入係数!BN8*BN$119","v":0},{"$f":"投入係数!BO8*BO$119","v":0},{"$f":"投入係数!BP8*BP$119","v":0},{"$f":"投入係数!BQ8*BQ$119","v":0},{"$f":"投入係数!BR8*BR$119","v":0},{"$f":"投入係数!BS8*BS$119","v":0},{"$f":"投入係数!BT8*BT$119","v":0},{"$f":"投入係数!BU8*BU$119","v":0},{"$f":"投入係数!BV8*BV$119","v":0},{"$f":"投入係数!BW8*BW$119","v":0},{"$f":"投入係数!BX8*BX$119","v":0},{"$f":"投入係数!BY8*BY$119","v":0},{"$f":"投入係数!BZ8*BZ$119","v":0},{"$f":"投入係数!CA8*CA$119","v":0},{"$f":"投入係数!CB8*CB$119","v":0},{"$f":"投入係数!CC8*CC$119","v":0},{"$f":"投入係数!CD8*CD$119","v":0},{"$f":"投入係数!CE8*CE$119","v":0},{"$f":"投入係数!CF8*CF$119","v":0},{"$f":"投入係数!CG8*CG$119","v":0},{"$f":"投入係数!CH8*CH$119","v":0},{"$f":"投入係数!CI8*CI$119","v":0},{"$f":"投入係数!CJ8*CJ$119","v":0},{"$f":"投入係数!CK8*CK$119","v":0},{"$f":"投入係数!CL8*CL$119","v":0},{"$f":"投入係数!CM8*CM$119","v":0},{"$f":"投入係数!CN8*CN$119","v":0},{"$f":"投入係数!CO8*CO$119","v":0},{"$f":"投入係数!CP8*CP$119","v":0},{"$f":"投入係数!CQ8*CQ$119","v":0},{"$f":"投入係数!CR8*CR$119","v":0},{"$f":"投入係数!CS8*CS$119","v":0},{"$f":"投入係数!CT8*CT$119","v":0},{"$f":"投入係数!CU8*CU$119","v":0},{"$f":"投入係数!CV8*CV$119","v":0},{"$f":"投入係数!CW8*CW$119","v":0},{"$f":"投入係数!CX8*CX$119","v":0},{"$f":"投入係数!CY8*CY$119","v":0},{"$f":"投入係数!CZ8*CZ$119","v":0},{"$f":"投入係数!DA8*DA$119","v":0},{"$f":"投入係数!DB8*DB$119","v":0},{"$f":"投入係数!DC8*DC$119","v":0},{"$f":"投入係数!DD8*DD$119","v":0},{"$f":"投入係数!DE8*DE$119","v":0},{"$f":"投入係数!DF8*DF$119","v":0},{"$f":"投入係数!DG8*DG$119","v":0},{"$f":"投入係数!DH8*DH$119","v":0},{"$f":"SUM(D8:DH8)","v":0}]
[null,"012","畜産",{"$f":"投入係数!D9*D$119","v":0},{"$f":"投入係数!E9*E$119","v":0},{"$f":"投入係数!F9*F$119","v":0},{"$f":"投入係数!G9*G$119","v":0},{"$f":"投入係数!H9*H$119","v":0},{"$f":"投入係数!I9*I$119","v":0},{"$f":"投入係数!J9*J$119","v":0},{"$f":"投入係数!K9*K$119","v":0},{"$f":"投入係数!L9*L$119","v":0},{"$f":"投入係数!M9*M$119","v":0},{"$f":"投入係数!N9*N$119","v":0},{"$f":"投入係数!O9*O$119","v":0},{"$f":"投入係数!P9*P$119","v":0},{"$f":"投入係数!Q9*Q$119","v":0},{"$f":"投入係数!R9*R$119","v":0},{"$f":"投入係数!S9*S$119","v":0},{"$f":"投入係数!T9*T$119","v":0},{"$f":"投入係数!U9*U$119","v":0},{"$f":"投入係数!V9*V$119","v":0},{"$f":"投入係数!W9*W$119","v":0},{"$f":"投入係数!X9*X$119","v":0},{"$f":"投入係数!Y9*Y$119","v":0},{"$f":"投入係数!Z9*Z$119","v":0},{"$f":"投入係数!AA9*AA$119","v":0},{"$f":"投入係数!AB9*AB$119","v":0},{"$f":"投入係数!AC9*AC$119","v":0},{"$f":"投入係数!AD9*AD$119","v":0},{"$f":"投入係数!AE9*AE$119","v":0},{"$f":"投入係数!AF9*AF$119","v":0},{"$f":"投入係数!AG9*AG$119","v":0},{"$f":"投入係数!AH9*AH$119","v":0},{"$f":"投入係数!AI9*AI$119","v":0},{"$f":"投入係数!AJ9*AJ$119","v":0},{"$f":"投入係数!AK9*AK$119","v":0},{"$f":"投入係数!AL9*AL$119","v":0},{"$f":"投入係数!AM9*AM$119","v":0},{"$f":"投入係数!AN9*AN$119","v":0},{"$f":"投入係数!AO9*AO$119","v":0},{"$f":"投入係数!AP9*AP$119","v":0},{"$f":"投入係数!AQ9*AQ$119","v":0},{"$f":"投入係数!AR9*AR$119","v":0},{"$f":"投入係数!AS9*AS$119","v":0},{"$f":"投入係数!AT9*AT$119","v":0},{"$f":"投入係数!AU9*AU$119","v":0},{"$f":"投入係数!AV9*AV$119","v":0},{"$f":"投入係数!AW9*AW$119","v":0},{"$f":"投入係数!AX9*AX$119","v":0},{"$f":"投入係数!AY9*AY$119","v":0},{"$f":"投入係数!AZ9*AZ$119","v":0},{"$f":"投入係数!BA9*BA$119","v":0},{"$f":"投入係数!BB9*BB$119","v":0},{"$f":"投入係数!BC9*BC$119","v":0},{"$f":"投入係数!BD9*BD$119","v":0},{"$f":"投入係数!BE9*BE$119","v":0},{"$f":"投入係数!BF9*BF$119","v":0},{"$f":"投入係数!BG9*BG$119","v":0},{"$f":"投入係数!BH9*BH$119","v":0},{"$f":"投入係数!BI9*BI$119","v":0},{"$f":"投入係数!BJ9*BJ$119","v":0},{"$f":"投入係数!BK9*BK$119","v":0},{"$f":"投入係数!BL9*BL$119","v":0},{"$f":"投入係数!BM9*BM$119","v":0},{"$f":"投入係数!BN9*BN$119","v":0},{"$f":"投入係数!BO9*BO$119","v":0},{"$f":"投入係数!BP9*BP$119","v":0},{"$f":"投入係数!BQ9*BQ$119","v":0},{"$f":"投入係数!BR9*BR$119","v":0},{"$f":"投入係数!BS9*BS$119","v":0},{"$f":"投入係数!BT9*BT$119","v":0},{"$f":"投入係数!BU9*BU$119","v":0},{"$f":"投入係数!BV9*BV$119","v":0},{"$f":"投入係数!BW9*BW$119","v":0},{"$f":"投入係数!BX9*BX$119","v":0},{"$f":"投入係数!BY9*BY$119","v":0},{"$f":"投入係数!BZ9*BZ$119","v":0},{"$f":"投入係数!CA9*CA$119","v":0},{"$f":"投入係数!CB9*CB$119","v":0},{"$f":"投入係数!CC9*CC$119","v":0},{"$f":"投入係数!CD9*CD$119","v":0},{"$f":"投入係数!CE9*CE$119","v":0},{"$f":"投入係数!CF9*CF$119","v":0},{"$f":"投入係数!CG9*CG$119","v":0},{"$f":"投入係数!CH9*CH$119","v":0},{"$f":"投入係数!CI9*CI$119","v":0},{"$f":"投入係数!CJ9*CJ$119","v":0},{"$f":"投入係数!CK9*CK$119","v":0},{"$f":"投入係数!CL9*CL$119","v":0},{"$f":"投入係数!CM9*CM$119","v":0},{"$f":"投入係数!CN9*CN$119","v":0},{"$f":"投入係数!CO9*CO$119","v":0},{"$f":"投入係数!CP9*CP$119","v":0},{"$f":"投入係数!CQ9*CQ$119","v":0},{"$f":"投入係数!CR9*CR$119","v":0},{"$f":"投入係数!CS9*CS$119","v":0},{"$f":"投入係数!CT9*CT$119","v":0},{"$f":"投入係数!CU9*CU$119","v":0},{"$f":"投入係数!CV9*CV$119","v":0},{"$f":"投入係数!CW9*CW$119","v":0},{"$f":"投入係数!CX9*CX$119","v":0},{"$f":"投入係数!CY9*CY$119","v":0},{"$f":"投入係数!CZ9*CZ$119","v":0},{"$f":"投入係数!DA9*DA$119","v":0},{"$f":"投入係数!DB9*DB$119","v":0},{"$f":"投入係数!DC9*DC$119","v":0},{"$f":"投入係数!DD9*DD$119","v":0},{"$f":"投入係数!DE9*DE$119","v":0},{"$f":"投入係数!DF9*DF$119","v":0},{"$f":"投入係数!DG9*DG$119","v":0},{"$f":"投入係数!DH9*DH$119","v":0},{"$f":"SUM(D9:DH9)","v":0}]
[null,"013","農業サービス",{"$f":"投入係数!D10*D$119","v":0},{"$f":"投入係数!E10*E$119","v":0},{"$f":"投入係数!F10*F$119","v":0},{"$f":"投入係数!G10*G$119","v":0},{"$f":"投入係数!H10*H$119","v":0},{"$f":"投入係数!I10*I$119","v":0},{"$f":"投入係数!J10*J$119","v":0},{"$f":"投入係数!K10*K$119","v":0},{"$f":"投入係数!L10*L$119","v":0},{"$f":"投入係数!M10*M$119","v":0},{"$f":"投入係数!N10*N$119","v":0},{"$f":"投入係数!O10*O$119","v":0},{"$f":"投入係数!P10*P$119","v":0},{"$f":"投入係数!Q10*Q$119","v":0},{"$f":"投入係数!R10*R$119","v":0},{"$f":"投入係数!S10*S$119","v":0},{"$f":"投入係数!T10*T$119","v":0},{"$f":"投入係数!U10*U$119","v":0},{"$f":"投入係数!V10*V$119","v":0},{"$f":"投入係数!W10*W$119","v":0},{"$f":"投入係数!X10*X$119","v":0},{"$f":"投入係数!Y10*Y$119","v":0},{"$f":"投入係数!Z10*Z$119","v":0},{"$f":"投入係数!AA10*AA$119","v":0},{"$f":"投入係数!AB10*AB$119","v":0},{"$f":"投入係数!AC10*AC$119","v":0},{"$f":"投入係数!AD10*AD$119","v":0},{"$f":"投入係数!AE10*AE$119","v":0},{"$f":"投入係数!AF10*AF$119","v":0},{"$f":"投入係数!AG10*AG$119","v":0},{"$f":"投入係数!AH10*AH$119","v":0},{"$f":"投入係数!AI10*AI$119","v":0},{"$f":"投入係数!AJ10*AJ$119","v":0},{"$f":"投入係数!AK10*AK$119","v":0},{"$f":"投入係数!AL10*AL$119","v":0},{"$f":"投入係数!AM10*AM$119","v":0},{"$f":"投入係数!AN10*AN$119","v":0},{"$f":"投入係数!AO10*AO$119","v":0},{"$f":"投入係数!AP10*AP$119","v":0},{"$f":"投入係数!AQ10*AQ$119","v":0},{"$f":"投入係数!AR10*AR$119","v":0},{"$f":"投入係数!AS10*AS$119","v":0},{"$f":"投入係数!AT10*AT$119","v":0},{"$f":"投入係数!AU10*AU$119","v":0},{"$f":"投入係数!AV10*AV$119","v":0},{"$f":"投入係数!AW10*AW$119","v":0},{"$f":"投入係数!AX10*AX$119","v":0},{"$f":"投入係数!AY10*AY$119","v":0},{"$f":"投入係数!AZ10*AZ$119","v":0},{"$f":"投入係数!BA10*BA$119","v":0},{"$f":"投入係数!BB10*BB$119","v":0},{"$f":"投入係数!BC10*BC$119","v":0},{"$f":"投入係数!BD10*BD$119","v":0},{"$f":"投入係数!BE10*BE$119","v":0},{"$f":"投入係数!BF10*BF$119","v":0},{"$f":"投入係数!BG10*BG$119","v":0},{"$f":"投入係数!BH10*BH$119","v":0},{"$f":"投入係数!BI10*BI$119","v":0},{"$f":"投入係数!BJ10*BJ$119","v":0},{"$f":"投入係数!BK10*BK$119","v":0},{"$f":"投入係数!BL10*BL$119","v":0},{"$f":"投入係数!BM10*BM$119","v":0},{"$f":"投入係数!BN10*BN$119","v":0},{"$f":"投入係数!BO10*BO$119","v":0},{"$f":"投入係数!BP10*BP$119","v":0},{"$f":"投入係数!BQ10*BQ$119","v":0},{"$f":"投入係数!BR10*BR$119","v":0},{"$f":"投入係数!BS10*BS$119","v":0},{"$f":"投入係数!BT10*BT$119","v":0},{"$f":"投入係数!BU10*BU$119","v":0},{"$f":"投入係数!BV10*BV$119","v":0},{"$f":"投入係数!BW10*BW$119","v":0},{"$f":"投入係数!BX10*BX$119","v":0},{"$f":"投入係数!BY10*BY$119","v":0},{"$f":"投入係数!BZ10*BZ$119","v":0},{"$f":"投入係数!CA10*CA$119","v":0},{"$f":"投入係数!CB10*CB$119","v":0},{"$f":"投入係数!CC10*CC$119","v":0},{"$f":"投入係数!CD10*CD$119","v":0},{"$f":"投入係数!CE10*CE$119","v":0},{"$f":"投入係数!CF10*CF$119","v":0},{"$f":"投入係数!CG10*CG$119","v":0},{"$f":"投入係数!CH10*CH$119","v":0},{"$f":"投入係数!CI10*CI$119","v":0},{"$f":"投入係数!CJ10*CJ$119","v":0},{"$f":"投入係数!CK10*CK$119","v":0},{"$f":"投入係数!CL10*CL$119","v":0},{"$f":"投入係数!CM10*CM$119","v":0},{"$f":"投入係数!CN10*CN$119","v":0},{"$f":"投入係数!CO10*CO$119","v":0},{"$f":"投入係数!CP10*CP$119","v":0},{"$f":"投入係数!CQ10*CQ$119","v":0},{"$f":"投入係数!CR10*CR$119","v":0},{"$f":"投入係数!CS10*CS$119","v":0},{"$f":"投入係数!CT10*CT$119","v":0},{"$f":"投入係数!CU10*CU$119","v":0},{"$f":"投入係数!CV10*CV$119","v":0},{"$f":"投入係数!CW10*CW$119","v":0},{"$f":"投入係数!CX10*CX$119","v":0},{"$f":"投入係数!CY10*CY$119","v":0},{"$f":"投入係数!CZ10*CZ$119","v":0},{"$f":"投入係数!DA10*DA$119","v":0},{"$f":"投入係数!DB10*DB$119","v":0},{"$f":"投入係数!DC10*DC$119","v":0},{"$f":"投入係数!DD10*DD$119","v":0},{"$f":"投入係数!DE10*DE$119","v":0},{"$f":"投入係数!DF10*DF$119","v":0},{"$f":"投入係数!DG10*DG$119","v":0},{"$f":"投入係数!DH10*DH$119","v":0},0]
[null,"015","林業",{"$f":"投入係数!D11*D$119","v":0},{"$f":"投入係数!E11*E$119","v":0},{"$f":"投入係数!F11*F$119","v":0},{"$f":"投入係数!G11*G$119","v":0},{"$f":"投入係数!H11*H$119","v":0},{"$f":"投入係数!I11*I$119","v":0},{"$f":"投入係数!J11*J$119","v":0},{"$f":"投入係数!K11*K$119","v":0},{"$f":"投入係数!L11*L$119","v":0},{"$f":"投入係数!M11*M$119","v":0},{"$f":"投入係数!N11*N$119","v":0},{"$f":"投入係数!O11*O$119","v":0},{"$f":"投入係数!P11*P$119","v":0},{"$f":"投入係数!Q11*Q$119","v":0},{"$f":"投入係数!R11*R$119","v":0},{"$f":"投入係数!S11*S$119","v":0},{"$f":"投入係数!T11*T$119","v":0},{"$f":"投入係数!U11*U$119","v":0},{"$f":"投入係数!V11*V$119","v":0},{"$f":"投入係数!W11*W$119","v":0},{"$f":"投入係数!X11*X$119","v":0},{"$f":"投入係数!Y11*Y$119","v":0},{"$f":"投入係数!Z11*Z$119","v":0},{"$f":"投入係数!AA11*AA$119","v":0},{"$f":"投入係数!AB11*AB$119","v":0},{"$f":"投入係数!AC11*AC$119","v":0},{"$f":"投入係数!AD11*AD$119","v":0},{"$f":"投入係数!AE11*AE$119","v":0},{"$f":"投入係数!AF11*AF$119","v":0},{"$f":"投入係数!AG11*AG$119","v":0},{"$f":"投入係数!AH11*AH$119","v":0},{"$f":"投入係数!AI11*AI$119","v":0},{"$f":"投入係数!AJ11*AJ$119","v":0},{"$f":"投入係数!AK11*AK$119","v":0},{"$f":"投入係数!AL11*AL$119","v":0},{"$f":"投入係数!AM11*AM$119","v":0},{"$f":"投入係数!AN11*AN$119","v":0},{"$f":"投入係数!AO11*AO$119","v":0},{"$f":"投入係数!AP11*AP$119","v":0},{"$f":"投入係数!AQ11*AQ$119","v":0},{"$f":"投入係数!AR11*AR$119","v":0},{"$f":"投入係数!AS11*AS$119","v":0},{"$f":"投入係数!AT11*AT$119","v":0},{"$f":"投入係数!AU11*AU$119","v":0},{"$f":"投入係数!AV11*AV$119","v":0},{"$f":"投入係数!AW11*AW$119","v":0},{"$f":"投入係数!AX11*AX$119","v":0},{"$f":"投入係数!AY11*AY$119","v":0},{"$f":"投入係数!AZ11*AZ$119","v":0},{"$f":"投入係数!BA11*BA$119","v":0},{"$f":"投入係数!BB11*BB$119","v":0},{"$f":"投入係数!BC11*BC$119","v":0},{"$f":"投入係数!BD11*BD$119","v":0},{"$f":"投入係数!BE11*BE$119","v":0},{"$f":"投入係数!BF11*BF$119","v":0},{"$f":"投入係数!BG11*BG$119","v":0},{"$f":"投入係数!BH11*BH$119","v":0},{"$f":"投入係数!BI11*BI$119","v":0},{"$f":"投入係数!BJ11*BJ$119","v":0},{"$f":"投入係数!BK11*BK$119","v":0},{"$f":"投入係数!BL11*BL$119","v":0},{"$f":"投入係数!BM11*BM$119","v":0},{"$f":"投入係数!BN11*BN$119","v":0},{"$f":"投入係数!BO11*BO$119","v":0},{"$f":"投入係数!BP11*BP$119","v":0},{"$f":"投入係数!BQ11*BQ$119","v":0},{"$f":"投入係数!BR11*BR$119","v":0},{"$f":"投入係数!BS11*BS$119","v":0},{"$f":"投入係数!BT11*BT$119","v":0},{"$f":"投入係数!BU11*BU$119","v":0},{"$f":"投入係数!BV11*BV$119","v":0},{"$f":"投入係数!BW11*BW$119","v":0},{"$f":"投入係数!BX11*BX$119","v":0},{"$f":"投入係数!BY11*BY$119","v":0},{"$f":"投入係数!BZ11*BZ$119","v":0},{"$f":"投入係数!CA11*CA$119","v":0},{"$f":"投入係数!CB11*CB$119","v":0},{"$f":"投入係数!CC11*CC$119","v":0},{"$f":"投入係数!CD11*CD$119","v":0},{"$f":"投入係数!CE11*CE$119","v":0},{"$f":"投入係数!CF11*CF$119","v":0},{"$f":"投入係数!CG11*CG$119","v":0},{"$f":"投入係数!CH11*CH$119","v":0},{"$f":"投入係数!CI11*CI$119","v":0},{"$f":"投入係数!CJ11*CJ$119","v":0},{"$f":"投入係数!CK11*CK$119","v":0},{"$f":"投入係数!CL11*CL$119","v":0},{"$f":"投入係数!CM11*CM$119","v":0},{"$f":"投入係数!CN11*CN$119","v":0},{"$f":"投入係数!CO11*CO$119","v":0},{"$f":"投入係数!CP11*CP$119","v":0},{"$f":"投入係数!CQ11*CQ$119","v":0},{"$f":"投入係数!CR11*CR$119","v":0},{"$f":"投入係数!CS11*CS$119","v":0},{"$f":"投入係数!CT11*CT$119","v":0},{"$f":"投入係数!CU11*CU$119","v":0},{"$f":"投入係数!CV11*CV$119","v":0},{"$f":"投入係数!CW11*CW$119","v":0},{"$f":"投入係数!CX11*CX$119","v":0},{"$f":"投入係数!CY11*CY$119","v":0},{"$f":"投入係数!CZ11*CZ$119","v":0},{"$f":"投入係数!DA11*DA$119","v":0},{"$f":"投入係数!DB11*DB$119","v":0},{"$f":"投入係数!DC11*DC$119","v":0},{"$f":"投入係数!DD11*DD$119","v":0},{"$f":"投入係数!DE11*DE$119","v":0},{"$f":"投入係数!DF11*DF$119","v":0},{"$f":"投入係数!DG11*DG$119","v":0},{"$f":"投入係数!DH11*DH$119","v":0},0]
[null,"017","漁業",{"$f":"投入係数!D12*D$119","v":0},{"$f":"投入係数!E12*E$119","v":0},{"$f":"投入係数!F12*F$119","v":0},{"$f":"投入係数!G12*G$119","v":0},{"$f":"投入係数!H12*H$119","v":0},{"$f":"投入係数!I12*I$119","v":0},{"$f":"投入係数!J12*J$119","v":0},{"$f":"投入係数!K12*K$119","v":0},{"$f":"投入係数!L12*L$119","v":0},{"$f":"投入係数!M12*M$119","v":0},{"$f":"投入係数!N12*N$119","v":0},{"$f":"投入係数!O12*O$119","v":0},{"$f":"投入係数!P12*P$119","v":0},{"$f":"投入係数!Q12*Q$119","v":0},{"$f":"投入係数!R12*R$119","v":0},{"$f":"投入係数!S12*S$119","v":0},{"$f":"投入係数!T12*T$119","v":0},{"$f":"投入係数!U12*U$119","v":0},{"$f":"投入係数!V12*V$119","v":0},{"$f":"投入係数!W12*W$119","v":0},{"$f":"投入係数!X12*X$119","v":0},{"$f":"投入係数!Y12*Y$119","v":0},{"$f":"投入係数!Z12*Z$119","v":0},{"$f":"投入係数!AA12*AA$119","v":0},{"$f":"投入係数!AB12*AB$119","v":0},{"$f":"投入係数!AC12*AC$119","v":0},{"$f":"投入係数!AD12*AD$119","v":0},{"$f":"投入係数!AE12*AE$119","v":0},{"$f":"投入係数!AF12*AF$119","v":0},{"$f":"投入係数!AG12*AG$119","v":0},{"$f":"投入係数!AH12*AH$119","v":0},{"$f":"投入係数!AI12*AI$119","v":0},{"$f":"投入係数!AJ12*AJ$119","v":0},{"$f":"投入係数!AK12*AK$119","v":0},{"$f":"投入係数!AL12*AL$119","v":0},{"$f":"投入係数!AM12*AM$119","v":0},{"$f":"投入係数!AN12*AN$119","v":0},{"$f":"投入係数!AO12*AO$119","v":0},{"$f":"投入係数!AP12*AP$119","v":0},{"$f":"投入係数!AQ12*AQ$119","v":0},{"$f":"投入係数!AR12*AR$119","v":0},{"$f":"投入係数!AS12*AS$119","v":0},{"$f":"投入係数!AT12*AT$119","v":0},{"$f":"投入係数!AU12*AU$119","v":0},{"$f":"投入係数!AV12*AV$119","v":0},{"$f":"投入係数!AW12*AW$119","v":0},{"$f":"投入係数!AX12*AX$119","v":0},{"$f":"投入係数!AY12*AY$119","v":0},{"$f":"投入係数!AZ12*AZ$119","v":0},{"$f":"投入係数!BA12*BA$119","v":0},{"$f":"投入係数!BB12*BB$119","v":0},{"$f":"投入係数!BC12*BC$119","v":0},{"$f":"投入係数!BD12*BD$119","v":0},{"$f":"投入係数!BE12*BE$119","v":0},{"$f":"投入係数!BF12*BF$119","v":0},{"$f":"投入係数!BG12*BG$119","v":0},{"$f":"投入係数!BH12*BH$119","v":0},{"$f":"投入係数!BI12*BI$119","v":0},{"$f":"投入係数!BJ12*BJ$119","v":0},{"$f":"投入係数!BK12*BK$119","v":0},{"$f":"投入係数!BL12*BL$119","v":0},{"$f":"投入係数!BM12*BM$119","v":0},{"$f":"投入係数!BN12*BN$119","v":0},{"$f":"投入係数!BO12*BO$119","v":0},{"$f":"投入係数!BP12*BP$119","v":0},{"$f":"投入係数!BQ12*BQ$119","v":0},{"$f":"投入係数!BR12*BR$119","v":0},{"$f":"投入係数!BS12*BS$119","v":0},{"$f":"投入係数!BT12*BT$119","v":0},{"$f":"投入係数!BU12*BU$119","v":0},{"$f":"投入係数!BV12*BV$119","v":0},{"$f":"投入係数!BW12*BW$119","v":0},{"$f":"投入係数!BX12*BX$119","v":0},{"$f":"投入係数!BY12*BY$119","v":0},{"$f":"投入係数!BZ12*BZ$119","v":0},{"$f":"投入係数!CA12*CA$119","v":0},{"$f":"投入係数!CB12*CB$119","v":0},{"$f":"投入係数!CC12*CC$119","v":0},{"$f":"投入係数!CD12*CD$119","v":0},{"$f":"投入係数!CE12*CE$119","v":0},{"$f":"投入係数!CF12*CF$119","v":0},{"$f":"投入係数!CG12*CG$119","v":0},{"$f":"投入係数!CH12*CH$119","v":0},{"$f":"投入係数!CI12*CI$119","v":0},{"$f":"投入係数!CJ12*CJ$119","v":0},{"$f":"投入係数!CK12*CK$119","v":0},{"$f":"投入係数!CL12*CL$119","v":0},{"$f":"投入係数!CM12*CM$119","v":0},{"$f":"投入係数!CN12*CN$119","v":0},{"$f":"投入係数!CO12*CO$119","v":0},{"$f":"投入係数!CP12*CP$119","v":0},{"$f":"投入係数!CQ12*CQ$119","v":0},{"$f":"投入係数!CR12*CR$119","v":0},{"$f":"投入係数!CS12*CS$119","v":0},{"$f":"投入係数!CT12*CT$119","v":0},{"$f":"投入係数!CU12*CU$119","v":0},{"$f":"投入係数!CV12*CV$119","v":0},{"$f":"投入係数!CW12*CW$119","v":0},{"$f":"投入係数!CX12*CX$119","v":0},{"$f":"投入係数!CY12*CY$119","v":0},{"$f":"投入係数!CZ12*CZ$119","v":0},{"$f":"投入係数!DA12*DA$119","v":0},{"$f":"投入係数!DB12*DB$119","v":0},{"$f":"投入係数!DC12*DC$119","v":0},{"$f":"投入係数!DD12*DD$119","v":0},{"$f":"投入係数!DE12*DE$119","v":0},{"$f":"投入係数!DF12*DF$119","v":0},{"$f":"投入係数!DG12*DG$119","v":0},{"$f":"投入係数!DH12*DH$119","v":0},0]
[null,"061","石炭・原油・天然ガス",{"$f":"投入係数!D13*D$119","v":0},{"$f":"投入係数!E13*E$119","v":0},{"$f":"投入係数!F13*F$119","v":0},{"$f":"投入係数!G13*G$119","v":0},{"$f":"投入係数!H13*H$119","v":0},{"$f":"投入係数!I13*I$119","v":0},{"$f":"投入係数!J13*J$119","v":0},{"$f":"投入係数!K13*K$119","v":0},{"$f":"投入係数!L13*L$119","v":0},{"$f":"投入係数!M13*M$119","v":0},{"$f":"投入係数!N13*N$119","v":0},{"$f":"投入係数!O13*O$119","v":0},{"$f":"投入係数!P13*P$119","v":0},{"$f":"投入係数!Q13*Q$119","v":0},{"$f":"投入係数!R13*R$119","v":0},{"$f":"投入係数!S13*S$119","v":0},{"$f":"投入係数!T13*T$119","v":0},{"$f":"投入係数!U13*U$119","v":0},{"$f":"投入係数!V13*V$119","v":0},{"$f":"投入係数!W13*W$119","v":0},{"$f":"投入係数!X13*X$119","v":0},{"$f":"投入係数!Y13*Y$119","v":0},{"$f":"投入係数!Z13*Z$119","v":0},{"$f":"投入係数!AA13*AA$119","v":0},{"$f":"投入係数!AB13*AB$119","v":0},{"$f":"投入係数!AC13*AC$119","v":0},{"$f":"投入係数!AD13*AD$119","v":0},{"$f":"投入係数!AE13*AE$119","v":0},{"$f":"投入係数!AF13*AF$119","v":0},{"$f":"投入係数!AG13*AG$119","v":0},{"$f":"投入係数!AH13*AH$119","v":0},{"$f":"投入係数!AI13*AI$119","v":0},{"$f":"投入係数!AJ13*AJ$119","v":0},{"$f":"投入係数!AK13*AK$119","v":0},{"$f":"投入係数!AL13*AL$119","v":0},{"$f":"投入係数!AM13*AM$119","v":0},{"$f":"投入係数!AN13*AN$119","v":0},{"$f":"投入係数!AO13*AO$119","v":0},{"$f":"投入係数!AP13*AP$119","v":0},{"$f":"投入係数!AQ13*AQ$119","v":0},{"$f":"投入係数!AR13*AR$119","v":0},{"$f":"投入係数!AS13*AS$119","v":0},{"$f":"投入係数!AT13*AT$119","v":0},{"$f":"投入係数!AU13*AU$119","v":0},{"$f":"投入係数!AV13*AV$119","v":0},{"$f":"投入係数!AW13*AW$119","v":0},{"$f":"投入係数!AX13*AX$119","v":0},{"$f":"投入係数!AY13*AY$119","v":0},{"$f":"投入係数!AZ13*AZ$119","v":0},{"$f":"投入係数!BA13*BA$119","v":0},{"$f":"投入係数!BB13*BB$119","v":0},{"$f":"投入係数!BC13*BC$119","v":0},{"$f":"投入係数!BD13*BD$119","v":0},{"$f":"投入係数!BE13*BE$119","v":0},{"$f":"投入係数!BF13*BF$119","v":0},{"$f":"投入係数!BG13*BG$119","v":0},{"$f":"投入係数!BH13*BH$119","v":0},{"$f":"投入係数!BI13*BI$119","v":0},{"$f":"投入係数!BJ13*BJ$119","v":0},{"$f":"投入係数!BK13*BK$119","v":0},{"$f":"投入係数!BL13*BL$119","v":0},{"$f":"投入係数!BM13*BM$119","v":0},{"$f":"投入係数!BN13*BN$119","v":0},{"$f":"投入係数!BO13*BO$119","v":0},{"$f":"投入係数!BP13*BP$119","v":0},{"$f":"投入係数!BQ13*BQ$119","v":0},{"$f":"投入係数!BR13*BR$119","v":0},{"$f":"投入係数!BS13*BS$119","v":0},{"$f":"投入係数!BT13*BT$119","v":0},{"$f":"投入係数!BU13*BU$119","v":0},{"$f":"投入係数!BV13*BV$119","v":0},{"$f":"投入係数!BW13*BW$119","v":0},{"$f":"投入係数!BX13*BX$119","v":0},{"$f":"投入係数!BY13*BY$119","v":0},{"$f":"投入係数!BZ13*BZ$119","v":0},{"$f":"投入係数!CA13*CA$119","v":0},{"$f":"投入係数!CB13*CB$119","v":0},{"$f":"投入係数!CC13*CC$119","v":0},{"$f":"投入係数!CD13*CD$119","v":0},{"$f":"投入係数!CE13*CE$119","v":0},{"$f":"投入係数!CF13*CF$119","v":0},{"$f":"投入係数!CG13*CG$119","v":0},{"$f":"投入係数!CH13*CH$119","v":0},{"$f":"投入係数!CI13*CI$119","v":0},{"$f":"投入係数!CJ13*CJ$119","v":0},{"$f":"投入係数!CK13*CK$119","v":0},{"$f":"投入係数!CL13*CL$119","v":0},{"$f":"投入係数!CM13*CM$119","v":0},{"$f":"投入係数!CN13*CN$119","v":0},{"$f":"投入係数!CO13*CO$119","v":0},{"$f":"投入係数!CP13*CP$119","v":0},{"$f":"投入係数!CQ13*CQ$119","v":0},{"$f":"投入係数!CR13*CR$119","v":0},{"$f":"投入係数!CS13*CS$119","v":0},{"$f":"投入係数!CT13*CT$119","v":0},{"$f":"投入係数!CU13*CU$119","v":0},{"$f":"投入係数!CV13*CV$119","v":0},{"$f":"投入係数!CW13*CW$119","v":0},{"$f":"投入係数!CX13*CX$119","v":0},{"$f":"投入係数!CY13*CY$119","v":0},{"$f":"投入係数!CZ13*CZ$119","v":0},{"$f":"投入係数!DA13*DA$119","v":0},{"$f":"投入係数!DB13*DB$119","v":0},{"$f":"投入係数!DC13*DC$119","v":0},{"$f":"投入係数!DD13*DD$119","v":0},{"$f":"投入係数!DE13*DE$119","v":0},{"$f":"投入係数!DF13*DF$119","v":0},{"$f":"投入係数!DG13*DG$119","v":0},{"$f":"投入係数!DH13*DH$119","v":0},0]
[null,"062","その他の鉱業",{"$f":"投入係数!D14*D$119","v":0},{"$f":"投入係数!E14*E$119","v":0},{"$f":"投入係数!F14*F$119","v":0},{"$f":"投入係数!G14*G$119","v":0},{"$f":"投入係数!H14*H$119","v":0},{"$f":"投入係数!I14*I$119","v":0},{"$f":"投入係数!J14*J$119","v":0},{"$f":"投入係数!K14*K$119","v":0},{"$f":"投入係数!L14*L$119","v":0},{"$f":"投入係数!M14*M$119","v":0},{"$f":"投入係数!N14*N$119","v":0},{"$f":"投入係数!O14*O$119","v":0},{"$f":"投入係数!P14*P$119","v":0},{"$f":"投入係数!Q14*Q$119","v":0},{"$f":"投入係数!R14*R$119","v":0},{"$f":"投入係数!S14*S$119","v":0},{"$f":"投入係数!T14*T$119","v":0},{"$f":"投入係数!U14*U$119","v":0},{"$f":"投入係数!V14*V$119","v":0},{"$f":"投入係数!W14*W$119","v":0},{"$f":"投入係数!X14*X$119","v":0},{"$f":"投入係数!Y14*Y$119","v":0},{"$f":"投入係数!Z14*Z$119","v":0},{"$f":"投入係数!AA14*AA$119","v":0},{"$f":"投入係数!AB14*AB$119","v":0},{"$f":"投入係数!AC14*AC$119","v":0},{"$f":"投入係数!AD14*AD$119","v":0},{"$f":"投入係数!AE14*AE$119","v":0},{"$f":"投入係数!AF14*AF$119","v":0},{"$f":"投入係数!AG14*AG$119","v":0},{"$f":"投入係数!AH14*AH$119","v":0},{"$f":"投入係数!AI14*AI$119","v":0},{"$f":"投入係数!AJ14*AJ$119","v":0},{"$f":"投入係数!AK14*AK$119","v":0},{"$f":"投入係数!AL14*AL$119","v":0},{"$f":"投入係数!AM14*AM$119","v":0},{"$f":"投入係数!AN14*AN$119","v":0},{"$f":"投入係数!AO14*AO$119","v":0},{"$f":"投入係数!AP14*AP$119","v":0},{"$f":"投入係数!AQ14*AQ$119","v":0},{"$f":"投入係数!AR14*AR$119","v":0},{"$f":"投入係数!AS14*AS$119","v":0},{"$f":"投入係数!AT14*AT$119","v":0},{"$f":"投入係数!AU14*AU$119","v":0},{"$f":"投入係数!AV14*AV$119","v":0},{"$f":"投入係数!AW14*AW$119","v":0},{"$f":"投入係数!AX14*AX$119","v":0},{"$f":"投入係数!AY14*AY$119","v":0},{"$f":"投入係数!AZ14*AZ$119","v":0},{"$f":"投入係数!BA14*BA$119","v":0},{"$f":"投入係数!BB14*BB$119","v":0},{"$f":"投入係数!BC14*BC$119","v":0},{"$f":"投入係数!BD14*BD$119","v":0},{"$f":"投入係数!BE14*BE$119","v":0},{"$f":"投入係数!BF14*BF$119","v":0},{"$f":"投入係数!BG14*BG$119","v":0},{"$f":"投入係数!BH14*BH$119","v":0},{"$f":"投入係数!BI14*BI$119","v":0},{"$f":"投入係数!BJ14*BJ$119","v":0},{"$f":"投入係数!BK14*BK$119","v":0},{"$f":"投入係数!BL14*BL$119","v":0},{"$f":"投入係数!BM14*BM$119","v":0},{"$f":"投入係数!BN14*BN$119","v":0},{"$f":"投入係数!BO14*BO$119","v":0},{"$f":"投入係数!BP14*BP$119","v":0},{"$f":"投入係数!BQ14*BQ$119","v":0},{"$f":"投入係数!BR14*BR$119","v":0},{"$f":"投入係数!BS14*BS$119","v":0},{"$f":"投入係数!BT14*BT$119","v":0},{"$f":"投入係数!BU14*BU$119","v":0},{"$f":"投入係数!BV14*BV$119","v":0},{"$f":"投入係数!BW14*BW$119","v":0},{"$f":"投入係数!BX14*BX$119","v":0},{"$f":"投入係数!BY14*BY$119","v":0},{"$f":"投入係数!BZ14*BZ$119","v":0},{"$f":"投入係数!CA14*CA$119","v":0},{"$f":"投入係数!CB14*CB$119","v":0},{"$f":"投入係数!CC14*CC$119","v":0},{"$f":"投入係数!CD14*CD$119","v":0},{"$f":"投入係数!CE14*CE$119","v":0},{"$f":"投入係数!CF14*CF$119","v":0},{"$f":"投入係数!CG14*CG$119","v":0},{"$f":"投入係数!CH14*CH$119","v":0},{"$f":"投入係数!CI14*CI$119","v":0},{"$f":"投入係数!CJ14*CJ$119","v":0},{"$f":"投入係数!CK14*CK$119","v":0},{"$f":"投入係数!CL14*CL$119","v":0},{"$f":"投入係数!CM14*CM$119","v":0},{"$f":"投入係数!CN14*CN$119","v":0},{"$f":"投入係数!CO14*CO$119","v":0},{"$f":"投入係数!CP14*CP$119","v":0},{"$f":"投入係数!CQ14*CQ$119","v":0},{"$f":"投入係数!CR14*CR$119","v":0},{"$f":"投入係数!CS14*CS$119","v":0},{"$f":"投入係数!CT14*CT$119","v":0},{"$f":"投入係数!CU14*CU$119","v":0},{"$f":"投入係数!CV14*CV$119","v":0},{"$f":"投入係数!CW14*CW$119","v":0},{"$f":"投入係数!CX14*CX$119","v":0},{"$f":"投入係数!CY14*CY$119","v":0},{"$f":"投入係数!CZ14*CZ$119","v":0},{"$f":"投入係数!DA14*DA$119","v":0},{"$f":"投入係数!DB14*DB$119","v":0},{"$f":"投入係数!DC14*DC$119","v":0},{"$f":"投入係数!DD14*DD$119","v":0},{"$f":"投入係数!DE14*DE$119","v":0},{"$f":"投入係数!DF14*DF$119","v":0},{"$f":"投入係数!DG14*DG$119","v":0},{"$f":"投入係数!DH14*DH$119","v":0},0]
[null,"111","食料品",{"$f":"投入係数!D15*D$119","v":0},{"$f":"投入係数!E15*E$119","v":0},{"$f":"投入係数!F15*F$119","v":0},{"$f":"投入係数!G15*G$119","v":0},{"$f":"投入係数!H15*H$119","v":0},{"$f":"投入係数!I15*I$119","v":0},{"$f":"投入係数!J15*J$119","v":0},{"$f":"投入係数!K15*K$119","v":0},{"$f":"投入係数!L15*L$119","v":0},{"$f":"投入係数!M15*M$119","v":0},{"$f":"投入係数!N15*N$119","v":0},{"$f":"投入係数!O15*O$119","v":0},{"$f":"投入係数!P15*P$119","v":0},{"$f":"投入係数!Q15*Q$119","v":0},{"$f":"投入係数!R15*R$119","v":0},{"$f":"投入係数!S15*S$119","v":0},{"$f":"投入係数!T15*T$119","v":0},{"$f":"投入係数!U15*U$119","v":0},{"$f":"投入係数!V15*V$119","v":0},{"$f":"投入係数!W15*W$119","v":0},{"$f":"投入係数!X15*X$119","v":0},{"$f":"投入係数!Y15*Y$119","v":0},{"$f":"投入係数!Z15*Z$119","v":0},{"$f":"投入係数!AA15*AA$119","v":0},{"$f":"投入係数!AB15*AB$119","v":0},{"$f":"投入係数!AC15*AC$119","v":0},{"$f":"投入係数!AD15*AD$119","v":0},{"$f":"投入係数!AE15*AE$119","v":0},{"$f":"投入係数!AF15*AF$119","v":0},{"$f":"投入係数!AG15*AG$119","v":0},{"$f":"投入係数!AH15*AH$119","v":0},{"$f":"投入係数!AI15*AI$119","v":0},{"$f":"投入係数!AJ15*AJ$119","v":0},{"$f":"投入係数!AK15*AK$119","v":0},{"$f":"投入係数!AL15*AL$119","v":0},{"$f":"投入係数!AM15*AM$119","v":0},{"$f":"投入係数!AN15*AN$119","v":0},{"$f":"投入係数!AO15*AO$119","v":0},{"$f":"投入係数!AP15*AP$119","v":0},{"$f":"投入係数!AQ15*AQ$119","v":0},{"$f":"投入係数!AR15*AR$119","v":0},{"$f":"投入係数!AS15*AS$119","v":0},{"$f":"投入係数!AT15*AT$119","v":0},{"$f":"投入係数!AU15*AU$119","v":0},{"$f":"投入係数!AV15*AV$119","v":0},{"$f":"投入係数!AW15*AW$119","v":0},{"$f":"投入係数!AX15*AX$119","v":0},{"$f":"投入係数!AY15*AY$119","v":0},{"$f":"投入係数!AZ15*AZ$119","v":0},{"$f":"投入係数!BA15*BA$119","v":0},{"$f":"投入係数!BB15*BB$119","v":0},{"$f":"投入係数!BC15*BC$119","v":0},{"$f":"投入係数!BD15*BD$119","v":0},{"$f":"投入係数!BE15*BE$119","v":0},{"$f":"投入係数!BF15*BF$119","v":0},{"$f":"投入係数!BG15*BG$119","v":0},{"$f":"投入係数!BH15*BH$119","v":0},{"$f":"投入係数!BI15*BI$119","v":0},{"$f":"投入係数!BJ15*BJ$119","v":0},{"$f":"投入係数!BK15*BK$119","v":0},{"$f":"投入係数!BL15*BL$119","v":0},{"$f":"投入係数!BM15*BM$119","v":0},{"$f":"投入係数!BN15*BN$119","v":0},{"$f":"投入係数!BO15*BO$119","v":0},{"$f":"投入係数!BP15*BP$119","v":0},{"$f":"投入係数!BQ15*BQ$119","v":0},{"$f":"投入係数!BR15*BR$119","v":0},{"$f":"投入係数!BS15*BS$119","v":0},{"$f":"投入係数!BT15*BT$119","v":0},{"$f":"投入係数!BU15*BU$119","v":0},{"$f":"投入係数!BV15*BV$119","v":0},{"$f":"投入係数!BW15*BW$119","v":0},{"$f":"投入係数!BX15*BX$119","v":0},{"$f":"投入係数!BY15*BY$119","v":0},{"$f":"投入係数!BZ15*BZ$119","v":0},{"$f":"投入係数!CA15*CA$119","v":0},{"$f":"投入係数!CB15*CB$119","v":0},{"$f":"投入係数!CC15*CC$119","v":0},{"$f":"投入係数!CD15*CD$119","v":0},{"$f":"投入係数!CE15*CE$119","v":0},{"$f":"投入係数!CF15*CF$119","v":0},{"$f":"投入係数!CG15*CG$119","v":0},{"$f":"投入係数!CH15*CH$119","v":0},{"$f":"投入係数!CI15*CI$119","v":0},{"$f":"投入係数!CJ15*CJ$119","v":0},{"$f":"投入係数!CK15*CK$119","v":0},{"$f":"投入係数!CL15*CL$119","v":0},{"$f":"投入係数!CM15*CM$119","v":0},{"$f":"投入係数!CN15*CN$119","v":0},{"$f":"投入係数!CO15*CO$119","v":0},{"$f":"投入係数!CP15*CP$119","v":0},{"$f":"投入係数!CQ15*CQ$119","v":0},{"$f":"投入係数!CR15*CR$119","v":0},{"$f":"投入係数!CS15*CS$119","v":0},{"$f":"投入係数!CT15*CT$119","v":0},{"$f":"投入係数!CU15*CU$119","v":0},{"$f":"投入係数!CV15*CV$119","v":0},{"$f":"投入係数!CW15*CW$119","v":0},{"$f":"投入係数!CX15*CX$119","v":0},{"$f":"投入係数!CY15*CY$119","v":0},{"$f":"投入係数!CZ15*CZ$119","v":0},{"$f":"投入係数!DA15*DA$119","v":0},{"$f":"投入係数!DB15*DB$119","v":0},{"$f":"投入係数!DC15*DC$119","v":0},{"$f":"投入係数!DD15*DD$119","v":0},{"$f":"投入係数!DE15*DE$119","v":0},{"$f":"投入係数!DF15*DF$119","v":0},{"$f":"投入係数!DG15*DG$119","v":0},{"$f":"投入係数!DH15*DH$119","v":0},0]
[null,"112","飲料",{"$f":"投入係数!D16*D$119","v":0},{"$f":"投入係数!E16*E$119","v":0},{"$f":"投入係数!F16*F$119","v":0},{"$f":"投入係数!G16*G$119","v":0},{"$f":"投入係数!H16*H$119","v":0},{"$f":"投入係数!I16*I$119","v":0},{"$f":"投入係数!J16*J$119","v":0},{"$f":"投入係数!K16*K$119","v":0},{"$f":"投入係数!L16*L$119","v":0},{"$f":"投入係数!M16*M$119","v":0},{"$f":"投入係数!N16*N$119","v":0},{"$f":"投入係数!O16*O$119","v":0},{"$f":"投入係数!P16*P$119","v":0},{"$f":"投入係数!Q16*Q$119","v":0},{"$f":"投入係数!R16*R$119","v":0},{"$f":"投入係数!S16*S$119","v":0},{"$f":"投入係数!T16*T$119","v":0},{"$f":"投入係数!U16*U$119","v":0},{"$f":"投入係数!V16*V$119","v":0},{"$f":"投入係数!W16*W$119","v":0},{"$f":"投入係数!X16*X$119","v":0},{"$f":"投入係数!Y16*Y$119","v":0},{"$f":"投入係数!Z16*Z$119","v":0},{"$f":"投入係数!AA16*AA$119","v":0},{"$f":"投入係数!AB16*AB$119","v":0},{"$f":"投入係数!AC16*AC$119","v":0},{"$f":"投入係数!AD16*AD$119","v":0},{"$f":"投入係数!AE16*AE$119","v":0},{"$f":"投入係数!AF16*AF$119","v":0},{"$f":"投入係数!AG16*AG$119","v":0},{"$f":"投入係数!AH16*AH$119","v":0},{"$f":"投入係数!AI16*AI$119","v":0},{"$f":"投入係数!AJ16*AJ$119","v":0},{"$f":"投入係数!AK16*AK$119","v":0},{"$f":"投入係数!AL16*AL$119","v":0},{"$f":"投入係数!AM16*AM$119","v":0},{"$f":"投入係数!AN16*AN$119","v":0},{"$f":"投入係数!AO16*AO$119","v":0},{"$f":"投入係数!AP16*AP$119","v":0},{"$f":"投入係数!AQ16*AQ$119","v":0},{"$f":"投入係数!AR16*AR$119","v":0},{"$f":"投入係数!AS16*AS$119","v":0},{"$f":"投入係数!AT16*AT$119","v":0},{"$f":"投入係数!AU16*AU$119","v":0},{"$f":"投入係数!AV16*AV$119","v":0},{"$f":"投入係数!AW16*AW$119","v":0},{"$f":"投入係数!AX16*AX$119","v":0},{"$f":"投入係数!AY16*AY$119","v":0},{"$f":"投入係数!AZ16*AZ$119","v":0},{"$f":"投入係数!BA16*BA$119","v":0},{"$f":"投入係数!BB16*BB$119","v":0},{"$f":"投入係数!BC16*BC$119","v":0},{"$f":"投入係数!BD16*BD$119","v":0},{"$f":"投入係数!BE16*BE$119","v":0},{"$f":"投入係数!BF16*BF$119","v":0},{"$f":"投入係数!BG16*BG$119","v":0},{"$f":"投入係数!BH16*BH$119","v":0},{"$f":"投入係数!BI16*BI$119","v":0},{"$f":"投入係数!BJ16*BJ$119","v":0},{"$f":"投入係数!BK16*BK$119","v":0},{"$f":"投入係数!BL16*BL$119","v":0},{"$f":"投入係数!BM16*BM$119","v":0},{"$f":"投入係数!BN16*BN$119","v":0},{"$f":"投入係数!BO16*BO$119","v":0},{"$f":"投入係数!BP16*BP$119","v":0},{"$f":"投入係数!BQ16*BQ$119","v":0},{"$f":"投入係数!BR16*BR$119","v":0},{"$f":"投入係数!BS16*BS$119","v":0},{"$f":"投入係数!BT16*BT$119","v":0},{"$f":"投入係数!BU16*BU$119","v":0},{"$f":"投入係数!BV16*BV$119","v":0},{"$f":"投入係数!BW16*BW$119","v":0},{"$f":"投入係数!BX16*BX$119","v":0},{"$f":"投入係数!BY16*BY$119","v":0},{"$f":"投入係数!BZ16*BZ$119","v":0},{"$f":"投入係数!CA16*CA$119","v":0},{"$f":"投入係数!CB16*CB$119","v":0},{"$f":"投入係数!CC16*CC$119","v":0},{"$f":"投入係数!CD16*CD$119","v":0},{"$f":"投入係数!CE16*CE$119","v":0},{"$f":"投入係数!CF16*CF$119","v":0},{"$f":"投入係数!CG16*CG$119","v":0},{"$f":"投入係数!CH16*CH$119","v":0},{"$f":"投入係数!CI16*CI$119","v":0},{"$f":"投入係数!CJ16*CJ$119","v":0},{"$f":"投入係数!CK16*CK$119","v":0},{"$f":"投入係数!CL16*CL$119","v":0},{"$f":"投入係数!CM16*CM$119","v":0},{"$f":"投入係数!CN16*CN$119","v":0},{"$f":"投入係数!CO16*CO$119","v":0},{"$f":"投入係数!CP16*CP$119","v":0},{"$f":"投入係数!CQ16*CQ$119","v":0},{"$f":"投入係数!CR16*CR$119","v":0},{"$f":"投入係数!CS16*CS$119","v":0},{"$f":"投入係数!CT16*CT$119","v":0},{"$f":"投入係数!CU16*CU$119","v":0},{"$f":"投入係数!CV16*CV$119","v":0},{"$f":"投入係数!CW16*CW$119","v":0},{"$f":"投入係数!CX16*CX$119","v":0},{"$f":"投入係数!CY16*CY$119","v":0},{"$f":"投入係数!CZ16*CZ$119","v":0},{"$f":"投入係数!DA16*DA$119","v":0},{"$f":"投入係数!DB16*DB$119","v":0},{"$f":"投入係数!DC16*DC$119","v":0},{"$f":"投入係数!DD16*DD$119","v":0},{"$f":"投入係数!DE16*DE$119","v":0},{"$f":"投入係数!DF16*DF$119","v":0},{"$f":"投入係数!DG16*DG$119","v":0},{"$f":"投入係数!DH16*DH$119","v":0},0]
[null,"113","飼料・有機質肥料（別掲を除く。）",{"$f":"投入係数!D17*D$119","v":0},{"$f":"投入係数!E17*E$119","v":0},{"$f":"投入係数!F17*F$119","v":0},{"$f":"投入係数!G17*G$119","v":0},{"$f":"投入係数!H17*H$119","v":0},{"$f":"投入係数!I17*I$119","v":0},{"$f":"投入係数!J17*J$119","v":0},{"$f":"投入係数!K17*K$119","v":0},{"$f":"投入係数!L17*L$119","v":0},{"$f":"投入係数!M17*M$119","v":0},{"$f":"投入係数!N17*N$119","v":0},{"$f":"投入係数!O17*O$119","v":0},{"$f":"投入係数!P17*P$119","v":0},{"$f":"投入係数!Q17*Q$119","v":0},{"$f":"投入係数!R17*R$119","v":0},{"$f":"投入係数!S17*S$119","v":0},{"$f":"投入係数!T17*T$119","v":0},{"$f":"投入係数!U17*U$119","v":0},{"$f":"投入係数!V17*V$119","v":0},{"$f":"投入係数!W17*W$119","v":0},{"$f":"投入係数!X17*X$119","v":0},{"$f":"投入係数!Y17*Y$119","v":0},{"$f":"投入係数!Z17*Z$119","v":0},{"$f":"投入係数!AA17*AA$119","v":0},{"$f":"投入係数!AB17*AB$119","v":0},{"$f":"投入係数!AC17*AC$119","v":0},{"$f":"投入係数!AD17*AD$119","v":0},{"$f":"投入係数!AE17*AE$119","v":0},{"$f":"投入係数!AF17*AF$119","v":0},{"$f":"投入係数!AG17*AG$119","v":0},{"$f":"投入係数!AH17*AH$119","v":0},{"$f":"投入係数!AI17*AI$119","v":0},{"$f":"投入係数!AJ17*AJ$119","v":0},{"$f":"投入係数!AK17*AK$119","v":0},{"$f":"投入係数!AL17*AL$119","v":0},{"$f":"投入係数!AM17*AM$119","v":0},{"$f":"投入係数!AN17*AN$119","v":0},{"$f":"投入係数!AO17*AO$119","v":0},{"$f":"投入係数!AP17*AP$119","v":0},{"$f":"投入係数!AQ17*AQ$119","v":0},{"$f":"投入係数!AR17*AR$119","v":0},{"$f":"投入係数!AS17*AS$119","v":0},{"$f":"投入係数!AT17*AT$119","v":0},{"$f":"投入係数!AU17*AU$119","v":0},{"$f":"投入係数!AV17*AV$119","v":0},{"$f":"投入係数!AW17*AW$119","v":0},{"$f":"投入係数!AX17*AX$119","v":0},{"$f":"投入係数!AY17*AY$119","v":0},{"$f":"投入係数!AZ17*AZ$119","v":0},{"$f":"投入係数!BA17*BA$119","v":0},{"$f":"投入係数!BB17*BB$119","v":0},{"$f":"投入係数!BC17*BC$119","v":0},{"$f":"投入係数!BD17*BD$119","v":0},{"$f":"投入係数!BE17*BE$119","v":0},{"$f":"投入係数!BF17*BF$119","v":0},{"$f":"投入係数!BG17*BG$119","v":0},{"$f":"投入係数!BH17*BH$119","v":0},{"$f":"投入係数!BI17*BI$119","v":0},{"$f":"投入係数!BJ17*BJ$119","v":0},{"$f":"投入係数!BK17*BK$119","v":0},{"$f":"投入係数!BL17*BL$119","v":0},{"$f":"投入係数!BM17*BM$119","v":0},{"$f":"投入係数!BN17*BN$119","v":0},{"$f":"投入係数!BO17*BO$119","v":0},{"$f":"投入係数!BP17*BP$119","v":0},{"$f":"投入係数!BQ17*BQ$119","v":0},{"$f":"投入係数!BR17*BR$119","v":0},{"$f":"投入係数!BS17*BS$119","v":0},{"$f":"投入係数!BT17*BT$119","v":0},{"$f":"投入係数!BU17*BU$119","v":0},{"$f":"投入係数!BV17*BV$119","v":0},{"$f":"投入係数!BW17*BW$119","v":0},{"$f":"投入係数!BX17*BX$119","v":0},{"$f":"投入係数!BY17*BY$119","v":0},{"$f":"投入係数!BZ17*BZ$119","v":0},{"$f":"投入係数!CA17*CA$119","v":0},{"$f":"投入係数!CB17*CB$119","v":0},{"$f":"投入係数!CC17*CC$119","v":0},{"$f":"投入係数!CD17*CD$119","v":0},{"$f":"投入係数!CE17*CE$119","v":0},{"$f":"投入係数!CF17*CF$119","v":0},{"$f":"投入係数!CG17*CG$119","v":0},{"$f":"投入係数!CH17*CH$119","v":0},{"$f":"投入係数!CI17*CI$119","v":0},{"$f":"投入係数!CJ17*CJ$119","v":0},{"$f":"投入係数!CK17*CK$119","v":0},{"$f":"投入係数!CL17*CL$119","v":0},{"$f":"投入係数!CM17*CM$119","v":0},{"$f":"投入係数!CN17*CN$119","v":0},{"$f":"投入係数!CO17*CO$119","v":0},{"$f":"投入係数!CP17*CP$119","v":0},{"$f":"投入係数!CQ17*CQ$119","v":0},{"$f":"投入係数!CR17*CR$119","v":0},{"$f":"投入係数!CS17*CS$119","v":0},{"$f":"投入係数!CT17*CT$119","v":0},{"$f":"投入係数!CU17*CU$119","v":0},{"$f":"投入係数!CV17*CV$119","v":0},{"$f":"投入係数!CW17*CW$119","v":0},{"$f":"投入係数!CX17*CX$119","v":0},{"$f":"投入係数!CY17*CY$119","v":0},{"$f":"投入係数!CZ17*CZ$119","v":0},{"$f":"投入係数!DA17*DA$119","v":0},{"$f":"投入係数!DB17*DB$119","v":0},{"$f":"投入係数!DC17*DC$119","v":0},{"$f":"投入係数!DD17*DD$119","v":0},{"$f":"投入係数!DE17*DE$119","v":0},{"$f":"投入係数!DF17*DF$119","v":0},{"$f":"投入係数!DG17*DG$119","v":0},{"$f":"投入係数!DH17*DH$119","v":0},0]
[null,"114","たばこ",{"$f":"投入係数!D18*D$119","v":0},{"$f":"投入係数!E18*E$119","v":0},{"$f":"投入係数!F18*F$119","v":0},{"$f":"投入係数!G18*G$119","v":0},{"$f":"投入係数!H18*H$119","v":0},{"$f":"投入係数!I18*I$119","v":0},{"$f":"投入係数!J18*J$119","v":0},{"$f":"投入係数!K18*K$119","v":0},{"$f":"投入係数!L18*L$119","v":0},{"$f":"投入係数!M18*M$119","v":0},{"$f":"投入係数!N18*N$119","v":0},{"$f":"投入係数!O18*O$119","v":0},{"$f":"投入係数!P18*P$119","v":0},{"$f":"投入係数!Q18*Q$119","v":0},{"$f":"投入係数!R18*R$119","v":0},{"$f":"投入係数!S18*S$119","v":0},{"$f":"投入係数!T18*T$119","v":0},{"$f":"投入係数!U18*U$119","v":0},{"$f":"投入係数!V18*V$119","v":0},{"$f":"投入係数!W18*W$119","v":0},{"$f":"投入係数!X18*X$119","v":0},{"$f":"投入係数!Y18*Y$119","v":0},{"$f":"投入係数!Z18*Z$119","v":0},{"$f":"投入係数!AA18*AA$119","v":0},{"$f":"投入係数!AB18*AB$119","v":0},{"$f":"投入係数!AC18*AC$119","v":0},{"$f":"投入係数!AD18*AD$119","v":0},{"$f":"投入係数!AE18*AE$119","v":0},{"$f":"投入係数!AF18*AF$119","v":0},{"$f":"投入係数!AG18*AG$119","v":0},{"$f":"投入係数!AH18*AH$119","v":0},{"$f":"投入係数!AI18*AI$119","v":0},{"$f":"投入係数!AJ18*AJ$119","v":0},{"$f":"投入係数!AK18*AK$119","v":0},{"$f":"投入係数!AL18*AL$119","v":0},{"$f":"投入係数!AM18*AM$119","v":0},{"$f":"投入係数!AN18*AN$119","v":0},{"$f":"投入係数!AO18*AO$119","v":0},{"$f":"投入係数!AP18*AP$119","v":0},{"$f":"投入係数!AQ18*AQ$119","v":0},{"$f":"投入係数!AR18*AR$119","v":0},{"$f":"投入係数!AS18*AS$119","v":0},{"$f":"投入係数!AT18*AT$119","v":0},{"$f":"投入係数!AU18*AU$119","v":0},{"$f":"投入係数!AV18*AV$119","v":0},{"$f":"投入係数!AW18*AW$119","v":0},{"$f":"投入係数!AX18*AX$119","v":0},{"$f":"投入係数!AY18*AY$119","v":0},{"$f":"投入係数!AZ18*AZ$119","v":0},{"$f":"投入係数!BA18*BA$119","v":0},{"$f":"投入係数!BB18*BB$119","v":0},{"$f":"投入係数!BC18*BC$119","v":0},{"$f":"投入係数!BD18*BD$119","v":0},{"$f":"投入係数!BE18*BE$119","v":0},{"$f":"投入係数!BF18*BF$119","v":0},{"$f":"投入係数!BG18*BG$119","v":0},{"$f":"投入係数!BH18*BH$119","v":0},{"$f":"投入係数!BI18*BI$119","v":0},{"$f":"投入係数!BJ18*BJ$119","v":0},{"$f":"投入係数!BK18*BK$119","v":0},{"$f":"投入係数!BL18*BL$119","v":0},{"$f":"投入係数!BM18*BM$119","v":0},{"$f":"投入係数!BN18*BN$119","v":0},{"$f":"投入係数!BO18*BO$119","v":0},{"$f":"投入係数!BP18*BP$119","v":0},{"$f":"投入係数!BQ18*BQ$119","v":0},{"$f":"投入係数!BR18*BR$119","v":0},{"$f":"投入係数!BS18*BS$119","v":0},{"$f":"投入係数!BT18*BT$119","v":0},{"$f":"投入係数!BU18*BU$119","v":0},{"$f":"投入係数!BV18*BV$119","v":0},{"$f":"投入係数!BW18*BW$119","v":0},{"$f":"投入係数!BX18*BX$119","v":0},{"$f":"投入係数!BY18*BY$119","v":0},{"$f":"投入係数!BZ18*BZ$119","v":0},{"$f":"投入係数!CA18*CA$119","v":0},{"$f":"投入係数!CB18*CB$119","v":0},{"$f":"投入係数!CC18*CC$119","v":0},{"$f":"投入係数!CD18*CD$119","v":0},{"$f":"投入係数!CE18*CE$119","v":0},{"$f":"投入係数!CF18*CF$119","v":0},{"$f":"投入係数!CG18*CG$119","v":0},{"$f":"投入係数!CH18*CH$119","v":0},{"$f":"投入係数!CI18*CI$119","v":0},{"$f":"投入係数!CJ18*CJ$119","v":0},{"$f":"投入係数!CK18*CK$119","v":0},{"$f":"投入係数!CL18*CL$119","v":0},{"$f":"投入係数!CM18*CM$119","v":0},{"$f":"投入係数!CN18*CN$119","v":0},{"$f":"投入係数!CO18*CO$119","v":0},{"$f":"投入係数!CP18*CP$119","v":0},{"$f":"投入係数!CQ18*CQ$119","v":0},{"$f":"投入係数!CR18*CR$119","v":0},{"$f":"投入係数!CS18*CS$119","v":0},{"$f":"投入係数!CT18*CT$119","v":0},{"$f":"投入係数!CU18*CU$119","v":0},{"$f":"投入係数!CV18*CV$119","v":0},{"$f":"投入係数!CW18*CW$119","v":0},{"$f":"投入係数!CX18*CX$119","v":0},{"$f":"投入係数!CY18*CY$119","v":0},{"$f":"投入係数!CZ18*CZ$119","v":0},{"$f":"投入係数!DA18*DA$119","v":0},{"$f":"投入係数!DB18*DB$119","v":0},{"$f":"投入係数!DC18*DC$119","v":0},{"$f":"投入係数!DD18*DD$119","v":0},{"$f":"投入係数!DE18*DE$119","v":0},{"$f":"投入係数!DF18*DF$119","v":0},{"$f":"投入係数!DG18*DG$119","v":0},{"$f":"投入係数!DH18*DH$119","v":0},0]
[null,"151","繊維工業製品",{"$f":"投入係数!D19*D$119","v":0},{"$f":"投入係数!E19*E$119","v":0},{"$f":"投入係数!F19*F$119","v":0},{"$f":"投入係数!G19*G$119","v":0},{"$f":"投入係数!H19*H$119","v":0},{"$f":"投入係数!I19*I$119","v":0},{"$f":"投入係数!J19*J$119","v":0},{"$f":"投入係数!K19*K$119","v":0},{"$f":"投入係数!L19*L$119","v":0},{"$f":"投入係数!M19*M$119","v":0},{"$f":"投入係数!N19*N$119","v":0},{"$f":"投入係数!O19*O$119","v":0},{"$f":"投入係数!P19*P$119","v":0},{"$f":"投入係数!Q19*Q$119","v":0},{"$f":"投入係数!R19*R$119","v":0},{"$f":"投入係数!S19*S$119","v":0},{"$f":"投入係数!T19*T$119","v":0},{"$f":"投入係数!U19*U$119","v":0},{"$f":"投入係数!V19*V$119","v":0},{"$f":"投入係数!W19*W$119","v":0},{"$f":"投入係数!X19*X$119","v":0},{"$f":"投入係数!Y19*Y$119","v":0},{"$f":"投入係数!Z19*Z$119","v":0},{"$f":"投入係数!AA19*AA$119","v":0},{"$f":"投入係数!AB19*AB$119","v":0},{"$f":"投入係数!AC19*AC$119","v":0},{"$f":"投入係数!AD19*AD$119","v":0},{"$f":"投入係数!AE19*AE$119","v":0},{"$f":"投入係数!AF19*AF$119","v":0},{"$f":"投入係数!AG19*AG$119","v":0},{"$f":"投入係数!AH19*AH$119","v":0},{"$f":"投入係数!AI19*AI$119","v":0},{"$f":"投入係数!AJ19*AJ$119","v":0},{"$f":"投入係数!AK19*AK$119","v":0},{"$f":"投入係数!AL19*AL$119","v":0},{"$f":"投入係数!AM19*AM$119","v":0},{"$f":"投入係数!AN19*AN$119","v":0},{"$f":"投入係数!AO19*AO$119","v":0},{"$f":"投入係数!AP19*AP$119","v":0},{"$f":"投入係数!AQ19*AQ$119","v":0},{"$f":"投入係数!AR19*AR$119","v":0},{"$f":"投入係数!AS19*AS$119","v":0},{"$f":"投入係数!AT19*AT$119","v":0},{"$f":"投入係数!AU19*AU$119","v":0},{"$f":"投入係数!AV19*AV$119","v":0},{"$f":"投入係数!AW19*AW$119","v":0},{"$f":"投入係数!AX19*AX$119","v":0},{"$f":"投入係数!AY19*AY$119","v":0},{"$f":"投入係数!AZ19*AZ$119","v":0},{"$f":"投入係数!BA19*BA$119","v":0},{"$f":"投入係数!BB19*BB$119","v":0},{"$f":"投入係数!BC19*BC$119","v":0},{"$f":"投入係数!BD19*BD$119","v":0},{"$f":"投入係数!BE19*BE$119","v":0},{"$f":"投入係数!BF19*BF$119","v":0},{"$f":"投入係数!BG19*BG$119","v":0},{"$f":"投入係数!BH19*BH$119","v":0},{"$f":"投入係数!BI19*BI$119","v":0},{"$f":"投入係数!BJ19*BJ$119","v":0},{"$f":"投入係数!BK19*BK$119","v":0},{"$f":"投入係数!BL19*BL$119","v":0},{"$f":"投入係数!BM19*BM$119","v":0},{"$f":"投入係数!BN19*BN$119","v":0},{"$f":"投入係数!BO19*BO$119","v":0},{"$f":"投入係数!BP19*BP$119","v":0},{"$f":"投入係数!BQ19*BQ$119","v":0},{"$f":"投入係数!BR19*BR$119","v":0},{"$f":"投入係数!BS19*BS$119","v":0},{"$f":"投入係数!BT19*BT$119","v":0},{"$f":"投入係数!BU19*BU$119","v":0},{"$f":"投入係数!BV19*BV$119","v":0},{"$f":"投入係数!BW19*BW$119","v":0},{"$f":"投入係数!BX19*BX$119","v":0},{"$f":"投入係数!BY19*BY$119","v":0},{"$f":"投入係数!BZ19*BZ$119","v":0},{"$f":"投入係数!CA19*CA$119","v":0},{"$f":"投入係数!CB19*CB$119","v":0},{"$f":"投入係数!CC19*CC$119","v":0},{"$f":"投入係数!CD19*CD$119","v":0},{"$f":"投入係数!CE19*CE$119","v":0},{"$f":"投入係数!CF19*CF$119","v":0},{"$f":"投入係数!CG19*CG$119","v":0},{"$f":"投入係数!CH19*CH$119","v":0},{"$f":"投入係数!CI19*CI$119","v":0},{"$f":"投入係数!CJ19*CJ$119","v":0},{"$f":"投入係数!CK19*CK$119","v":0},{"$f":"投入係数!CL19*CL$119","v":0},{"$f":"投入係数!CM19*CM$119","v":0},{"$f":"投入係数!CN19*CN$119","v":0},{"$f":"投入係数!CO19*CO$119","v":0},{"$f":"投入係数!CP19*CP$119","v":0},{"$f":"投入係数!CQ19*CQ$119","v":0},{"$f":"投入係数!CR19*CR$119","v":0},{"$f":"投入係数!CS19*CS$119","v":0},{"$f":"投入係数!CT19*CT$119","v":0},{"$f":"投入係数!CU19*CU$119","v":0},{"$f":"投入係数!CV19*CV$119","v":0},{"$f":"投入係数!CW19*CW$119","v":0},{"$f":"投入係数!CX19*CX$119","v":0},{"$f":"投入係数!CY19*CY$119","v":0},{"$f":"投入係数!CZ19*CZ$119","v":0},{"$f":"投入係数!DA19*DA$119","v":0},{"$f":"投入係数!DB19*DB$119","v":0},{"$f":"投入係数!DC19*DC$119","v":0},{"$f":"投入係数!DD19*DD$119","v":0},{"$f":"投入係数!DE19*DE$119","v":0},{"$f":"投入係数!DF19*DF$119","v":0},{"$f":"投入係数!DG19*DG$119","v":0},{"$f":"投入係数!DH19*DH$119","v":0},0]
[null,"152","衣服・その他の繊維既製品",{"$f":"投入係数!D20*D$119","v":0},{"$f":"投入係数!E20*E$119","v":0},{"$f":"投入係数!F20*F$119","v":0},{"$f":"投入係数!G20*G$119","v":0},{"$f":"投入係数!H20*H$119","v":0},{"$f":"投入係数!I20*I$119","v":0},{"$f":"投入係数!J20*J$119","v":0},{"$f":"投入係数!K20*K$119","v":0},{"$f":"投入係数!L20*L$119","v":0},{"$f":"投入係数!M20*M$119","v":0},{"$f":"投入係数!N20*N$119","v":0},{"$f":"投入係数!O20*O$119","v":0},{"$f":"投入係数!P20*P$119","v":0},{"$f":"投入係数!Q20*Q$119","v":0},{"$f":"投入係数!R20*R$119","v":0},{"$f":"投入係数!S20*S$119","v":0},{"$f":"投入係数!T20*T$119","v":0},{"$f":"投入係数!U20*U$119","v":0},{"$f":"投入係数!V20*V$119","v":0},{"$f":"投入係数!W20*W$119","v":0},{"$f":"投入係数!X20*X$119","v":0},{"$f":"投入係数!Y20*Y$119","v":0},{"$f":"投入係数!Z20*Z$119","v":0},{"$f":"投入係数!AA20*AA$119","v":0},{"$f":"投入係数!AB20*AB$119","v":0},{"$f":"投入係数!AC20*AC$119","v":0},{"$f":"投入係数!AD20*AD$119","v":0},{"$f":"投入係数!AE20*AE$119","v":0},{"$f":"投入係数!AF20*AF$119","v":0},{"$f":"投入係数!AG20*AG$119","v":0},{"$f":"投入係数!AH20*AH$119","v":0},{"$f":"投入係数!AI20*AI$119","v":0},{"$f":"投入係数!AJ20*AJ$119","v":0},{"$f":"投入係数!AK20*AK$119","v":0},{"$f":"投入係数!AL20*AL$119","v":0},{"$f":"投入係数!AM20*AM$119","v":0},{"$f":"投入係数!AN20*AN$119","v":0},{"$f":"投入係数!AO20*AO$119","v":0},{"$f":"投入係数!AP20*AP$119","v":0},{"$f":"投入係数!AQ20*AQ$119","v":0},{"$f":"投入係数!AR20*AR$119","v":0},{"$f":"投入係数!AS20*AS$119","v":0},{"$f":"投入係数!AT20*AT$119","v":0},{"$f":"投入係数!AU20*AU$119","v":0},{"$f":"投入係数!AV20*AV$119","v":0},{"$f":"投入係数!AW20*AW$119","v":0},{"$f":"投入係数!AX20*AX$119","v":0},{"$f":"投入係数!AY20*AY$119","v":0},{"$f":"投入係数!AZ20*AZ$119","v":0},{"$f":"投入係数!BA20*BA$119","v":0},{"$f":"投入係数!BB20*BB$119","v":0},{"$f":"投入係数!BC20*BC$119","v":0},{"$f":"投入係数!BD20*BD$119","v":0},{"$f":"投入係数!BE20*BE$119","v":0},{"$f":"投入係数!BF20*BF$119","v":0},{"$f":"投入係数!BG20*BG$119","v":0},{"$f":"投入係数!BH20*BH$119","v":0},{"$f":"投入係数!BI20*BI$119","v":0},{"$f":"投入係数!BJ20*BJ$119","v":0},{"$f":"投入係数!BK20*BK$119","v":0},{"$f":"投入係数!BL20*BL$119","v":0},{"$f":"投入係数!BM20*BM$119","v":0},{"$f":"投入係数!BN20*BN$119","v":0},{"$f":"投入係数!BO20*BO$119","v":0},{"$f":"投入係数!BP20*BP$119","v":0},{"$f":"投入係数!BQ20*BQ$119","v":0},{"$f":"投入係数!BR20*BR$119","v":0},{"$f":"投入係数!BS20*BS$119","v":0},{"$f":"投入係数!BT20*BT$119","v":0},{"$f":"投入係数!BU20*BU$119","v":0},{"$f":"投入係数!BV20*BV$119","v":0},{"$f":"投入係数!BW20*BW$119","v":0},{"$f":"投入係数!BX20*BX$119","v":0},{"$f":"投入係数!BY20*BY$119","v":0},{"$f":"投入係数!BZ20*BZ$119","v":0},{"$f":"投入係数!CA20*CA$119","v":0},{"$f":"投入係数!CB20*CB$119","v":0},{"$f":"投入係数!CC20*CC$119","v":0},{"$f":"投入係数!CD20*CD$119","v":0},{"$f":"投入係数!CE20*CE$119","v":0},{"$f":"投入係数!CF20*CF$119","v":0},{"$f":"投入係数!CG20*CG$119","v":0},{"$f":"投入係数!CH20*CH$119","v":0},{"$f":"投入係数!CI20*CI$119","v":0},{"$f":"投入係数!CJ20*CJ$119","v":0},{"$f":"投入係数!CK20*CK$119","v":0},{"$f":"投入係数!CL20*CL$119","v":0},{"$f":"投入係数!CM20*CM$119","v":0},{"$f":"投入係数!CN20*CN$119","v":0},{"$f":"投入係数!CO20*CO$119","v":0},{"$f":"投入係数!CP20*CP$119","v":0},{"$f":"投入係数!CQ20*CQ$119","v":0},{"$f":"投入係数!CR20*CR$119","v":0},{"$f":"投入係数!CS20*CS$119","v":0},{"$f":"投入係数!CT20*CT$119","v":0},{"$f":"投入係数!CU20*CU$119","v":0},{"$f":"投入係数!CV20*CV$119","v":0},{"$f":"投入係数!CW20*CW$119","v":0},{"$f":"投入係数!CX20*CX$119","v":0},{"$f":"投入係数!CY20*CY$119","v":0},{"$f":"投入係数!CZ20*CZ$119","v":0},{"$f":"投入係数!DA20*DA$119","v":0},{"$f":"投入係数!DB20*DB$119","v":0},{"$f":"投入係数!DC20*DC$119","v":0},{"$f":"投入係数!DD20*DD$119","v":0},{"$f":"投入係数!DE20*DE$119","v":0},{"$f":"投入係数!DF20*DF$119","v":0},{"$f":"投入係数!DG20*DG$119","v":0},{"$f":"投入係数!DH20*DH$119","v":0},0]
[null,"161","木材・木製品",{"$f":"投入係数!D21*D$119","v":0},{"$f":"投入係数!E21*E$119","v":0},{"$f":"投入係数!F21*F$119","v":0},{"$f":"投入係数!G21*G$119","v":0},{"$f":"投入係数!H21*H$119","v":0},{"$f":"投入係数!I21*I$119","v":0},{"$f":"投入係数!J21*J$119","v":0},{"$f":"投入係数!K21*K$119","v":0},{"$f":"投入係数!L21*L$119","v":0},{"$f":"投入係数!M21*M$119","v":0},{"$f":"投入係数!N21*N$119","v":0},{"$f":"投入係数!O21*O$119","v":0},{"$f":"投入係数!P21*P$119","v":0},{"$f":"投入係数!Q21*Q$119","v":0},{"$f":"投入係数!R21*R$119","v":0},{"$f":"投入係数!S21*S$119","v":0},{"$f":"投入係数!T21*T$119","v":0},{"$f":"投入係数!U21*U$119","v":0},{"$f":"投入係数!V21*V$119","v":0},{"$f":"投入係数!W21*W$119","v":0},{"$f":"投入係数!X21*X$119","v":0},{"$f":"投入係数!Y21*Y$119","v":0},{"$f":"投入係数!Z21*Z$119","v":0},{"$f":"投入係数!AA21*AA$119","v":0},{"$f":"投入係数!AB21*AB$119","v":0},{"$f":"投入係数!AC21*AC$119","v":0},{"$f":"投入係数!AD21*AD$119","v":0},{"$f":"投入係数!AE21*AE$119","v":0},{"$f":"投入係数!AF21*AF$119","v":0},{"$f":"投入係数!AG21*AG$119","v":0},{"$f":"投入係数!AH21*AH$119","v":0},{"$f":"投入係数!AI21*AI$119","v":0},{"$f":"投入係数!AJ21*AJ$119","v":0},{"$f":"投入係数!AK21*AK$119","v":0},{"$f":"投入係数!AL21*AL$119","v":0},{"$f":"投入係数!AM21*AM$119","v":0},{"$f":"投入係数!AN21*AN$119","v":0},{"$f":"投入係数!AO21*AO$119","v":0},{"$f":"投入係数!AP21*AP$119","v":0},{"$f":"投入係数!AQ21*AQ$119","v":0},{"$f":"投入係数!AR21*AR$119","v":0},{"$f":"投入係数!AS21*AS$119","v":0},{"$f":"投入係数!AT21*AT$119","v":0},{"$f":"投入係数!AU21*AU$119","v":0},{"$f":"投入係数!AV21*AV$119","v":0},{"$f":"投入係数!AW21*AW$119","v":0},{"$f":"投入係数!AX21*AX$119","v":0},{"$f":"投入係数!AY21*AY$119","v":0},{"$f":"投入係数!AZ21*AZ$119","v":0},{"$f":"投入係数!BA21*BA$119","v":0},{"$f":"投入係数!BB21*BB$119","v":0},{"$f":"投入係数!BC21*BC$119","v":0},{"$f":"投入係数!BD21*BD$119","v":0},{"$f":"投入係数!BE21*BE$119","v":0},{"$f":"投入係数!BF21*BF$119","v":0},{"$f":"投入係数!BG21*BG$119","v":0},{"$f":"投入係数!BH21*BH$119","v":0},{"$f":"投入係数!BI21*BI$119","v":0},{"$f":"投入係数!BJ21*BJ$119","v":0},{"$f":"投入係数!BK21*BK$119","v":0},{"$f":"投入係数!BL21*BL$119","v":0},{"$f":"投入係数!BM21*BM$119","v":0},{"$f":"投入係数!BN21*BN$119","v":0},{"$f":"投入係数!BO21*BO$119","v":0},{"$f":"投入係数!BP21*BP$119","v":0},{"$f":"投入係数!BQ21*BQ$119","v":0},{"$f":"投入係数!BR21*BR$119","v":0},{"$f":"投入係数!BS21*BS$119","v":0},{"$f":"投入係数!BT21*BT$119","v":0},{"$f":"投入係数!BU21*BU$119","v":0},{"$f":"投入係数!BV21*BV$119","v":0},{"$f":"投入係数!BW21*BW$119","v":0},{"$f":"投入係数!BX21*BX$119","v":0},{"$f":"投入係数!BY21*BY$119","v":0},{"$f":"投入係数!BZ21*BZ$119","v":0},{"$f":"投入係数!CA21*CA$119","v":0},{"$f":"投入係数!CB21*CB$119","v":0},{"$f":"投入係数!CC21*CC$119","v":0},{"$f":"投入係数!CD21*CD$119","v":0},{"$f":"投入係数!CE21*CE$119","v":0},{"$f":"投入係数!CF21*CF$119","v":0},{"$f":"投入係数!CG21*CG$119","v":0},{"$f":"投入係数!CH21*CH$119","v":0},{"$f":"投入係数!CI21*CI$119","v":0},{"$f":"投入係数!CJ21*CJ$119","v":0},{"$f":"投入係数!CK21*CK$119","v":0},{"$f":"投入係数!CL21*CL$119","v":0},{"$f":"投入係数!CM21*CM$119","v":0},{"$f":"投入係数!CN21*CN$119","v":0},{"$f":"投入係数!CO21*CO$119","v":0},{"$f":"投入係数!CP21*CP$119","v":0},{"$f":"投入係数!CQ21*CQ$119","v":0},{"$f":"投入係数!CR21*CR$119","v":0},{"$f":"投入係数!CS21*CS$119","v":0},{"$f":"投入係数!CT21*CT$119","v":0},{"$f":"投入係数!CU21*CU$119","v":0},{"$f":"投入係数!CV21*CV$119","v":0},{"$f":"投入係数!CW21*CW$119","v":0},{"$f":"投入係数!CX21*CX$119","v":0},{"$f":"投入係数!CY21*CY$119","v":0},{"$f":"投入係数!CZ21*CZ$119","v":0},{"$f":"投入係数!DA21*DA$119","v":0},{"$f":"投入係数!DB21*DB$119","v":0},{"$f":"投入係数!DC21*DC$119","v":0},{"$f":"投入係数!DD21*DD$119","v":0},{"$f":"投入係数!DE21*DE$119","v":0},{"$f":"投入係数!DF21*DF$119","v":0},{"$f":"投入係数!DG21*DG$119","v":0},{"$f":"投入係数!DH21*DH$119","v":0},0]
[null,"162","家具・装備品",{"$f":"投入係数!D22*D$119","v":0},{"$f":"投入係数!E22*E$119","v":0},{"$f":"投入係数!F22*F$119","v":0},{"$f":"投入係数!G22*G$119","v":0},{"$f":"投入係数!H22*H$119","v":0},{"$f":"投入係数!I22*I$119","v":0},{"$f":"投入係数!J22*J$119","v":0},{"$f":"投入係数!K22*K$119","v":0},{"$f":"投入係数!L22*L$119","v":0},{"$f":"投入係数!M22*M$119","v":0},{"$f":"投入係数!N22*N$119","v":0},{"$f":"投入係数!O22*O$119","v":0},{"$f":"投入係数!P22*P$119","v":0},{"$f":"投入係数!Q22*Q$119","v":0},{"$f":"投入係数!R22*R$119","v":0},{"$f":"投入係数!S22*S$119","v":0},{"$f":"投入係数!T22*T$119","v":0},{"$f":"投入係数!U22*U$119","v":0},{"$f":"投入係数!V22*V$119","v":0},{"$f":"投入係数!W22*W$119","v":0},{"$f":"投入係数!X22*X$119","v":0},{"$f":"投入係数!Y22*Y$119","v":0},{"$f":"投入係数!Z22*Z$119","v":0},{"$f":"投入係数!AA22*AA$119","v":0},{"$f":"投入係数!AB22*AB$119","v":0},{"$f":"投入係数!AC22*AC$119","v":0},{"$f":"投入係数!AD22*AD$119","v":0},{"$f":"投入係数!AE22*AE$119","v":0},{"$f":"投入係数!AF22*AF$119","v":0},{"$f":"投入係数!AG22*AG$119","v":0},{"$f":"投入係数!AH22*AH$119","v":0},{"$f":"投入係数!AI22*AI$119","v":0},{"$f":"投入係数!AJ22*AJ$119","v":0},{"$f":"投入係数!AK22*AK$119","v":0},{"$f":"投入係数!AL22*AL$119","v":0},{"$f":"投入係数!AM22*AM$119","v":0},{"$f":"投入係数!AN22*AN$119","v":0},{"$f":"投入係数!AO22*AO$119","v":0},{"$f":"投入係数!AP22*AP$119","v":0},{"$f":"投入係数!AQ22*AQ$119","v":0},{"$f":"投入係数!AR22*AR$119","v":0},{"$f":"投入係数!AS22*AS$119","v":0},{"$f":"投入係数!AT22*AT$119","v":0},{"$f":"投入係数!AU22*AU$119","v":0},{"$f":"投入係数!AV22*AV$119","v":0},{"$f":"投入係数!AW22*AW$119","v":0},{"$f":"投入係数!AX22*AX$119","v":0},{"$f":"投入係数!AY22*AY$119","v":0},{"$f":"投入係数!AZ22*AZ$119","v":0},{"$f":"投入係数!BA22*BA$119","v":0},{"$f":"投入係数!BB22*BB$119","v":0},{"$f":"投入係数!BC22*BC$119","v":0},{"$f":"投入係数!BD22*BD$119","v":0},{"$f":"投入係数!BE22*BE$119","v":0},{"$f":"投入係数!BF22*BF$119","v":0},{"$f":"投入係数!BG22*BG$119","v":0},{"$f":"投入係数!BH22*BH$119","v":0},{"$f":"投入係数!BI22*BI$119","v":0},{"$f":"投入係数!BJ22*BJ$119","v":0},{"$f":"投入係数!BK22*BK$119","v":0},{"$f":"投入係数!BL22*BL$119","v":0},{"$f":"投入係数!BM22*BM$119","v":0},{"$f":"投入係数!BN22*BN$119","v":0},{"$f":"投入係数!BO22*BO$119","v":0},{"$f":"投入係数!BP22*BP$119","v":0},{"$f":"投入係数!BQ22*BQ$119","v":0},{"$f":"投入係数!BR22*BR$119","v":0},{"$f":"投入係数!BS22*BS$119","v":0},{"$f":"投入係数!BT22*BT$119","v":0},{"$f":"投入係数!BU22*BU$119","v":0},{"$f":"投入係数!BV22*BV$119","v":0},{"$f":"投入係数!BW22*BW$119","v":0},{"$f":"投入係数!BX22*BX$119","v":0},{"$f":"投入係数!BY22*BY$119","v":0},{"$f":"投入係数!BZ22*BZ$119","v":0},{"$f":"投入係数!CA22*CA$119","v":0},{"$f":"投入係数!CB22*CB$119","v":0},{"$f":"投入係数!CC22*CC$119","v":0},{"$f":"投入係数!CD22*CD$119","v":0},{"$f":"投入係数!CE22*CE$119","v":0},{"$f":"投入係数!CF22*CF$119","v":0},{"$f":"投入係数!CG22*CG$119","v":0},{"$f":"投入係数!CH22*CH$119","v":0},{"$f":"投入係数!CI22*CI$119","v":0},{"$f":"投入係数!CJ22*CJ$119","v":0},{"$f":"投入係数!CK22*CK$119","v":0},{"$f":"投入係数!CL22*CL$119","v":0},{"$f":"投入係数!CM22*CM$119","v":0},{"$f":"投入係数!CN22*CN$119","v":0},{"$f":"投入係数!CO22*CO$119","v":0},{"$f":"投入係数!CP22*CP$119","v":0},{"$f":"投入係数!CQ22*CQ$119","v":0},{"$f":"投入係数!CR22*CR$119","v":0},{"$f":"投入係数!CS22*CS$119","v":0},{"$f":"投入係数!CT22*CT$119","v":0},{"$f":"投入係数!CU22*CU$119","v":0},{"$f":"投入係数!CV22*CV$119","v":0},{"$f":"投入係数!CW22*CW$119","v":0},{"$f":"投入係数!CX22*CX$119","v":0},{"$f":"投入係数!CY22*CY$119","v":0},{"$f":"投入係数!CZ22*CZ$119","v":0},{"$f":"投入係数!DA22*DA$119","v":0},{"$f":"投入係数!DB22*DB$119","v":0},{"$f":"投入係数!DC22*DC$119","v":0},{"$f":"投入係数!DD22*DD$119","v":0},{"$f":"投入係数!DE22*DE$119","v":0},{"$f":"投入係数!DF22*DF$119","v":0},{"$f":"投入係数!DG22*DG$119","v":0},{"$f":"投入係数!DH22*DH$119","v":0},0]
[null,"163","パルプ・紙・板紙・加工紙",{"$f":"投入係数!D23*D$119","v":0},{"$f":"投入係数!E23*E$119","v":0},{"$f":"投入係数!F23*F$119","v":0},{"$f":"投入係数!G23*G$119","v":0},{"$f":"投入係数!H23*H$119","v":0},{"$f":"投入係数!I23*I$119","v":0},{"$f":"投入係数!J23*J$119","v":0},{"$f":"投入係数!K23*K$119","v":0},{"$f":"投入係数!L23*L$119","v":0},{"$f":"投入係数!M23*M$119","v":0},{"$f":"投入係数!N23*N$119","v":0},{"$f":"投入係数!O23*O$119","v":0},{"$f":"投入係数!P23*P$119","v":0},{"$f":"投入係数!Q23*Q$119","v":0},{"$f":"投入係数!R23*R$119","v":0},{"$f":"投入係数!S23*S$119","v":0},{"$f":"投入係数!T23*T$119","v":0},{"$f":"投入係数!U23*U$119","v":0},{"$f":"投入係数!V23*V$119","v":0},{"$f":"投入係数!W23*W$119","v":0},{"$f":"投入係数!X23*X$119","v":0},{"$f":"投入係数!Y23*Y$119","v":0},{"$f":"投入係数!Z23*Z$119","v":0},{"$f":"投入係数!AA23*AA$119","v":0},{"$f":"投入係数!AB23*AB$119","v":0},{"$f":"投入係数!AC23*AC$119","v":0},{"$f":"投入係数!AD23*AD$119","v":0},{"$f":"投入係数!AE23*AE$119","v":0},{"$f":"投入係数!AF23*AF$119","v":0},{"$f":"投入係数!AG23*AG$119","v":0},{"$f":"投入係数!AH23*AH$119","v":0},{"$f":"投入係数!AI23*AI$119","v":0},{"$f":"投入係数!AJ23*AJ$119","v":0},{"$f":"投入係数!AK23*AK$119","v":0},{"$f":"投入係数!AL23*AL$119","v":0},{"$f":"投入係数!AM23*AM$119","v":0},{"$f":"投入係数!AN23*AN$119","v":0},{"$f":"投入係数!AO23*AO$119","v":0},{"$f":"投入係数!AP23*AP$119","v":0},{"$f":"投入係数!AQ23*AQ$119","v":0},{"$f":"投入係数!AR23*AR$119","v":0},{"$f":"投入係数!AS23*AS$119","v":0},{"$f":"投入係数!AT23*AT$119","v":0},{"$f":"投入係数!AU23*AU$119","v":0},{"$f":"投入係数!AV23*AV$119","v":0},{"$f":"投入係数!AW23*AW$119","v":0},{"$f":"投入係数!AX23*AX$119","v":0},{"$f":"投入係数!AY23*AY$119","v":0},{"$f":"投入係数!AZ23*AZ$119","v":0},{"$f":"投入係数!BA23*BA$119","v":0},{"$f":"投入係数!BB23*BB$119","v":0},{"$f":"投入係数!BC23*BC$119","v":0},{"$f":"投入係数!BD23*BD$119","v":0},{"$f":"投入係数!BE23*BE$119","v":0},{"$f":"投入係数!BF23*BF$119","v":0},{"$f":"投入係数!BG23*BG$119","v":0},{"$f":"投入係数!BH23*BH$119","v":0},{"$f":"投入係数!BI23*BI$119","v":0},{"$f":"投入係数!BJ23*BJ$119","v":0},{"$f":"投入係数!BK23*BK$119","v":0},{"$f":"投入係数!BL23*BL$119","v":0},{"$f":"投入係数!BM23*BM$119","v":0},{"$f":"投入係数!BN23*BN$119","v":0},{"$f":"投入係数!BO23*BO$119","v":0},{"$f":"投入係数!BP23*BP$119","v":0},{"$f":"投入係数!BQ23*BQ$119","v":0},{"$f":"投入係数!BR23*BR$119","v":0},{"$f":"投入係数!BS23*BS$119","v":0},{"$f":"投入係数!BT23*BT$119","v":0},{"$f":"投入係数!BU23*BU$119","v":0},{"$f":"投入係数!BV23*BV$119","v":0},{"$f":"投入係数!BW23*BW$119","v":0},{"$f":"投入係数!BX23*BX$119","v":0},{"$f":"投入係数!BY23*BY$119","v":0},{"$f":"投入係数!BZ23*BZ$119","v":0},{"$f":"投入係数!CA23*CA$119","v":0},{"$f":"投入係数!CB23*CB$119","v":0},{"$f":"投入係数!CC23*CC$119","v":0},{"$f":"投入係数!CD23*CD$119","v":0},{"$f":"投入係数!CE23*CE$119","v":0},{"$f":"投入係数!CF23*CF$119","v":0},{"$f":"投入係数!CG23*CG$119","v":0},{"$f":"投入係数!CH23*CH$119","v":0},{"$f":"投入係数!CI23*CI$119","v":0},{"$f":"投入係数!CJ23*CJ$119","v":0},{"$f":"投入係数!CK23*CK$119","v":0},{"$f":"投入係数!CL23*CL$119","v":0},{"$f":"投入係数!CM23*CM$119","v":0},{"$f":"投入係数!CN23*CN$119","v":0},{"$f":"投入係数!CO23*CO$119","v":0},{"$f":"投入係数!CP23*CP$119","v":0},{"$f":"投入係数!CQ23*CQ$119","v":0},{"$f":"投入係数!CR23*CR$119","v":0},{"$f":"投入係数!CS23*CS$119","v":0},{"$f":"投入係数!CT23*CT$119","v":0},{"$f":"投入係数!CU23*CU$119","v":0},{"$f":"投入係数!CV23*CV$119","v":0},{"$f":"投入係数!CW23*CW$119","v":0},{"$f":"投入係数!CX23*CX$119","v":0},{"$f":"投入係数!CY23*CY$119","v":0},{"$f":"投入係数!CZ23*CZ$119","v":0},{"$f":"投入係数!DA23*DA$119","v":0},{"$f":"投入係数!DB23*DB$119","v":0},{"$f":"投入係数!DC23*DC$119","v":0},{"$f":"投入係数!DD23*DD$119","v":0},{"$f":"投入係数!DE23*DE$119","v":0},{"$f":"投入係数!DF23*DF$119","v":0},{"$f":"投入係数!DG23*DG$119","v":0},{"$f":"投入係数!DH23*DH$119","v":0},0]
[null,"164","紙加工品",{"$f":"投入係数!D24*D$119","v":0},{"$f":"投入係数!E24*E$119","v":0},{"$f":"投入係数!F24*F$119","v":0},{"$f":"投入係数!G24*G$119","v":0},{"$f":"投入係数!H24*H$119","v":0},{"$f":"投入係数!I24*I$119","v":0},{"$f":"投入係数!J24*J$119","v":0},{"$f":"投入係数!K24*K$119","v":0},{"$f":"投入係数!L24*L$119","v":0},{"$f":"投入係数!M24*M$119","v":0},{"$f":"投入係数!N24*N$119","v":0},{"$f":"投入係数!O24*O$119","v":0},{"$f":"投入係数!P24*P$119","v":0},{"$f":"投入係数!Q24*Q$119","v":0},{"$f":"投入係数!R24*R$119","v":0},{"$f":"投入係数!S24*S$119","v":0},{"$f":"投入係数!T24*T$119","v":0},{"$f":"投入係数!U24*U$119","v":0},{"$f":"投入係数!V24*V$119","v":0},{"$f":"投入係数!W24*W$119","v":0},{"$f":"投入係数!X24*X$119","v":0},{"$f":"投入係数!Y24*Y$119","v":0},{"$f":"投入係数!Z24*Z$119","v":0},{"$f":"投入係数!AA24*AA$119","v":0},{"$f":"投入係数!AB24*AB$119","v":0},{"$f":"投入係数!AC24*AC$119","v":0},{"$f":"投入係数!AD24*AD$119","v":0},{"$f":"投入係数!AE24*AE$119","v":0},{"$f":"投入係数!AF24*AF$119","v":0},{"$f":"投入係数!AG24*AG$119","v":0},{"$f":"投入係数!AH24*AH$119","v":0},{"$f":"投入係数!AI24*AI$119","v":0},{"$f":"投入係数!AJ24*AJ$119","v":0},{"$f":"投入係数!AK24*AK$119","v":0},{"$f":"投入係数!AL24*AL$119","v":0},{"$f":"投入係数!AM24*AM$119","v":0},{"$f":"投入係数!AN24*AN$119","v":0},{"$f":"投入係数!AO24*AO$119","v":0},{"$f":"投入係数!AP24*AP$119","v":0},{"$f":"投入係数!AQ24*AQ$119","v":0},{"$f":"投入係数!AR24*AR$119","v":0},{"$f":"投入係数!AS24*AS$119","v":0},{"$f":"投入係数!AT24*AT$119","v":0},{"$f":"投入係数!AU24*AU$119","v":0},{"$f":"投入係数!AV24*AV$119","v":0},{"$f":"投入係数!AW24*AW$119","v":0},{"$f":"投入係数!AX24*AX$119","v":0},{"$f":"投入係数!AY24*AY$119","v":0},{"$f":"投入係数!AZ24*AZ$119","v":0},{"$f":"投入係数!BA24*BA$119","v":0},{"$f":"投入係数!BB24*BB$119","v":0},{"$f":"投入係数!BC24*BC$119","v":0},{"$f":"投入係数!BD24*BD$119","v":0},{"$f":"投入係数!BE24*BE$119","v":0},{"$f":"投入係数!BF24*BF$119","v":0},{"$f":"投入係数!BG24*BG$119","v":0},{"$f":"投入係数!BH24*BH$119","v":0},{"$f":"投入係数!BI24*BI$119","v":0},{"$f":"投入係数!BJ24*BJ$119","v":0},{"$f":"投入係数!BK24*BK$119","v":0},{"$f":"投入係数!BL24*BL$119","v":0},{"$f":"投入係数!BM24*BM$119","v":0},{"$f":"投入係数!BN24*BN$119","v":0},{"$f":"投入係数!BO24*BO$119","v":0},{"$f":"投入係数!BP24*BP$119","v":0},{"$f":"投入係数!BQ24*BQ$119","v":0},{"$f":"投入係数!BR24*BR$119","v":0},{"$f":"投入係数!BS24*BS$119","v":0},{"$f":"投入係数!BT24*BT$119","v":0},{"$f":"投入係数!BU24*BU$119","v":0},{"$f":"投入係数!BV24*BV$119","v":0},{"$f":"投入係数!BW24*BW$119","v":0},{"$f":"投入係数!BX24*BX$119","v":0},{"$f":"投入係数!BY24*BY$119","v":0},{"$f":"投入係数!BZ24*BZ$119","v":0},{"$f":"投入係数!CA24*CA$119","v":0},{"$f":"投入係数!CB24*CB$119","v":0},{"$f":"投入係数!CC24*CC$119","v":0},{"$f":"投入係数!CD24*CD$119","v":0},{"$f":"投入係数!CE24*CE$119","v":0},{"$f":"投入係数!CF24*CF$119","v":0},{"$f":"投入係数!CG24*CG$119","v":0},{"$f":"投入係数!CH24*CH$119","v":0},{"$f":"投入係数!CI24*CI$119","v":0},{"$f":"投入係数!CJ24*CJ$119","v":0},{"$f":"投入係数!CK24*CK$119","v":0},{"$f":"投入係数!CL24*CL$119","v":0},{"$f":"投入係数!CM24*CM$119","v":0},{"$f":"投入係数!CN24*CN$119","v":0},{"$f":"投入係数!CO24*CO$119","v":0},{"$f":"投入係数!CP24*CP$119","v":0},{"$f":"投入係数!CQ24*CQ$119","v":0},{"$f":"投入係数!CR24*CR$119","v":0},{"$f":"投入係数!CS24*CS$119","v":0},{"$f":"投入係数!CT24*CT$119","v":0},{"$f":"投入係数!CU24*CU$119","v":0},{"$f":"投入係数!CV24*CV$119","v":0},{"$f":"投入係数!CW24*CW$119","v":0},{"$f":"投入係数!CX24*CX$119","v":0},{"$f":"投入係数!CY24*CY$119","v":0},{"$f":"投入係数!CZ24*CZ$119","v":0},{"$f":"投入係数!DA24*DA$119","v":0},{"$f":"投入係数!DB24*DB$119","v":0},{"$f":"投入係数!DC24*DC$119","v":0},{"$f":"投入係数!DD24*DD$119","v":0},{"$f":"投入係数!DE24*DE$119","v":0},{"$f":"投入係数!DF24*DF$119","v":0},{"$f":"投入係数!DG24*DG$119","v":0},{"$f":"投入係数!DH24*DH$119","v":0},0]
[null,"191","印刷・製版・製本",{"$f":"投入係数!D25*D$119","v":0},{"$f":"投入係数!E25*E$119","v":0},{"$f":"投入係数!F25*F$119","v":0},{"$f":"投入係数!G25*G$119","v":0},{"$f":"投入係数!H25*H$119","v":0},{"$f":"投入係数!I25*I$119","v":0},{"$f":"投入係数!J25*J$119","v":0},{"$f":"投入係数!K25*K$119","v":0},{"$f":"投入係数!L25*L$119","v":0},{"$f":"投入係数!M25*M$119","v":0},{"$f":"投入係数!N25*N$119","v":0},{"$f":"投入係数!O25*O$119","v":0},{"$f":"投入係数!P25*P$119","v":0},{"$f":"投入係数!Q25*Q$119","v":0},{"$f":"投入係数!R25*R$119","v":0},{"$f":"投入係数!S25*S$119","v":0},{"$f":"投入係数!T25*T$119","v":0},{"$f":"投入係数!U25*U$119","v":0},{"$f":"投入係数!V25*V$119","v":0},{"$f":"投入係数!W25*W$119","v":0},{"$f":"投入係数!X25*X$119","v":0},{"$f":"投入係数!Y25*Y$119","v":0},{"$f":"投入係数!Z25*Z$119","v":0},{"$f":"投入係数!AA25*AA$119","v":0},{"$f":"投入係数!AB25*AB$119","v":0},{"$f":"投入係数!AC25*AC$119","v":0},{"$f":"投入係数!AD25*AD$119","v":0},{"$f":"投入係数!AE25*AE$119","v":0},{"$f":"投入係数!AF25*AF$119","v":0},{"$f":"投入係数!AG25*AG$119","v":0},{"$f":"投入係数!AH25*AH$119","v":0},{"$f":"投入係数!AI25*AI$119","v":0},{"$f":"投入係数!AJ25*AJ$119","v":0},{"$f":"投入係数!AK25*AK$119","v":0},{"$f":"投入係数!AL25*AL$119","v":0},{"$f":"投入係数!AM25*AM$119","v":0},{"$f":"投入係数!AN25*AN$119","v":0},{"$f":"投入係数!AO25*AO$119","v":0},{"$f":"投入係数!AP25*AP$119","v":0},{"$f":"投入係数!AQ25*AQ$119","v":0},{"$f":"投入係数!AR25*AR$119","v":0},{"$f":"投入係数!AS25*AS$119","v":0},{"$f":"投入係数!AT25*AT$119","v":0},{"$f":"投入係数!AU25*AU$119","v":0},{"$f":"投入係数!AV25*AV$119","v":0},{"$f":"投入係数!AW25*AW$119","v":0},{"$f":"投入係数!AX25*AX$119","v":0},{"$f":"投入係数!AY25*AY$119","v":0},{"$f":"投入係数!AZ25*AZ$119","v":0},{"$f":"投入係数!BA25*BA$119","v":0},{"$f":"投入係数!BB25*BB$119","v":0},{"$f":"投入係数!BC25*BC$119","v":0},{"$f":"投入係数!BD25*BD$119","v":0},{"$f":"投入係数!BE25*BE$119","v":0},{"$f":"投入係数!BF25*BF$119","v":0},{"$f":"投入係数!BG25*BG$119","v":0},{"$f":"投入係数!BH25*BH$119","v":0},{"$f":"投入係数!BI25*BI$119","v":0},{"$f":"投入係数!BJ25*BJ$119","v":0},{"$f":"投入係数!BK25*BK$119","v":0},{"$f":"投入係数!BL25*BL$119","v":0},{"$f":"投入係数!BM25*BM$119","v":0},{"$f":"投入係数!BN25*BN$119","v":0},{"$f":"投入係数!BO25*BO$119","v":0},{"$f":"投入係数!BP25*BP$119","v":0},{"$f":"投入係数!BQ25*BQ$119","v":0},{"$f":"投入係数!BR25*BR$119","v":0},{"$f":"投入係数!BS25*BS$119","v":0},{"$f":"投入係数!BT25*BT$119","v":0},{"$f":"投入係数!BU25*BU$119","v":0},{"$f":"投入係数!BV25*BV$119","v":0},{"$f":"投入係数!BW25*BW$119","v":0},{"$f":"投入係数!BX25*BX$119","v":0},{"$f":"投入係数!BY25*BY$119","v":0},{"$f":"投入係数!BZ25*BZ$119","v":0},{"$f":"投入係数!CA25*CA$119","v":0},{"$f":"投入係数!CB25*CB$119","v":0},{"$f":"投入係数!CC25*CC$119","v":0},{"$f":"投入係数!CD25*CD$119","v":0},{"$f":"投入係数!CE25*CE$119","v":0},{"$f":"投入係数!CF25*CF$119","v":0},{"$f":"投入係数!CG25*CG$119","v":0},{"$f":"投入係数!CH25*CH$119","v":0},{"$f":"投入係数!CI25*CI$119","v":0},{"$f":"投入係数!CJ25*CJ$119","v":0},{"$f":"投入係数!CK25*CK$119","v":0},{"$f":"投入係数!CL25*CL$119","v":0},{"$f":"投入係数!CM25*CM$119","v":0},{"$f":"投入係数!CN25*CN$119","v":0},{"$f":"投入係数!CO25*CO$119","v":0},{"$f":"投入係数!CP25*CP$119","v":0},{"$f":"投入係数!CQ25*CQ$119","v":0},{"$f":"投入係数!CR25*CR$119","v":0},{"$f":"投入係数!CS25*CS$119","v":0},{"$f":"投入係数!CT25*CT$119","v":0},{"$f":"投入係数!CU25*CU$119","v":0},{"$f":"投入係数!CV25*CV$119","v":0},{"$f":"投入係数!CW25*CW$119","v":0},{"$f":"投入係数!CX25*CX$119","v":0},{"$f":"投入係数!CY25*CY$119","v":0},{"$f":"投入係数!CZ25*CZ$119","v":0},{"$f":"投入係数!DA25*DA$119","v":0},{"$f":"投入係数!DB25*DB$119","v":0},{"$f":"投入係数!DC25*DC$119","v":0},{"$f":"投入係数!DD25*DD$119","v":0},{"$f":"投入係数!DE25*DE$119","v":0},{"$f":"投入係数!DF25*DF$119","v":0},{"$f":"投入係数!DG25*DG$119","v":0},{"$f":"投入係数!DH25*DH$119","v":0},0]
[null,"201","化学肥料",{"$f":"投入係数!D26*D$119","v":0},{"$f":"投入係数!E26*E$119","v":0},{"$f":"投入係数!F26*F$119","v":0},{"$f":"投入係数!G26*G$119","v":0},{"$f":"投入係数!H26*H$119","v":0},{"$f":"投入係数!I26*I$119","v":0},{"$f":"投入係数!J26*J$119","v":0},{"$f":"投入係数!K26*K$119","v":0},{"$f":"投入係数!L26*L$119","v":0},{"$f":"投入係数!M26*M$119","v":0},{"$f":"投入係数!N26*N$119","v":0},{"$f":"投入係数!O26*O$119","v":0},{"$f":"投入係数!P26*P$119","v":0},{"$f":"投入係数!Q26*Q$119","v":0},{"$f":"投入係数!R26*R$119","v":0},{"$f":"投入係数!S26*S$119","v":0},{"$f":"投入係数!T26*T$119","v":0},{"$f":"投入係数!U26*U$119","v":0},{"$f":"投入係数!V26*V$119","v":0},{"$f":"投入係数!W26*W$119","v":0},{"$f":"投入係数!X26*X$119","v":0},{"$f":"投入係数!Y26*Y$119","v":0},{"$f":"投入係数!Z26*Z$119","v":0},{"$f":"投入係数!AA26*AA$119","v":0},{"$f":"投入係数!AB26*AB$119","v":0},{"$f":"投入係数!AC26*AC$119","v":0},{"$f":"投入係数!AD26*AD$119","v":0},{"$f":"投入係数!AE26*AE$119","v":0},{"$f":"投入係数!AF26*AF$119","v":0},{"$f":"投入係数!AG26*AG$119","v":0},{"$f":"投入係数!AH26*AH$119","v":0},{"$f":"投入係数!AI26*AI$119","v":0},{"$f":"投入係数!AJ26*AJ$119","v":0},{"$f":"投入係数!AK26*AK$119","v":0},{"$f":"投入係数!AL26*AL$119","v":0},{"$f":"投入係数!AM26*AM$119","v":0},{"$f":"投入係数!AN26*AN$119","v":0},{"$f":"投入係数!AO26*AO$119","v":0},{"$f":"投入係数!AP26*AP$119","v":0},{"$f":"投入係数!AQ26*AQ$119","v":0},{"$f":"投入係数!AR26*AR$119","v":0},{"$f":"投入係数!AS26*AS$119","v":0},{"$f":"投入係数!AT26*AT$119","v":0},{"$f":"投入係数!AU26*AU$119","v":0},{"$f":"投入係数!AV26*AV$119","v":0},{"$f":"投入係数!AW26*AW$119","v":0},{"$f":"投入係数!AX26*AX$119","v":0},{"$f":"投入係数!AY26*AY$119","v":0},{"$f":"投入係数!AZ26*AZ$119","v":0},{"$f":"投入係数!BA26*BA$119","v":0},{"$f":"投入係数!BB26*BB$119","v":0},{"$f":"投入係数!BC26*BC$119","v":0},{"$f":"投入係数!BD26*BD$119","v":0},{"$f":"投入係数!BE26*BE$119","v":0},{"$f":"投入係数!BF26*BF$119","v":0},{"$f":"投入係数!BG26*BG$119","v":0},{"$f":"投入係数!BH26*BH$119","v":0},{"$f":"投入係数!BI26*BI$119","v":0},{"$f":"投入係数!BJ26*BJ$119","v":0},{"$f":"投入係数!BK26*BK$119","v":0},{"$f":"投入係数!BL26*BL$119","v":0},{"$f":"投入係数!BM26*BM$119","v":0},{"$f":"投入係数!BN26*BN$119","v":0},{"$f":"投入係数!BO26*BO$119","v":0},{"$f":"投入係数!BP26*BP$119","v":0},{"$f":"投入係数!BQ26*BQ$119","v":0},{"$f":"投入係数!BR26*BR$119","v":0},{"$f":"投入係数!BS26*BS$119","v":0},{"$f":"投入係数!BT26*BT$119","v":0},{"$f":"投入係数!BU26*BU$119","v":0},{"$f":"投入係数!BV26*BV$119","v":0},{"$f":"投入係数!BW26*BW$119","v":0},{"$f":"投入係数!BX26*BX$119","v":0},{"$f":"投入係数!BY26*BY$119","v":0},{"$f":"投入係数!BZ26*BZ$119","v":0},{"$f":"投入係数!CA26*CA$119","v":0},{"$f":"投入係数!CB26*CB$119","v":0},{"$f":"投入係数!CC26*CC$119","v":0},{"$f":"投入係数!CD26*CD$119","v":0},{"$f":"投入係数!CE26*CE$119","v":0},{"$f":"投入係数!CF26*CF$119","v":0},{"$f":"投入係数!CG26*CG$119","v":0},{"$f":"投入係数!CH26*CH$119","v":0},{"$f":"投入係数!CI26*CI$119","v":0},{"$f":"投入係数!CJ26*CJ$119","v":0},{"$f":"投入係数!CK26*CK$119","v":0},{"$f":"投入係数!CL26*CL$119","v":0},{"$f":"投入係数!CM26*CM$119","v":0},{"$f":"投入係数!CN26*CN$119","v":0},{"$f":"投入係数!CO26*CO$119","v":0},{"$f":"投入係数!CP26*CP$119","v":0},{"$f":"投入係数!CQ26*CQ$119","v":0},{"$f":"投入係数!CR26*CR$119","v":0},{"$f":"投入係数!CS26*CS$119","v":0},{"$f":"投入係数!CT26*CT$119","v":0},{"$f":"投入係数!CU26*CU$119","v":0},{"$f":"投入係数!CV26*CV$119","v":0},{"$f":"投入係数!CW26*CW$119","v":0},{"$f":"投入係数!CX26*CX$119","v":0},{"$f":"投入係数!CY26*CY$119","v":0},{"$f":"投入係数!CZ26*CZ$119","v":0},{"$f":"投入係数!DA26*DA$119","v":0},{"$f":"投入係数!DB26*DB$119","v":0},{"$f":"投入係数!DC26*DC$119","v":0},{"$f":"投入係数!DD26*DD$119","v":0},{"$f":"投入係数!DE26*DE$119","v":0},{"$f":"投入係数!DF26*DF$119","v":0},{"$f":"投入係数!DG26*DG$119","v":0},{"$f":"投入係数!DH26*DH$119","v":0},0]
[null,"202","無機化学工業製品",{"$f":"投入係数!D27*D$119","v":0},{"$f":"投入係数!E27*E$119","v":0},{"$f":"投入係数!F27*F$119","v":0},{"$f":"投入係数!G27*G$119","v":0},{"$f":"投入係数!H27*H$119","v":0},{"$f":"投入係数!I27*I$119","v":0},{"$f":"投入係数!J27*J$119","v":0},{"$f":"投入係数!K27*K$119","v":0},{"$f":"投入係数!L27*L$119","v":0},{"$f":"投入係数!M27*M$119","v":0},{"$f":"投入係数!N27*N$119","v":0},{"$f":"投入係数!O27*O$119","v":0},{"$f":"投入係数!P27*P$119","v":0},{"$f":"投入係数!Q27*Q$119","v":0},{"$f":"投入係数!R27*R$119","v":0},{"$f":"投入係数!S27*S$119","v":0},{"$f":"投入係数!T27*T$119","v":0},{"$f":"投入係数!U27*U$119","v":0},{"$f":"投入係数!V27*V$119","v":0},{"$f":"投入係数!W27*W$119","v":0},{"$f":"投入係数!X27*X$119","v":0},{"$f":"投入係数!Y27*Y$119","v":0},{"$f":"投入係数!Z27*Z$119","v":0},{"$f":"投入係数!AA27*AA$119","v":0},{"$f":"投入係数!AB27*AB$119","v":0},{"$f":"投入係数!AC27*AC$119","v":0},{"$f":"投入係数!AD27*AD$119","v":0},{"$f":"投入係数!AE27*AE$119","v":0},{"$f":"投入係数!AF27*AF$119","v":0},{"$f":"投入係数!AG27*AG$119","v":0},{"$f":"投入係数!AH27*AH$119","v":0},{"$f":"投入係数!AI27*AI$119","v":0},{"$f":"投入係数!AJ27*AJ$119","v":0},{"$f":"投入係数!AK27*AK$119","v":0},{"$f":"投入係数!AL27*AL$119","v":0},{"$f":"投入係数!AM27*AM$119","v":0},{"$f":"投入係数!AN27*AN$119","v":0},{"$f":"投入係数!AO27*AO$119","v":0},{"$f":"投入係数!AP27*AP$119","v":0},{"$f":"投入係数!AQ27*AQ$119","v":0},{"$f":"投入係数!AR27*AR$119","v":0},{"$f":"投入係数!AS27*AS$119","v":0},{"$f":"投入係数!AT27*AT$119","v":0},{"$f":"投入係数!AU27*AU$119","v":0},{"$f":"投入係数!AV27*AV$119","v":0},{"$f":"投入係数!AW27*AW$119","v":0},{"$f":"投入係数!AX27*AX$119","v":0},{"$f":"投入係数!AY27*AY$119","v":0},{"$f":"投入係数!AZ27*AZ$119","v":0},{"$f":"投入係数!BA27*BA$119","v":0},{"$f":"投入係数!BB27*BB$119","v":0},{"$f":"投入係数!BC27*BC$119","v":0},{"$f":"投入係数!BD27*BD$119","v":0},{"$f":"投入係数!BE27*BE$119","v":0},{"$f":"投入係数!BF27*BF$119","v":0},{"$f":"投入係数!BG27*BG$119","v":0},{"$f":"投入係数!BH27*BH$119","v":0},{"$f":"投入係数!BI27*BI$119","v":0},{"$f":"投入係数!BJ27*BJ$119","v":0},{"$f":"投入係数!BK27*BK$119","v":0},{"$f":"投入係数!BL27*BL$119","v":0},{"$f":"投入係数!BM27*BM$119","v":0},{"$f":"投入係数!BN27*BN$119","v":0},{"$f":"投入係数!BO27*BO$119","v":0},{"$f":"投入係数!BP27*BP$119","v":0},{"$f":"投入係数!BQ27*BQ$119","v":0},{"$f":"投入係数!BR27*BR$119","v":0},{"$f":"投入係数!BS27*BS$119","v":0},{"$f":"投入係数!BT27*BT$119","v":0},{"$f":"投入係数!BU27*BU$119","v":0},{"$f":"投入係数!BV27*BV$119","v":0},{"$f":"投入係数!BW27*BW$119","v":0},{"$f":"投入係数!BX27*BX$119","v":0},{"$f":"投入係数!BY27*BY$119","v":0},{"$f":"投入係数!BZ27*BZ$119","v":0},{"$f":"投入係数!CA27*CA$119","v":0},{"$f":"投入係数!CB27*CB$119","v":0},{"$f":"投入係数!CC27*CC$119","v":0},{"$f":"投入係数!CD27*CD$119","v":0},{"$f":"投入係数!CE27*CE$119","v":0},{"$f":"投入係数!CF27*CF$119","v":0},{"$f":"投入係数!CG27*CG$119","v":0},{"$f":"投入係数!CH27*CH$119","v":0},{"$f":"投入係数!CI27*CI$119","v":0},{"$f":"投入係数!CJ27*CJ$119","v":0},{"$f":"投入係数!CK27*CK$119","v":0},{"$f":"投入係数!CL27*CL$119","v":0},{"$f":"投入係数!CM27*CM$119","v":0},{"$f":"投入係数!CN27*CN$119","v":0},{"$f":"投入係数!CO27*CO$119","v":0},{"$f":"投入係数!CP27*CP$119","v":0},{"$f":"投入係数!CQ27*CQ$119","v":0},{"$f":"投入係数!CR27*CR$119","v":0},{"$f":"投入係数!CS27*CS$119","v":0},{"$f":"投入係数!CT27*CT$119","v":0},{"$f":"投入係数!CU27*CU$119","v":0},{"$f":"投入係数!CV27*CV$119","v":0},{"$f":"投入係数!CW27*CW$119","v":0},{"$f":"投入係数!CX27*CX$119","v":0},{"$f":"投入係数!CY27*CY$119","v":0},{"$f":"投入係数!CZ27*CZ$119","v":0},{"$f":"投入係数!DA27*DA$119","v":0},{"$f":"投入係数!DB27*DB$119","v":0},{"$f":"投入係数!DC27*DC$119","v":0},{"$f":"投入係数!DD27*DD$119","v":0},{"$f":"投入係数!DE27*DE$119","v":0},{"$f":"投入係数!DF27*DF$119","v":0},{"$f":"投入係数!DG27*DG$119","v":0},{"$f":"投入係数!DH27*DH$119","v":0},0]
[null,"203","石油化学系基礎製品",{"$f":"投入係数!D28*D$119","v":0},{"$f":"投入係数!E28*E$119","v":0},{"$f":"投入係数!F28*F$119","v":0},{"$f":"投入係数!G28*G$119","v":0},{"$f":"投入係数!H28*H$119","v":0},{"$f":"投入係数!I28*I$119","v":0},{"$f":"投入係数!J28*J$119","v":0},{"$f":"投入係数!K28*K$119","v":0},{"$f":"投入係数!L28*L$119","v":0},{"$f":"投入係数!M28*M$119","v":0},{"$f":"投入係数!N28*N$119","v":0},{"$f":"投入係数!O28*O$119","v":0},{"$f":"投入係数!P28*P$119","v":0},{"$f":"投入係数!Q28*Q$119","v":0},{"$f":"投入係数!R28*R$119","v":0},{"$f":"投入係数!S28*S$119","v":0},{"$f":"投入係数!T28*T$119","v":0},{"$f":"投入係数!U28*U$119","v":0},{"$f":"投入係数!V28*V$119","v":0},{"$f":"投入係数!W28*W$119","v":0},{"$f":"投入係数!X28*X$119","v":0},{"$f":"投入係数!Y28*Y$119","v":0},{"$f":"投入係数!Z28*Z$119","v":0},{"$f":"投入係数!AA28*AA$119","v":0},{"$f":"投入係数!AB28*AB$119","v":0},{"$f":"投入係数!AC28*AC$119","v":0},{"$f":"投入係数!AD28*AD$119","v":0},{"$f":"投入係数!AE28*AE$119","v":0},{"$f":"投入係数!AF28*AF$119","v":0},{"$f":"投入係数!AG28*AG$119","v":0},{"$f":"投入係数!AH28*AH$119","v":0},{"$f":"投入係数!AI28*AI$119","v":0},{"$f":"投入係数!AJ28*AJ$119","v":0},{"$f":"投入係数!AK28*AK$119","v":0},{"$f":"投入係数!AL28*AL$119","v":0},{"$f":"投入係数!AM28*AM$119","v":0},{"$f":"投入係数!AN28*AN$119","v":0},{"$f":"投入係数!AO28*AO$119","v":0},{"$f":"投入係数!AP28*AP$119","v":0},{"$f":"投入係数!AQ28*AQ$119","v":0},{"$f":"投入係数!AR28*AR$119","v":0},{"$f":"投入係数!AS28*AS$119","v":0},{"$f":"投入係数!AT28*AT$119","v":0},{"$f":"投入係数!AU28*AU$119","v":0},{"$f":"投入係数!AV28*AV$119","v":0},{"$f":"投入係数!AW28*AW$119","v":0},{"$f":"投入係数!AX28*AX$119","v":0},{"$f":"投入係数!AY28*AY$119","v":0},{"$f":"投入係数!AZ28*AZ$119","v":0},{"$f":"投入係数!BA28*BA$119","v":0},{"$f":"投入係数!BB28*BB$119","v":0},{"$f":"投入係数!BC28*BC$119","v":0},{"$f":"投入係数!BD28*BD$119","v":0},{"$f":"投入係数!BE28*BE$119","v":0},{"$f":"投入係数!BF28*BF$119","v":0},{"$f":"投入係数!BG28*BG$119","v":0},{"$f":"投入係数!BH28*BH$119","v":0},{"$f":"投入係数!BI28*BI$119","v":0},{"$f":"投入係数!BJ28*BJ$119","v":0},{"$f":"投入係数!BK28*BK$119","v":0},{"$f":"投入係数!BL28*BL$119","v":0},{"$f":"投入係数!BM28*BM$119","v":0},{"$f":"投入係数!BN28*BN$119","v":0},{"$f":"投入係数!BO28*BO$119","v":0},{"$f":"投入係数!BP28*BP$119","v":0},{"$f":"投入係数!BQ28*BQ$119","v":0},{"$f":"投入係数!BR28*BR$119","v":0},{"$f":"投入係数!BS28*BS$119","v":0},{"$f":"投入係数!BT28*BT$119","v":0},{"$f":"投入係数!BU28*BU$119","v":0},{"$f":"投入係数!BV28*BV$119","v":0},{"$f":"投入係数!BW28*BW$119","v":0},{"$f":"投入係数!BX28*BX$119","v":0},{"$f":"投入係数!BY28*BY$119","v":0},{"$f":"投入係数!BZ28*BZ$119","v":0},{"$f":"投入係数!CA28*CA$119","v":0},{"$f":"投入係数!CB28*CB$119","v":0},{"$f":"投入係数!CC28*CC$119","v":0},{"$f":"投入係数!CD28*CD$119","v":0},{"$f":"投入係数!CE28*CE$119","v":0},{"$f":"投入係数!CF28*CF$119","v":0},{"$f":"投入係数!CG28*CG$119","v":0},{"$f":"投入係数!CH28*CH$119","v":0},{"$f":"投入係数!CI28*CI$119","v":0},{"$f":"投入係数!CJ28*CJ$119","v":0},{"$f":"投入係数!CK28*CK$119","v":0},{"$f":"投入係数!CL28*CL$119","v":0},{"$f":"投入係数!CM28*CM$119","v":0},{"$f":"投入係数!CN28*CN$119","v":0},{"$f":"投入係数!CO28*CO$119","v":0},{"$f":"投入係数!CP28*CP$119","v":0},{"$f":"投入係数!CQ28*CQ$119","v":0},{"$f":"投入係数!CR28*CR$119","v":0},{"$f":"投入係数!CS28*CS$119","v":0},{"$f":"投入係数!CT28*CT$119","v":0},{"$f":"投入係数!CU28*CU$119","v":0},{"$f":"投入係数!CV28*CV$119","v":0},{"$f":"投入係数!CW28*CW$119","v":0},{"$f":"投入係数!CX28*CX$119","v":0},{"$f":"投入係数!CY28*CY$119","v":0},{"$f":"投入係数!CZ28*CZ$119","v":0},{"$f":"投入係数!DA28*DA$119","v":0},{"$f":"投入係数!DB28*DB$119","v":0},{"$f":"投入係数!DC28*DC$119","v":0},{"$f":"投入係数!DD28*DD$119","v":0},{"$f":"投入係数!DE28*DE$119","v":0},{"$f":"投入係数!DF28*DF$119","v":0},{"$f":"投入係数!DG28*DG$119","v":0},{"$f":"投入係数!DH28*DH$119","v":0},0]
[null,"204","有機化学工業製品（石油化学系基礎製品・合成樹脂を除く。）",{"$f":"投入係数!D29*D$119","v":0},{"$f":"投入係数!E29*E$119","v":0},{"$f":"投入係数!F29*F$119","v":0},{"$f":"投入係数!G29*G$119","v":0},{"$f":"投入係数!H29*H$119","v":0},{"$f":"投入係数!I29*I$119","v":0},{"$f":"投入係数!J29*J$119","v":0},{"$f":"投入係数!K29*K$119","v":0},{"$f":"投入係数!L29*L$119","v":0},{"$f":"投入係数!M29*M$119","v":0},{"$f":"投入係数!N29*N$119","v":0},{"$f":"投入係数!O29*O$119","v":0},{"$f":"投入係数!P29*P$119","v":0},{"$f":"投入係数!Q29*Q$119","v":0},{"$f":"投入係数!R29*R$119","v":0},{"$f":"投入係数!S29*S$119","v":0},{"$f":"投入係数!T29*T$119","v":0},{"$f":"投入係数!U29*U$119","v":0},{"$f":"投入係数!V29*V$119","v":0},{"$f":"投入係数!W29*W$119","v":0},{"$f":"投入係数!X29*X$119","v":0},{"$f":"投入係数!Y29*Y$119","v":0},{"$f":"投入係数!Z29*Z$119","v":0},{"$f":"投入係数!AA29*AA$119","v":0},{"$f":"投入係数!AB29*AB$119","v":0},{"$f":"投入係数!AC29*AC$119","v":0},{"$f":"投入係数!AD29*AD$119","v":0},{"$f":"投入係数!AE29*AE$119","v":0},{"$f":"投入係数!AF29*AF$119","v":0},{"$f":"投入係数!AG29*AG$119","v":0},{"$f":"投入係数!AH29*AH$119","v":0},{"$f":"投入係数!AI29*AI$119","v":0},{"$f":"投入係数!AJ29*AJ$119","v":0},{"$f":"投入係数!AK29*AK$119","v":0},{"$f":"投入係数!AL29*AL$119","v":0},{"$f":"投入係数!AM29*AM$119","v":0},{"$f":"投入係数!AN29*AN$119","v":0},{"$f":"投入係数!AO29*AO$119","v":0},{"$f":"投入係数!AP29*AP$119","v":0},{"$f":"投入係数!AQ29*AQ$119","v":0},{"$f":"投入係数!AR29*AR$119","v":0},{"$f":"投入係数!AS29*AS$119","v":0},{"$f":"投入係数!AT29*AT$119","v":0},{"$f":"投入係数!AU29*AU$119","v":0},{"$f":"投入係数!AV29*AV$119","v":0},{"$f":"投入係数!AW29*AW$119","v":0},{"$f":"投入係数!AX29*AX$119","v":0},{"$f":"投入係数!AY29*AY$119","v":0},{"$f":"投入係数!AZ29*AZ$119","v":0},{"$f":"投入係数!BA29*BA$119","v":0},{"$f":"投入係数!BB29*BB$119","v":0},{"$f":"投入係数!BC29*BC$119","v":0},{"$f":"投入係数!BD29*BD$119","v":0},{"$f":"投入係数!BE29*BE$119","v":0},{"$f":"投入係数!BF29*BF$119","v":0},{"$f":"投入係数!BG29*BG$119","v":0},{"$f":"投入係数!BH29*BH$119","v":0},{"$f":"投入係数!BI29*BI$119","v":0},{"$f":"投入係数!BJ29*BJ$119","v":0},{"$f":"投入係数!BK29*BK$119","v":0},{"$f":"投入係数!BL29*BL$119","v":0},{"$f":"投入係数!BM29*BM$119","v":0},{"$f":"投入係数!BN29*BN$119","v":0},{"$f":"投入係数!BO29*BO$119","v":0},{"$f":"投入係数!BP29*BP$119","v":0},{"$f":"投入係数!BQ29*BQ$119","v":0},{"$f":"投入係数!BR29*BR$119","v":0},{"$f":"投入係数!BS29*BS$119","v":0},{"$f":"投入係数!BT29*BT$119","v":0},{"$f":"投入係数!BU29*BU$119","v":0},{"$f":"投入係数!BV29*BV$119","v":0},{"$f":"投入係数!BW29*BW$119","v":0},{"$f":"投入係数!BX29*BX$119","v":0},{"$f":"投入係数!BY29*BY$119","v":0},{"$f":"投入係数!BZ29*BZ$119","v":0},{"$f":"投入係数!CA29*CA$119","v":0},{"$f":"投入係数!CB29*CB$119","v":0},{"$f":"投入係数!CC29*CC$119","v":0},{"$f":"投入係数!CD29*CD$119","v":0},{"$f":"投入係数!CE29*CE$119","v":0},{"$f":"投入係数!CF29*CF$119","v":0},{"$f":"投入係数!CG29*CG$119","v":0},{"$f":"投入係数!CH29*CH$119","v":0},{"$f":"投入係数!CI29*CI$119","v":0},{"$f":"投入係数!CJ29*CJ$119","v":0},{"$f":"投入係数!CK29*CK$119","v":0},{"$f":"投入係数!CL29*CL$119","v":0},{"$f":"投入係数!CM29*CM$119","v":0},{"$f":"投入係数!CN29*CN$119","v":0},{"$f":"投入係数!CO29*CO$119","v":0},{"$f":"投入係数!CP29*CP$119","v":0},{"$f":"投入係数!CQ29*CQ$119","v":0},{"$f":"投入係数!CR29*CR$119","v":0},{"$f":"投入係数!CS29*CS$119","v":0},{"$f":"投入係数!CT29*CT$119","v":0},{"$f":"投入係数!CU29*CU$119","v":0},{"$f":"投入係数!CV29*CV$119","v":0},{"$f":"投入係数!CW29*CW$119","v":0},{"$f":"投入係数!CX29*CX$119","v":0},{"$f":"投入係数!CY29*CY$119","v":0},{"$f":"投入係数!CZ29*CZ$119","v":0},{"$f":"投入係数!DA29*DA$119","v":0},{"$f":"投入係数!DB29*DB$119","v":0},{"$f":"投入係数!DC29*DC$119","v":0},{"$f":"投入係数!DD29*DD$119","v":0},{"$f":"投入係数!DE29*DE$119","v":0},{"$f":"投入係数!DF29*DF$119","v":0},{"$f":"投入係数!DG29*DG$119","v":0},{"$f":"投入係数!DH29*DH$119","v":0},0]
[null,"205","合成樹脂",{"$f":"投入係数!D30*D$119","v":0},{"$f":"投入係数!E30*E$119","v":0},{"$f":"投入係数!F30*F$119","v":0},{"$f":"投入係数!G30*G$119","v":0},{"$f":"投入係数!H30*H$119","v":0},{"$f":"投入係数!I30*I$119","v":0},{"$f":"投入係数!J30*J$119","v":0},{"$f":"投入係数!K30*K$119","v":0},{"$f":"投入係数!L30*L$119","v":0},{"$f":"投入係数!M30*M$119","v":0},{"$f":"投入係数!N30*N$119","v":0},{"$f":"投入係数!O30*O$119","v":0},{"$f":"投入係数!P30*P$119","v":0},{"$f":"投入係数!Q30*Q$119","v":0},{"$f":"投入係数!R30*R$119","v":0},{"$f":"投入係数!S30*S$119","v":0},{"$f":"投入係数!T30*T$119","v":0},{"$f":"投入係数!U30*U$119","v":0},{"$f":"投入係数!V30*V$119","v":0},{"$f":"投入係数!W30*W$119","v":0},{"$f":"投入係数!X30*X$119","v":0},{"$f":"投入係数!Y30*Y$119","v":0},{"$f":"投入係数!Z30*Z$119","v":0},{"$f":"投入係数!AA30*AA$119","v":0},{"$f":"投入係数!AB30*AB$119","v":0},{"$f":"投入係数!AC30*AC$119","v":0},{"$f":"投入係数!AD30*AD$119","v":0},{"$f":"投入係数!AE30*AE$119","v":0},{"$f":"投入係数!AF30*AF$119","v":0},{"$f":"投入係数!AG30*AG$119","v":0},{"$f":"投入係数!AH30*AH$119","v":0},{"$f":"投入係数!AI30*AI$119","v":0},{"$f":"投入係数!AJ30*AJ$119","v":0},{"$f":"投入係数!AK30*AK$119","v":0},{"$f":"投入係数!AL30*AL$119","v":0},{"$f":"投入係数!AM30*AM$119","v":0},{"$f":"投入係数!AN30*AN$119","v":0},{"$f":"投入係数!AO30*AO$119","v":0},{"$f":"投入係数!AP30*AP$119","v":0},{"$f":"投入係数!AQ30*AQ$119","v":0},{"$f":"投入係数!AR30*AR$119","v":0},{"$f":"投入係数!AS30*AS$119","v":0},{"$f":"投入係数!AT30*AT$119","v":0},{"$f":"投入係数!AU30*AU$119","v":0},{"$f":"投入係数!AV30*AV$119","v":0},{"$f":"投入係数!AW30*AW$119","v":0},{"$f":"投入係数!AX30*AX$119","v":0},{"$f":"投入係数!AY30*AY$119","v":0},{"$f":"投入係数!AZ30*AZ$119","v":0},{"$f":"投入係数!BA30*BA$119","v":0},{"$f":"投入係数!BB30*BB$119","v":0},{"$f":"投入係数!BC30*BC$119","v":0},{"$f":"投入係数!BD30*BD$119","v":0},{"$f":"投入係数!BE30*BE$119","v":0},{"$f":"投入係数!BF30*BF$119","v":0},{"$f":"投入係数!BG30*BG$119","v":0},{"$f":"投入係数!BH30*BH$119","v":0},{"$f":"投入係数!BI30*BI$119","v":0},{"$f":"投入係数!BJ30*BJ$119","v":0},{"$f":"投入係数!BK30*BK$119","v":0},{"$f":"投入係数!BL30*BL$119","v":0},{"$f":"投入係数!BM30*BM$119","v":0},{"$f":"投入係数!BN30*BN$119","v":0},{"$f":"投入係数!BO30*BO$119","v":0},{"$f":"投入係数!BP30*BP$119","v":0},{"$f":"投入係数!BQ30*BQ$119","v":0},{"$f":"投入係数!BR30*BR$119","v":0},{"$f":"投入係数!BS30*BS$119","v":0},{"$f":"投入係数!BT30*BT$119","v":0},{"$f":"投入係数!BU30*BU$119","v":0},{"$f":"投入係数!BV30*BV$119","v":0},{"$f":"投入係数!BW30*BW$119","v":0},{"$f":"投入係数!BX30*BX$119","v":0},{"$f":"投入係数!BY30*BY$119","v":0},{"$f":"投入係数!BZ30*BZ$119","v":0},{"$f":"投入係数!CA30*CA$119","v":0},{"$f":"投入係数!CB30*CB$119","v":0},{"$f":"投入係数!CC30*CC$119","v":0},{"$f":"投入係数!CD30*CD$119","v":0},{"$f":"投入係数!CE30*CE$119","v":0},{"$f":"投入係数!CF30*CF$119","v":0},{"$f":"投入係数!CG30*CG$119","v":0},{"$f":"投入係数!CH30*CH$119","v":0},{"$f":"投入係数!CI30*CI$119","v":0},{"$f":"投入係数!CJ30*CJ$119","v":0},{"$f":"投入係数!CK30*CK$119","v":0},{"$f":"投入係数!CL30*CL$119","v":0},{"$f":"投入係数!CM30*CM$119","v":0},{"$f":"投入係数!CN30*CN$119","v":0},{"$f":"投入係数!CO30*CO$119","v":0},{"$f":"投入係数!CP30*CP$119","v":0},{"$f":"投入係数!CQ30*CQ$119","v":0},{"$f":"投入係数!CR30*CR$119","v":0},{"$f":"投入係数!CS30*CS$119","v":0},{"$f":"投入係数!CT30*CT$119","v":0},{"$f":"投入係数!CU30*CU$119","v":0},{"$f":"投入係数!CV30*CV$119","v":0},{"$f":"投入係数!CW30*CW$119","v":0},{"$f":"投入係数!CX30*CX$119","v":0},{"$f":"投入係数!CY30*CY$119","v":0},{"$f":"投入係数!CZ30*CZ$119","v":0},{"$f":"投入係数!DA30*DA$119","v":0},{"$f":"投入係数!DB30*DB$119","v":0},{"$f":"投入係数!DC30*DC$119","v":0},{"$f":"投入係数!DD30*DD$119","v":0},{"$f":"投入係数!DE30*DE$119","v":0},{"$f":"投入係数!DF30*DF$119","v":0},{"$f":"投入係数!DG30*DG$119","v":0},{"$f":"投入係数!DH30*DH$119","v":0},0]
[null,"206","化学繊維",{"$f":"投入係数!D31*D$119","v":0},{"$f":"投入係数!E31*E$119","v":0},{"$f":"投入係数!F31*F$119","v":0},{"$f":"投入係数!G31*G$119","v":0},{"$f":"投入係数!H31*H$119","v":0},{"$f":"投入係数!I31*I$119","v":0},{"$f":"投入係数!J31*J$119","v":0},{"$f":"投入係数!K31*K$119","v":0},{"$f":"投入係数!L31*L$119","v":0},{"$f":"投入係数!M31*M$119","v":0},{"$f":"投入係数!N31*N$119","v":0},{"$f":"投入係数!O31*O$119","v":0},{"$f":"投入係数!P31*P$119","v":0},{"$f":"投入係数!Q31*Q$119","v":0},{"$f":"投入係数!R31*R$119","v":0},{"$f":"投入係数!S31*S$119","v":0},{"$f":"投入係数!T31*T$119","v":0},{"$f":"投入係数!U31*U$119","v":0},{"$f":"投入係数!V31*V$119","v":0},{"$f":"投入係数!W31*W$119","v":0},{"$f":"投入係数!X31*X$119","v":0},{"$f":"投入係数!Y31*Y$119","v":0},{"$f":"投入係数!Z31*Z$119","v":0},{"$f":"投入係数!AA31*AA$119","v":0},{"$f":"投入係数!AB31*AB$119","v":0},{"$f":"投入係数!AC31*AC$119","v":0},{"$f":"投入係数!AD31*AD$119","v":0},{"$f":"投入係数!AE31*AE$119","v":0},{"$f":"投入係数!AF31*AF$119","v":0},{"$f":"投入係数!AG31*AG$119","v":0},{"$f":"投入係数!AH31*AH$119","v":0},{"$f":"投入係数!AI31*AI$119","v":0},{"$f":"投入係数!AJ31*AJ$119","v":0},{"$f":"投入係数!AK31*AK$119","v":0},{"$f":"投入係数!AL31*AL$119","v":0},{"$f":"投入係数!AM31*AM$119","v":0},{"$f":"投入係数!AN31*AN$119","v":0},{"$f":"投入係数!AO31*AO$119","v":0},{"$f":"投入係数!AP31*AP$119","v":0},{"$f":"投入係数!AQ31*AQ$119","v":0},{"$f":"投入係数!AR31*AR$119","v":0},{"$f":"投入係数!AS31*AS$119","v":0},{"$f":"投入係数!AT31*AT$119","v":0},{"$f":"投入係数!AU31*AU$119","v":0},{"$f":"投入係数!AV31*AV$119","v":0},{"$f":"投入係数!AW31*AW$119","v":0},{"$f":"投入係数!AX31*AX$119","v":0},{"$f":"投入係数!AY31*AY$119","v":0},{"$f":"投入係数!AZ31*AZ$119","v":0},{"$f":"投入係数!BA31*BA$119","v":0},{"$f":"投入係数!BB31*BB$119","v":0},{"$f":"投入係数!BC31*BC$119","v":0},{"$f":"投入係数!BD31*BD$119","v":0},{"$f":"投入係数!BE31*BE$119","v":0},{"$f":"投入係数!BF31*BF$119","v":0},{"$f":"投入係数!BG31*BG$119","v":0},{"$f":"投入係数!BH31*BH$119","v":0},{"$f":"投入係数!BI31*BI$119","v":0},{"$f":"投入係数!BJ31*BJ$119","v":0},{"$f":"投入係数!BK31*BK$119","v":0},{"$f":"投入係数!BL31*BL$119","v":0},{"$f":"投入係数!BM31*BM$119","v":0},{"$f":"投入係数!BN31*BN$119","v":0},{"$f":"投入係数!BO31*BO$119","v":0},{"$f":"投入係数!BP31*BP$119","v":0},{"$f":"投入係数!BQ31*BQ$119","v":0},{"$f":"投入係数!BR31*BR$119","v":0},{"$f":"投入係数!BS31*BS$119","v":0},{"$f":"投入係数!BT31*BT$119","v":0},{"$f":"投入係数!BU31*BU$119","v":0},{"$f":"投入係数!BV31*BV$119","v":0},{"$f":"投入係数!BW31*BW$119","v":0},{"$f":"投入係数!BX31*BX$119","v":0},{"$f":"投入係数!BY31*BY$119","v":0},{"$f":"投入係数!BZ31*BZ$119","v":0},{"$f":"投入係数!CA31*CA$119","v":0},{"$f":"投入係数!CB31*CB$119","v":0},{"$f":"投入係数!CC31*CC$119","v":0},{"$f":"投入係数!CD31*CD$119","v":0},{"$f":"投入係数!CE31*CE$119","v":0},{"$f":"投入係数!CF31*CF$119","v":0},{"$f":"投入係数!CG31*CG$119","v":0},{"$f":"投入係数!CH31*CH$119","v":0},{"$f":"投入係数!CI31*CI$119","v":0},{"$f":"投入係数!CJ31*CJ$119","v":0},{"$f":"投入係数!CK31*CK$119","v":0},{"$f":"投入係数!CL31*CL$119","v":0},{"$f":"投入係数!CM31*CM$119","v":0},{"$f":"投入係数!CN31*CN$119","v":0},{"$f":"投入係数!CO31*CO$119","v":0},{"$f":"投入係数!CP31*CP$119","v":0},{"$f":"投入係数!CQ31*CQ$119","v":0},{"$f":"投入係数!CR31*CR$119","v":0},{"$f":"投入係数!CS31*CS$119","v":0},{"$f":"投入係数!CT31*CT$119","v":0},{"$f":"投入係数!CU31*CU$119","v":0},{"$f":"投入係数!CV31*CV$119","v":0},{"$f":"投入係数!CW31*CW$119","v":0},{"$f":"投入係数!CX31*CX$119","v":0},{"$f":"投入係数!CY31*CY$119","v":0},{"$f":"投入係数!CZ31*CZ$119","v":0},{"$f":"投入係数!DA31*DA$119","v":0},{"$f":"投入係数!DB31*DB$119","v":0},{"$f":"投入係数!DC31*DC$119","v":0},{"$f":"投入係数!DD31*DD$119","v":0},{"$f":"投入係数!DE31*DE$119","v":0},{"$f":"投入係数!DF31*DF$119","v":0},{"$f":"投入係数!DG31*DG$119","v":0},{"$f":"投入係数!DH31*DH$119","v":0},0]
[null,"207","医薬品",{"$f":"投入係数!D32*D$119","v":0},{"$f":"投入係数!E32*E$119","v":0},{"$f":"投入係数!F32*F$119","v":0},{"$f":"投入係数!G32*G$119","v":0},{"$f":"投入係数!H32*H$119","v":0},{"$f":"投入係数!I32*I$119","v":0},{"$f":"投入係数!J32*J$119","v":0},{"$f":"投入係数!K32*K$119","v":0},{"$f":"投入係数!L32*L$119","v":0},{"$f":"投入係数!M32*M$119","v":0},{"$f":"投入係数!N32*N$119","v":0},{"$f":"投入係数!O32*O$119","v":0},{"$f":"投入係数!P32*P$119","v":0},{"$f":"投入係数!Q32*Q$119","v":0},{"$f":"投入係数!R32*R$119","v":0},{"$f":"投入係数!S32*S$119","v":0},{"$f":"投入係数!T32*T$119","v":0},{"$f":"投入係数!U32*U$119","v":0},{"$f":"投入係数!V32*V$119","v":0},{"$f":"投入係数!W32*W$119","v":0},{"$f":"投入係数!X32*X$119","v":0},{"$f":"投入係数!Y32*Y$119","v":0},{"$f":"投入係数!Z32*Z$119","v":0},{"$f":"投入係数!AA32*AA$119","v":0},{"$f":"投入係数!AB32*AB$119","v":0},{"$f":"投入係数!AC32*AC$119","v":0},{"$f":"投入係数!AD32*AD$119","v":0},{"$f":"投入係数!AE32*AE$119","v":0},{"$f":"投入係数!AF32*AF$119","v":0},{"$f":"投入係数!AG32*AG$119","v":0},{"$f":"投入係数!AH32*AH$119","v":0},{"$f":"投入係数!AI32*AI$119","v":0},{"$f":"投入係数!AJ32*AJ$119","v":0},{"$f":"投入係数!AK32*AK$119","v":0},{"$f":"投入係数!AL32*AL$119","v":0},{"$f":"投入係数!AM32*AM$119","v":0},{"$f":"投入係数!AN32*AN$119","v":0},{"$f":"投入係数!AO32*AO$119","v":0},{"$f":"投入係数!AP32*AP$119","v":0},{"$f":"投入係数!AQ32*AQ$119","v":0},{"$f":"投入係数!AR32*AR$119","v":0},{"$f":"投入係数!AS32*AS$119","v":0},{"$f":"投入係数!AT32*AT$119","v":0},{"$f":"投入係数!AU32*AU$119","v":0},{"$f":"投入係数!AV32*AV$119","v":0},{"$f":"投入係数!AW32*AW$119","v":0},{"$f":"投入係数!AX32*AX$119","v":0},{"$f":"投入係数!AY32*AY$119","v":0},{"$f":"投入係数!AZ32*AZ$119","v":0},{"$f":"投入係数!BA32*BA$119","v":0},{"$f":"投入係数!BB32*BB$119","v":0},{"$f":"投入係数!BC32*BC$119","v":0},{"$f":"投入係数!BD32*BD$119","v":0},{"$f":"投入係数!BE32*BE$119","v":0},{"$f":"投入係数!BF32*BF$119","v":0},{"$f":"投入係数!BG32*BG$119","v":0},{"$f":"投入係数!BH32*BH$119","v":0},{"$f":"投入係数!BI32*BI$119","v":0},{"$f":"投入係数!BJ32*BJ$119","v":0},{"$f":"投入係数!BK32*BK$119","v":0},{"$f":"投入係数!BL32*BL$119","v":0},{"$f":"投入係数!BM32*BM$119","v":0},{"$f":"投入係数!BN32*BN$119","v":0},{"$f":"投入係数!BO32*BO$119","v":0},{"$f":"投入係数!BP32*BP$119","v":0},{"$f":"投入係数!BQ32*BQ$119","v":0},{"$f":"投入係数!BR32*BR$119","v":0},{"$f":"投入係数!BS32*BS$119","v":0},{"$f":"投入係数!BT32*BT$119","v":0},{"$f":"投入係数!BU32*BU$119","v":0},{"$f":"投入係数!BV32*BV$119","v":0},{"$f":"投入係数!BW32*BW$119","v":0},{"$f":"投入係数!BX32*BX$119","v":0},{"$f":"投入係数!BY32*BY$119","v":0},{"$f":"投入係数!BZ32*BZ$119","v":0},{"$f":"投入係数!CA32*CA$119","v":0},{"$f":"投入係数!CB32*CB$119","v":0},{"$f":"投入係数!CC32*CC$119","v":0},{"$f":"投入係数!CD32*CD$119","v":0},{"$f":"投入係数!CE32*CE$119","v":0},{"$f":"投入係数!CF32*CF$119","v":0},{"$f":"投入係数!CG32*CG$119","v":0},{"$f":"投入係数!CH32*CH$119","v":0},{"$f":"投入係数!CI32*CI$119","v":0},{"$f":"投入係数!CJ32*CJ$119","v":0},{"$f":"投入係数!CK32*CK$119","v":0},{"$f":"投入係数!CL32*CL$119","v":0},{"$f":"投入係数!CM32*CM$119","v":0},{"$f":"投入係数!CN32*CN$119","v":0},{"$f":"投入係数!CO32*CO$119","v":0},{"$f":"投入係数!CP32*CP$119","v":0},{"$f":"投入係数!CQ32*CQ$119","v":0},{"$f":"投入係数!CR32*CR$119","v":0},{"$f":"投入係数!CS32*CS$119","v":0},{"$f":"投入係数!CT32*CT$119","v":0},{"$f":"投入係数!CU32*CU$119","v":0},{"$f":"投入係数!CV32*CV$119","v":0},{"$f":"投入係数!CW32*CW$119","v":0},{"$f":"投入係数!CX32*CX$119","v":0},{"$f":"投入係数!CY32*CY$119","v":0},{"$f":"投入係数!CZ32*CZ$119","v":0},{"$f":"投入係数!DA32*DA$119","v":0},{"$f":"投入係数!DB32*DB$119","v":0},{"$f":"投入係数!DC32*DC$119","v":0},{"$f":"投入係数!DD32*DD$119","v":0},{"$f":"投入係数!DE32*DE$119","v":0},{"$f":"投入係数!DF32*DF$119","v":0},{"$f":"投入係数!DG32*DG$119","v":0},{"$f":"投入係数!DH32*DH$119","v":0},0]
[null,"208","化学最終製品（医薬品を除く。）",{"$f":"投入係数!D33*D$119","v":0},{"$f":"投入係数!E33*E$119","v":0},{"$f":"投入係数!F33*F$119","v":0},{"$f":"投入係数!G33*G$119","v":0},{"$f":"投入係数!H33*H$119","v":0},{"$f":"投入係数!I33*I$119","v":0},{"$f":"投入係数!J33*J$119","v":0},{"$f":"投入係数!K33*K$119","v":0},{"$f":"投入係数!L33*L$119","v":0},{"$f":"投入係数!M33*M$119","v":0},{"$f":"投入係数!N33*N$119","v":0},{"$f":"投入係数!O33*O$119","v":0},{"$f":"投入係数!P33*P$119","v":0},{"$f":"投入係数!Q33*Q$119","v":0},{"$f":"投入係数!R33*R$119","v":0},{"$f":"投入係数!S33*S$119","v":0},{"$f":"投入係数!T33*T$119","v":0},{"$f":"投入係数!U33*U$119","v":0},{"$f":"投入係数!V33*V$119","v":0},{"$f":"投入係数!W33*W$119","v":0},{"$f":"投入係数!X33*X$119","v":0},{"$f":"投入係数!Y33*Y$119","v":0},{"$f":"投入係数!Z33*Z$119","v":0},{"$f":"投入係数!AA33*AA$119","v":0},{"$f":"投入係数!AB33*AB$119","v":0},{"$f":"投入係数!AC33*AC$119","v":0},{"$f":"投入係数!AD33*AD$119","v":0},{"$f":"投入係数!AE33*AE$119","v":0},{"$f":"投入係数!AF33*AF$119","v":0},{"$f":"投入係数!AG33*AG$119","v":0},{"$f":"投入係数!AH33*AH$119","v":0},{"$f":"投入係数!AI33*AI$119","v":0},{"$f":"投入係数!AJ33*AJ$119","v":0},{"$f":"投入係数!AK33*AK$119","v":0},{"$f":"投入係数!AL33*AL$119","v":0},{"$f":"投入係数!AM33*AM$119","v":0},{"$f":"投入係数!AN33*AN$119","v":0},{"$f":"投入係数!AO33*AO$119","v":0},{"$f":"投入係数!AP33*AP$119","v":0},{"$f":"投入係数!AQ33*AQ$119","v":0},{"$f":"投入係数!AR33*AR$119","v":0},{"$f":"投入係数!AS33*AS$119","v":0},{"$f":"投入係数!AT33*AT$119","v":0},{"$f":"投入係数!AU33*AU$119","v":0},{"$f":"投入係数!AV33*AV$119","v":0},{"$f":"投入係数!AW33*AW$119","v":0},{"$f":"投入係数!AX33*AX$119","v":0},{"$f":"投入係数!AY33*AY$119","v":0},{"$f":"投入係数!AZ33*AZ$119","v":0},{"$f":"投入係数!BA33*BA$119","v":0},{"$f":"投入係数!BB33*BB$119","v":0},{"$f":"投入係数!BC33*BC$119","v":0},{"$f":"投入係数!BD33*BD$119","v":0},{"$f":"投入係数!BE33*BE$119","v":0},{"$f":"投入係数!BF33*BF$119","v":0},{"$f":"投入係数!BG33*BG$119","v":0},{"$f":"投入係数!BH33*BH$119","v":0},{"$f":"投入係数!BI33*BI$119","v":0},{"$f":"投入係数!BJ33*BJ$119","v":0},{"$f":"投入係数!BK33*BK$119","v":0},{"$f":"投入係数!BL33*BL$119","v":0},{"$f":"投入係数!BM33*BM$119","v":0},{"$f":"投入係数!BN33*BN$119","v":0},{"$f":"投入係数!BO33*BO$119","v":0},{"$f":"投入係数!BP33*BP$119","v":0},{"$f":"投入係数!BQ33*BQ$119","v":0},{"$f":"投入係数!BR33*BR$119","v":0},{"$f":"投入係数!BS33*BS$119","v":0},{"$f":"投入係数!BT33*BT$119","v":0},{"$f":"投入係数!BU33*BU$119","v":0},{"$f":"投入係数!BV33*BV$119","v":0},{"$f":"投入係数!BW33*BW$119","v":0},{"$f":"投入係数!BX33*BX$119","v":0},{"$f":"投入係数!BY33*BY$119","v":0},{"$f":"投入係数!BZ33*BZ$119","v":0},{"$f":"投入係数!CA33*CA$119","v":0},{"$f":"投入係数!CB33*CB$119","v":0},{"$f":"投入係数!CC33*CC$119","v":0},{"$f":"投入係数!CD33*CD$119","v":0},{"$f":"投入係数!CE33*CE$119","v":0},{"$f":"投入係数!CF33*CF$119","v":0},{"$f":"投入係数!CG33*CG$119","v":0},{"$f":"投入係数!CH33*CH$119","v":0},{"$f":"投入係数!CI33*CI$119","v":0},{"$f":"投入係数!CJ33*CJ$119","v":0},{"$f":"投入係数!CK33*CK$119","v":0},{"$f":"投入係数!CL33*CL$119","v":0},{"$f":"投入係数!CM33*CM$119","v":0},{"$f":"投入係数!CN33*CN$119","v":0},{"$f":"投入係数!CO33*CO$119","v":0},{"$f":"投入係数!CP33*CP$119","v":0},{"$f":"投入係数!CQ33*CQ$119","v":0},{"$f":"投入係数!CR33*CR$119","v":0},{"$f":"投入係数!CS33*CS$119","v":0},{"$f":"投入係数!CT33*CT$119","v":0},{"$f":"投入係数!CU33*CU$119","v":0},{"$f":"投入係数!CV33*CV$119","v":0},{"$f":"投入係数!CW33*CW$119","v":0},{"$f":"投入係数!CX33*CX$119","v":0},{"$f":"投入係数!CY33*CY$119","v":0},{"$f":"投入係数!CZ33*CZ$119","v":0},{"$f":"投入係数!DA33*DA$119","v":0},{"$f":"投入係数!DB33*DB$119","v":0},{"$f":"投入係数!DC33*DC$119","v":0},{"$f":"投入係数!DD33*DD$119","v":0},{"$f":"投入係数!DE33*DE$119","v":0},{"$f":"投入係数!DF33*DF$119","v":0},{"$f":"投入係数!DG33*DG$119","v":0},{"$f":"投入係数!DH33*DH$119","v":0},{"$f":"SUM(D33:DH33)","v":0}]
[null,"211","石油製品",{"$f":"投入係数!D34*D$119","v":0},{"$f":"投入係数!E34*E$119","v":0},{"$f":"投入係数!F34*F$119","v":0},{"$f":"投入係数!G34*G$119","v":0},{"$f":"投入係数!H34*H$119","v":0},{"$f":"投入係数!I34*I$119","v":0},{"$f":"投入係数!J34*J$119","v":0},{"$f":"投入係数!K34*K$119","v":0},{"$f":"投入係数!L34*L$119","v":0},{"$f":"投入係数!M34*M$119","v":0},{"$f":"投入係数!N34*N$119","v":0},{"$f":"投入係数!O34*O$119","v":0},{"$f":"投入係数!P34*P$119","v":0},{"$f":"投入係数!Q34*Q$119","v":0},{"$f":"投入係数!R34*R$119","v":0},{"$f":"投入係数!S34*S$119","v":0},{"$f":"投入係数!T34*T$119","v":0},{"$f":"投入係数!U34*U$119","v":0},{"$f":"投入係数!V34*V$119","v":0},{"$f":"投入係数!W34*W$119","v":0},{"$f":"投入係数!X34*X$119","v":0},{"$f":"投入係数!Y34*Y$119","v":0},{"$f":"投入係数!Z34*Z$119","v":0},{"$f":"投入係数!AA34*AA$119","v":0},{"$f":"投入係数!AB34*AB$119","v":0},{"$f":"投入係数!AC34*AC$119","v":0},{"$f":"投入係数!AD34*AD$119","v":0},{"$f":"投入係数!AE34*AE$119","v":0},{"$f":"投入係数!AF34*AF$119","v":0},{"$f":"投入係数!AG34*AG$119","v":0},{"$f":"投入係数!AH34*AH$119","v":0},{"$f":"投入係数!AI34*AI$119","v":0},{"$f":"投入係数!AJ34*AJ$119","v":0},{"$f":"投入係数!AK34*AK$119","v":0},{"$f":"投入係数!AL34*AL$119","v":0},{"$f":"投入係数!AM34*AM$119","v":0},{"$f":"投入係数!AN34*AN$119","v":0},{"$f":"投入係数!AO34*AO$119","v":0},{"$f":"投入係数!AP34*AP$119","v":0},{"$f":"投入係数!AQ34*AQ$119","v":0},{"$f":"投入係数!AR34*AR$119","v":0},{"$f":"投入係数!AS34*AS$119","v":0},{"$f":"投入係数!AT34*AT$119","v":0},{"$f":"投入係数!AU34*AU$119","v":0},{"$f":"投入係数!AV34*AV$119","v":0},{"$f":"投入係数!AW34*AW$119","v":0},{"$f":"投入係数!AX34*AX$119","v":0},{"$f":"投入係数!AY34*AY$119","v":0},{"$f":"投入係数!AZ34*AZ$119","v":0},{"$f":"投入係数!BA34*BA$119","v":0},{"$f":"投入係数!BB34*BB$119","v":0},{"$f":"投入係数!BC34*BC$119","v":0},{"$f":"投入係数!BD34*BD$119","v":0},{"$f":"投入係数!BE34*BE$119","v":0},{"$f":"投入係数!BF34*BF$119","v":0},{"$f":"投入係数!BG34*BG$119","v":0},{"$f":"投入係数!BH34*BH$119","v":0},{"$f":"投入係数!BI34*BI$119","v":0},{"$f":"投入係数!BJ34*BJ$119","v":0},{"$f":"投入係数!BK34*BK$119","v":0},{"$f":"投入係数!BL34*BL$119","v":0},{"$f":"投入係数!BM34*BM$119","v":0},{"$f":"投入係数!BN34*BN$119","v":0},{"$f":"投入係数!BO34*BO$119","v":0},{"$f":"投入係数!BP34*BP$119","v":0},{"$f":"投入係数!BQ34*BQ$119","v":0},{"$f":"投入係数!BR34*BR$119","v":0},{"$f":"投入係数!BS34*BS$119","v":0},{"$f":"投入係数!BT34*BT$119","v":0},{"$f":"投入係数!BU34*BU$119","v":0},{"$f":"投入係数!BV34*BV$119","v":0},{"$f":"投入係数!BW34*BW$119","v":0},{"$f":"投入係数!BX34*BX$119","v":0},{"$f":"投入係数!BY34*BY$119","v":0},{"$f":"投入係数!BZ34*BZ$119","v":0},{"$f":"投入係数!CA34*CA$119","v":0},{"$f":"投入係数!CB34*CB$119","v":0},{"$f":"投入係数!CC34*CC$119","v":0},{"$f":"投入係数!CD34*CD$119","v":0},{"$f":"投入係数!CE34*CE$119","v":0},{"$f":"投入係数!CF34*CF$119","v":0},{"$f":"投入係数!CG34*CG$119","v":0},{"$f":"投入係数!CH34*CH$119","v":0},{"$f":"投入係数!CI34*CI$119","v":0},{"$f":"投入係数!CJ34*CJ$119","v":0},{"$f":"投入係数!CK34*CK$119","v":0},{"$f":"投入係数!CL34*CL$119","v":0},{"$f":"投入係数!CM34*CM$119","v":0},{"$f":"投入係数!CN34*CN$119","v":0},{"$f":"投入係数!CO34*CO$119","v":0},{"$f":"投入係数!CP34*CP$119","v":0},{"$f":"投入係数!CQ34*CQ$119","v":0},{"$f":"投入係数!CR34*CR$119","v":0},{"$f":"投入係数!CS34*CS$119","v":0},{"$f":"投入係数!CT34*CT$119","v":0},{"$f":"投入係数!CU34*CU$119","v":0},{"$f":"投入係数!CV34*CV$119","v":0},{"$f":"投入係数!CW34*CW$119","v":0},{"$f":"投入係数!CX34*CX$119","v":0},{"$f":"投入係数!CY34*CY$119","v":0},{"$f":"投入係数!CZ34*CZ$119","v":0},{"$f":"投入係数!DA34*DA$119","v":0},{"$f":"投入係数!DB34*DB$119","v":0},{"$f":"投入係数!DC34*DC$119","v":0},{"$f":"投入係数!DD34*DD$119","v":0},{"$f":"投入係数!DE34*DE$119","v":0},{"$f":"投入係数!DF34*DF$119","v":0},{"$f":"投入係数!DG34*DG$119","v":0},{"$f":"投入係数!DH34*DH$119","v":0},0]
[null,"212","石炭製品",{"$f":"投入係数!D35*D$119","v":0},{"$f":"投入係数!E35*E$119","v":0},{"$f":"投入係数!F35*F$119","v":0},{"$f":"投入係数!G35*G$119","v":0},{"$f":"投入係数!H35*H$119","v":0},{"$f":"投入係数!I35*I$119","v":0},{"$f":"投入係数!J35*J$119","v":0},{"$f":"投入係数!K35*K$119","v":0},{"$f":"投入係数!L35*L$119","v":0},{"$f":"投入係数!M35*M$119","v":0},{"$f":"投入係数!N35*N$119","v":0},{"$f":"投入係数!O35*O$119","v":0},{"$f":"投入係数!P35*P$119","v":0},{"$f":"投入係数!Q35*Q$119","v":0},{"$f":"投入係数!R35*R$119","v":0},{"$f":"投入係数!S35*S$119","v":0},{"$f":"投入係数!T35*T$119","v":0},{"$f":"投入係数!U35*U$119","v":0},{"$f":"投入係数!V35*V$119","v":0},{"$f":"投入係数!W35*W$119","v":0},{"$f":"投入係数!X35*X$119","v":0},{"$f":"投入係数!Y35*Y$119","v":0},{"$f":"投入係数!Z35*Z$119","v":0},{"$f":"投入係数!AA35*AA$119","v":0},{"$f":"投入係数!AB35*AB$119","v":0},{"$f":"投入係数!AC35*AC$119","v":0},{"$f":"投入係数!AD35*AD$119","v":0},{"$f":"投入係数!AE35*AE$119","v":0},{"$f":"投入係数!AF35*AF$119","v":0},{"$f":"投入係数!AG35*AG$119","v":0},{"$f":"投入係数!AH35*AH$119","v":0},{"$f":"投入係数!AI35*AI$119","v":0},{"$f":"投入係数!AJ35*AJ$119","v":0},{"$f":"投入係数!AK35*AK$119","v":0},{"$f":"投入係数!AL35*AL$119","v":0},{"$f":"投入係数!AM35*AM$119","v":0},{"$f":"投入係数!AN35*AN$119","v":0},{"$f":"投入係数!AO35*AO$119","v":0},{"$f":"投入係数!AP35*AP$119","v":0},{"$f":"投入係数!AQ35*AQ$119","v":0},{"$f":"投入係数!AR35*AR$119","v":0},{"$f":"投入係数!AS35*AS$119","v":0},{"$f":"投入係数!AT35*AT$119","v":0},{"$f":"投入係数!AU35*AU$119","v":0},{"$f":"投入係数!AV35*AV$119","v":0},{"$f":"投入係数!AW35*AW$119","v":0},{"$f":"投入係数!AX35*AX$119","v":0},{"$f":"投入係数!AY35*AY$119","v":0},{"$f":"投入係数!AZ35*AZ$119","v":0},{"$f":"投入係数!BA35*BA$119","v":0},{"$f":"投入係数!BB35*BB$119","v":0},{"$f":"投入係数!BC35*BC$119","v":0},{"$f":"投入係数!BD35*BD$119","v":0},{"$f":"投入係数!BE35*BE$119","v":0},{"$f":"投入係数!BF35*BF$119","v":0},{"$f":"投入係数!BG35*BG$119","v":0},{"$f":"投入係数!BH35*BH$119","v":0},{"$f":"投入係数!BI35*BI$119","v":0},{"$f":"投入係数!BJ35*BJ$119","v":0},{"$f":"投入係数!BK35*BK$119","v":0},{"$f":"投入係数!BL35*BL$119","v":0},{"$f":"投入係数!BM35*BM$119","v":0},{"$f":"投入係数!BN35*BN$119","v":0},{"$f":"投入係数!BO35*BO$119","v":0},{"$f":"投入係数!BP35*BP$119","v":0},{"$f":"投入係数!BQ35*BQ$119","v":0},{"$f":"投入係数!BR35*BR$119","v":0},{"$f":"投入係数!BS35*BS$119","v":0},{"$f":"投入係数!BT35*BT$119","v":0},{"$f":"投入係数!BU35*BU$119","v":0},{"$f":"投入係数!BV35*BV$119","v":0},{"$f":"投入係数!BW35*BW$119","v":0},{"$f":"投入係数!BX35*BX$119","v":0},{"$f":"投入係数!BY35*BY$119","v":0},{"$f":"投入係数!BZ35*BZ$119","v":0},{"$f":"投入係数!CA35*CA$119","v":0},{"$f":"投入係数!CB35*CB$119","v":0},{"$f":"投入係数!CC35*CC$119","v":0},{"$f":"投入係数!CD35*CD$119","v":0},{"$f":"投入係数!CE35*CE$119","v":0},{"$f":"投入係数!CF35*CF$119","v":0},{"$f":"投入係数!CG35*CG$119","v":0},{"$f":"投入係数!CH35*CH$119","v":0},{"$f":"投入係数!CI35*CI$119","v":0},{"$f":"投入係数!CJ35*CJ$119","v":0},{"$f":"投入係数!CK35*CK$119","v":0},{"$f":"投入係数!CL35*CL$119","v":0},{"$f":"投入係数!CM35*CM$119","v":0},{"$f":"投入係数!CN35*CN$119","v":0},{"$f":"投入係数!CO35*CO$119","v":0},{"$f":"投入係数!CP35*CP$119","v":0},{"$f":"投入係数!CQ35*CQ$119","v":0},{"$f":"投入係数!CR35*CR$119","v":0},{"$f":"投入係数!CS35*CS$119","v":0},{"$f":"投入係数!CT35*CT$119","v":0},{"$f":"投入係数!CU35*CU$119","v":0},{"$f":"投入係数!CV35*CV$119","v":0},{"$f":"投入係数!CW35*CW$119","v":0},{"$f":"投入係数!CX35*CX$119","v":0},{"$f":"投入係数!CY35*CY$119","v":0},{"$f":"投入係数!CZ35*CZ$119","v":0},{"$f":"投入係数!DA35*DA$119","v":0},{"$f":"投入係数!DB35*DB$119","v":0},{"$f":"投入係数!DC35*DC$119","v":0},{"$f":"投入係数!DD35*DD$119","v":0},{"$f":"投入係数!DE35*DE$119","v":0},{"$f":"投入係数!DF35*DF$119","v":0},{"$f":"投入係数!DG35*DG$119","v":0},{"$f":"投入係数!DH35*DH$119","v":0},0]
[null,"221","プラスチック製品",{"$f":"投入係数!D36*D$119","v":0},{"$f":"投入係数!E36*E$119","v":0},{"$f":"投入係数!F36*F$119","v":0},{"$f":"投入係数!G36*G$119","v":0},{"$f":"投入係数!H36*H$119","v":0},{"$f":"投入係数!I36*I$119","v":0},{"$f":"投入係数!J36*J$119","v":0},{"$f":"投入係数!K36*K$119","v":0},{"$f":"投入係数!L36*L$119","v":0},{"$f":"投入係数!M36*M$119","v":0},{"$f":"投入係数!N36*N$119","v":0},{"$f":"投入係数!O36*O$119","v":0},{"$f":"投入係数!P36*P$119","v":0},{"$f":"投入係数!Q36*Q$119","v":0},{"$f":"投入係数!R36*R$119","v":0},{"$f":"投入係数!S36*S$119","v":0},{"$f":"投入係数!T36*T$119","v":0},{"$f":"投入係数!U36*U$119","v":0},{"$f":"投入係数!V36*V$119","v":0},{"$f":"投入係数!W36*W$119","v":0},{"$f":"投入係数!X36*X$119","v":0},{"$f":"投入係数!Y36*Y$119","v":0},{"$f":"投入係数!Z36*Z$119","v":0},{"$f":"投入係数!AA36*AA$119","v":0},{"$f":"投入係数!AB36*AB$119","v":0},{"$f":"投入係数!AC36*AC$119","v":0},{"$f":"投入係数!AD36*AD$119","v":0},{"$f":"投入係数!AE36*AE$119","v":0},{"$f":"投入係数!AF36*AF$119","v":0},{"$f":"投入係数!AG36*AG$119","v":0},{"$f":"投入係数!AH36*AH$119","v":0},{"$f":"投入係数!AI36*AI$119","v":0},{"$f":"投入係数!AJ36*AJ$119","v":0},{"$f":"投入係数!AK36*AK$119","v":0},{"$f":"投入係数!AL36*AL$119","v":0},{"$f":"投入係数!AM36*AM$119","v":0},{"$f":"投入係数!AN36*AN$119","v":0},{"$f":"投入係数!AO36*AO$119","v":0},{"$f":"投入係数!AP36*AP$119","v":0},{"$f":"投入係数!AQ36*AQ$119","v":0},{"$f":"投入係数!AR36*AR$119","v":0},{"$f":"投入係数!AS36*AS$119","v":0},{"$f":"投入係数!AT36*AT$119","v":0},{"$f":"投入係数!AU36*AU$119","v":0},{"$f":"投入係数!AV36*AV$119","v":0},{"$f":"投入係数!AW36*AW$119","v":0},{"$f":"投入係数!AX36*AX$119","v":0},{"$f":"投入係数!AY36*AY$119","v":0},{"$f":"投入係数!AZ36*AZ$119","v":0},{"$f":"投入係数!BA36*BA$119","v":0},{"$f":"投入係数!BB36*BB$119","v":0},{"$f":"投入係数!BC36*BC$119","v":0},{"$f":"投入係数!BD36*BD$119","v":0},{"$f":"投入係数!BE36*BE$119","v":0},{"$f":"投入係数!BF36*BF$119","v":0},{"$f":"投入係数!BG36*BG$119","v":0},{"$f":"投入係数!BH36*BH$119","v":0},{"$f":"投入係数!BI36*BI$119","v":0},{"$f":"投入係数!BJ36*BJ$119","v":0},{"$f":"投入係数!BK36*BK$119","v":0},{"$f":"投入係数!BL36*BL$119","v":0},{"$f":"投入係数!BM36*BM$119","v":0},{"$f":"投入係数!BN36*BN$119","v":0},{"$f":"投入係数!BO36*BO$119","v":0},{"$f":"投入係数!BP36*BP$119","v":0},{"$f":"投入係数!BQ36*BQ$119","v":0},{"$f":"投入係数!BR36*BR$119","v":0},{"$f":"投入係数!BS36*BS$119","v":0},{"$f":"投入係数!BT36*BT$119","v":0},{"$f":"投入係数!BU36*BU$119","v":0},{"$f":"投入係数!BV36*BV$119","v":0},{"$f":"投入係数!BW36*BW$119","v":0},{"$f":"投入係数!BX36*BX$119","v":0},{"$f":"投入係数!BY36*BY$119","v":0},{"$f":"投入係数!BZ36*BZ$119","v":0},{"$f":"投入係数!CA36*CA$119","v":0},{"$f":"投入係数!CB36*CB$119","v":0},{"$f":"投入係数!CC36*CC$119","v":0},{"$f":"投入係数!CD36*CD$119","v":0},{"$f":"投入係数!CE36*CE$119","v":0},{"$f":"投入係数!CF36*CF$119","v":0},{"$f":"投入係数!CG36*CG$119","v":0},{"$f":"投入係数!CH36*CH$119","v":0},{"$f":"投入係数!CI36*CI$119","v":0},{"$f":"投入係数!CJ36*CJ$119","v":0},{"$f":"投入係数!CK36*CK$119","v":0},{"$f":"投入係数!CL36*CL$119","v":0},{"$f":"投入係数!CM36*CM$119","v":0},{"$f":"投入係数!CN36*CN$119","v":0},{"$f":"投入係数!CO36*CO$119","v":0},{"$f":"投入係数!CP36*CP$119","v":0},{"$f":"投入係数!CQ36*CQ$119","v":0},{"$f":"投入係数!CR36*CR$119","v":0},{"$f":"投入係数!CS36*CS$119","v":0},{"$f":"投入係数!CT36*CT$119","v":0},{"$f":"投入係数!CU36*CU$119","v":0},{"$f":"投入係数!CV36*CV$119","v":0},{"$f":"投入係数!CW36*CW$119","v":0},{"$f":"投入係数!CX36*CX$119","v":0},{"$f":"投入係数!CY36*CY$119","v":0},{"$f":"投入係数!CZ36*CZ$119","v":0},{"$f":"投入係数!DA36*DA$119","v":0},{"$f":"投入係数!DB36*DB$119","v":0},{"$f":"投入係数!DC36*DC$119","v":0},{"$f":"投入係数!DD36*DD$119","v":0},{"$f":"投入係数!DE36*DE$119","v":0},{"$f":"投入係数!DF36*DF$119","v":0},{"$f":"投入係数!DG36*DG$119","v":0},{"$f":"投入係数!DH36*DH$119","v":0},0]
[null,"222","ゴム製品",{"$f":"投入係数!D37*D$119","v":0},{"$f":"投入係数!E37*E$119","v":0},{"$f":"投入係数!F37*F$119","v":0},{"$f":"投入係数!G37*G$119","v":0},{"$f":"投入係数!H37*H$119","v":0},{"$f":"投入係数!I37*I$119","v":0},{"$f":"投入係数!J37*J$119","v":0},{"$f":"投入係数!K37*K$119","v":0},{"$f":"投入係数!L37*L$119","v":0},{"$f":"投入係数!M37*M$119","v":0},{"$f":"投入係数!N37*N$119","v":0},{"$f":"投入係数!O37*O$119","v":0},{"$f":"投入係数!P37*P$119","v":0},{"$f":"投入係数!Q37*Q$119","v":0},{"$f":"投入係数!R37*R$119","v":0},{"$f":"投入係数!S37*S$119","v":0},{"$f":"投入係数!T37*T$119","v":0},{"$f":"投入係数!U37*U$119","v":0},{"$f":"投入係数!V37*V$119","v":0},{"$f":"投入係数!W37*W$119","v":0},{"$f":"投入係数!X37*X$119","v":0},{"$f":"投入係数!Y37*Y$119","v":0},{"$f":"投入係数!Z37*Z$119","v":0},{"$f":"投入係数!AA37*AA$119","v":0},{"$f":"投入係数!AB37*AB$119","v":0},{"$f":"投入係数!AC37*AC$119","v":0},{"$f":"投入係数!AD37*AD$119","v":0},{"$f":"投入係数!AE37*AE$119","v":0},{"$f":"投入係数!AF37*AF$119","v":0},{"$f":"投入係数!AG37*AG$119","v":0},{"$f":"投入係数!AH37*AH$119","v":0},{"$f":"投入係数!AI37*AI$119","v":0},{"$f":"投入係数!AJ37*AJ$119","v":0},{"$f":"投入係数!AK37*AK$119","v":0},{"$f":"投入係数!AL37*AL$119","v":0},{"$f":"投入係数!AM37*AM$119","v":0},{"$f":"投入係数!AN37*AN$119","v":0},{"$f":"投入係数!AO37*AO$119","v":0},{"$f":"投入係数!AP37*AP$119","v":0},{"$f":"投入係数!AQ37*AQ$119","v":0},{"$f":"投入係数!AR37*AR$119","v":0},{"$f":"投入係数!AS37*AS$119","v":0},{"$f":"投入係数!AT37*AT$119","v":0},{"$f":"投入係数!AU37*AU$119","v":0},{"$f":"投入係数!AV37*AV$119","v":0},{"$f":"投入係数!AW37*AW$119","v":0},{"$f":"投入係数!AX37*AX$119","v":0},{"$f":"投入係数!AY37*AY$119","v":0},{"$f":"投入係数!AZ37*AZ$119","v":0},{"$f":"投入係数!BA37*BA$119","v":0},{"$f":"投入係数!BB37*BB$119","v":0},{"$f":"投入係数!BC37*BC$119","v":0},{"$f":"投入係数!BD37*BD$119","v":0},{"$f":"投入係数!BE37*BE$119","v":0},{"$f":"投入係数!BF37*BF$119","v":0},{"$f":"投入係数!BG37*BG$119","v":0},{"$f":"投入係数!BH37*BH$119","v":0},{"$f":"投入係数!BI37*BI$119","v":0},{"$f":"投入係数!BJ37*BJ$119","v":0},{"$f":"投入係数!BK37*BK$119","v":0},{"$f":"投入係数!BL37*BL$119","v":0},{"$f":"投入係数!BM37*BM$119","v":0},{"$f":"投入係数!BN37*BN$119","v":0},{"$f":"投入係数!BO37*BO$119","v":0},{"$f":"投入係数!BP37*BP$119","v":0},{"$f":"投入係数!BQ37*BQ$119","v":0},{"$f":"投入係数!BR37*BR$119","v":0},{"$f":"投入係数!BS37*BS$119","v":0},{"$f":"投入係数!BT37*BT$119","v":0},{"$f":"投入係数!BU37*BU$119","v":0},{"$f":"投入係数!BV37*BV$119","v":0},{"$f":"投入係数!BW37*BW$119","v":0},{"$f":"投入係数!BX37*BX$119","v":0},{"$f":"投入係数!BY37*BY$119","v":0},{"$f":"投入係数!BZ37*BZ$119","v":0},{"$f":"投入係数!CA37*CA$119","v":0},{"$f":"投入係数!CB37*CB$119","v":0},{"$f":"投入係数!CC37*CC$119","v":0},{"$f":"投入係数!CD37*CD$119","v":0},{"$f":"投入係数!CE37*CE$119","v":0},{"$f":"投入係数!CF37*CF$119","v":0},{"$f":"投入係数!CG37*CG$119","v":0},{"$f":"投入係数!CH37*CH$119","v":0},{"$f":"投入係数!CI37*CI$119","v":0},{"$f":"投入係数!CJ37*CJ$119","v":0},{"$f":"投入係数!CK37*CK$119","v":0},{"$f":"投入係数!CL37*CL$119","v":0},{"$f":"投入係数!CM37*CM$119","v":0},{"$f":"投入係数!CN37*CN$119","v":0},{"$f":"投入係数!CO37*CO$119","v":0},{"$f":"投入係数!CP37*CP$119","v":0},{"$f":"投入係数!CQ37*CQ$119","v":0},{"$f":"投入係数!CR37*CR$119","v":0},{"$f":"投入係数!CS37*CS$119","v":0},{"$f":"投入係数!CT37*CT$119","v":0},{"$f":"投入係数!CU37*CU$119","v":0},{"$f":"投入係数!CV37*CV$119","v":0},{"$f":"投入係数!CW37*CW$119","v":0},{"$f":"投入係数!CX37*CX$119","v":0},{"$f":"投入係数!CY37*CY$119","v":0},{"$f":"投入係数!CZ37*CZ$119","v":0},{"$f":"投入係数!DA37*DA$119","v":0},{"$f":"投入係数!DB37*DB$119","v":0},{"$f":"投入係数!DC37*DC$119","v":0},{"$f":"投入係数!DD37*DD$119","v":0},{"$f":"投入係数!DE37*DE$119","v":0},{"$f":"投入係数!DF37*DF$119","v":0},{"$f":"投入係数!DG37*DG$119","v":0},{"$f":"投入係数!DH37*DH$119","v":0},0]
[null,"231","なめし革・革製品・毛皮",{"$f":"投入係数!D38*D$119","v":0},{"$f":"投入係数!E38*E$119","v":0},{"$f":"投入係数!F38*F$119","v":0},{"$f":"投入係数!G38*G$119","v":0},{"$f":"投入係数!H38*H$119","v":0},{"$f":"投入係数!I38*I$119","v":0},{"$f":"投入係数!J38*J$119","v":0},{"$f":"投入係数!K38*K$119","v":0},{"$f":"投入係数!L38*L$119","v":0},{"$f":"投入係数!M38*M$119","v":0},{"$f":"投入係数!N38*N$119","v":0},{"$f":"投入係数!O38*O$119","v":0},{"$f":"投入係数!P38*P$119","v":0},{"$f":"投入係数!Q38*Q$119","v":0},{"$f":"投入係数!R38*R$119","v":0},{"$f":"投入係数!S38*S$119","v":0},{"$f":"投入係数!T38*T$119","v":0},{"$f":"投入係数!U38*U$119","v":0},{"$f":"投入係数!V38*V$119","v":0},{"$f":"投入係数!W38*W$119","v":0},{"$f":"投入係数!X38*X$119","v":0},{"$f":"投入係数!Y38*Y$119","v":0},{"$f":"投入係数!Z38*Z$119","v":0},{"$f":"投入係数!AA38*AA$119","v":0},{"$f":"投入係数!AB38*AB$119","v":0},{"$f":"投入係数!AC38*AC$119","v":0},{"$f":"投入係数!AD38*AD$119","v":0},{"$f":"投入係数!AE38*AE$119","v":0},{"$f":"投入係数!AF38*AF$119","v":0},{"$f":"投入係数!AG38*AG$119","v":0},{"$f":"投入係数!AH38*AH$119","v":0},{"$f":"投入係数!AI38*AI$119","v":0},{"$f":"投入係数!AJ38*AJ$119","v":0},{"$f":"投入係数!AK38*AK$119","v":0},{"$f":"投入係数!AL38*AL$119","v":0},{"$f":"投入係数!AM38*AM$119","v":0},{"$f":"投入係数!AN38*AN$119","v":0},{"$f":"投入係数!AO38*AO$119","v":0},{"$f":"投入係数!AP38*AP$119","v":0},{"$f":"投入係数!AQ38*AQ$119","v":0},{"$f":"投入係数!AR38*AR$119","v":0},{"$f":"投入係数!AS38*AS$119","v":0},{"$f":"投入係数!AT38*AT$119","v":0},{"$f":"投入係数!AU38*AU$119","v":0},{"$f":"投入係数!AV38*AV$119","v":0},{"$f":"投入係数!AW38*AW$119","v":0},{"$f":"投入係数!AX38*AX$119","v":0},{"$f":"投入係数!AY38*AY$119","v":0},{"$f":"投入係数!AZ38*AZ$119","v":0},{"$f":"投入係数!BA38*BA$119","v":0},{"$f":"投入係数!BB38*BB$119","v":0},{"$f":"投入係数!BC38*BC$119","v":0},{"$f":"投入係数!BD38*BD$119","v":0},{"$f":"投入係数!BE38*BE$119","v":0},{"$f":"投入係数!BF38*BF$119","v":0},{"$f":"投入係数!BG38*BG$119","v":0},{"$f":"投入係数!BH38*BH$119","v":0},{"$f":"投入係数!BI38*BI$119","v":0},{"$f":"投入係数!BJ38*BJ$119","v":0},{"$f":"投入係数!BK38*BK$119","v":0},{"$f":"投入係数!BL38*BL$119","v":0},{"$f":"投入係数!BM38*BM$119","v":0},{"$f":"投入係数!BN38*BN$119","v":0},{"$f":"投入係数!BO38*BO$119","v":0},{"$f":"投入係数!BP38*BP$119","v":0},{"$f":"投入係数!BQ38*BQ$119","v":0},{"$f":"投入係数!BR38*BR$119","v":0},{"$f":"投入係数!BS38*BS$119","v":0},{"$f":"投入係数!BT38*BT$119","v":0},{"$f":"投入係数!BU38*BU$119","v":0},{"$f":"投入係数!BV38*BV$119","v":0},{"$f":"投入係数!BW38*BW$119","v":0},{"$f":"投入係数!BX38*BX$119","v":0},{"$f":"投入係数!BY38*BY$119","v":0},{"$f":"投入係数!BZ38*BZ$119","v":0},{"$f":"投入係数!CA38*CA$119","v":0},{"$f":"投入係数!CB38*CB$119","v":0},{"$f":"投入係数!CC38*CC$119","v":0},{"$f":"投入係数!CD38*CD$119","v":0},{"$f":"投入係数!CE38*CE$119","v":0},{"$f":"投入係数!CF38*CF$119","v":0},{"$f":"投入係数!CG38*CG$119","v":0},{"$f":"投入係数!CH38*CH$119","v":0},{"$f":"投入係数!CI38*CI$119","v":0},{"$f":"投入係数!CJ38*CJ$119","v":0},{"$f":"投入係数!CK38*CK$119","v":0},{"$f":"投入係数!CL38*CL$119","v":0},{"$f":"投入係数!CM38*CM$119","v":0},{"$f":"投入係数!CN38*CN$119","v":0},{"$f":"投入係数!CO38*CO$119","v":0},{"$f":"投入係数!CP38*CP$119","v":0},{"$f":"投入係数!CQ38*CQ$119","v":0},{"$f":"投入係数!CR38*CR$119","v":0},{"$f":"投入係数!CS38*CS$119","v":0},{"$f":"投入係数!CT38*CT$119","v":0},{"$f":"投入係数!CU38*CU$119","v":0},{"$f":"投入係数!CV38*CV$119","v":0},{"$f":"投入係数!CW38*CW$119","v":0},{"$f":"投入係数!CX38*CX$119","v":0},{"$f":"投入係数!CY38*CY$119","v":0},{"$f":"投入係数!CZ38*CZ$119","v":0},{"$f":"投入係数!DA38*DA$119","v":0},{"$f":"投入係数!DB38*DB$119","v":0},{"$f":"投入係数!DC38*DC$119","v":0},{"$f":"投入係数!DD38*DD$119","v":0},{"$f":"投入係数!DE38*DE$119","v":0},{"$f":"投入係数!DF38*DF$119","v":0},{"$f":"投入係数!DG38*DG$119","v":0},{"$f":"投入係数!DH38*DH$119","v":0},0]
[null,"251","ガラス・ガラス製品",{"$f":"投入係数!D39*D$119","v":0},{"$f":"投入係数!E39*E$119","v":0},{"$f":"投入係数!F39*F$119","v":0},{"$f":"投入係数!G39*G$119","v":0},{"$f":"投入係数!H39*H$119","v":0},{"$f":"投入係数!I39*I$119","v":0},{"$f":"投入係数!J39*J$119","v":0},{"$f":"投入係数!K39*K$119","v":0},{"$f":"投入係数!L39*L$119","v":0},{"$f":"投入係数!M39*M$119","v":0},{"$f":"投入係数!N39*N$119","v":0},{"$f":"投入係数!O39*O$119","v":0},{"$f":"投入係数!P39*P$119","v":0},{"$f":"投入係数!Q39*Q$119","v":0},{"$f":"投入係数!R39*R$119","v":0},{"$f":"投入係数!S39*S$119","v":0},{"$f":"投入係数!T39*T$119","v":0},{"$f":"投入係数!U39*U$119","v":0},{"$f":"投入係数!V39*V$119","v":0},{"$f":"投入係数!W39*W$119","v":0},{"$f":"投入係数!X39*X$119","v":0},{"$f":"投入係数!Y39*Y$119","v":0},{"$f":"投入係数!Z39*Z$119","v":0},{"$f":"投入係数!AA39*AA$119","v":0},{"$f":"投入係数!AB39*AB$119","v":0},{"$f":"投入係数!AC39*AC$119","v":0},{"$f":"投入係数!AD39*AD$119","v":0},{"$f":"投入係数!AE39*AE$119","v":0},{"$f":"投入係数!AF39*AF$119","v":0},{"$f":"投入係数!AG39*AG$119","v":0},{"$f":"投入係数!AH39*AH$119","v":0},{"$f":"投入係数!AI39*AI$119","v":0},{"$f":"投入係数!AJ39*AJ$119","v":0},{"$f":"投入係数!AK39*AK$119","v":0},{"$f":"投入係数!AL39*AL$119","v":0},{"$f":"投入係数!AM39*AM$119","v":0},{"$f":"投入係数!AN39*AN$119","v":0},{"$f":"投入係数!AO39*AO$119","v":0},{"$f":"投入係数!AP39*AP$119","v":0},{"$f":"投入係数!AQ39*AQ$119","v":0},{"$f":"投入係数!AR39*AR$119","v":0},{"$f":"投入係数!AS39*AS$119","v":0},{"$f":"投入係数!AT39*AT$119","v":0},{"$f":"投入係数!AU39*AU$119","v":0},{"$f":"投入係数!AV39*AV$119","v":0},{"$f":"投入係数!AW39*AW$119","v":0},{"$f":"投入係数!AX39*AX$119","v":0},{"$f":"投入係数!AY39*AY$119","v":0},{"$f":"投入係数!AZ39*AZ$119","v":0},{"$f":"投入係数!BA39*BA$119","v":0},{"$f":"投入係数!BB39*BB$119","v":0},{"$f":"投入係数!BC39*BC$119","v":0},{"$f":"投入係数!BD39*BD$119","v":0},{"$f":"投入係数!BE39*BE$119","v":0},{"$f":"投入係数!BF39*BF$119","v":0},{"$f":"投入係数!BG39*BG$119","v":0},{"$f":"投入係数!BH39*BH$119","v":0},{"$f":"投入係数!BI39*BI$119","v":0},{"$f":"投入係数!BJ39*BJ$119","v":0},{"$f":"投入係数!BK39*BK$119","v":0},{"$f":"投入係数!BL39*BL$119","v":0},{"$f":"投入係数!BM39*BM$119","v":0},{"$f":"投入係数!BN39*BN$119","v":0},{"$f":"投入係数!BO39*BO$119","v":0},{"$f":"投入係数!BP39*BP$119","v":0},{"$f":"投入係数!BQ39*BQ$119","v":0},{"$f":"投入係数!BR39*BR$119","v":0},{"$f":"投入係数!BS39*BS$119","v":0},{"$f":"投入係数!BT39*BT$119","v":0},{"$f":"投入係数!BU39*BU$119","v":0},{"$f":"投入係数!BV39*BV$119","v":0},{"$f":"投入係数!BW39*BW$119","v":0},{"$f":"投入係数!BX39*BX$119","v":0},{"$f":"投入係数!BY39*BY$119","v":0},{"$f":"投入係数!BZ39*BZ$119","v":0},{"$f":"投入係数!CA39*CA$119","v":0},{"$f":"投入係数!CB39*CB$119","v":0},{"$f":"投入係数!CC39*CC$119","v":0},{"$f":"投入係数!CD39*CD$119","v":0},{"$f":"投入係数!CE39*CE$119","v":0},{"$f":"投入係数!CF39*CF$119","v":0},{"$f":"投入係数!CG39*CG$119","v":0},{"$f":"投入係数!CH39*CH$119","v":0},{"$f":"投入係数!CI39*CI$119","v":0},{"$f":"投入係数!CJ39*CJ$119","v":0},{"$f":"投入係数!CK39*CK$119","v":0},{"$f":"投入係数!CL39*CL$119","v":0},{"$f":"投入係数!CM39*CM$119","v":0},{"$f":"投入係数!CN39*CN$119","v":0},{"$f":"投入係数!CO39*CO$119","v":0},{"$f":"投入係数!CP39*CP$119","v":0},{"$f":"投入係数!CQ39*CQ$119","v":0},{"$f":"投入係数!CR39*CR$119","v":0},{"$f":"投入係数!CS39*CS$119","v":0},{"$f":"投入係数!CT39*CT$119","v":0},{"$f":"投入係数!CU39*CU$119","v":0},{"$f":"投入係数!CV39*CV$119","v":0},{"$f":"投入係数!CW39*CW$119","v":0},{"$f":"投入係数!CX39*CX$119","v":0},{"$f":"投入係数!CY39*CY$119","v":0},{"$f":"投入係数!CZ39*CZ$119","v":0},{"$f":"投入係数!DA39*DA$119","v":0},{"$f":"投入係数!DB39*DB$119","v":0},{"$f":"投入係数!DC39*DC$119","v":0},{"$f":"投入係数!DD39*DD$119","v":0},{"$f":"投入係数!DE39*DE$119","v":0},{"$f":"投入係数!DF39*DF$119","v":0},{"$f":"投入係数!DG39*DG$119","v":0},{"$f":"投入係数!DH39*DH$119","v":0},0]
[null,"252","セメント・セメント製品",{"$f":"投入係数!D40*D$119","v":0},{"$f":"投入係数!E40*E$119","v":0},{"$f":"投入係数!F40*F$119","v":0},{"$f":"投入係数!G40*G$119","v":0},{"$f":"投入係数!H40*H$119","v":0},{"$f":"投入係数!I40*I$119","v":0},{"$f":"投入係数!J40*J$119","v":0},{"$f":"投入係数!K40*K$119","v":0},{"$f":"投入係数!L40*L$119","v":0},{"$f":"投入係数!M40*M$119","v":0},{"$f":"投入係数!N40*N$119","v":0},{"$f":"投入係数!O40*O$119","v":0},{"$f":"投入係数!P40*P$119","v":0},{"$f":"投入係数!Q40*Q$119","v":0},{"$f":"投入係数!R40*R$119","v":0},{"$f":"投入係数!S40*S$119","v":0},{"$f":"投入係数!T40*T$119","v":0},{"$f":"投入係数!U40*U$119","v":0},{"$f":"投入係数!V40*V$119","v":0},{"$f":"投入係数!W40*W$119","v":0},{"$f":"投入係数!X40*X$119","v":0},{"$f":"投入係数!Y40*Y$119","v":0},{"$f":"投入係数!Z40*Z$119","v":0},{"$f":"投入係数!AA40*AA$119","v":0},{"$f":"投入係数!AB40*AB$119","v":0},{"$f":"投入係数!AC40*AC$119","v":0},{"$f":"投入係数!AD40*AD$119","v":0},{"$f":"投入係数!AE40*AE$119","v":0},{"$f":"投入係数!AF40*AF$119","v":0},{"$f":"投入係数!AG40*AG$119","v":0},{"$f":"投入係数!AH40*AH$119","v":0},{"$f":"投入係数!AI40*AI$119","v":0},{"$f":"投入係数!AJ40*AJ$119","v":0},{"$f":"投入係数!AK40*AK$119","v":0},{"$f":"投入係数!AL40*AL$119","v":0},{"$f":"投入係数!AM40*AM$119","v":0},{"$f":"投入係数!AN40*AN$119","v":0},{"$f":"投入係数!AO40*AO$119","v":0},{"$f":"投入係数!AP40*AP$119","v":0},{"$f":"投入係数!AQ40*AQ$119","v":0},{"$f":"投入係数!AR40*AR$119","v":0},{"$f":"投入係数!AS40*AS$119","v":0},{"$f":"投入係数!AT40*AT$119","v":0},{"$f":"投入係数!AU40*AU$119","v":0},{"$f":"投入係数!AV40*AV$119","v":0},{"$f":"投入係数!AW40*AW$119","v":0},{"$f":"投入係数!AX40*AX$119","v":0},{"$f":"投入係数!AY40*AY$119","v":0},{"$f":"投入係数!AZ40*AZ$119","v":0},{"$f":"投入係数!BA40*BA$119","v":0},{"$f":"投入係数!BB40*BB$119","v":0},{"$f":"投入係数!BC40*BC$119","v":0},{"$f":"投入係数!BD40*BD$119","v":0},{"$f":"投入係数!BE40*BE$119","v":0},{"$f":"投入係数!BF40*BF$119","v":0},{"$f":"投入係数!BG40*BG$119","v":0},{"$f":"投入係数!BH40*BH$119","v":0},{"$f":"投入係数!BI40*BI$119","v":0},{"$f":"投入係数!BJ40*BJ$119","v":0},{"$f":"投入係数!BK40*BK$119","v":0},{"$f":"投入係数!BL40*BL$119","v":0},{"$f":"投入係数!BM40*BM$119","v":0},{"$f":"投入係数!BN40*BN$119","v":0},{"$f":"投入係数!BO40*BO$119","v":0},{"$f":"投入係数!BP40*BP$119","v":0},{"$f":"投入係数!BQ40*BQ$119","v":0},{"$f":"投入係数!BR40*BR$119","v":0},{"$f":"投入係数!BS40*BS$119","v":0},{"$f":"投入係数!BT40*BT$119","v":0},{"$f":"投入係数!BU40*BU$119","v":0},{"$f":"投入係数!BV40*BV$119","v":0},{"$f":"投入係数!BW40*BW$119","v":0},{"$f":"投入係数!BX40*BX$119","v":0},{"$f":"投入係数!BY40*BY$119","v":0},{"$f":"投入係数!BZ40*BZ$119","v":0},{"$f":"投入係数!CA40*CA$119","v":0},{"$f":"投入係数!CB40*CB$119","v":0},{"$f":"投入係数!CC40*CC$119","v":0},{"$f":"投入係数!CD40*CD$119","v":0},{"$f":"投入係数!CE40*CE$119","v":0},{"$f":"投入係数!CF40*CF$119","v":0},{"$f":"投入係数!CG40*CG$119","v":0},{"$f":"投入係数!CH40*CH$119","v":0},{"$f":"投入係数!CI40*CI$119","v":0},{"$f":"投入係数!CJ40*CJ$119","v":0},{"$f":"投入係数!CK40*CK$119","v":0},{"$f":"投入係数!CL40*CL$119","v":0},{"$f":"投入係数!CM40*CM$119","v":0},{"$f":"投入係数!CN40*CN$119","v":0},{"$f":"投入係数!CO40*CO$119","v":0},{"$f":"投入係数!CP40*CP$119","v":0},{"$f":"投入係数!CQ40*CQ$119","v":0},{"$f":"投入係数!CR40*CR$119","v":0},{"$f":"投入係数!CS40*CS$119","v":0},{"$f":"投入係数!CT40*CT$119","v":0},{"$f":"投入係数!CU40*CU$119","v":0},{"$f":"投入係数!CV40*CV$119","v":0},{"$f":"投入係数!CW40*CW$119","v":0},{"$f":"投入係数!CX40*CX$119","v":0},{"$f":"投入係数!CY40*CY$119","v":0},{"$f":"投入係数!CZ40*CZ$119","v":0},{"$f":"投入係数!DA40*DA$119","v":0},{"$f":"投入係数!DB40*DB$119","v":0},{"$f":"投入係数!DC40*DC$119","v":0},{"$f":"投入係数!DD40*DD$119","v":0},{"$f":"投入係数!DE40*DE$119","v":0},{"$f":"投入係数!DF40*DF$119","v":0},{"$f":"投入係数!DG40*DG$119","v":0},{"$f":"投入係数!DH40*DH$119","v":0},0]
[null,"253","陶磁器",{"$f":"投入係数!D41*D$119","v":0},{"$f":"投入係数!E41*E$119","v":0},{"$f":"投入係数!F41*F$119","v":0},{"$f":"投入係数!G41*G$119","v":0},{"$f":"投入係数!H41*H$119","v":0},{"$f":"投入係数!I41*I$119","v":0},{"$f":"投入係数!J41*J$119","v":0},{"$f":"投入係数!K41*K$119","v":0},{"$f":"投入係数!L41*L$119","v":0},{"$f":"投入係数!M41*M$119","v":0},{"$f":"投入係数!N41*N$119","v":0},{"$f":"投入係数!O41*O$119","v":0},{"$f":"投入係数!P41*P$119","v":0},{"$f":"投入係数!Q41*Q$119","v":0},{"$f":"投入係数!R41*R$119","v":0},{"$f":"投入係数!S41*S$119","v":0},{"$f":"投入係数!T41*T$119","v":0},{"$f":"投入係数!U41*U$119","v":0},{"$f":"投入係数!V41*V$119","v":0},{"$f":"投入係数!W41*W$119","v":0},{"$f":"投入係数!X41*X$119","v":0},{"$f":"投入係数!Y41*Y$119","v":0},{"$f":"投入係数!Z41*Z$119","v":0},{"$f":"投入係数!AA41*AA$119","v":0},{"$f":"投入係数!AB41*AB$119","v":0},{"$f":"投入係数!AC41*AC$119","v":0},{"$f":"投入係数!AD41*AD$119","v":0},{"$f":"投入係数!AE41*AE$119","v":0},{"$f":"投入係数!AF41*AF$119","v":0},{"$f":"投入係数!AG41*AG$119","v":0},{"$f":"投入係数!AH41*AH$119","v":0},{"$f":"投入係数!AI41*AI$119","v":0},{"$f":"投入係数!AJ41*AJ$119","v":0},{"$f":"投入係数!AK41*AK$119","v":0},{"$f":"投入係数!AL41*AL$119","v":0},{"$f":"投入係数!AM41*AM$119","v":0},{"$f":"投入係数!AN41*AN$119","v":0},{"$f":"投入係数!AO41*AO$119","v":0},{"$f":"投入係数!AP41*AP$119","v":0},{"$f":"投入係数!AQ41*AQ$119","v":0},{"$f":"投入係数!AR41*AR$119","v":0},{"$f":"投入係数!AS41*AS$119","v":0},{"$f":"投入係数!AT41*AT$119","v":0},{"$f":"投入係数!AU41*AU$119","v":0},{"$f":"投入係数!AV41*AV$119","v":0},{"$f":"投入係数!AW41*AW$119","v":0},{"$f":"投入係数!AX41*AX$119","v":0},{"$f":"投入係数!AY41*AY$119","v":0},{"$f":"投入係数!AZ41*AZ$119","v":0},{"$f":"投入係数!BA41*BA$119","v":0},{"$f":"投入係数!BB41*BB$119","v":0},{"$f":"投入係数!BC41*BC$119","v":0},{"$f":"投入係数!BD41*BD$119","v":0},{"$f":"投入係数!BE41*BE$119","v":0},{"$f":"投入係数!BF41*BF$119","v":0},{"$f":"投入係数!BG41*BG$119","v":0},{"$f":"投入係数!BH41*BH$119","v":0},{"$f":"投入係数!BI41*BI$119","v":0},{"$f":"投入係数!BJ41*BJ$119","v":0},{"$f":"投入係数!BK41*BK$119","v":0},{"$f":"投入係数!BL41*BL$119","v":0},{"$f":"投入係数!BM41*BM$119","v":0},{"$f":"投入係数!BN41*BN$119","v":0},{"$f":"投入係数!BO41*BO$119","v":0},{"$f":"投入係数!BP41*BP$119","v":0},{"$f":"投入係数!BQ41*BQ$119","v":0},{"$f":"投入係数!BR41*BR$119","v":0},{"$f":"投入係数!BS41*BS$119","v":0},{"$f":"投入係数!BT41*BT$119","v":0},{"$f":"投入係数!BU41*BU$119","v":0},{"$f":"投入係数!BV41*BV$119","v":0},{"$f":"投入係数!BW41*BW$119","v":0},{"$f":"投入係数!BX41*BX$119","v":0},{"$f":"投入係数!BY41*BY$119","v":0},{"$f":"投入係数!BZ41*BZ$119","v":0},{"$f":"投入係数!CA41*CA$119","v":0},{"$f":"投入係数!CB41*CB$119","v":0},{"$f":"投入係数!CC41*CC$119","v":0},{"$f":"投入係数!CD41*CD$119","v":0},{"$f":"投入係数!CE41*CE$119","v":0},{"$f":"投入係数!CF41*CF$119","v":0},{"$f":"投入係数!CG41*CG$119","v":0},{"$f":"投入係数!CH41*CH$119","v":0},{"$f":"投入係数!CI41*CI$119","v":0},{"$f":"投入係数!CJ41*CJ$119","v":0},{"$f":"投入係数!CK41*CK$119","v":0},{"$f":"投入係数!CL41*CL$119","v":0},{"$f":"投入係数!CM41*CM$119","v":0},{"$f":"投入係数!CN41*CN$119","v":0},{"$f":"投入係数!CO41*CO$119","v":0},{"$f":"投入係数!CP41*CP$119","v":0},{"$f":"投入係数!CQ41*CQ$119","v":0},{"$f":"投入係数!CR41*CR$119","v":0},{"$f":"投入係数!CS41*CS$119","v":0},{"$f":"投入係数!CT41*CT$119","v":0},{"$f":"投入係数!CU41*CU$119","v":0},{"$f":"投入係数!CV41*CV$119","v":0},{"$f":"投入係数!CW41*CW$119","v":0},{"$f":"投入係数!CX41*CX$119","v":0},{"$f":"投入係数!CY41*CY$119","v":0},{"$f":"投入係数!CZ41*CZ$119","v":0},{"$f":"投入係数!DA41*DA$119","v":0},{"$f":"投入係数!DB41*DB$119","v":0},{"$f":"投入係数!DC41*DC$119","v":0},{"$f":"投入係数!DD41*DD$119","v":0},{"$f":"投入係数!DE41*DE$119","v":0},{"$f":"投入係数!DF41*DF$119","v":0},{"$f":"投入係数!DG41*DG$119","v":0},{"$f":"投入係数!DH41*DH$119","v":0},0]
[null,"259","その他の窯業・土石製品",{"$f":"投入係数!D42*D$119","v":0},{"$f":"投入係数!E42*E$119","v":0},{"$f":"投入係数!F42*F$119","v":0},{"$f":"投入係数!G42*G$119","v":0},{"$f":"投入係数!H42*H$119","v":0},{"$f":"投入係数!I42*I$119","v":0},{"$f":"投入係数!J42*J$119","v":0},{"$f":"投入係数!K42*K$119","v":0},{"$f":"投入係数!L42*L$119","v":0},{"$f":"投入係数!M42*M$119","v":0},{"$f":"投入係数!N42*N$119","v":0},{"$f":"投入係数!O42*O$119","v":0},{"$f":"投入係数!P42*P$119","v":0},{"$f":"投入係数!Q42*Q$119","v":0},{"$f":"投入係数!R42*R$119","v":0},{"$f":"投入係数!S42*S$119","v":0},{"$f":"投入係数!T42*T$119","v":0},{"$f":"投入係数!U42*U$119","v":0},{"$f":"投入係数!V42*V$119","v":0},{"$f":"投入係数!W42*W$119","v":0},{"$f":"投入係数!X42*X$119","v":0},{"$f":"投入係数!Y42*Y$119","v":0},{"$f":"投入係数!Z42*Z$119","v":0},{"$f":"投入係数!AA42*AA$119","v":0},{"$f":"投入係数!AB42*AB$119","v":0},{"$f":"投入係数!AC42*AC$119","v":0},{"$f":"投入係数!AD42*AD$119","v":0},{"$f":"投入係数!AE42*AE$119","v":0},{"$f":"投入係数!AF42*AF$119","v":0},{"$f":"投入係数!AG42*AG$119","v":0},{"$f":"投入係数!AH42*AH$119","v":0},{"$f":"投入係数!AI42*AI$119","v":0},{"$f":"投入係数!AJ42*AJ$119","v":0},{"$f":"投入係数!AK42*AK$119","v":0},{"$f":"投入係数!AL42*AL$119","v":0},{"$f":"投入係数!AM42*AM$119","v":0},{"$f":"投入係数!AN42*AN$119","v":0},{"$f":"投入係数!AO42*AO$119","v":0},{"$f":"投入係数!AP42*AP$119","v":0},{"$f":"投入係数!AQ42*AQ$119","v":0},{"$f":"投入係数!AR42*AR$119","v":0},{"$f":"投入係数!AS42*AS$119","v":0},{"$f":"投入係数!AT42*AT$119","v":0},{"$f":"投入係数!AU42*AU$119","v":0},{"$f":"投入係数!AV42*AV$119","v":0},{"$f":"投入係数!AW42*AW$119","v":0},{"$f":"投入係数!AX42*AX$119","v":0},{"$f":"投入係数!AY42*AY$119","v":0},{"$f":"投入係数!AZ42*AZ$119","v":0},{"$f":"投入係数!BA42*BA$119","v":0},{"$f":"投入係数!BB42*BB$119","v":0},{"$f":"投入係数!BC42*BC$119","v":0},{"$f":"投入係数!BD42*BD$119","v":0},{"$f":"投入係数!BE42*BE$119","v":0},{"$f":"投入係数!BF42*BF$119","v":0},{"$f":"投入係数!BG42*BG$119","v":0},{"$f":"投入係数!BH42*BH$119","v":0},{"$f":"投入係数!BI42*BI$119","v":0},{"$f":"投入係数!BJ42*BJ$119","v":0},{"$f":"投入係数!BK42*BK$119","v":0},{"$f":"投入係数!BL42*BL$119","v":0},{"$f":"投入係数!BM42*BM$119","v":0},{"$f":"投入係数!BN42*BN$119","v":0},{"$f":"投入係数!BO42*BO$119","v":0},{"$f":"投入係数!BP42*BP$119","v":0},{"$f":"投入係数!BQ42*BQ$119","v":0},{"$f":"投入係数!BR42*BR$119","v":0},{"$f":"投入係数!BS42*BS$119","v":0},{"$f":"投入係数!BT42*BT$119","v":0},{"$f":"投入係数!BU42*BU$119","v":0},{"$f":"投入係数!BV42*BV$119","v":0},{"$f":"投入係数!BW42*BW$119","v":0},{"$f":"投入係数!BX42*BX$119","v":0},{"$f":"投入係数!BY42*BY$119","v":0},{"$f":"投入係数!BZ42*BZ$119","v":0},{"$f":"投入係数!CA42*CA$119","v":0},{"$f":"投入係数!CB42*CB$119","v":0},{"$f":"投入係数!CC42*CC$119","v":0},{"$f":"投入係数!CD42*CD$119","v":0},{"$f":"投入係数!CE42*CE$119","v":0},{"$f":"投入係数!CF42*CF$119","v":0},{"$f":"投入係数!CG42*CG$119","v":0},{"$f":"投入係数!CH42*CH$119","v":0},{"$f":"投入係数!CI42*CI$119","v":0},{"$f":"投入係数!CJ42*CJ$119","v":0},{"$f":"投入係数!CK42*CK$119","v":0},{"$f":"投入係数!CL42*CL$119","v":0},{"$f":"投入係数!CM42*CM$119","v":0},{"$f":"投入係数!CN42*CN$119","v":0},{"$f":"投入係数!CO42*CO$119","v":0},{"$f":"投入係数!CP42*CP$119","v":0},{"$f":"投入係数!CQ42*CQ$119","v":0},{"$f":"投入係数!CR42*CR$119","v":0},{"$f":"投入係数!CS42*CS$119","v":0},{"$f":"投入係数!CT42*CT$119","v":0},{"$f":"投入係数!CU42*CU$119","v":0},{"$f":"投入係数!CV42*CV$119","v":0},{"$f":"投入係数!CW42*CW$119","v":0},{"$f":"投入係数!CX42*CX$119","v":0},{"$f":"投入係数!CY42*CY$119","v":0},{"$f":"投入係数!CZ42*CZ$119","v":0},{"$f":"投入係数!DA42*DA$119","v":0},{"$f":"投入係数!DB42*DB$119","v":0},{"$f":"投入係数!DC42*DC$119","v":0},{"$f":"投入係数!DD42*DD$119","v":0},{"$f":"投入係数!DE42*DE$119","v":0},{"$f":"投入係数!DF42*DF$119","v":0},{"$f":"投入係数!DG42*DG$119","v":0},{"$f":"投入係数!DH42*DH$119","v":0},0]
[null,"2611","銑鉄・粗鋼",{"$f":"投入係数!D43*D$119","v":0},{"$f":"投入係数!E43*E$119","v":0},{"$f":"投入係数!F43*F$119","v":0},{"$f":"投入係数!G43*G$119","v":0},{"$f":"投入係数!H43*H$119","v":0},{"$f":"投入係数!I43*I$119","v":0},{"$f":"投入係数!J43*J$119","v":0},{"$f":"投入係数!K43*K$119","v":0},{"$f":"投入係数!L43*L$119","v":0},{"$f":"投入係数!M43*M$119","v":0},{"$f":"投入係数!N43*N$119","v":0},{"$f":"投入係数!O43*O$119","v":0},{"$f":"投入係数!P43*P$119","v":0},{"$f":"投入係数!Q43*Q$119","v":0},{"$f":"投入係数!R43*R$119","v":0},{"$f":"投入係数!S43*S$119","v":0},{"$f":"投入係数!T43*T$119","v":0},{"$f":"投入係数!U43*U$119","v":0},{"$f":"投入係数!V43*V$119","v":0},{"$f":"投入係数!W43*W$119","v":0},{"$f":"投入係数!X43*X$119","v":0},{"$f":"投入係数!Y43*Y$119","v":0},{"$f":"投入係数!Z43*Z$119","v":0},{"$f":"投入係数!AA43*AA$119","v":0},{"$f":"投入係数!AB43*AB$119","v":0},{"$f":"投入係数!AC43*AC$119","v":0},{"$f":"投入係数!AD43*AD$119","v":0},{"$f":"投入係数!AE43*AE$119","v":0},{"$f":"投入係数!AF43*AF$119","v":0},{"$f":"投入係数!AG43*AG$119","v":0},{"$f":"投入係数!AH43*AH$119","v":0},{"$f":"投入係数!AI43*AI$119","v":0},{"$f":"投入係数!AJ43*AJ$119","v":0},{"$f":"投入係数!AK43*AK$119","v":0},{"$f":"投入係数!AL43*AL$119","v":0},{"$f":"投入係数!AM43*AM$119","v":0},{"$f":"投入係数!AN43*AN$119","v":0},{"$f":"投入係数!AO43*AO$119","v":0},{"$f":"投入係数!AP43*AP$119","v":0},{"$f":"投入係数!AQ43*AQ$119","v":0},{"$f":"投入係数!AR43*AR$119","v":0},{"$f":"投入係数!AS43*AS$119","v":0},{"$f":"投入係数!AT43*AT$119","v":0},{"$f":"投入係数!AU43*AU$119","v":0},{"$f":"投入係数!AV43*AV$119","v":0},{"$f":"投入係数!AW43*AW$119","v":0},{"$f":"投入係数!AX43*AX$119","v":0},{"$f":"投入係数!AY43*AY$119","v":0},{"$f":"投入係数!AZ43*AZ$119","v":0},{"$f":"投入係数!BA43*BA$119","v":0},{"$f":"投入係数!BB43*BB$119","v":0},{"$f":"投入係数!BC43*BC$119","v":0},{"$f":"投入係数!BD43*BD$119","v":0},{"$f":"投入係数!BE43*BE$119","v":0},{"$f":"投入係数!BF43*BF$119","v":0},{"$f":"投入係数!BG43*BG$119","v":0},{"$f":"投入係数!BH43*BH$119","v":0},{"$f":"投入係数!BI43*BI$119","v":0},{"$f":"投入係数!BJ43*BJ$119","v":0},{"$f":"投入係数!BK43*BK$119","v":0},{"$f":"投入係数!BL43*BL$119","v":0},{"$f":"投入係数!BM43*BM$119","v":0},{"$f":"投入係数!BN43*BN$119","v":0},{"$f":"投入係数!BO43*BO$119","v":0},{"$f":"投入係数!BP43*BP$119","v":0},{"$f":"投入係数!BQ43*BQ$119","v":0},{"$f":"投入係数!BR43*BR$119","v":0},{"$f":"投入係数!BS43*BS$119","v":0},{"$f":"投入係数!BT43*BT$119","v":0},{"$f":"投入係数!BU43*BU$119","v":0},{"$f":"投入係数!BV43*BV$119","v":0},{"$f":"投入係数!BW43*BW$119","v":0},{"$f":"投入係数!BX43*BX$119","v":0},{"$f":"投入係数!BY43*BY$119","v":0},{"$f":"投入係数!BZ43*BZ$119","v":0},{"$f":"投入係数!CA43*CA$119","v":0},{"$f":"投入係数!CB43*CB$119","v":0},{"$f":"投入係数!CC43*CC$119","v":0},{"$f":"投入係数!CD43*CD$119","v":0},{"$f":"投入係数!CE43*CE$119","v":0},{"$f":"投入係数!CF43*CF$119","v":0},{"$f":"投入係数!CG43*CG$119","v":0},{"$f":"投入係数!CH43*CH$119","v":0},{"$f":"投入係数!CI43*CI$119","v":0},{"$f":"投入係数!CJ43*CJ$119","v":0},{"$f":"投入係数!CK43*CK$119","v":0},{"$f":"投入係数!CL43*CL$119","v":0},{"$f":"投入係数!CM43*CM$119","v":0},{"$f":"投入係数!CN43*CN$119","v":0},{"$f":"投入係数!CO43*CO$119","v":0},{"$f":"投入係数!CP43*CP$119","v":0},{"$f":"投入係数!CQ43*CQ$119","v":0},{"$f":"投入係数!CR43*CR$119","v":0},{"$f":"投入係数!CS43*CS$119","v":0},{"$f":"投入係数!CT43*CT$119","v":0},{"$f":"投入係数!CU43*CU$119","v":0},{"$f":"投入係数!CV43*CV$119","v":0},{"$f":"投入係数!CW43*CW$119","v":0},{"$f":"投入係数!CX43*CX$119","v":0},{"$f":"投入係数!CY43*CY$119","v":0},{"$f":"投入係数!CZ43*CZ$119","v":0},{"$f":"投入係数!DA43*DA$119","v":0},{"$f":"投入係数!DB43*DB$119","v":0},{"$f":"投入係数!DC43*DC$119","v":0},{"$f":"投入係数!DD43*DD$119","v":0},{"$f":"投入係数!DE43*DE$119","v":0},{"$f":"投入係数!DF43*DF$119","v":0},{"$f":"投入係数!DG43*DG$119","v":0},{"$f":"投入係数!DH43*DH$119","v":0},0]
[null,"2612","鉄屑",{"$f":"投入係数!D44*D$119","v":0},{"$f":"投入係数!E44*E$119","v":0},{"$f":"投入係数!F44*F$119","v":0},{"$f":"投入係数!G44*G$119","v":0},{"$f":"投入係数!H44*H$119","v":0},{"$f":"投入係数!I44*I$119","v":0},{"$f":"投入係数!J44*J$119","v":0},{"$f":"投入係数!K44*K$119","v":0},{"$f":"投入係数!L44*L$119","v":0},{"$f":"投入係数!M44*M$119","v":0},{"$f":"投入係数!N44*N$119","v":0},{"$f":"投入係数!O44*O$119","v":0},{"$f":"投入係数!P44*P$119","v":0},{"$f":"投入係数!Q44*Q$119","v":0},{"$f":"投入係数!R44*R$119","v":0},{"$f":"投入係数!S44*S$119","v":0},{"$f":"投入係数!T44*T$119","v":0},{"$f":"投入係数!U44*U$119","v":0},{"$f":"投入係数!V44*V$119","v":0},{"$f":"投入係数!W44*W$119","v":0},{"$f":"投入係数!X44*X$119","v":0},{"$f":"投入係数!Y44*Y$119","v":0},{"$f":"投入係数!Z44*Z$119","v":0},{"$f":"投入係数!AA44*AA$119","v":0},{"$f":"投入係数!AB44*AB$119","v":0},{"$f":"投入係数!AC44*AC$119","v":0},{"$f":"投入係数!AD44*AD$119","v":0},{"$f":"投入係数!AE44*AE$119","v":0},{"$f":"投入係数!AF44*AF$119","v":0},{"$f":"投入係数!AG44*AG$119","v":0},{"$f":"投入係数!AH44*AH$119","v":0},{"$f":"投入係数!AI44*AI$119","v":0},{"$f":"投入係数!AJ44*AJ$119","v":0},{"$f":"投入係数!AK44*AK$119","v":0},{"$f":"投入係数!AL44*AL$119","v":0},{"$f":"投入係数!AM44*AM$119","v":0},{"$f":"投入係数!AN44*AN$119","v":0},{"$f":"投入係数!AO44*AO$119","v":0},{"$f":"投入係数!AP44*AP$119","v":0},{"$f":"投入係数!AQ44*AQ$119","v":0},{"$f":"投入係数!AR44*AR$119","v":0},{"$f":"投入係数!AS44*AS$119","v":0},{"$f":"投入係数!AT44*AT$119","v":0},{"$f":"投入係数!AU44*AU$119","v":0},{"$f":"投入係数!AV44*AV$119","v":0},{"$f":"投入係数!AW44*AW$119","v":0},{"$f":"投入係数!AX44*AX$119","v":0},{"$f":"投入係数!AY44*AY$119","v":0},{"$f":"投入係数!AZ44*AZ$119","v":0},{"$f":"投入係数!BA44*BA$119","v":0},{"$f":"投入係数!BB44*BB$119","v":0},{"$f":"投入係数!BC44*BC$119","v":0},{"$f":"投入係数!BD44*BD$119","v":0},{"$f":"投入係数!BE44*BE$119","v":0},{"$f":"投入係数!BF44*BF$119","v":0},{"$f":"投入係数!BG44*BG$119","v":0},{"$f":"投入係数!BH44*BH$119","v":0},{"$f":"投入係数!BI44*BI$119","v":0},{"$f":"投入係数!BJ44*BJ$119","v":0},{"$f":"投入係数!BK44*BK$119","v":0},{"$f":"投入係数!BL44*BL$119","v":0},{"$f":"投入係数!BM44*BM$119","v":0},{"$f":"投入係数!BN44*BN$119","v":0},{"$f":"投入係数!BO44*BO$119","v":0},{"$f":"投入係数!BP44*BP$119","v":0},{"$f":"投入係数!BQ44*BQ$119","v":0},{"$f":"投入係数!BR44*BR$119","v":0},{"$f":"投入係数!BS44*BS$119","v":0},{"$f":"投入係数!BT44*BT$119","v":0},{"$f":"投入係数!BU44*BU$119","v":0},{"$f":"投入係数!BV44*BV$119","v":0},{"$f":"投入係数!BW44*BW$119","v":0},{"$f":"投入係数!BX44*BX$119","v":0},{"$f":"投入係数!BY44*BY$119","v":0},{"$f":"投入係数!BZ44*BZ$119","v":0},{"$f":"投入係数!CA44*CA$119","v":0},{"$f":"投入係数!CB44*CB$119","v":0},{"$f":"投入係数!CC44*CC$119","v":0},{"$f":"投入係数!CD44*CD$119","v":0},{"$f":"投入係数!CE44*CE$119","v":0},{"$f":"投入係数!CF44*CF$119","v":0},{"$f":"投入係数!CG44*CG$119","v":0},{"$f":"投入係数!CH44*CH$119","v":0},{"$f":"投入係数!CI44*CI$119","v":0},{"$f":"投入係数!CJ44*CJ$119","v":0},{"$f":"投入係数!CK44*CK$119","v":0},{"$f":"投入係数!CL44*CL$119","v":0},{"$f":"投入係数!CM44*CM$119","v":0},{"$f":"投入係数!CN44*CN$119","v":0},{"$f":"投入係数!CO44*CO$119","v":0},{"$f":"投入係数!CP44*CP$119","v":0},{"$f":"投入係数!CQ44*CQ$119","v":0},{"$f":"投入係数!CR44*CR$119","v":0},{"$f":"投入係数!CS44*CS$119","v":0},{"$f":"投入係数!CT44*CT$119","v":0},{"$f":"投入係数!CU44*CU$119","v":0},{"$f":"投入係数!CV44*CV$119","v":0},{"$f":"投入係数!CW44*CW$119","v":0},{"$f":"投入係数!CX44*CX$119","v":0},{"$f":"投入係数!CY44*CY$119","v":0},{"$f":"投入係数!CZ44*CZ$119","v":0},{"$f":"投入係数!DA44*DA$119","v":0},{"$f":"投入係数!DB44*DB$119","v":0},{"$f":"投入係数!DC44*DC$119","v":0},{"$f":"投入係数!DD44*DD$119","v":0},{"$f":"投入係数!DE44*DE$119","v":0},{"$f":"投入係数!DF44*DF$119","v":0},{"$f":"投入係数!DG44*DG$119","v":0},{"$f":"投入係数!DH44*DH$119","v":0},0]
[null,"262","鋼材",{"$f":"投入係数!D45*D$119","v":0},{"$f":"投入係数!E45*E$119","v":0},{"$f":"投入係数!F45*F$119","v":0},{"$f":"投入係数!G45*G$119","v":0},{"$f":"投入係数!H45*H$119","v":0},{"$f":"投入係数!I45*I$119","v":0},{"$f":"投入係数!J45*J$119","v":0},{"$f":"投入係数!K45*K$119","v":0},{"$f":"投入係数!L45*L$119","v":0},{"$f":"投入係数!M45*M$119","v":0},{"$f":"投入係数!N45*N$119","v":0},{"$f":"投入係数!O45*O$119","v":0},{"$f":"投入係数!P45*P$119","v":0},{"$f":"投入係数!Q45*Q$119","v":0},{"$f":"投入係数!R45*R$119","v":0},{"$f":"投入係数!S45*S$119","v":0},{"$f":"投入係数!T45*T$119","v":0},{"$f":"投入係数!U45*U$119","v":0},{"$f":"投入係数!V45*V$119","v":0},{"$f":"投入係数!W45*W$119","v":0},{"$f":"投入係数!X45*X$119","v":0},{"$f":"投入係数!Y45*Y$119","v":0},{"$f":"投入係数!Z45*Z$119","v":0},{"$f":"投入係数!AA45*AA$119","v":0},{"$f":"投入係数!AB45*AB$119","v":0},{"$f":"投入係数!AC45*AC$119","v":0},{"$f":"投入係数!AD45*AD$119","v":0},{"$f":"投入係数!AE45*AE$119","v":0},{"$f":"投入係数!AF45*AF$119","v":0},{"$f":"投入係数!AG45*AG$119","v":0},{"$f":"投入係数!AH45*AH$119","v":0},{"$f":"投入係数!AI45*AI$119","v":0},{"$f":"投入係数!AJ45*AJ$119","v":0},{"$f":"投入係数!AK45*AK$119","v":0},{"$f":"投入係数!AL45*AL$119","v":0},{"$f":"投入係数!AM45*AM$119","v":0},{"$f":"投入係数!AN45*AN$119","v":0},{"$f":"投入係数!AO45*AO$119","v":0},{"$f":"投入係数!AP45*AP$119","v":0},{"$f":"投入係数!AQ45*AQ$119","v":0},{"$f":"投入係数!AR45*AR$119","v":0},{"$f":"投入係数!AS45*AS$119","v":0},{"$f":"投入係数!AT45*AT$119","v":0},{"$f":"投入係数!AU45*AU$119","v":0},{"$f":"投入係数!AV45*AV$119","v":0},{"$f":"投入係数!AW45*AW$119","v":0},{"$f":"投入係数!AX45*AX$119","v":0},{"$f":"投入係数!AY45*AY$119","v":0},{"$f":"投入係数!AZ45*AZ$119","v":0},{"$f":"投入係数!BA45*BA$119","v":0},{"$f":"投入係数!BB45*BB$119","v":0},{"$f":"投入係数!BC45*BC$119","v":0},{"$f":"投入係数!BD45*BD$119","v":0},{"$f":"投入係数!BE45*BE$119","v":0},{"$f":"投入係数!BF45*BF$119","v":0},{"$f":"投入係数!BG45*BG$119","v":0},{"$f":"投入係数!BH45*BH$119","v":0},{"$f":"投入係数!BI45*BI$119","v":0},{"$f":"投入係数!BJ45*BJ$119","v":0},{"$f":"投入係数!BK45*BK$119","v":0},{"$f":"投入係数!BL45*BL$119","v":0},{"$f":"投入係数!BM45*BM$119","v":0},{"$f":"投入係数!BN45*BN$119","v":0},{"$f":"投入係数!BO45*BO$119","v":0},{"$f":"投入係数!BP45*BP$119","v":0},{"$f":"投入係数!BQ45*BQ$119","v":0},{"$f":"投入係数!BR45*BR$119","v":0},{"$f":"投入係数!BS45*BS$119","v":0},{"$f":"投入係数!BT45*BT$119","v":0},{"$f":"投入係数!BU45*BU$119","v":0},{"$f":"投入係数!BV45*BV$119","v":0},{"$f":"投入係数!BW45*BW$119","v":0},{"$f":"投入係数!BX45*BX$119","v":0},{"$f":"投入係数!BY45*BY$119","v":0},{"$f":"投入係数!BZ45*BZ$119","v":0},{"$f":"投入係数!CA45*CA$119","v":0},{"$f":"投入係数!CB45*CB$119","v":0},{"$f":"投入係数!CC45*CC$119","v":0},{"$f":"投入係数!CD45*CD$119","v":0},{"$f":"投入係数!CE45*CE$119","v":0},{"$f":"投入係数!CF45*CF$119","v":0},{"$f":"投入係数!CG45*CG$119","v":0},{"$f":"投入係数!CH45*CH$119","v":0},{"$f":"投入係数!CI45*CI$119","v":0},{"$f":"投入係数!CJ45*CJ$119","v":0},{"$f":"投入係数!CK45*CK$119","v":0},{"$f":"投入係数!CL45*CL$119","v":0},{"$f":"投入係数!CM45*CM$119","v":0},{"$f":"投入係数!CN45*CN$119","v":0},{"$f":"投入係数!CO45*CO$119","v":0},{"$f":"投入係数!CP45*CP$119","v":0},{"$f":"投入係数!CQ45*CQ$119","v":0},{"$f":"投入係数!CR45*CR$119","v":0},{"$f":"投入係数!CS45*CS$119","v":0},{"$f":"投入係数!CT45*CT$119","v":0},{"$f":"投入係数!CU45*CU$119","v":0},{"$f":"投入係数!CV45*CV$119","v":0},{"$f":"投入係数!CW45*CW$119","v":0},{"$f":"投入係数!CX45*CX$119","v":0},{"$f":"投入係数!CY45*CY$119","v":0},{"$f":"投入係数!CZ45*CZ$119","v":0},{"$f":"投入係数!DA45*DA$119","v":0},{"$f":"投入係数!DB45*DB$119","v":0},{"$f":"投入係数!DC45*DC$119","v":0},{"$f":"投入係数!DD45*DD$119","v":0},{"$f":"投入係数!DE45*DE$119","v":0},{"$f":"投入係数!DF45*DF$119","v":0},{"$f":"投入係数!DG45*DG$119","v":0},{"$f":"投入係数!DH45*DH$119","v":0},0]
[null,"263","鋳鍛造品（鉄）",{"$f":"投入係数!D46*D$119","v":0},{"$f":"投入係数!E46*E$119","v":0},{"$f":"投入係数!F46*F$119","v":0},{"$f":"投入係数!G46*G$119","v":0},{"$f":"投入係数!H46*H$119","v":0},{"$f":"投入係数!I46*I$119","v":0},{"$f":"投入係数!J46*J$119","v":0},{"$f":"投入係数!K46*K$119","v":0},{"$f":"投入係数!L46*L$119","v":0},{"$f":"投入係数!M46*M$119","v":0},{"$f":"投入係数!N46*N$119","v":0},{"$f":"投入係数!O46*O$119","v":0},{"$f":"投入係数!P46*P$119","v":0},{"$f":"投入係数!Q46*Q$119","v":0},{"$f":"投入係数!R46*R$119","v":0},{"$f":"投入係数!S46*S$119","v":0},{"$f":"投入係数!T46*T$119","v":0},{"$f":"投入係数!U46*U$119","v":0},{"$f":"投入係数!V46*V$119","v":0},{"$f":"投入係数!W46*W$119","v":0},{"$f":"投入係数!X46*X$119","v":0},{"$f":"投入係数!Y46*Y$119","v":0},{"$f":"投入係数!Z46*Z$119","v":0},{"$f":"投入係数!AA46*AA$119","v":0},{"$f":"投入係数!AB46*AB$119","v":0},{"$f":"投入係数!AC46*AC$119","v":0},{"$f":"投入係数!AD46*AD$119","v":0},{"$f":"投入係数!AE46*AE$119","v":0},{"$f":"投入係数!AF46*AF$119","v":0},{"$f":"投入係数!AG46*AG$119","v":0},{"$f":"投入係数!AH46*AH$119","v":0},{"$f":"投入係数!AI46*AI$119","v":0},{"$f":"投入係数!AJ46*AJ$119","v":0},{"$f":"投入係数!AK46*AK$119","v":0},{"$f":"投入係数!AL46*AL$119","v":0},{"$f":"投入係数!AM46*AM$119","v":0},{"$f":"投入係数!AN46*AN$119","v":0},{"$f":"投入係数!AO46*AO$119","v":0},{"$f":"投入係数!AP46*AP$119","v":0},{"$f":"投入係数!AQ46*AQ$119","v":0},{"$f":"投入係数!AR46*AR$119","v":0},{"$f":"投入係数!AS46*AS$119","v":0},{"$f":"投入係数!AT46*AT$119","v":0},{"$f":"投入係数!AU46*AU$119","v":0},{"$f":"投入係数!AV46*AV$119","v":0},{"$f":"投入係数!AW46*AW$119","v":0},{"$f":"投入係数!AX46*AX$119","v":0},{"$f":"投入係数!AY46*AY$119","v":0},{"$f":"投入係数!AZ46*AZ$119","v":0},{"$f":"投入係数!BA46*BA$119","v":0},{"$f":"投入係数!BB46*BB$119","v":0},{"$f":"投入係数!BC46*BC$119","v":0},{"$f":"投入係数!BD46*BD$119","v":0},{"$f":"投入係数!BE46*BE$119","v":0},{"$f":"投入係数!BF46*BF$119","v":0},{"$f":"投入係数!BG46*BG$119","v":0},{"$f":"投入係数!BH46*BH$119","v":0},{"$f":"投入係数!BI46*BI$119","v":0},{"$f":"投入係数!BJ46*BJ$119","v":0},{"$f":"投入係数!BK46*BK$119","v":0},{"$f":"投入係数!BL46*BL$119","v":0},{"$f":"投入係数!BM46*BM$119","v":0},{"$f":"投入係数!BN46*BN$119","v":0},{"$f":"投入係数!BO46*BO$119","v":0},{"$f":"投入係数!BP46*BP$119","v":0},{"$f":"投入係数!BQ46*BQ$119","v":0},{"$f":"投入係数!BR46*BR$119","v":0},{"$f":"投入係数!BS46*BS$119","v":0},{"$f":"投入係数!BT46*BT$119","v":0},{"$f":"投入係数!BU46*BU$119","v":0},{"$f":"投入係数!BV46*BV$119","v":0},{"$f":"投入係数!BW46*BW$119","v":0},{"$f":"投入係数!BX46*BX$119","v":0},{"$f":"投入係数!BY46*BY$119","v":0},{"$f":"投入係数!BZ46*BZ$119","v":0},{"$f":"投入係数!CA46*CA$119","v":0},{"$f":"投入係数!CB46*CB$119","v":0},{"$f":"投入係数!CC46*CC$119","v":0},{"$f":"投入係数!CD46*CD$119","v":0},{"$f":"投入係数!CE46*CE$119","v":0},{"$f":"投入係数!CF46*CF$119","v":0},{"$f":"投入係数!CG46*CG$119","v":0},{"$f":"投入係数!CH46*CH$119","v":0},{"$f":"投入係数!CI46*CI$119","v":0},{"$f":"投入係数!CJ46*CJ$119","v":0},{"$f":"投入係数!CK46*CK$119","v":0},{"$f":"投入係数!CL46*CL$119","v":0},{"$f":"投入係数!CM46*CM$119","v":0},{"$f":"投入係数!CN46*CN$119","v":0},{"$f":"投入係数!CO46*CO$119","v":0},{"$f":"投入係数!CP46*CP$119","v":0},{"$f":"投入係数!CQ46*CQ$119","v":0},{"$f":"投入係数!CR46*CR$119","v":0},{"$f":"投入係数!CS46*CS$119","v":0},{"$f":"投入係数!CT46*CT$119","v":0},{"$f":"投入係数!CU46*CU$119","v":0},{"$f":"投入係数!CV46*CV$119","v":0},{"$f":"投入係数!CW46*CW$119","v":0},{"$f":"投入係数!CX46*CX$119","v":0},{"$f":"投入係数!CY46*CY$119","v":0},{"$f":"投入係数!CZ46*CZ$119","v":0},{"$f":"投入係数!DA46*DA$119","v":0},{"$f":"投入係数!DB46*DB$119","v":0},{"$f":"投入係数!DC46*DC$119","v":0},{"$f":"投入係数!DD46*DD$119","v":0},{"$f":"投入係数!DE46*DE$119","v":0},{"$f":"投入係数!DF46*DF$119","v":0},{"$f":"投入係数!DG46*DG$119","v":0},{"$f":"投入係数!DH46*DH$119","v":0},0]
[null,"269","その他の鉄鋼製品",{"$f":"投入係数!D47*D$119","v":0},{"$f":"投入係数!E47*E$119","v":0},{"$f":"投入係数!F47*F$119","v":0},{"$f":"投入係数!G47*G$119","v":0},{"$f":"投入係数!H47*H$119","v":0},{"$f":"投入係数!I47*I$119","v":0},{"$f":"投入係数!J47*J$119","v":0},{"$f":"投入係数!K47*K$119","v":0},{"$f":"投入係数!L47*L$119","v":0},{"$f":"投入係数!M47*M$119","v":0},{"$f":"投入係数!N47*N$119","v":0},{"$f":"投入係数!O47*O$119","v":0},{"$f":"投入係数!P47*P$119","v":0},{"$f":"投入係数!Q47*Q$119","v":0},{"$f":"投入係数!R47*R$119","v":0},{"$f":"投入係数!S47*S$119","v":0},{"$f":"投入係数!T47*T$119","v":0},{"$f":"投入係数!U47*U$119","v":0},{"$f":"投入係数!V47*V$119","v":0},{"$f":"投入係数!W47*W$119","v":0},{"$f":"投入係数!X47*X$119","v":0},{"$f":"投入係数!Y47*Y$119","v":0},{"$f":"投入係数!Z47*Z$119","v":0},{"$f":"投入係数!AA47*AA$119","v":0},{"$f":"投入係数!AB47*AB$119","v":0},{"$f":"投入係数!AC47*AC$119","v":0},{"$f":"投入係数!AD47*AD$119","v":0},{"$f":"投入係数!AE47*AE$119","v":0},{"$f":"投入係数!AF47*AF$119","v":0},{"$f":"投入係数!AG47*AG$119","v":0},{"$f":"投入係数!AH47*AH$119","v":0},{"$f":"投入係数!AI47*AI$119","v":0},{"$f":"投入係数!AJ47*AJ$119","v":0},{"$f":"投入係数!AK47*AK$119","v":0},{"$f":"投入係数!AL47*AL$119","v":0},{"$f":"投入係数!AM47*AM$119","v":0},{"$f":"投入係数!AN47*AN$119","v":0},{"$f":"投入係数!AO47*AO$119","v":0},{"$f":"投入係数!AP47*AP$119","v":0},{"$f":"投入係数!AQ47*AQ$119","v":0},{"$f":"投入係数!AR47*AR$119","v":0},{"$f":"投入係数!AS47*AS$119","v":0},{"$f":"投入係数!AT47*AT$119","v":0},{"$f":"投入係数!AU47*AU$119","v":0},{"$f":"投入係数!AV47*AV$119","v":0},{"$f":"投入係数!AW47*AW$119","v":0},{"$f":"投入係数!AX47*AX$119","v":0},{"$f":"投入係数!AY47*AY$119","v":0},{"$f":"投入係数!AZ47*AZ$119","v":0},{"$f":"投入係数!BA47*BA$119","v":0},{"$f":"投入係数!BB47*BB$119","v":0},{"$f":"投入係数!BC47*BC$119","v":0},{"$f":"投入係数!BD47*BD$119","v":0},{"$f":"投入係数!BE47*BE$119","v":0},{"$f":"投入係数!BF47*BF$119","v":0},{"$f":"投入係数!BG47*BG$119","v":0},{"$f":"投入係数!BH47*BH$119","v":0},{"$f":"投入係数!BI47*BI$119","v":0},{"$f":"投入係数!BJ47*BJ$119","v":0},{"$f":"投入係数!BK47*BK$119","v":0},{"$f":"投入係数!BL47*BL$119","v":0},{"$f":"投入係数!BM47*BM$119","v":0},{"$f":"投入係数!BN47*BN$119","v":0},{"$f":"投入係数!BO47*BO$119","v":0},{"$f":"投入係数!BP47*BP$119","v":0},{"$f":"投入係数!BQ47*BQ$119","v":0},{"$f":"投入係数!BR47*BR$119","v":0},{"$f":"投入係数!BS47*BS$119","v":0},{"$f":"投入係数!BT47*BT$119","v":0},{"$f":"投入係数!BU47*BU$119","v":0},{"$f":"投入係数!BV47*BV$119","v":0},{"$f":"投入係数!BW47*BW$119","v":0},{"$f":"投入係数!BX47*BX$119","v":0},{"$f":"投入係数!BY47*BY$119","v":0},{"$f":"投入係数!BZ47*BZ$119","v":0},{"$f":"投入係数!CA47*CA$119","v":0},{"$f":"投入係数!CB47*CB$119","v":0},{"$f":"投入係数!CC47*CC$119","v":0},{"$f":"投入係数!CD47*CD$119","v":0},{"$f":"投入係数!CE47*CE$119","v":0},{"$f":"投入係数!CF47*CF$119","v":0},{"$f":"投入係数!CG47*CG$119","v":0},{"$f":"投入係数!CH47*CH$119","v":0},{"$f":"投入係数!CI47*CI$119","v":0},{"$f":"投入係数!CJ47*CJ$119","v":0},{"$f":"投入係数!CK47*CK$119","v":0},{"$f":"投入係数!CL47*CL$119","v":0},{"$f":"投入係数!CM47*CM$119","v":0},{"$f":"投入係数!CN47*CN$119","v":0},{"$f":"投入係数!CO47*CO$119","v":0},{"$f":"投入係数!CP47*CP$119","v":0},{"$f":"投入係数!CQ47*CQ$119","v":0},{"$f":"投入係数!CR47*CR$119","v":0},{"$f":"投入係数!CS47*CS$119","v":0},{"$f":"投入係数!CT47*CT$119","v":0},{"$f":"投入係数!CU47*CU$119","v":0},{"$f":"投入係数!CV47*CV$119","v":0},{"$f":"投入係数!CW47*CW$119","v":0},{"$f":"投入係数!CX47*CX$119","v":0},{"$f":"投入係数!CY47*CY$119","v":0},{"$f":"投入係数!CZ47*CZ$119","v":0},{"$f":"投入係数!DA47*DA$119","v":0},{"$f":"投入係数!DB47*DB$119","v":0},{"$f":"投入係数!DC47*DC$119","v":0},{"$f":"投入係数!DD47*DD$119","v":0},{"$f":"投入係数!DE47*DE$119","v":0},{"$f":"投入係数!DF47*DF$119","v":0},{"$f":"投入係数!DG47*DG$119","v":0},{"$f":"投入係数!DH47*DH$119","v":0},0]
[null,"271","非鉄金属製錬・精製",{"$f":"投入係数!D48*D$119","v":0},{"$f":"投入係数!E48*E$119","v":0},{"$f":"投入係数!F48*F$119","v":0},{"$f":"投入係数!G48*G$119","v":0},{"$f":"投入係数!H48*H$119","v":0},{"$f":"投入係数!I48*I$119","v":0},{"$f":"投入係数!J48*J$119","v":0},{"$f":"投入係数!K48*K$119","v":0},{"$f":"投入係数!L48*L$119","v":0},{"$f":"投入係数!M48*M$119","v":0},{"$f":"投入係数!N48*N$119","v":0},{"$f":"投入係数!O48*O$119","v":0},{"$f":"投入係数!P48*P$119","v":0},{"$f":"投入係数!Q48*Q$119","v":0},{"$f":"投入係数!R48*R$119","v":0},{"$f":"投入係数!S48*S$119","v":0},{"$f":"投入係数!T48*T$119","v":0},{"$f":"投入係数!U48*U$119","v":0},{"$f":"投入係数!V48*V$119","v":0},{"$f":"投入係数!W48*W$119","v":0},{"$f":"投入係数!X48*X$119","v":0},{"$f":"投入係数!Y48*Y$119","v":0},{"$f":"投入係数!Z48*Z$119","v":0},{"$f":"投入係数!AA48*AA$119","v":0},{"$f":"投入係数!AB48*AB$119","v":0},{"$f":"投入係数!AC48*AC$119","v":0},{"$f":"投入係数!AD48*AD$119","v":0},{"$f":"投入係数!AE48*AE$119","v":0},{"$f":"投入係数!AF48*AF$119","v":0},{"$f":"投入係数!AG48*AG$119","v":0},{"$f":"投入係数!AH48*AH$119","v":0},{"$f":"投入係数!AI48*AI$119","v":0},{"$f":"投入係数!AJ48*AJ$119","v":0},{"$f":"投入係数!AK48*AK$119","v":0},{"$f":"投入係数!AL48*AL$119","v":0},{"$f":"投入係数!AM48*AM$119","v":0},{"$f":"投入係数!AN48*AN$119","v":0},{"$f":"投入係数!AO48*AO$119","v":0},{"$f":"投入係数!AP48*AP$119","v":0},{"$f":"投入係数!AQ48*AQ$119","v":0},{"$f":"投入係数!AR48*AR$119","v":0},{"$f":"投入係数!AS48*AS$119","v":0},{"$f":"投入係数!AT48*AT$119","v":0},{"$f":"投入係数!AU48*AU$119","v":0},{"$f":"投入係数!AV48*AV$119","v":0},{"$f":"投入係数!AW48*AW$119","v":0},{"$f":"投入係数!AX48*AX$119","v":0},{"$f":"投入係数!AY48*AY$119","v":0},{"$f":"投入係数!AZ48*AZ$119","v":0},{"$f":"投入係数!BA48*BA$119","v":0},{"$f":"投入係数!BB48*BB$119","v":0},{"$f":"投入係数!BC48*BC$119","v":0},{"$f":"投入係数!BD48*BD$119","v":0},{"$f":"投入係数!BE48*BE$119","v":0},{"$f":"投入係数!BF48*BF$119","v":0},{"$f":"投入係数!BG48*BG$119","v":0},{"$f":"投入係数!BH48*BH$119","v":0},{"$f":"投入係数!BI48*BI$119","v":0},{"$f":"投入係数!BJ48*BJ$119","v":0},{"$f":"投入係数!BK48*BK$119","v":0},{"$f":"投入係数!BL48*BL$119","v":0},{"$f":"投入係数!BM48*BM$119","v":0},{"$f":"投入係数!BN48*BN$119","v":0},{"$f":"投入係数!BO48*BO$119","v":0},{"$f":"投入係数!BP48*BP$119","v":0},{"$f":"投入係数!BQ48*BQ$119","v":0},{"$f":"投入係数!BR48*BR$119","v":0},{"$f":"投入係数!BS48*BS$119","v":0},{"$f":"投入係数!BT48*BT$119","v":0},{"$f":"投入係数!BU48*BU$119","v":0},{"$f":"投入係数!BV48*BV$119","v":0},{"$f":"投入係数!BW48*BW$119","v":0},{"$f":"投入係数!BX48*BX$119","v":0},{"$f":"投入係数!BY48*BY$119","v":0},{"$f":"投入係数!BZ48*BZ$119","v":0},{"$f":"投入係数!CA48*CA$119","v":0},{"$f":"投入係数!CB48*CB$119","v":0},{"$f":"投入係数!CC48*CC$119","v":0},{"$f":"投入係数!CD48*CD$119","v":0},{"$f":"投入係数!CE48*CE$119","v":0},{"$f":"投入係数!CF48*CF$119","v":0},{"$f":"投入係数!CG48*CG$119","v":0},{"$f":"投入係数!CH48*CH$119","v":0},{"$f":"投入係数!CI48*CI$119","v":0},{"$f":"投入係数!CJ48*CJ$119","v":0},{"$f":"投入係数!CK48*CK$119","v":0},{"$f":"投入係数!CL48*CL$119","v":0},{"$f":"投入係数!CM48*CM$119","v":0},{"$f":"投入係数!CN48*CN$119","v":0},{"$f":"投入係数!CO48*CO$119","v":0},{"$f":"投入係数!CP48*CP$119","v":0},{"$f":"投入係数!CQ48*CQ$119","v":0},{"$f":"投入係数!CR48*CR$119","v":0},{"$f":"投入係数!CS48*CS$119","v":0},{"$f":"投入係数!CT48*CT$119","v":0},{"$f":"投入係数!CU48*CU$119","v":0},{"$f":"投入係数!CV48*CV$119","v":0},{"$f":"投入係数!CW48*CW$119","v":0},{"$f":"投入係数!CX48*CX$119","v":0},{"$f":"投入係数!CY48*CY$119","v":0},{"$f":"投入係数!CZ48*CZ$119","v":0},{"$f":"投入係数!DA48*DA$119","v":0},{"$f":"投入係数!DB48*DB$119","v":0},{"$f":"投入係数!DC48*DC$119","v":0},{"$f":"投入係数!DD48*DD$119","v":0},{"$f":"投入係数!DE48*DE$119","v":0},{"$f":"投入係数!DF48*DF$119","v":0},{"$f":"投入係数!DG48*DG$119","v":0},{"$f":"投入係数!DH48*DH$119","v":0},0]
[null,"272","非鉄金属加工製品",{"$f":"投入係数!D49*D$119","v":0},{"$f":"投入係数!E49*E$119","v":0},{"$f":"投入係数!F49*F$119","v":0},{"$f":"投入係数!G49*G$119","v":0},{"$f":"投入係数!H49*H$119","v":0},{"$f":"投入係数!I49*I$119","v":0},{"$f":"投入係数!J49*J$119","v":0},{"$f":"投入係数!K49*K$119","v":0},{"$f":"投入係数!L49*L$119","v":0},{"$f":"投入係数!M49*M$119","v":0},{"$f":"投入係数!N49*N$119","v":0},{"$f":"投入係数!O49*O$119","v":0},{"$f":"投入係数!P49*P$119","v":0},{"$f":"投入係数!Q49*Q$119","v":0},{"$f":"投入係数!R49*R$119","v":0},{"$f":"投入係数!S49*S$119","v":0},{"$f":"投入係数!T49*T$119","v":0},{"$f":"投入係数!U49*U$119","v":0},{"$f":"投入係数!V49*V$119","v":0},{"$f":"投入係数!W49*W$119","v":0},{"$f":"投入係数!X49*X$119","v":0},{"$f":"投入係数!Y49*Y$119","v":0},{"$f":"投入係数!Z49*Z$119","v":0},{"$f":"投入係数!AA49*AA$119","v":0},{"$f":"投入係数!AB49*AB$119","v":0},{"$f":"投入係数!AC49*AC$119","v":0},{"$f":"投入係数!AD49*AD$119","v":0},{"$f":"投入係数!AE49*AE$119","v":0},{"$f":"投入係数!AF49*AF$119","v":0},{"$f":"投入係数!AG49*AG$119","v":0},{"$f":"投入係数!AH49*AH$119","v":0},{"$f":"投入係数!AI49*AI$119","v":0},{"$f":"投入係数!AJ49*AJ$119","v":0},{"$f":"投入係数!AK49*AK$119","v":0},{"$f":"投入係数!AL49*AL$119","v":0},{"$f":"投入係数!AM49*AM$119","v":0},{"$f":"投入係数!AN49*AN$119","v":0},{"$f":"投入係数!AO49*AO$119","v":0},{"$f":"投入係数!AP49*AP$119","v":0},{"$f":"投入係数!AQ49*AQ$119","v":0},{"$f":"投入係数!AR49*AR$119","v":0},{"$f":"投入係数!AS49*AS$119","v":0},{"$f":"投入係数!AT49*AT$119","v":0},{"$f":"投入係数!AU49*AU$119","v":0},{"$f":"投入係数!AV49*AV$119","v":0},{"$f":"投入係数!AW49*AW$119","v":0},{"$f":"投入係数!AX49*AX$119","v":0},{"$f":"投入係数!AY49*AY$119","v":0},{"$f":"投入係数!AZ49*AZ$119","v":0},{"$f":"投入係数!BA49*BA$119","v":0},{"$f":"投入係数!BB49*BB$119","v":0},{"$f":"投入係数!BC49*BC$119","v":0},{"$f":"投入係数!BD49*BD$119","v":0},{"$f":"投入係数!BE49*BE$119","v":0},{"$f":"投入係数!BF49*BF$119","v":0},{"$f":"投入係数!BG49*BG$119","v":0},{"$f":"投入係数!BH49*BH$119","v":0},{"$f":"投入係数!BI49*BI$119","v":0},{"$f":"投入係数!BJ49*BJ$119","v":0},{"$f":"投入係数!BK49*BK$119","v":0},{"$f":"投入係数!BL49*BL$119","v":0},{"$f":"投入係数!BM49*BM$119","v":0},{"$f":"投入係数!BN49*BN$119","v":0},{"$f":"投入係数!BO49*BO$119","v":0},{"$f":"投入係数!BP49*BP$119","v":0},{"$f":"投入係数!BQ49*BQ$119","v":0},{"$f":"投入係数!BR49*BR$119","v":0},{"$f":"投入係数!BS49*BS$119","v":0},{"$f":"投入係数!BT49*BT$119","v":0},{"$f":"投入係数!BU49*BU$119","v":0},{"$f":"投入係数!BV49*BV$119","v":0},{"$f":"投入係数!BW49*BW$119","v":0},{"$f":"投入係数!BX49*BX$119","v":0},{"$f":"投入係数!BY49*BY$119","v":0},{"$f":"投入係数!BZ49*BZ$119","v":0},{"$f":"投入係数!CA49*CA$119","v":0},{"$f":"投入係数!CB49*CB$119","v":0},{"$f":"投入係数!CC49*CC$119","v":0},{"$f":"投入係数!CD49*CD$119","v":0},{"$f":"投入係数!CE49*CE$119","v":0},{"$f":"投入係数!CF49*CF$119","v":0},{"$f":"投入係数!CG49*CG$119","v":0},{"$f":"投入係数!CH49*CH$119","v":0},{"$f":"投入係数!CI49*CI$119","v":0},{"$f":"投入係数!CJ49*CJ$119","v":0},{"$f":"投入係数!CK49*CK$119","v":0},{"$f":"投入係数!CL49*CL$119","v":0},{"$f":"投入係数!CM49*CM$119","v":0},{"$f":"投入係数!CN49*CN$119","v":0},{"$f":"投入係数!CO49*CO$119","v":0},{"$f":"投入係数!CP49*CP$119","v":0},{"$f":"投入係数!CQ49*CQ$119","v":0},{"$f":"投入係数!CR49*CR$119","v":0},{"$f":"投入係数!CS49*CS$119","v":0},{"$f":"投入係数!CT49*CT$119","v":0},{"$f":"投入係数!CU49*CU$119","v":0},{"$f":"投入係数!CV49*CV$119","v":0},{"$f":"投入係数!CW49*CW$119","v":0},{"$f":"投入係数!CX49*CX$119","v":0},{"$f":"投入係数!CY49*CY$119","v":0},{"$f":"投入係数!CZ49*CZ$119","v":0},{"$f":"投入係数!DA49*DA$119","v":0},{"$f":"投入係数!DB49*DB$119","v":0},{"$f":"投入係数!DC49*DC$119","v":0},{"$f":"投入係数!DD49*DD$119","v":0},{"$f":"投入係数!DE49*DE$119","v":0},{"$f":"投入係数!DF49*DF$119","v":0},{"$f":"投入係数!DG49*DG$119","v":0},{"$f":"投入係数!DH49*DH$119","v":0},0]
[null,"281","建設用・建築用金属製品",{"$f":"投入係数!D50*D$119","v":0},{"$f":"投入係数!E50*E$119","v":0},{"$f":"投入係数!F50*F$119","v":0},{"$f":"投入係数!G50*G$119","v":0},{"$f":"投入係数!H50*H$119","v":0},{"$f":"投入係数!I50*I$119","v":0},{"$f":"投入係数!J50*J$119","v":0},{"$f":"投入係数!K50*K$119","v":0},{"$f":"投入係数!L50*L$119","v":0},{"$f":"投入係数!M50*M$119","v":0},{"$f":"投入係数!N50*N$119","v":0},{"$f":"投入係数!O50*O$119","v":0},{"$f":"投入係数!P50*P$119","v":0},{"$f":"投入係数!Q50*Q$119","v":0},{"$f":"投入係数!R50*R$119","v":0},{"$f":"投入係数!S50*S$119","v":0},{"$f":"投入係数!T50*T$119","v":0},{"$f":"投入係数!U50*U$119","v":0},{"$f":"投入係数!V50*V$119","v":0},{"$f":"投入係数!W50*W$119","v":0},{"$f":"投入係数!X50*X$119","v":0},{"$f":"投入係数!Y50*Y$119","v":0},{"$f":"投入係数!Z50*Z$119","v":0},{"$f":"投入係数!AA50*AA$119","v":0},{"$f":"投入係数!AB50*AB$119","v":0},{"$f":"投入係数!AC50*AC$119","v":0},{"$f":"投入係数!AD50*AD$119","v":0},{"$f":"投入係数!AE50*AE$119","v":0},{"$f":"投入係数!AF50*AF$119","v":0},{"$f":"投入係数!AG50*AG$119","v":0},{"$f":"投入係数!AH50*AH$119","v":0},{"$f":"投入係数!AI50*AI$119","v":0},{"$f":"投入係数!AJ50*AJ$119","v":0},{"$f":"投入係数!AK50*AK$119","v":0},{"$f":"投入係数!AL50*AL$119","v":0},{"$f":"投入係数!AM50*AM$119","v":0},{"$f":"投入係数!AN50*AN$119","v":0},{"$f":"投入係数!AO50*AO$119","v":0},{"$f":"投入係数!AP50*AP$119","v":0},{"$f":"投入係数!AQ50*AQ$119","v":0},{"$f":"投入係数!AR50*AR$119","v":0},{"$f":"投入係数!AS50*AS$119","v":0},{"$f":"投入係数!AT50*AT$119","v":0},{"$f":"投入係数!AU50*AU$119","v":0},{"$f":"投入係数!AV50*AV$119","v":0},{"$f":"投入係数!AW50*AW$119","v":0},{"$f":"投入係数!AX50*AX$119","v":0},{"$f":"投入係数!AY50*AY$119","v":0},{"$f":"投入係数!AZ50*AZ$119","v":0},{"$f":"投入係数!BA50*BA$119","v":0},{"$f":"投入係数!BB50*BB$119","v":0},{"$f":"投入係数!BC50*BC$119","v":0},{"$f":"投入係数!BD50*BD$119","v":0},{"$f":"投入係数!BE50*BE$119","v":0},{"$f":"投入係数!BF50*BF$119","v":0},{"$f":"投入係数!BG50*BG$119","v":0},{"$f":"投入係数!BH50*BH$119","v":0},{"$f":"投入係数!BI50*BI$119","v":0},{"$f":"投入係数!BJ50*BJ$119","v":0},{"$f":"投入係数!BK50*BK$119","v":0},{"$f":"投入係数!BL50*BL$119","v":0},{"$f":"投入係数!BM50*BM$119","v":0},{"$f":"投入係数!BN50*BN$119","v":0},{"$f":"投入係数!BO50*BO$119","v":0},{"$f":"投入係数!BP50*BP$119","v":0},{"$f":"投入係数!BQ50*BQ$119","v":0},{"$f":"投入係数!BR50*BR$119","v":0},{"$f":"投入係数!BS50*BS$119","v":0},{"$f":"投入係数!BT50*BT$119","v":0},{"$f":"投入係数!BU50*BU$119","v":0},{"$f":"投入係数!BV50*BV$119","v":0},{"$f":"投入係数!BW50*BW$119","v":0},{"$f":"投入係数!BX50*BX$119","v":0},{"$f":"投入係数!BY50*BY$119","v":0},{"$f":"投入係数!BZ50*BZ$119","v":0},{"$f":"投入係数!CA50*CA$119","v":0},{"$f":"投入係数!CB50*CB$119","v":0},{"$f":"投入係数!CC50*CC$119","v":0},{"$f":"投入係数!CD50*CD$119","v":0},{"$f":"投入係数!CE50*CE$119","v":0},{"$f":"投入係数!CF50*CF$119","v":0},{"$f":"投入係数!CG50*CG$119","v":0},{"$f":"投入係数!CH50*CH$119","v":0},{"$f":"投入係数!CI50*CI$119","v":0},{"$f":"投入係数!CJ50*CJ$119","v":0},{"$f":"投入係数!CK50*CK$119","v":0},{"$f":"投入係数!CL50*CL$119","v":0},{"$f":"投入係数!CM50*CM$119","v":0},{"$f":"投入係数!CN50*CN$119","v":0},{"$f":"投入係数!CO50*CO$119","v":0},{"$f":"投入係数!CP50*CP$119","v":0},{"$f":"投入係数!CQ50*CQ$119","v":0},{"$f":"投入係数!CR50*CR$119","v":0},{"$f":"投入係数!CS50*CS$119","v":0},{"$f":"投入係数!CT50*CT$119","v":0},{"$f":"投入係数!CU50*CU$119","v":0},{"$f":"投入係数!CV50*CV$119","v":0},{"$f":"投入係数!CW50*CW$119","v":0},{"$f":"投入係数!CX50*CX$119","v":0},{"$f":"投入係数!CY50*CY$119","v":0},{"$f":"投入係数!CZ50*CZ$119","v":0},{"$f":"投入係数!DA50*DA$119","v":0},{"$f":"投入係数!DB50*DB$119","v":0},{"$f":"投入係数!DC50*DC$119","v":0},{"$f":"投入係数!DD50*DD$119","v":0},{"$f":"投入係数!DE50*DE$119","v":0},{"$f":"投入係数!DF50*DF$119","v":0},{"$f":"投入係数!DG50*DG$119","v":0},{"$f":"投入係数!DH50*DH$119","v":0},0]
[null,"289","その他の金属製品",{"$f":"投入係数!D51*D$119","v":0},{"$f":"投入係数!E51*E$119","v":0},{"$f":"投入係数!F51*F$119","v":0},{"$f":"投入係数!G51*G$119","v":0},{"$f":"投入係数!H51*H$119","v":0},{"$f":"投入係数!I51*I$119","v":0},{"$f":"投入係数!J51*J$119","v":0},{"$f":"投入係数!K51*K$119","v":0},{"$f":"投入係数!L51*L$119","v":0},{"$f":"投入係数!M51*M$119","v":0},{"$f":"投入係数!N51*N$119","v":0},{"$f":"投入係数!O51*O$119","v":0},{"$f":"投入係数!P51*P$119","v":0},{"$f":"投入係数!Q51*Q$119","v":0},{"$f":"投入係数!R51*R$119","v":0},{"$f":"投入係数!S51*S$119","v":0},{"$f":"投入係数!T51*T$119","v":0},{"$f":"投入係数!U51*U$119","v":0},{"$f":"投入係数!V51*V$119","v":0},{"$f":"投入係数!W51*W$119","v":0},{"$f":"投入係数!X51*X$119","v":0},{"$f":"投入係数!Y51*Y$119","v":0},{"$f":"投入係数!Z51*Z$119","v":0},{"$f":"投入係数!AA51*AA$119","v":0},{"$f":"投入係数!AB51*AB$119","v":0},{"$f":"投入係数!AC51*AC$119","v":0},{"$f":"投入係数!AD51*AD$119","v":0},{"$f":"投入係数!AE51*AE$119","v":0},{"$f":"投入係数!AF51*AF$119","v":0},{"$f":"投入係数!AG51*AG$119","v":0},{"$f":"投入係数!AH51*AH$119","v":0},{"$f":"投入係数!AI51*AI$119","v":0},{"$f":"投入係数!AJ51*AJ$119","v":0},{"$f":"投入係数!AK51*AK$119","v":0},{"$f":"投入係数!AL51*AL$119","v":0},{"$f":"投入係数!AM51*AM$119","v":0},{"$f":"投入係数!AN51*AN$119","v":0},{"$f":"投入係数!AO51*AO$119","v":0},{"$f":"投入係数!AP51*AP$119","v":0},{"$f":"投入係数!AQ51*AQ$119","v":0},{"$f":"投入係数!AR51*AR$119","v":0},{"$f":"投入係数!AS51*AS$119","v":0},{"$f":"投入係数!AT51*AT$119","v":0},{"$f":"投入係数!AU51*AU$119","v":0},{"$f":"投入係数!AV51*AV$119","v":0},{"$f":"投入係数!AW51*AW$119","v":0},{"$f":"投入係数!AX51*AX$119","v":0},{"$f":"投入係数!AY51*AY$119","v":0},{"$f":"投入係数!AZ51*AZ$119","v":0},{"$f":"投入係数!BA51*BA$119","v":0},{"$f":"投入係数!BB51*BB$119","v":0},{"$f":"投入係数!BC51*BC$119","v":0},{"$f":"投入係数!BD51*BD$119","v":0},{"$f":"投入係数!BE51*BE$119","v":0},{"$f":"投入係数!BF51*BF$119","v":0},{"$f":"投入係数!BG51*BG$119","v":0},{"$f":"投入係数!BH51*BH$119","v":0},{"$f":"投入係数!BI51*BI$119","v":0},{"$f":"投入係数!BJ51*BJ$119","v":0},{"$f":"投入係数!BK51*BK$119","v":0},{"$f":"投入係数!BL51*BL$119","v":0},{"$f":"投入係数!BM51*BM$119","v":0},{"$f":"投入係数!BN51*BN$119","v":0},{"$f":"投入係数!BO51*BO$119","v":0},{"$f":"投入係数!BP51*BP$119","v":0},{"$f":"投入係数!BQ51*BQ$119","v":0},{"$f":"投入係数!BR51*BR$119","v":0},{"$f":"投入係数!BS51*BS$119","v":0},{"$f":"投入係数!BT51*BT$119","v":0},{"$f":"投入係数!BU51*BU$119","v":0},{"$f":"投入係数!BV51*BV$119","v":0},{"$f":"投入係数!BW51*BW$119","v":0},{"$f":"投入係数!BX51*BX$119","v":0},{"$f":"投入係数!BY51*BY$119","v":0},{"$f":"投入係数!BZ51*BZ$119","v":0},{"$f":"投入係数!CA51*CA$119","v":0},{"$f":"投入係数!CB51*CB$119","v":0},{"$f":"投入係数!CC51*CC$119","v":0},{"$f":"投入係数!CD51*CD$119","v":0},{"$f":"投入係数!CE51*CE$119","v":0},{"$f":"投入係数!CF51*CF$119","v":0},{"$f":"投入係数!CG51*CG$119","v":0},{"$f":"投入係数!CH51*CH$119","v":0},{"$f":"投入係数!CI51*CI$119","v":0},{"$f":"投入係数!CJ51*CJ$119","v":0},{"$f":"投入係数!CK51*CK$119","v":0},{"$f":"投入係数!CL51*CL$119","v":0},{"$f":"投入係数!CM51*CM$119","v":0},{"$f":"投入係数!CN51*CN$119","v":0},{"$f":"投入係数!CO51*CO$119","v":0},{"$f":"投入係数!CP51*CP$119","v":0},{"$f":"投入係数!CQ51*CQ$119","v":0},{"$f":"投入係数!CR51*CR$119","v":0},{"$f":"投入係数!CS51*CS$119","v":0},{"$f":"投入係数!CT51*CT$119","v":0},{"$f":"投入係数!CU51*CU$119","v":0},{"$f":"投入係数!CV51*CV$119","v":0},{"$f":"投入係数!CW51*CW$119","v":0},{"$f":"投入係数!CX51*CX$119","v":0},{"$f":"投入係数!CY51*CY$119","v":0},{"$f":"投入係数!CZ51*CZ$119","v":0},{"$f":"投入係数!DA51*DA$119","v":0},{"$f":"投入係数!DB51*DB$119","v":0},{"$f":"投入係数!DC51*DC$119","v":0},{"$f":"投入係数!DD51*DD$119","v":0},{"$f":"投入係数!DE51*DE$119","v":0},{"$f":"投入係数!DF51*DF$119","v":0},{"$f":"投入係数!DG51*DG$119","v":0},{"$f":"投入係数!DH51*DH$119","v":0},0]
[null,"291","はん用機械",{"$f":"投入係数!D52*D$119","v":0},{"$f":"投入係数!E52*E$119","v":0},{"$f":"投入係数!F52*F$119","v":0},{"$f":"投入係数!G52*G$119","v":0},{"$f":"投入係数!H52*H$119","v":0},{"$f":"投入係数!I52*I$119","v":0},{"$f":"投入係数!J52*J$119","v":0},{"$f":"投入係数!K52*K$119","v":0},{"$f":"投入係数!L52*L$119","v":0},{"$f":"投入係数!M52*M$119","v":0},{"$f":"投入係数!N52*N$119","v":0},{"$f":"投入係数!O52*O$119","v":0},{"$f":"投入係数!P52*P$119","v":0},{"$f":"投入係数!Q52*Q$119","v":0},{"$f":"投入係数!R52*R$119","v":0},{"$f":"投入係数!S52*S$119","v":0},{"$f":"投入係数!T52*T$119","v":0},{"$f":"投入係数!U52*U$119","v":0},{"$f":"投入係数!V52*V$119","v":0},{"$f":"投入係数!W52*W$119","v":0},{"$f":"投入係数!X52*X$119","v":0},{"$f":"投入係数!Y52*Y$119","v":0},{"$f":"投入係数!Z52*Z$119","v":0},{"$f":"投入係数!AA52*AA$119","v":0},{"$f":"投入係数!AB52*AB$119","v":0},{"$f":"投入係数!AC52*AC$119","v":0},{"$f":"投入係数!AD52*AD$119","v":0},{"$f":"投入係数!AE52*AE$119","v":0},{"$f":"投入係数!AF52*AF$119","v":0},{"$f":"投入係数!AG52*AG$119","v":0},{"$f":"投入係数!AH52*AH$119","v":0},{"$f":"投入係数!AI52*AI$119","v":0},{"$f":"投入係数!AJ52*AJ$119","v":0},{"$f":"投入係数!AK52*AK$119","v":0},{"$f":"投入係数!AL52*AL$119","v":0},{"$f":"投入係数!AM52*AM$119","v":0},{"$f":"投入係数!AN52*AN$119","v":0},{"$f":"投入係数!AO52*AO$119","v":0},{"$f":"投入係数!AP52*AP$119","v":0},{"$f":"投入係数!AQ52*AQ$119","v":0},{"$f":"投入係数!AR52*AR$119","v":0},{"$f":"投入係数!AS52*AS$119","v":0},{"$f":"投入係数!AT52*AT$119","v":0},{"$f":"投入係数!AU52*AU$119","v":0},{"$f":"投入係数!AV52*AV$119","v":0},{"$f":"投入係数!AW52*AW$119","v":0},{"$f":"投入係数!AX52*AX$119","v":0},{"$f":"投入係数!AY52*AY$119","v":0},{"$f":"投入係数!AZ52*AZ$119","v":0},{"$f":"投入係数!BA52*BA$119","v":0},{"$f":"投入係数!BB52*BB$119","v":0},{"$f":"投入係数!BC52*BC$119","v":0},{"$f":"投入係数!BD52*BD$119","v":0},{"$f":"投入係数!BE52*BE$119","v":0},{"$f":"投入係数!BF52*BF$119","v":0},{"$f":"投入係数!BG52*BG$119","v":0},{"$f":"投入係数!BH52*BH$119","v":0},{"$f":"投入係数!BI52*BI$119","v":0},{"$f":"投入係数!BJ52*BJ$119","v":0},{"$f":"投入係数!BK52*BK$119","v":0},{"$f":"投入係数!BL52*BL$119","v":0},{"$f":"投入係数!BM52*BM$119","v":0},{"$f":"投入係数!BN52*BN$119","v":0},{"$f":"投入係数!BO52*BO$119","v":0},{"$f":"投入係数!BP52*BP$119","v":0},{"$f":"投入係数!BQ52*BQ$119","v":0},{"$f":"投入係数!BR52*BR$119","v":0},{"$f":"投入係数!BS52*BS$119","v":0},{"$f":"投入係数!BT52*BT$119","v":0},{"$f":"投入係数!BU52*BU$119","v":0},{"$f":"投入係数!BV52*BV$119","v":0},{"$f":"投入係数!BW52*BW$119","v":0},{"$f":"投入係数!BX52*BX$119","v":0},{"$f":"投入係数!BY52*BY$119","v":0},{"$f":"投入係数!BZ52*BZ$119","v":0},{"$f":"投入係数!CA52*CA$119","v":0},{"$f":"投入係数!CB52*CB$119","v":0},{"$f":"投入係数!CC52*CC$119","v":0},{"$f":"投入係数!CD52*CD$119","v":0},{"$f":"投入係数!CE52*CE$119","v":0},{"$f":"投入係数!CF52*CF$119","v":0},{"$f":"投入係数!CG52*CG$119","v":0},{"$f":"投入係数!CH52*CH$119","v":0},{"$f":"投入係数!CI52*CI$119","v":0},{"$f":"投入係数!CJ52*CJ$119","v":0},{"$f":"投入係数!CK52*CK$119","v":0},{"$f":"投入係数!CL52*CL$119","v":0},{"$f":"投入係数!CM52*CM$119","v":0},{"$f":"投入係数!CN52*CN$119","v":0},{"$f":"投入係数!CO52*CO$119","v":0},{"$f":"投入係数!CP52*CP$119","v":0},{"$f":"投入係数!CQ52*CQ$119","v":0},{"$f":"投入係数!CR52*CR$119","v":0},{"$f":"投入係数!CS52*CS$119","v":0},{"$f":"投入係数!CT52*CT$119","v":0},{"$f":"投入係数!CU52*CU$119","v":0},{"$f":"投入係数!CV52*CV$119","v":0},{"$f":"投入係数!CW52*CW$119","v":0},{"$f":"投入係数!CX52*CX$119","v":0},{"$f":"投入係数!CY52*CY$119","v":0},{"$f":"投入係数!CZ52*CZ$119","v":0},{"$f":"投入係数!DA52*DA$119","v":0},{"$f":"投入係数!DB52*DB$119","v":0},{"$f":"投入係数!DC52*DC$119","v":0},{"$f":"投入係数!DD52*DD$119","v":0},{"$f":"投入係数!DE52*DE$119","v":0},{"$f":"投入係数!DF52*DF$119","v":0},{"$f":"投入係数!DG52*DG$119","v":0},{"$f":"投入係数!DH52*DH$119","v":0},0]
[null,"301","生産用機械",{"$f":"投入係数!D53*D$119","v":0},{"$f":"投入係数!E53*E$119","v":0},{"$f":"投入係数!F53*F$119","v":0},{"$f":"投入係数!G53*G$119","v":0},{"$f":"投入係数!H53*H$119","v":0},{"$f":"投入係数!I53*I$119","v":0},{"$f":"投入係数!J53*J$119","v":0},{"$f":"投入係数!K53*K$119","v":0},{"$f":"投入係数!L53*L$119","v":0},{"$f":"投入係数!M53*M$119","v":0},{"$f":"投入係数!N53*N$119","v":0},{"$f":"投入係数!O53*O$119","v":0},{"$f":"投入係数!P53*P$119","v":0},{"$f":"投入係数!Q53*Q$119","v":0},{"$f":"投入係数!R53*R$119","v":0},{"$f":"投入係数!S53*S$119","v":0},{"$f":"投入係数!T53*T$119","v":0},{"$f":"投入係数!U53*U$119","v":0},{"$f":"投入係数!V53*V$119","v":0},{"$f":"投入係数!W53*W$119","v":0},{"$f":"投入係数!X53*X$119","v":0},{"$f":"投入係数!Y53*Y$119","v":0},{"$f":"投入係数!Z53*Z$119","v":0},{"$f":"投入係数!AA53*AA$119","v":0},{"$f":"投入係数!AB53*AB$119","v":0},{"$f":"投入係数!AC53*AC$119","v":0},{"$f":"投入係数!AD53*AD$119","v":0},{"$f":"投入係数!AE53*AE$119","v":0},{"$f":"投入係数!AF53*AF$119","v":0},{"$f":"投入係数!AG53*AG$119","v":0},{"$f":"投入係数!AH53*AH$119","v":0},{"$f":"投入係数!AI53*AI$119","v":0},{"$f":"投入係数!AJ53*AJ$119","v":0},{"$f":"投入係数!AK53*AK$119","v":0},{"$f":"投入係数!AL53*AL$119","v":0},{"$f":"投入係数!AM53*AM$119","v":0},{"$f":"投入係数!AN53*AN$119","v":0},{"$f":"投入係数!AO53*AO$119","v":0},{"$f":"投入係数!AP53*AP$119","v":0},{"$f":"投入係数!AQ53*AQ$119","v":0},{"$f":"投入係数!AR53*AR$119","v":0},{"$f":"投入係数!AS53*AS$119","v":0},{"$f":"投入係数!AT53*AT$119","v":0},{"$f":"投入係数!AU53*AU$119","v":0},{"$f":"投入係数!AV53*AV$119","v":0},{"$f":"投入係数!AW53*AW$119","v":0},{"$f":"投入係数!AX53*AX$119","v":0},{"$f":"投入係数!AY53*AY$119","v":0},{"$f":"投入係数!AZ53*AZ$119","v":0},{"$f":"投入係数!BA53*BA$119","v":0},{"$f":"投入係数!BB53*BB$119","v":0},{"$f":"投入係数!BC53*BC$119","v":0},{"$f":"投入係数!BD53*BD$119","v":0},{"$f":"投入係数!BE53*BE$119","v":0},{"$f":"投入係数!BF53*BF$119","v":0},{"$f":"投入係数!BG53*BG$119","v":0},{"$f":"投入係数!BH53*BH$119","v":0},{"$f":"投入係数!BI53*BI$119","v":0},{"$f":"投入係数!BJ53*BJ$119","v":0},{"$f":"投入係数!BK53*BK$119","v":0},{"$f":"投入係数!BL53*BL$119","v":0},{"$f":"投入係数!BM53*BM$119","v":0},{"$f":"投入係数!BN53*BN$119","v":0},{"$f":"投入係数!BO53*BO$119","v":0},{"$f":"投入係数!BP53*BP$119","v":0},{"$f":"投入係数!BQ53*BQ$119","v":0},{"$f":"投入係数!BR53*BR$119","v":0},{"$f":"投入係数!BS53*BS$119","v":0},{"$f":"投入係数!BT53*BT$119","v":0},{"$f":"投入係数!BU53*BU$119","v":0},{"$f":"投入係数!BV53*BV$119","v":0},{"$f":"投入係数!BW53*BW$119","v":0},{"$f":"投入係数!BX53*BX$119","v":0},{"$f":"投入係数!BY53*BY$119","v":0},{"$f":"投入係数!BZ53*BZ$119","v":0},{"$f":"投入係数!CA53*CA$119","v":0},{"$f":"投入係数!CB53*CB$119","v":0},{"$f":"投入係数!CC53*CC$119","v":0},{"$f":"投入係数!CD53*CD$119","v":0},{"$f":"投入係数!CE53*CE$119","v":0},{"$f":"投入係数!CF53*CF$119","v":0},{"$f":"投入係数!CG53*CG$119","v":0},{"$f":"投入係数!CH53*CH$119","v":0},{"$f":"投入係数!CI53*CI$119","v":0},{"$f":"投入係数!CJ53*CJ$119","v":0},{"$f":"投入係数!CK53*CK$119","v":0},{"$f":"投入係数!CL53*CL$119","v":0},{"$f":"投入係数!CM53*CM$119","v":0},{"$f":"投入係数!CN53*CN$119","v":0},{"$f":"投入係数!CO53*CO$119","v":0},{"$f":"投入係数!CP53*CP$119","v":0},{"$f":"投入係数!CQ53*CQ$119","v":0},{"$f":"投入係数!CR53*CR$119","v":0},{"$f":"投入係数!CS53*CS$119","v":0},{"$f":"投入係数!CT53*CT$119","v":0},{"$f":"投入係数!CU53*CU$119","v":0},{"$f":"投入係数!CV53*CV$119","v":0},{"$f":"投入係数!CW53*CW$119","v":0},{"$f":"投入係数!CX53*CX$119","v":0},{"$f":"投入係数!CY53*CY$119","v":0},{"$f":"投入係数!CZ53*CZ$119","v":0},{"$f":"投入係数!DA53*DA$119","v":0},{"$f":"投入係数!DB53*DB$119","v":0},{"$f":"投入係数!DC53*DC$119","v":0},{"$f":"投入係数!DD53*DD$119","v":0},{"$f":"投入係数!DE53*DE$119","v":0},{"$f":"投入係数!DF53*DF$119","v":0},{"$f":"投入係数!DG53*DG$119","v":0},{"$f":"投入係数!DH53*DH$119","v":0},0]
[null,"311","業務用機械",{"$f":"投入係数!D54*D$119","v":0},{"$f":"投入係数!E54*E$119","v":0},{"$f":"投入係数!F54*F$119","v":0},{"$f":"投入係数!G54*G$119","v":0},{"$f":"投入係数!H54*H$119","v":0},{"$f":"投入係数!I54*I$119","v":0},{"$f":"投入係数!J54*J$119","v":0},{"$f":"投入係数!K54*K$119","v":0},{"$f":"投入係数!L54*L$119","v":0},{"$f":"投入係数!M54*M$119","v":0},{"$f":"投入係数!N54*N$119","v":0},{"$f":"投入係数!O54*O$119","v":0},{"$f":"投入係数!P54*P$119","v":0},{"$f":"投入係数!Q54*Q$119","v":0},{"$f":"投入係数!R54*R$119","v":0},{"$f":"投入係数!S54*S$119","v":0},{"$f":"投入係数!T54*T$119","v":0},{"$f":"投入係数!U54*U$119","v":0},{"$f":"投入係数!V54*V$119","v":0},{"$f":"投入係数!W54*W$119","v":0},{"$f":"投入係数!X54*X$119","v":0},{"$f":"投入係数!Y54*Y$119","v":0},{"$f":"投入係数!Z54*Z$119","v":0},{"$f":"投入係数!AA54*AA$119","v":0},{"$f":"投入係数!AB54*AB$119","v":0},{"$f":"投入係数!AC54*AC$119","v":0},{"$f":"投入係数!AD54*AD$119","v":0},{"$f":"投入係数!AE54*AE$119","v":0},{"$f":"投入係数!AF54*AF$119","v":0},{"$f":"投入係数!AG54*AG$119","v":0},{"$f":"投入係数!AH54*AH$119","v":0},{"$f":"投入係数!AI54*AI$119","v":0},{"$f":"投入係数!AJ54*AJ$119","v":0},{"$f":"投入係数!AK54*AK$119","v":0},{"$f":"投入係数!AL54*AL$119","v":0},{"$f":"投入係数!AM54*AM$119","v":0},{"$f":"投入係数!AN54*AN$119","v":0},{"$f":"投入係数!AO54*AO$119","v":0},{"$f":"投入係数!AP54*AP$119","v":0},{"$f":"投入係数!AQ54*AQ$119","v":0},{"$f":"投入係数!AR54*AR$119","v":0},{"$f":"投入係数!AS54*AS$119","v":0},{"$f":"投入係数!AT54*AT$119","v":0},{"$f":"投入係数!AU54*AU$119","v":0},{"$f":"投入係数!AV54*AV$119","v":0},{"$f":"投入係数!AW54*AW$119","v":0},{"$f":"投入係数!AX54*AX$119","v":0},{"$f":"投入係数!AY54*AY$119","v":0},{"$f":"投入係数!AZ54*AZ$119","v":0},{"$f":"投入係数!BA54*BA$119","v":0},{"$f":"投入係数!BB54*BB$119","v":0},{"$f":"投入係数!BC54*BC$119","v":0},{"$f":"投入係数!BD54*BD$119","v":0},{"$f":"投入係数!BE54*BE$119","v":0},{"$f":"投入係数!BF54*BF$119","v":0},{"$f":"投入係数!BG54*BG$119","v":0},{"$f":"投入係数!BH54*BH$119","v":0},{"$f":"投入係数!BI54*BI$119","v":0},{"$f":"投入係数!BJ54*BJ$119","v":0},{"$f":"投入係数!BK54*BK$119","v":0},{"$f":"投入係数!BL54*BL$119","v":0},{"$f":"投入係数!BM54*BM$119","v":0},{"$f":"投入係数!BN54*BN$119","v":0},{"$f":"投入係数!BO54*BO$119","v":0},{"$f":"投入係数!BP54*BP$119","v":0},{"$f":"投入係数!BQ54*BQ$119","v":0},{"$f":"投入係数!BR54*BR$119","v":0},{"$f":"投入係数!BS54*BS$119","v":0},{"$f":"投入係数!BT54*BT$119","v":0},{"$f":"投入係数!BU54*BU$119","v":0},{"$f":"投入係数!BV54*BV$119","v":0},{"$f":"投入係数!BW54*BW$119","v":0},{"$f":"投入係数!BX54*BX$119","v":0},{"$f":"投入係数!BY54*BY$119","v":0},{"$f":"投入係数!BZ54*BZ$119","v":0},{"$f":"投入係数!CA54*CA$119","v":0},{"$f":"投入係数!CB54*CB$119","v":0},{"$f":"投入係数!CC54*CC$119","v":0},{"$f":"投入係数!CD54*CD$119","v":0},{"$f":"投入係数!CE54*CE$119","v":0},{"$f":"投入係数!CF54*CF$119","v":0},{"$f":"投入係数!CG54*CG$119","v":0},{"$f":"投入係数!CH54*CH$119","v":0},{"$f":"投入係数!CI54*CI$119","v":0},{"$f":"投入係数!CJ54*CJ$119","v":0},{"$f":"投入係数!CK54*CK$119","v":0},{"$f":"投入係数!CL54*CL$119","v":0},{"$f":"投入係数!CM54*CM$119","v":0},{"$f":"投入係数!CN54*CN$119","v":0},{"$f":"投入係数!CO54*CO$119","v":0},{"$f":"投入係数!CP54*CP$119","v":0},{"$f":"投入係数!CQ54*CQ$119","v":0},{"$f":"投入係数!CR54*CR$119","v":0},{"$f":"投入係数!CS54*CS$119","v":0},{"$f":"投入係数!CT54*CT$119","v":0},{"$f":"投入係数!CU54*CU$119","v":0},{"$f":"投入係数!CV54*CV$119","v":0},{"$f":"投入係数!CW54*CW$119","v":0},{"$f":"投入係数!CX54*CX$119","v":0},{"$f":"投入係数!CY54*CY$119","v":0},{"$f":"投入係数!CZ54*CZ$119","v":0},{"$f":"投入係数!DA54*DA$119","v":0},{"$f":"投入係数!DB54*DB$119","v":0},{"$f":"投入係数!DC54*DC$119","v":0},{"$f":"投入係数!DD54*DD$119","v":0},{"$f":"投入係数!DE54*DE$119","v":0},{"$f":"投入係数!DF54*DF$119","v":0},{"$f":"投入係数!DG54*DG$119","v":0},{"$f":"投入係数!DH54*DH$119","v":0},0]
[null,"321","電子デバイス",{"$f":"投入係数!D55*D$119","v":0},{"$f":"投入係数!E55*E$119","v":0},{"$f":"投入係数!F55*F$119","v":0},{"$f":"投入係数!G55*G$119","v":0},{"$f":"投入係数!H55*H$119","v":0},{"$f":"投入係数!I55*I$119","v":0},{"$f":"投入係数!J55*J$119","v":0},{"$f":"投入係数!K55*K$119","v":0},{"$f":"投入係数!L55*L$119","v":0},{"$f":"投入係数!M55*M$119","v":0},{"$f":"投入係数!N55*N$119","v":0},{"$f":"投入係数!O55*O$119","v":0},{"$f":"投入係数!P55*P$119","v":0},{"$f":"投入係数!Q55*Q$119","v":0},{"$f":"投入係数!R55*R$119","v":0},{"$f":"投入係数!S55*S$119","v":0},{"$f":"投入係数!T55*T$119","v":0},{"$f":"投入係数!U55*U$119","v":0},{"$f":"投入係数!V55*V$119","v":0},{"$f":"投入係数!W55*W$119","v":0},{"$f":"投入係数!X55*X$119","v":0},{"$f":"投入係数!Y55*Y$119","v":0},{"$f":"投入係数!Z55*Z$119","v":0},{"$f":"投入係数!AA55*AA$119","v":0},{"$f":"投入係数!AB55*AB$119","v":0},{"$f":"投入係数!AC55*AC$119","v":0},{"$f":"投入係数!AD55*AD$119","v":0},{"$f":"投入係数!AE55*AE$119","v":0},{"$f":"投入係数!AF55*AF$119","v":0},{"$f":"投入係数!AG55*AG$119","v":0},{"$f":"投入係数!AH55*AH$119","v":0},{"$f":"投入係数!AI55*AI$119","v":0},{"$f":"投入係数!AJ55*AJ$119","v":0},{"$f":"投入係数!AK55*AK$119","v":0},{"$f":"投入係数!AL55*AL$119","v":0},{"$f":"投入係数!AM55*AM$119","v":0},{"$f":"投入係数!AN55*AN$119","v":0},{"$f":"投入係数!AO55*AO$119","v":0},{"$f":"投入係数!AP55*AP$119","v":0},{"$f":"投入係数!AQ55*AQ$119","v":0},{"$f":"投入係数!AR55*AR$119","v":0},{"$f":"投入係数!AS55*AS$119","v":0},{"$f":"投入係数!AT55*AT$119","v":0},{"$f":"投入係数!AU55*AU$119","v":0},{"$f":"投入係数!AV55*AV$119","v":0},{"$f":"投入係数!AW55*AW$119","v":0},{"$f":"投入係数!AX55*AX$119","v":0},{"$f":"投入係数!AY55*AY$119","v":0},{"$f":"投入係数!AZ55*AZ$119","v":0},{"$f":"投入係数!BA55*BA$119","v":0},{"$f":"投入係数!BB55*BB$119","v":0},{"$f":"投入係数!BC55*BC$119","v":0},{"$f":"投入係数!BD55*BD$119","v":0},{"$f":"投入係数!BE55*BE$119","v":0},{"$f":"投入係数!BF55*BF$119","v":0},{"$f":"投入係数!BG55*BG$119","v":0},{"$f":"投入係数!BH55*BH$119","v":0},{"$f":"投入係数!BI55*BI$119","v":0},{"$f":"投入係数!BJ55*BJ$119","v":0},{"$f":"投入係数!BK55*BK$119","v":0},{"$f":"投入係数!BL55*BL$119","v":0},{"$f":"投入係数!BM55*BM$119","v":0},{"$f":"投入係数!BN55*BN$119","v":0},{"$f":"投入係数!BO55*BO$119","v":0},{"$f":"投入係数!BP55*BP$119","v":0},{"$f":"投入係数!BQ55*BQ$119","v":0},{"$f":"投入係数!BR55*BR$119","v":0},{"$f":"投入係数!BS55*BS$119","v":0},{"$f":"投入係数!BT55*BT$119","v":0},{"$f":"投入係数!BU55*BU$119","v":0},{"$f":"投入係数!BV55*BV$119","v":0},{"$f":"投入係数!BW55*BW$119","v":0},{"$f":"投入係数!BX55*BX$119","v":0},{"$f":"投入係数!BY55*BY$119","v":0},{"$f":"投入係数!BZ55*BZ$119","v":0},{"$f":"投入係数!CA55*CA$119","v":0},{"$f":"投入係数!CB55*CB$119","v":0},{"$f":"投入係数!CC55*CC$119","v":0},{"$f":"投入係数!CD55*CD$119","v":0},{"$f":"投入係数!CE55*CE$119","v":0},{"$f":"投入係数!CF55*CF$119","v":0},{"$f":"投入係数!CG55*CG$119","v":0},{"$f":"投入係数!CH55*CH$119","v":0},{"$f":"投入係数!CI55*CI$119","v":0},{"$f":"投入係数!CJ55*CJ$119","v":0},{"$f":"投入係数!CK55*CK$119","v":0},{"$f":"投入係数!CL55*CL$119","v":0},{"$f":"投入係数!CM55*CM$119","v":0},{"$f":"投入係数!CN55*CN$119","v":0},{"$f":"投入係数!CO55*CO$119","v":0},{"$f":"投入係数!CP55*CP$119","v":0},{"$f":"投入係数!CQ55*CQ$119","v":0},{"$f":"投入係数!CR55*CR$119","v":0},{"$f":"投入係数!CS55*CS$119","v":0},{"$f":"投入係数!CT55*CT$119","v":0},{"$f":"投入係数!CU55*CU$119","v":0},{"$f":"投入係数!CV55*CV$119","v":0},{"$f":"投入係数!CW55*CW$119","v":0},{"$f":"投入係数!CX55*CX$119","v":0},{"$f":"投入係数!CY55*CY$119","v":0},{"$f":"投入係数!CZ55*CZ$119","v":0},{"$f":"投入係数!DA55*DA$119","v":0},{"$f":"投入係数!DB55*DB$119","v":0},{"$f":"投入係数!DC55*DC$119","v":0},{"$f":"投入係数!DD55*DD$119","v":0},{"$f":"投入係数!DE55*DE$119","v":0},{"$f":"投入係数!DF55*DF$119","v":0},{"$f":"投入係数!DG55*DG$119","v":0},{"$f":"投入係数!DH55*DH$119","v":0},0]
[null,"329","その他の電子部品",{"$f":"投入係数!D56*D$119","v":0},{"$f":"投入係数!E56*E$119","v":0},{"$f":"投入係数!F56*F$119","v":0},{"$f":"投入係数!G56*G$119","v":0},{"$f":"投入係数!H56*H$119","v":0},{"$f":"投入係数!I56*I$119","v":0},{"$f":"投入係数!J56*J$119","v":0},{"$f":"投入係数!K56*K$119","v":0},{"$f":"投入係数!L56*L$119","v":0},{"$f":"投入係数!M56*M$119","v":0},{"$f":"投入係数!N56*N$119","v":0},{"$f":"投入係数!O56*O$119","v":0},{"$f":"投入係数!P56*P$119","v":0},{"$f":"投入係数!Q56*Q$119","v":0},{"$f":"投入係数!R56*R$119","v":0},{"$f":"投入係数!S56*S$119","v":0},{"$f":"投入係数!T56*T$119","v":0},{"$f":"投入係数!U56*U$119","v":0},{"$f":"投入係数!V56*V$119","v":0},{"$f":"投入係数!W56*W$119","v":0},{"$f":"投入係数!X56*X$119","v":0},{"$f":"投入係数!Y56*Y$119","v":0},{"$f":"投入係数!Z56*Z$119","v":0},{"$f":"投入係数!AA56*AA$119","v":0},{"$f":"投入係数!AB56*AB$119","v":0},{"$f":"投入係数!AC56*AC$119","v":0},{"$f":"投入係数!AD56*AD$119","v":0},{"$f":"投入係数!AE56*AE$119","v":0},{"$f":"投入係数!AF56*AF$119","v":0},{"$f":"投入係数!AG56*AG$119","v":0},{"$f":"投入係数!AH56*AH$119","v":0},{"$f":"投入係数!AI56*AI$119","v":0},{"$f":"投入係数!AJ56*AJ$119","v":0},{"$f":"投入係数!AK56*AK$119","v":0},{"$f":"投入係数!AL56*AL$119","v":0},{"$f":"投入係数!AM56*AM$119","v":0},{"$f":"投入係数!AN56*AN$119","v":0},{"$f":"投入係数!AO56*AO$119","v":0},{"$f":"投入係数!AP56*AP$119","v":0},{"$f":"投入係数!AQ56*AQ$119","v":0},{"$f":"投入係数!AR56*AR$119","v":0},{"$f":"投入係数!AS56*AS$119","v":0},{"$f":"投入係数!AT56*AT$119","v":0},{"$f":"投入係数!AU56*AU$119","v":0},{"$f":"投入係数!AV56*AV$119","v":0},{"$f":"投入係数!AW56*AW$119","v":0},{"$f":"投入係数!AX56*AX$119","v":0},{"$f":"投入係数!AY56*AY$119","v":0},{"$f":"投入係数!AZ56*AZ$119","v":0},{"$f":"投入係数!BA56*BA$119","v":0},{"$f":"投入係数!BB56*BB$119","v":0},{"$f":"投入係数!BC56*BC$119","v":0},{"$f":"投入係数!BD56*BD$119","v":0},{"$f":"投入係数!BE56*BE$119","v":0},{"$f":"投入係数!BF56*BF$119","v":0},{"$f":"投入係数!BG56*BG$119","v":0},{"$f":"投入係数!BH56*BH$119","v":0},{"$f":"投入係数!BI56*BI$119","v":0},{"$f":"投入係数!BJ56*BJ$119","v":0},{"$f":"投入係数!BK56*BK$119","v":0},{"$f":"投入係数!BL56*BL$119","v":0},{"$f":"投入係数!BM56*BM$119","v":0},{"$f":"投入係数!BN56*BN$119","v":0},{"$f":"投入係数!BO56*BO$119","v":0},{"$f":"投入係数!BP56*BP$119","v":0},{"$f":"投入係数!BQ56*BQ$119","v":0},{"$f":"投入係数!BR56*BR$119","v":0},{"$f":"投入係数!BS56*BS$119","v":0},{"$f":"投入係数!BT56*BT$119","v":0},{"$f":"投入係数!BU56*BU$119","v":0},{"$f":"投入係数!BV56*BV$119","v":0},{"$f":"投入係数!BW56*BW$119","v":0},{"$f":"投入係数!BX56*BX$119","v":0},{"$f":"投入係数!BY56*BY$119","v":0},{"$f":"投入係数!BZ56*BZ$119","v":0},{"$f":"投入係数!CA56*CA$119","v":0},{"$f":"投入係数!CB56*CB$119","v":0},{"$f":"投入係数!CC56*CC$119","v":0},{"$f":"投入係数!CD56*CD$119","v":0},{"$f":"投入係数!CE56*CE$119","v":0},{"$f":"投入係数!CF56*CF$119","v":0},{"$f":"投入係数!CG56*CG$119","v":0},{"$f":"投入係数!CH56*CH$119","v":0},{"$f":"投入係数!CI56*CI$119","v":0},{"$f":"投入係数!CJ56*CJ$119","v":0},{"$f":"投入係数!CK56*CK$119","v":0},{"$f":"投入係数!CL56*CL$119","v":0},{"$f":"投入係数!CM56*CM$119","v":0},{"$f":"投入係数!CN56*CN$119","v":0},{"$f":"投入係数!CO56*CO$119","v":0},{"$f":"投入係数!CP56*CP$119","v":0},{"$f":"投入係数!CQ56*CQ$119","v":0},{"$f":"投入係数!CR56*CR$119","v":0},{"$f":"投入係数!CS56*CS$119","v":0},{"$f":"投入係数!CT56*CT$119","v":0},{"$f":"投入係数!CU56*CU$119","v":0},{"$f":"投入係数!CV56*CV$119","v":0},{"$f":"投入係数!CW56*CW$119","v":0},{"$f":"投入係数!CX56*CX$119","v":0},{"$f":"投入係数!CY56*CY$119","v":0},{"$f":"投入係数!CZ56*CZ$119","v":0},{"$f":"投入係数!DA56*DA$119","v":0},{"$f":"投入係数!DB56*DB$119","v":0},{"$f":"投入係数!DC56*DC$119","v":0},{"$f":"投入係数!DD56*DD$119","v":0},{"$f":"投入係数!DE56*DE$119","v":0},{"$f":"投入係数!DF56*DF$119","v":0},{"$f":"投入係数!DG56*DG$119","v":0},{"$f":"投入係数!DH56*DH$119","v":0},0]
[null,"331","産業用電気機器",{"$f":"投入係数!D57*D$119","v":0},{"$f":"投入係数!E57*E$119","v":0},{"$f":"投入係数!F57*F$119","v":0},{"$f":"投入係数!G57*G$119","v":0},{"$f":"投入係数!H57*H$119","v":0},{"$f":"投入係数!I57*I$119","v":0},{"$f":"投入係数!J57*J$119","v":0},{"$f":"投入係数!K57*K$119","v":0},{"$f":"投入係数!L57*L$119","v":0},{"$f":"投入係数!M57*M$119","v":0},{"$f":"投入係数!N57*N$119","v":0},{"$f":"投入係数!O57*O$119","v":0},{"$f":"投入係数!P57*P$119","v":0},{"$f":"投入係数!Q57*Q$119","v":0},{"$f":"投入係数!R57*R$119","v":0},{"$f":"投入係数!S57*S$119","v":0},{"$f":"投入係数!T57*T$119","v":0},{"$f":"投入係数!U57*U$119","v":0},{"$f":"投入係数!V57*V$119","v":0},{"$f":"投入係数!W57*W$119","v":0},{"$f":"投入係数!X57*X$119","v":0},{"$f":"投入係数!Y57*Y$119","v":0},{"$f":"投入係数!Z57*Z$119","v":0},{"$f":"投入係数!AA57*AA$119","v":0},{"$f":"投入係数!AB57*AB$119","v":0},{"$f":"投入係数!AC57*AC$119","v":0},{"$f":"投入係数!AD57*AD$119","v":0},{"$f":"投入係数!AE57*AE$119","v":0},{"$f":"投入係数!AF57*AF$119","v":0},{"$f":"投入係数!AG57*AG$119","v":0},{"$f":"投入係数!AH57*AH$119","v":0},{"$f":"投入係数!AI57*AI$119","v":0},{"$f":"投入係数!AJ57*AJ$119","v":0},{"$f":"投入係数!AK57*AK$119","v":0},{"$f":"投入係数!AL57*AL$119","v":0},{"$f":"投入係数!AM57*AM$119","v":0},{"$f":"投入係数!AN57*AN$119","v":0},{"$f":"投入係数!AO57*AO$119","v":0},{"$f":"投入係数!AP57*AP$119","v":0},{"$f":"投入係数!AQ57*AQ$119","v":0},{"$f":"投入係数!AR57*AR$119","v":0},{"$f":"投入係数!AS57*AS$119","v":0},{"$f":"投入係数!AT57*AT$119","v":0},{"$f":"投入係数!AU57*AU$119","v":0},{"$f":"投入係数!AV57*AV$119","v":0},{"$f":"投入係数!AW57*AW$119","v":0},{"$f":"投入係数!AX57*AX$119","v":0},{"$f":"投入係数!AY57*AY$119","v":0},{"$f":"投入係数!AZ57*AZ$119","v":0},{"$f":"投入係数!BA57*BA$119","v":0},{"$f":"投入係数!BB57*BB$119","v":0},{"$f":"投入係数!BC57*BC$119","v":0},{"$f":"投入係数!BD57*BD$119","v":0},{"$f":"投入係数!BE57*BE$119","v":0},{"$f":"投入係数!BF57*BF$119","v":0},{"$f":"投入係数!BG57*BG$119","v":0},{"$f":"投入係数!BH57*BH$119","v":0},{"$f":"投入係数!BI57*BI$119","v":0},{"$f":"投入係数!BJ57*BJ$119","v":0},{"$f":"投入係数!BK57*BK$119","v":0},{"$f":"投入係数!BL57*BL$119","v":0},{"$f":"投入係数!BM57*BM$119","v":0},{"$f":"投入係数!BN57*BN$119","v":0},{"$f":"投入係数!BO57*BO$119","v":0},{"$f":"投入係数!BP57*BP$119","v":0},{"$f":"投入係数!BQ57*BQ$119","v":0},{"$f":"投入係数!BR57*BR$119","v":0},{"$f":"投入係数!BS57*BS$119","v":0},{"$f":"投入係数!BT57*BT$119","v":0},{"$f":"投入係数!BU57*BU$119","v":0},{"$f":"投入係数!BV57*BV$119","v":0},{"$f":"投入係数!BW57*BW$119","v":0},{"$f":"投入係数!BX57*BX$119","v":0},{"$f":"投入係数!BY57*BY$119","v":0},{"$f":"投入係数!BZ57*BZ$119","v":0},{"$f":"投入係数!CA57*CA$119","v":0},{"$f":"投入係数!CB57*CB$119","v":0},{"$f":"投入係数!CC57*CC$119","v":0},{"$f":"投入係数!CD57*CD$119","v":0},{"$f":"投入係数!CE57*CE$119","v":0},{"$f":"投入係数!CF57*CF$119","v":0},{"$f":"投入係数!CG57*CG$119","v":0},{"$f":"投入係数!CH57*CH$119","v":0},{"$f":"投入係数!CI57*CI$119","v":0},{"$f":"投入係数!CJ57*CJ$119","v":0},{"$f":"投入係数!CK57*CK$119","v":0},{"$f":"投入係数!CL57*CL$119","v":0},{"$f":"投入係数!CM57*CM$119","v":0},{"$f":"投入係数!CN57*CN$119","v":0},{"$f":"投入係数!CO57*CO$119","v":0},{"$f":"投入係数!CP57*CP$119","v":0},{"$f":"投入係数!CQ57*CQ$119","v":0},{"$f":"投入係数!CR57*CR$119","v":0},{"$f":"投入係数!CS57*CS$119","v":0},{"$f":"投入係数!CT57*CT$119","v":0},{"$f":"投入係数!CU57*CU$119","v":0},{"$f":"投入係数!CV57*CV$119","v":0},{"$f":"投入係数!CW57*CW$119","v":0},{"$f":"投入係数!CX57*CX$119","v":0},{"$f":"投入係数!CY57*CY$119","v":0},{"$f":"投入係数!CZ57*CZ$119","v":0},{"$f":"投入係数!DA57*DA$119","v":0},{"$f":"投入係数!DB57*DB$119","v":0},{"$f":"投入係数!DC57*DC$119","v":0},{"$f":"投入係数!DD57*DD$119","v":0},{"$f":"投入係数!DE57*DE$119","v":0},{"$f":"投入係数!DF57*DF$119","v":0},{"$f":"投入係数!DG57*DG$119","v":0},{"$f":"投入係数!DH57*DH$119","v":0},0]
[null,"332","民生用電気機器",{"$f":"投入係数!D58*D$119","v":0},{"$f":"投入係数!E58*E$119","v":0},{"$f":"投入係数!F58*F$119","v":0},{"$f":"投入係数!G58*G$119","v":0},{"$f":"投入係数!H58*H$119","v":0},{"$f":"投入係数!I58*I$119","v":0},{"$f":"投入係数!J58*J$119","v":0},{"$f":"投入係数!K58*K$119","v":0},{"$f":"投入係数!L58*L$119","v":0},{"$f":"投入係数!M58*M$119","v":0},{"$f":"投入係数!N58*N$119","v":0},{"$f":"投入係数!O58*O$119","v":0},{"$f":"投入係数!P58*P$119","v":0},{"$f":"投入係数!Q58*Q$119","v":0},{"$f":"投入係数!R58*R$119","v":0},{"$f":"投入係数!S58*S$119","v":0},{"$f":"投入係数!T58*T$119","v":0},{"$f":"投入係数!U58*U$119","v":0},{"$f":"投入係数!V58*V$119","v":0},{"$f":"投入係数!W58*W$119","v":0},{"$f":"投入係数!X58*X$119","v":0},{"$f":"投入係数!Y58*Y$119","v":0},{"$f":"投入係数!Z58*Z$119","v":0},{"$f":"投入係数!AA58*AA$119","v":0},{"$f":"投入係数!AB58*AB$119","v":0},{"$f":"投入係数!AC58*AC$119","v":0},{"$f":"投入係数!AD58*AD$119","v":0},{"$f":"投入係数!AE58*AE$119","v":0},{"$f":"投入係数!AF58*AF$119","v":0},{"$f":"投入係数!AG58*AG$119","v":0},{"$f":"投入係数!AH58*AH$119","v":0},{"$f":"投入係数!AI58*AI$119","v":0},{"$f":"投入係数!AJ58*AJ$119","v":0},{"$f":"投入係数!AK58*AK$119","v":0},{"$f":"投入係数!AL58*AL$119","v":0},{"$f":"投入係数!AM58*AM$119","v":0},{"$f":"投入係数!AN58*AN$119","v":0},{"$f":"投入係数!AO58*AO$119","v":0},{"$f":"投入係数!AP58*AP$119","v":0},{"$f":"投入係数!AQ58*AQ$119","v":0},{"$f":"投入係数!AR58*AR$119","v":0},{"$f":"投入係数!AS58*AS$119","v":0},{"$f":"投入係数!AT58*AT$119","v":0},{"$f":"投入係数!AU58*AU$119","v":0},{"$f":"投入係数!AV58*AV$119","v":0},{"$f":"投入係数!AW58*AW$119","v":0},{"$f":"投入係数!AX58*AX$119","v":0},{"$f":"投入係数!AY58*AY$119","v":0},{"$f":"投入係数!AZ58*AZ$119","v":0},{"$f":"投入係数!BA58*BA$119","v":0},{"$f":"投入係数!BB58*BB$119","v":0},{"$f":"投入係数!BC58*BC$119","v":0},{"$f":"投入係数!BD58*BD$119","v":0},{"$f":"投入係数!BE58*BE$119","v":0},{"$f":"投入係数!BF58*BF$119","v":0},{"$f":"投入係数!BG58*BG$119","v":0},{"$f":"投入係数!BH58*BH$119","v":0},{"$f":"投入係数!BI58*BI$119","v":0},{"$f":"投入係数!BJ58*BJ$119","v":0},{"$f":"投入係数!BK58*BK$119","v":0},{"$f":"投入係数!BL58*BL$119","v":0},{"$f":"投入係数!BM58*BM$119","v":0},{"$f":"投入係数!BN58*BN$119","v":0},{"$f":"投入係数!BO58*BO$119","v":0},{"$f":"投入係数!BP58*BP$119","v":0},{"$f":"投入係数!BQ58*BQ$119","v":0},{"$f":"投入係数!BR58*BR$119","v":0},{"$f":"投入係数!BS58*BS$119","v":0},{"$f":"投入係数!BT58*BT$119","v":0},{"$f":"投入係数!BU58*BU$119","v":0},{"$f":"投入係数!BV58*BV$119","v":0},{"$f":"投入係数!BW58*BW$119","v":0},{"$f":"投入係数!BX58*BX$119","v":0},{"$f":"投入係数!BY58*BY$119","v":0},{"$f":"投入係数!BZ58*BZ$119","v":0},{"$f":"投入係数!CA58*CA$119","v":0},{"$f":"投入係数!CB58*CB$119","v":0},{"$f":"投入係数!CC58*CC$119","v":0},{"$f":"投入係数!CD58*CD$119","v":0},{"$f":"投入係数!CE58*CE$119","v":0},{"$f":"投入係数!CF58*CF$119","v":0},{"$f":"投入係数!CG58*CG$119","v":0},{"$f":"投入係数!CH58*CH$119","v":0},{"$f":"投入係数!CI58*CI$119","v":0},{"$f":"投入係数!CJ58*CJ$119","v":0},{"$f":"投入係数!CK58*CK$119","v":0},{"$f":"投入係数!CL58*CL$119","v":0},{"$f":"投入係数!CM58*CM$119","v":0},{"$f":"投入係数!CN58*CN$119","v":0},{"$f":"投入係数!CO58*CO$119","v":0},{"$f":"投入係数!CP58*CP$119","v":0},{"$f":"投入係数!CQ58*CQ$119","v":0},{"$f":"投入係数!CR58*CR$119","v":0},{"$f":"投入係数!CS58*CS$119","v":0},{"$f":"投入係数!CT58*CT$119","v":0},{"$f":"投入係数!CU58*CU$119","v":0},{"$f":"投入係数!CV58*CV$119","v":0},{"$f":"投入係数!CW58*CW$119","v":0},{"$f":"投入係数!CX58*CX$119","v":0},{"$f":"投入係数!CY58*CY$119","v":0},{"$f":"投入係数!CZ58*CZ$119","v":0},{"$f":"投入係数!DA58*DA$119","v":0},{"$f":"投入係数!DB58*DB$119","v":0},{"$f":"投入係数!DC58*DC$119","v":0},{"$f":"投入係数!DD58*DD$119","v":0},{"$f":"投入係数!DE58*DE$119","v":0},{"$f":"投入係数!DF58*DF$119","v":0},{"$f":"投入係数!DG58*DG$119","v":0},{"$f":"投入係数!DH58*DH$119","v":0},0]
[null,"333","電子応用装置・電気計測器",{"$f":"投入係数!D59*D$119","v":0},{"$f":"投入係数!E59*E$119","v":0},{"$f":"投入係数!F59*F$119","v":0},{"$f":"投入係数!G59*G$119","v":0},{"$f":"投入係数!H59*H$119","v":0},{"$f":"投入係数!I59*I$119","v":0},{"$f":"投入係数!J59*J$119","v":0},{"$f":"投入係数!K59*K$119","v":0},{"$f":"投入係数!L59*L$119","v":0},{"$f":"投入係数!M59*M$119","v":0},{"$f":"投入係数!N59*N$119","v":0},{"$f":"投入係数!O59*O$119","v":0},{"$f":"投入係数!P59*P$119","v":0},{"$f":"投入係数!Q59*Q$119","v":0},{"$f":"投入係数!R59*R$119","v":0},{"$f":"投入係数!S59*S$119","v":0},{"$f":"投入係数!T59*T$119","v":0},{"$f":"投入係数!U59*U$119","v":0},{"$f":"投入係数!V59*V$119","v":0},{"$f":"投入係数!W59*W$119","v":0},{"$f":"投入係数!X59*X$119","v":0},{"$f":"投入係数!Y59*Y$119","v":0},{"$f":"投入係数!Z59*Z$119","v":0},{"$f":"投入係数!AA59*AA$119","v":0},{"$f":"投入係数!AB59*AB$119","v":0},{"$f":"投入係数!AC59*AC$119","v":0},{"$f":"投入係数!AD59*AD$119","v":0},{"$f":"投入係数!AE59*AE$119","v":0},{"$f":"投入係数!AF59*AF$119","v":0},{"$f":"投入係数!AG59*AG$119","v":0},{"$f":"投入係数!AH59*AH$119","v":0},{"$f":"投入係数!AI59*AI$119","v":0},{"$f":"投入係数!AJ59*AJ$119","v":0},{"$f":"投入係数!AK59*AK$119","v":0},{"$f":"投入係数!AL59*AL$119","v":0},{"$f":"投入係数!AM59*AM$119","v":0},{"$f":"投入係数!AN59*AN$119","v":0},{"$f":"投入係数!AO59*AO$119","v":0},{"$f":"投入係数!AP59*AP$119","v":0},{"$f":"投入係数!AQ59*AQ$119","v":0},{"$f":"投入係数!AR59*AR$119","v":0},{"$f":"投入係数!AS59*AS$119","v":0},{"$f":"投入係数!AT59*AT$119","v":0},{"$f":"投入係数!AU59*AU$119","v":0},{"$f":"投入係数!AV59*AV$119","v":0},{"$f":"投入係数!AW59*AW$119","v":0},{"$f":"投入係数!AX59*AX$119","v":0},{"$f":"投入係数!AY59*AY$119","v":0},{"$f":"投入係数!AZ59*AZ$119","v":0},{"$f":"投入係数!BA59*BA$119","v":0},{"$f":"投入係数!BB59*BB$119","v":0},{"$f":"投入係数!BC59*BC$119","v":0},{"$f":"投入係数!BD59*BD$119","v":0},{"$f":"投入係数!BE59*BE$119","v":0},{"$f":"投入係数!BF59*BF$119","v":0},{"$f":"投入係数!BG59*BG$119","v":0},{"$f":"投入係数!BH59*BH$119","v":0},{"$f":"投入係数!BI59*BI$119","v":0},{"$f":"投入係数!BJ59*BJ$119","v":0},{"$f":"投入係数!BK59*BK$119","v":0},{"$f":"投入係数!BL59*BL$119","v":0},{"$f":"投入係数!BM59*BM$119","v":0},{"$f":"投入係数!BN59*BN$119","v":0},{"$f":"投入係数!BO59*BO$119","v":0},{"$f":"投入係数!BP59*BP$119","v":0},{"$f":"投入係数!BQ59*BQ$119","v":0},{"$f":"投入係数!BR59*BR$119","v":0},{"$f":"投入係数!BS59*BS$119","v":0},{"$f":"投入係数!BT59*BT$119","v":0},{"$f":"投入係数!BU59*BU$119","v":0},{"$f":"投入係数!BV59*BV$119","v":0},{"$f":"投入係数!BW59*BW$119","v":0},{"$f":"投入係数!BX59*BX$119","v":0},{"$f":"投入係数!BY59*BY$119","v":0},{"$f":"投入係数!BZ59*BZ$119","v":0},{"$f":"投入係数!CA59*CA$119","v":0},{"$f":"投入係数!CB59*CB$119","v":0},{"$f":"投入係数!CC59*CC$119","v":0},{"$f":"投入係数!CD59*CD$119","v":0},{"$f":"投入係数!CE59*CE$119","v":0},{"$f":"投入係数!CF59*CF$119","v":0},{"$f":"投入係数!CG59*CG$119","v":0},{"$f":"投入係数!CH59*CH$119","v":0},{"$f":"投入係数!CI59*CI$119","v":0},{"$f":"投入係数!CJ59*CJ$119","v":0},{"$f":"投入係数!CK59*CK$119","v":0},{"$f":"投入係数!CL59*CL$119","v":0},{"$f":"投入係数!CM59*CM$119","v":0},{"$f":"投入係数!CN59*CN$119","v":0},{"$f":"投入係数!CO59*CO$119","v":0},{"$f":"投入係数!CP59*CP$119","v":0},{"$f":"投入係数!CQ59*CQ$119","v":0},{"$f":"投入係数!CR59*CR$119","v":0},{"$f":"投入係数!CS59*CS$119","v":0},{"$f":"投入係数!CT59*CT$119","v":0},{"$f":"投入係数!CU59*CU$119","v":0},{"$f":"投入係数!CV59*CV$119","v":0},{"$f":"投入係数!CW59*CW$119","v":0},{"$f":"投入係数!CX59*CX$119","v":0},{"$f":"投入係数!CY59*CY$119","v":0},{"$f":"投入係数!CZ59*CZ$119","v":0},{"$f":"投入係数!DA59*DA$119","v":0},{"$f":"投入係数!DB59*DB$119","v":0},{"$f":"投入係数!DC59*DC$119","v":0},{"$f":"投入係数!DD59*DD$119","v":0},{"$f":"投入係数!DE59*DE$119","v":0},{"$f":"投入係数!DF59*DF$119","v":0},{"$f":"投入係数!DG59*DG$119","v":0},{"$f":"投入係数!DH59*DH$119","v":0},0]
[null,"339","その他の電気機械",{"$f":"投入係数!D60*D$119","v":0},{"$f":"投入係数!E60*E$119","v":0},{"$f":"投入係数!F60*F$119","v":0},{"$f":"投入係数!G60*G$119","v":0},{"$f":"投入係数!H60*H$119","v":0},{"$f":"投入係数!I60*I$119","v":0},{"$f":"投入係数!J60*J$119","v":0},{"$f":"投入係数!K60*K$119","v":0},{"$f":"投入係数!L60*L$119","v":0},{"$f":"投入係数!M60*M$119","v":0},{"$f":"投入係数!N60*N$119","v":0},{"$f":"投入係数!O60*O$119","v":0},{"$f":"投入係数!P60*P$119","v":0},{"$f":"投入係数!Q60*Q$119","v":0},{"$f":"投入係数!R60*R$119","v":0},{"$f":"投入係数!S60*S$119","v":0},{"$f":"投入係数!T60*T$119","v":0},{"$f":"投入係数!U60*U$119","v":0},{"$f":"投入係数!V60*V$119","v":0},{"$f":"投入係数!W60*W$119","v":0},{"$f":"投入係数!X60*X$119","v":0},{"$f":"投入係数!Y60*Y$119","v":0},{"$f":"投入係数!Z60*Z$119","v":0},{"$f":"投入係数!AA60*AA$119","v":0},{"$f":"投入係数!AB60*AB$119","v":0},{"$f":"投入係数!AC60*AC$119","v":0},{"$f":"投入係数!AD60*AD$119","v":0},{"$f":"投入係数!AE60*AE$119","v":0},{"$f":"投入係数!AF60*AF$119","v":0},{"$f":"投入係数!AG60*AG$119","v":0},{"$f":"投入係数!AH60*AH$119","v":0},{"$f":"投入係数!AI60*AI$119","v":0},{"$f":"投入係数!AJ60*AJ$119","v":0},{"$f":"投入係数!AK60*AK$119","v":0},{"$f":"投入係数!AL60*AL$119","v":0},{"$f":"投入係数!AM60*AM$119","v":0},{"$f":"投入係数!AN60*AN$119","v":0},{"$f":"投入係数!AO60*AO$119","v":0},{"$f":"投入係数!AP60*AP$119","v":0},{"$f":"投入係数!AQ60*AQ$119","v":0},{"$f":"投入係数!AR60*AR$119","v":0},{"$f":"投入係数!AS60*AS$119","v":0},{"$f":"投入係数!AT60*AT$119","v":0},{"$f":"投入係数!AU60*AU$119","v":0},{"$f":"投入係数!AV60*AV$119","v":0},{"$f":"投入係数!AW60*AW$119","v":0},{"$f":"投入係数!AX60*AX$119","v":0},{"$f":"投入係数!AY60*AY$119","v":0},{"$f":"投入係数!AZ60*AZ$119","v":0},{"$f":"投入係数!BA60*BA$119","v":0},{"$f":"投入係数!BB60*BB$119","v":0},{"$f":"投入係数!BC60*BC$119","v":0},{"$f":"投入係数!BD60*BD$119","v":0},{"$f":"投入係数!BE60*BE$119","v":0},{"$f":"投入係数!BF60*BF$119","v":0},{"$f":"投入係数!BG60*BG$119","v":0},{"$f":"投入係数!BH60*BH$119","v":0},{"$f":"投入係数!BI60*BI$119","v":0},{"$f":"投入係数!BJ60*BJ$119","v":0},{"$f":"投入係数!BK60*BK$119","v":0},{"$f":"投入係数!BL60*BL$119","v":0},{"$f":"投入係数!BM60*BM$119","v":0},{"$f":"投入係数!BN60*BN$119","v":0},{"$f":"投入係数!BO60*BO$119","v":0},{"$f":"投入係数!BP60*BP$119","v":0},{"$f":"投入係数!BQ60*BQ$119","v":0},{"$f":"投入係数!BR60*BR$119","v":0},{"$f":"投入係数!BS60*BS$119","v":0},{"$f":"投入係数!BT60*BT$119","v":0},{"$f":"投入係数!BU60*BU$119","v":0},{"$f":"投入係数!BV60*BV$119","v":0},{"$f":"投入係数!BW60*BW$119","v":0},{"$f":"投入係数!BX60*BX$119","v":0},{"$f":"投入係数!BY60*BY$119","v":0},{"$f":"投入係数!BZ60*BZ$119","v":0},{"$f":"投入係数!CA60*CA$119","v":0},{"$f":"投入係数!CB60*CB$119","v":0},{"$f":"投入係数!CC60*CC$119","v":0},{"$f":"投入係数!CD60*CD$119","v":0},{"$f":"投入係数!CE60*CE$119","v":0},{"$f":"投入係数!CF60*CF$119","v":0},{"$f":"投入係数!CG60*CG$119","v":0},{"$f":"投入係数!CH60*CH$119","v":0},{"$f":"投入係数!CI60*CI$119","v":0},{"$f":"投入係数!CJ60*CJ$119","v":0},{"$f":"投入係数!CK60*CK$119","v":0},{"$f":"投入係数!CL60*CL$119","v":0},{"$f":"投入係数!CM60*CM$119","v":0},{"$f":"投入係数!CN60*CN$119","v":0},{"$f":"投入係数!CO60*CO$119","v":0},{"$f":"投入係数!CP60*CP$119","v":0},{"$f":"投入係数!CQ60*CQ$119","v":0},{"$f":"投入係数!CR60*CR$119","v":0},{"$f":"投入係数!CS60*CS$119","v":0},{"$f":"投入係数!CT60*CT$119","v":0},{"$f":"投入係数!CU60*CU$119","v":0},{"$f":"投入係数!CV60*CV$119","v":0},{"$f":"投入係数!CW60*CW$119","v":0},{"$f":"投入係数!CX60*CX$119","v":0},{"$f":"投入係数!CY60*CY$119","v":0},{"$f":"投入係数!CZ60*CZ$119","v":0},{"$f":"投入係数!DA60*DA$119","v":0},{"$f":"投入係数!DB60*DB$119","v":0},{"$f":"投入係数!DC60*DC$119","v":0},{"$f":"投入係数!DD60*DD$119","v":0},{"$f":"投入係数!DE60*DE$119","v":0},{"$f":"投入係数!DF60*DF$119","v":0},{"$f":"投入係数!DG60*DG$119","v":0},{"$f":"投入係数!DH60*DH$119","v":0},0]
[null,"341","通信・映像・音響機器",{"$f":"投入係数!D61*D$119","v":0},{"$f":"投入係数!E61*E$119","v":0},{"$f":"投入係数!F61*F$119","v":0},{"$f":"投入係数!G61*G$119","v":0},{"$f":"投入係数!H61*H$119","v":0},{"$f":"投入係数!I61*I$119","v":0},{"$f":"投入係数!J61*J$119","v":0},{"$f":"投入係数!K61*K$119","v":0},{"$f":"投入係数!L61*L$119","v":0},{"$f":"投入係数!M61*M$119","v":0},{"$f":"投入係数!N61*N$119","v":0},{"$f":"投入係数!O61*O$119","v":0},{"$f":"投入係数!P61*P$119","v":0},{"$f":"投入係数!Q61*Q$119","v":0},{"$f":"投入係数!R61*R$119","v":0},{"$f":"投入係数!S61*S$119","v":0},{"$f":"投入係数!T61*T$119","v":0},{"$f":"投入係数!U61*U$119","v":0},{"$f":"投入係数!V61*V$119","v":0},{"$f":"投入係数!W61*W$119","v":0},{"$f":"投入係数!X61*X$119","v":0},{"$f":"投入係数!Y61*Y$119","v":0},{"$f":"投入係数!Z61*Z$119","v":0},{"$f":"投入係数!AA61*AA$119","v":0},{"$f":"投入係数!AB61*AB$119","v":0},{"$f":"投入係数!AC61*AC$119","v":0},{"$f":"投入係数!AD61*AD$119","v":0},{"$f":"投入係数!AE61*AE$119","v":0},{"$f":"投入係数!AF61*AF$119","v":0},{"$f":"投入係数!AG61*AG$119","v":0},{"$f":"投入係数!AH61*AH$119","v":0},{"$f":"投入係数!AI61*AI$119","v":0},{"$f":"投入係数!AJ61*AJ$119","v":0},{"$f":"投入係数!AK61*AK$119","v":0},{"$f":"投入係数!AL61*AL$119","v":0},{"$f":"投入係数!AM61*AM$119","v":0},{"$f":"投入係数!AN61*AN$119","v":0},{"$f":"投入係数!AO61*AO$119","v":0},{"$f":"投入係数!AP61*AP$119","v":0},{"$f":"投入係数!AQ61*AQ$119","v":0},{"$f":"投入係数!AR61*AR$119","v":0},{"$f":"投入係数!AS61*AS$119","v":0},{"$f":"投入係数!AT61*AT$119","v":0},{"$f":"投入係数!AU61*AU$119","v":0},{"$f":"投入係数!AV61*AV$119","v":0},{"$f":"投入係数!AW61*AW$119","v":0},{"$f":"投入係数!AX61*AX$119","v":0},{"$f":"投入係数!AY61*AY$119","v":0},{"$f":"投入係数!AZ61*AZ$119","v":0},{"$f":"投入係数!BA61*BA$119","v":0},{"$f":"投入係数!BB61*BB$119","v":0},{"$f":"投入係数!BC61*BC$119","v":0},{"$f":"投入係数!BD61*BD$119","v":0},{"$f":"投入係数!BE61*BE$119","v":0},{"$f":"投入係数!BF61*BF$119","v":0},{"$f":"投入係数!BG61*BG$119","v":0},{"$f":"投入係数!BH61*BH$119","v":0},{"$f":"投入係数!BI61*BI$119","v":0},{"$f":"投入係数!BJ61*BJ$119","v":0},{"$f":"投入係数!BK61*BK$119","v":0},{"$f":"投入係数!BL61*BL$119","v":0},{"$f":"投入係数!BM61*BM$119","v":0},{"$f":"投入係数!BN61*BN$119","v":0},{"$f":"投入係数!BO61*BO$119","v":0},{"$f":"投入係数!BP61*BP$119","v":0},{"$f":"投入係数!BQ61*BQ$119","v":0},{"$f":"投入係数!BR61*BR$119","v":0},{"$f":"投入係数!BS61*BS$119","v":0},{"$f":"投入係数!BT61*BT$119","v":0},{"$f":"投入係数!BU61*BU$119","v":0},{"$f":"投入係数!BV61*BV$119","v":0},{"$f":"投入係数!BW61*BW$119","v":0},{"$f":"投入係数!BX61*BX$119","v":0},{"$f":"投入係数!BY61*BY$119","v":0},{"$f":"投入係数!BZ61*BZ$119","v":0},{"$f":"投入係数!CA61*CA$119","v":0},{"$f":"投入係数!CB61*CB$119","v":0},{"$f":"投入係数!CC61*CC$119","v":0},{"$f":"投入係数!CD61*CD$119","v":0},{"$f":"投入係数!CE61*CE$119","v":0},{"$f":"投入係数!CF61*CF$119","v":0},{"$f":"投入係数!CG61*CG$119","v":0},{"$f":"投入係数!CH61*CH$119","v":0},{"$f":"投入係数!CI61*CI$119","v":0},{"$f":"投入係数!CJ61*CJ$119","v":0},{"$f":"投入係数!CK61*CK$119","v":0},{"$f":"投入係数!CL61*CL$119","v":0},{"$f":"投入係数!CM61*CM$119","v":0},{"$f":"投入係数!CN61*CN$119","v":0},{"$f":"投入係数!CO61*CO$119","v":0},{"$f":"投入係数!CP61*CP$119","v":0},{"$f":"投入係数!CQ61*CQ$119","v":0},{"$f":"投入係数!CR61*CR$119","v":0},{"$f":"投入係数!CS61*CS$119","v":0},{"$f":"投入係数!CT61*CT$119","v":0},{"$f":"投入係数!CU61*CU$119","v":0},{"$f":"投入係数!CV61*CV$119","v":0},{"$f":"投入係数!CW61*CW$119","v":0},{"$f":"投入係数!CX61*CX$119","v":0},{"$f":"投入係数!CY61*CY$119","v":0},{"$f":"投入係数!CZ61*CZ$119","v":0},{"$f":"投入係数!DA61*DA$119","v":0},{"$f":"投入係数!DB61*DB$119","v":0},{"$f":"投入係数!DC61*DC$119","v":0},{"$f":"投入係数!DD61*DD$119","v":0},{"$f":"投入係数!DE61*DE$119","v":0},{"$f":"投入係数!DF61*DF$119","v":0},{"$f":"投入係数!DG61*DG$119","v":0},{"$f":"投入係数!DH61*DH$119","v":0},0]
[null,"342","電子計算機・同附属装置",{"$f":"投入係数!D62*D$119","v":0},{"$f":"投入係数!E62*E$119","v":0},{"$f":"投入係数!F62*F$119","v":0},{"$f":"投入係数!G62*G$119","v":0},{"$f":"投入係数!H62*H$119","v":0},{"$f":"投入係数!I62*I$119","v":0},{"$f":"投入係数!J62*J$119","v":0},{"$f":"投入係数!K62*K$119","v":0},{"$f":"投入係数!L62*L$119","v":0},{"$f":"投入係数!M62*M$119","v":0},{"$f":"投入係数!N62*N$119","v":0},{"$f":"投入係数!O62*O$119","v":0},{"$f":"投入係数!P62*P$119","v":0},{"$f":"投入係数!Q62*Q$119","v":0},{"$f":"投入係数!R62*R$119","v":0},{"$f":"投入係数!S62*S$119","v":0},{"$f":"投入係数!T62*T$119","v":0},{"$f":"投入係数!U62*U$119","v":0},{"$f":"投入係数!V62*V$119","v":0},{"$f":"投入係数!W62*W$119","v":0},{"$f":"投入係数!X62*X$119","v":0},{"$f":"投入係数!Y62*Y$119","v":0},{"$f":"投入係数!Z62*Z$119","v":0},{"$f":"投入係数!AA62*AA$119","v":0},{"$f":"投入係数!AB62*AB$119","v":0},{"$f":"投入係数!AC62*AC$119","v":0},{"$f":"投入係数!AD62*AD$119","v":0},{"$f":"投入係数!AE62*AE$119","v":0},{"$f":"投入係数!AF62*AF$119","v":0},{"$f":"投入係数!AG62*AG$119","v":0},{"$f":"投入係数!AH62*AH$119","v":0},{"$f":"投入係数!AI62*AI$119","v":0},{"$f":"投入係数!AJ62*AJ$119","v":0},{"$f":"投入係数!AK62*AK$119","v":0},{"$f":"投入係数!AL62*AL$119","v":0},{"$f":"投入係数!AM62*AM$119","v":0},{"$f":"投入係数!AN62*AN$119","v":0},{"$f":"投入係数!AO62*AO$119","v":0},{"$f":"投入係数!AP62*AP$119","v":0},{"$f":"投入係数!AQ62*AQ$119","v":0},{"$f":"投入係数!AR62*AR$119","v":0},{"$f":"投入係数!AS62*AS$119","v":0},{"$f":"投入係数!AT62*AT$119","v":0},{"$f":"投入係数!AU62*AU$119","v":0},{"$f":"投入係数!AV62*AV$119","v":0},{"$f":"投入係数!AW62*AW$119","v":0},{"$f":"投入係数!AX62*AX$119","v":0},{"$f":"投入係数!AY62*AY$119","v":0},{"$f":"投入係数!AZ62*AZ$119","v":0},{"$f":"投入係数!BA62*BA$119","v":0},{"$f":"投入係数!BB62*BB$119","v":0},{"$f":"投入係数!BC62*BC$119","v":0},{"$f":"投入係数!BD62*BD$119","v":0},{"$f":"投入係数!BE62*BE$119","v":0},{"$f":"投入係数!BF62*BF$119","v":0},{"$f":"投入係数!BG62*BG$119","v":0},{"$f":"投入係数!BH62*BH$119","v":0},{"$f":"投入係数!BI62*BI$119","v":0},{"$f":"投入係数!BJ62*BJ$119","v":0},{"$f":"投入係数!BK62*BK$119","v":0},{"$f":"投入係数!BL62*BL$119","v":0},{"$f":"投入係数!BM62*BM$119","v":0},{"$f":"投入係数!BN62*BN$119","v":0},{"$f":"投入係数!BO62*BO$119","v":0},{"$f":"投入係数!BP62*BP$119","v":0},{"$f":"投入係数!BQ62*BQ$119","v":0},{"$f":"投入係数!BR62*BR$119","v":0},{"$f":"投入係数!BS62*BS$119","v":0},{"$f":"投入係数!BT62*BT$119","v":0},{"$f":"投入係数!BU62*BU$119","v":0},{"$f":"投入係数!BV62*BV$119","v":0},{"$f":"投入係数!BW62*BW$119","v":0},{"$f":"投入係数!BX62*BX$119","v":0},{"$f":"投入係数!BY62*BY$119","v":0},{"$f":"投入係数!BZ62*BZ$119","v":0},{"$f":"投入係数!CA62*CA$119","v":0},{"$f":"投入係数!CB62*CB$119","v":0},{"$f":"投入係数!CC62*CC$119","v":0},{"$f":"投入係数!CD62*CD$119","v":0},{"$f":"投入係数!CE62*CE$119","v":0},{"$f":"投入係数!CF62*CF$119","v":0},{"$f":"投入係数!CG62*CG$119","v":0},{"$f":"投入係数!CH62*CH$119","v":0},{"$f":"投入係数!CI62*CI$119","v":0},{"$f":"投入係数!CJ62*CJ$119","v":0},{"$f":"投入係数!CK62*CK$119","v":0},{"$f":"投入係数!CL62*CL$119","v":0},{"$f":"投入係数!CM62*CM$119","v":0},{"$f":"投入係数!CN62*CN$119","v":0},{"$f":"投入係数!CO62*CO$119","v":0},{"$f":"投入係数!CP62*CP$119","v":0},{"$f":"投入係数!CQ62*CQ$119","v":0},{"$f":"投入係数!CR62*CR$119","v":0},{"$f":"投入係数!CS62*CS$119","v":0},{"$f":"投入係数!CT62*CT$119","v":0},{"$f":"投入係数!CU62*CU$119","v":0},{"$f":"投入係数!CV62*CV$119","v":0},{"$f":"投入係数!CW62*CW$119","v":0},{"$f":"投入係数!CX62*CX$119","v":0},{"$f":"投入係数!CY62*CY$119","v":0},{"$f":"投入係数!CZ62*CZ$119","v":0},{"$f":"投入係数!DA62*DA$119","v":0},{"$f":"投入係数!DB62*DB$119","v":0},{"$f":"投入係数!DC62*DC$119","v":0},{"$f":"投入係数!DD62*DD$119","v":0},{"$f":"投入係数!DE62*DE$119","v":0},{"$f":"投入係数!DF62*DF$119","v":0},{"$f":"投入係数!DG62*DG$119","v":0},{"$f":"投入係数!DH62*DH$119","v":0},0]
[null,"351","乗用車",{"$f":"投入係数!D63*D$119","v":0},{"$f":"投入係数!E63*E$119","v":0},{"$f":"投入係数!F63*F$119","v":0},{"$f":"投入係数!G63*G$119","v":0},{"$f":"投入係数!H63*H$119","v":0},{"$f":"投入係数!I63*I$119","v":0},{"$f":"投入係数!J63*J$119","v":0},{"$f":"投入係数!K63*K$119","v":0},{"$f":"投入係数!L63*L$119","v":0},{"$f":"投入係数!M63*M$119","v":0},{"$f":"投入係数!N63*N$119","v":0},{"$f":"投入係数!O63*O$119","v":0},{"$f":"投入係数!P63*P$119","v":0},{"$f":"投入係数!Q63*Q$119","v":0},{"$f":"投入係数!R63*R$119","v":0},{"$f":"投入係数!S63*S$119","v":0},{"$f":"投入係数!T63*T$119","v":0},{"$f":"投入係数!U63*U$119","v":0},{"$f":"投入係数!V63*V$119","v":0},{"$f":"投入係数!W63*W$119","v":0},{"$f":"投入係数!X63*X$119","v":0},{"$f":"投入係数!Y63*Y$119","v":0},{"$f":"投入係数!Z63*Z$119","v":0},{"$f":"投入係数!AA63*AA$119","v":0},{"$f":"投入係数!AB63*AB$119","v":0},{"$f":"投入係数!AC63*AC$119","v":0},{"$f":"投入係数!AD63*AD$119","v":0},{"$f":"投入係数!AE63*AE$119","v":0},{"$f":"投入係数!AF63*AF$119","v":0},{"$f":"投入係数!AG63*AG$119","v":0},{"$f":"投入係数!AH63*AH$119","v":0},{"$f":"投入係数!AI63*AI$119","v":0},{"$f":"投入係数!AJ63*AJ$119","v":0},{"$f":"投入係数!AK63*AK$119","v":0},{"$f":"投入係数!AL63*AL$119","v":0},{"$f":"投入係数!AM63*AM$119","v":0},{"$f":"投入係数!AN63*AN$119","v":0},{"$f":"投入係数!AO63*AO$119","v":0},{"$f":"投入係数!AP63*AP$119","v":0},{"$f":"投入係数!AQ63*AQ$119","v":0},{"$f":"投入係数!AR63*AR$119","v":0},{"$f":"投入係数!AS63*AS$119","v":0},{"$f":"投入係数!AT63*AT$119","v":0},{"$f":"投入係数!AU63*AU$119","v":0},{"$f":"投入係数!AV63*AV$119","v":0},{"$f":"投入係数!AW63*AW$119","v":0},{"$f":"投入係数!AX63*AX$119","v":0},{"$f":"投入係数!AY63*AY$119","v":0},{"$f":"投入係数!AZ63*AZ$119","v":0},{"$f":"投入係数!BA63*BA$119","v":0},{"$f":"投入係数!BB63*BB$119","v":0},{"$f":"投入係数!BC63*BC$119","v":0},{"$f":"投入係数!BD63*BD$119","v":0},{"$f":"投入係数!BE63*BE$119","v":0},{"$f":"投入係数!BF63*BF$119","v":0},{"$f":"投入係数!BG63*BG$119","v":0},{"$f":"投入係数!BH63*BH$119","v":0},{"$f":"投入係数!BI63*BI$119","v":0},{"$f":"投入係数!BJ63*BJ$119","v":0},{"$f":"投入係数!BK63*BK$119","v":0},{"$f":"投入係数!BL63*BL$119","v":0},{"$f":"投入係数!BM63*BM$119","v":0},{"$f":"投入係数!BN63*BN$119","v":0},{"$f":"投入係数!BO63*BO$119","v":0},{"$f":"投入係数!BP63*BP$119","v":0},{"$f":"投入係数!BQ63*BQ$119","v":0},{"$f":"投入係数!BR63*BR$119","v":0},{"$f":"投入係数!BS63*BS$119","v":0},{"$f":"投入係数!BT63*BT$119","v":0},{"$f":"投入係数!BU63*BU$119","v":0},{"$f":"投入係数!BV63*BV$119","v":0},{"$f":"投入係数!BW63*BW$119","v":0},{"$f":"投入係数!BX63*BX$119","v":0},{"$f":"投入係数!BY63*BY$119","v":0},{"$f":"投入係数!BZ63*BZ$119","v":0},{"$f":"投入係数!CA63*CA$119","v":0},{"$f":"投入係数!CB63*CB$119","v":0},{"$f":"投入係数!CC63*CC$119","v":0},{"$f":"投入係数!CD63*CD$119","v":0},{"$f":"投入係数!CE63*CE$119","v":0},{"$f":"投入係数!CF63*CF$119","v":0},{"$f":"投入係数!CG63*CG$119","v":0},{"$f":"投入係数!CH63*CH$119","v":0},{"$f":"投入係数!CI63*CI$119","v":0},{"$f":"投入係数!CJ63*CJ$119","v":0},{"$f":"投入係数!CK63*CK$119","v":0},{"$f":"投入係数!CL63*CL$119","v":0},{"$f":"投入係数!CM63*CM$119","v":0},{"$f":"投入係数!CN63*CN$119","v":0},{"$f":"投入係数!CO63*CO$119","v":0},{"$f":"投入係数!CP63*CP$119","v":0},{"$f":"投入係数!CQ63*CQ$119","v":0},{"$f":"投入係数!CR63*CR$119","v":0},{"$f":"投入係数!CS63*CS$119","v":0},{"$f":"投入係数!CT63*CT$119","v":0},{"$f":"投入係数!CU63*CU$119","v":0},{"$f":"投入係数!CV63*CV$119","v":0},{"$f":"投入係数!CW63*CW$119","v":0},{"$f":"投入係数!CX63*CX$119","v":0},{"$f":"投入係数!CY63*CY$119","v":0},{"$f":"投入係数!CZ63*CZ$119","v":0},{"$f":"投入係数!DA63*DA$119","v":0},{"$f":"投入係数!DB63*DB$119","v":0},{"$f":"投入係数!DC63*DC$119","v":0},{"$f":"投入係数!DD63*DD$119","v":0},{"$f":"投入係数!DE63*DE$119","v":0},{"$f":"投入係数!DF63*DF$119","v":0},{"$f":"投入係数!DG63*DG$119","v":0},{"$f":"投入係数!DH63*DH$119","v":0},0]
[null,"352","その他の自動車",{"$f":"投入係数!D64*D$119","v":0},{"$f":"投入係数!E64*E$119","v":0},{"$f":"投入係数!F64*F$119","v":0},{"$f":"投入係数!G64*G$119","v":0},{"$f":"投入係数!H64*H$119","v":0},{"$f":"投入係数!I64*I$119","v":0},{"$f":"投入係数!J64*J$119","v":0},{"$f":"投入係数!K64*K$119","v":0},{"$f":"投入係数!L64*L$119","v":0},{"$f":"投入係数!M64*M$119","v":0},{"$f":"投入係数!N64*N$119","v":0},{"$f":"投入係数!O64*O$119","v":0},{"$f":"投入係数!P64*P$119","v":0},{"$f":"投入係数!Q64*Q$119","v":0},{"$f":"投入係数!R64*R$119","v":0},{"$f":"投入係数!S64*S$119","v":0},{"$f":"投入係数!T64*T$119","v":0},{"$f":"投入係数!U64*U$119","v":0},{"$f":"投入係数!V64*V$119","v":0},{"$f":"投入係数!W64*W$119","v":0},{"$f":"投入係数!X64*X$119","v":0},{"$f":"投入係数!Y64*Y$119","v":0},{"$f":"投入係数!Z64*Z$119","v":0},{"$f":"投入係数!AA64*AA$119","v":0},{"$f":"投入係数!AB64*AB$119","v":0},{"$f":"投入係数!AC64*AC$119","v":0},{"$f":"投入係数!AD64*AD$119","v":0},{"$f":"投入係数!AE64*AE$119","v":0},{"$f":"投入係数!AF64*AF$119","v":0},{"$f":"投入係数!AG64*AG$119","v":0},{"$f":"投入係数!AH64*AH$119","v":0},{"$f":"投入係数!AI64*AI$119","v":0},{"$f":"投入係数!AJ64*AJ$119","v":0},{"$f":"投入係数!AK64*AK$119","v":0},{"$f":"投入係数!AL64*AL$119","v":0},{"$f":"投入係数!AM64*AM$119","v":0},{"$f":"投入係数!AN64*AN$119","v":0},{"$f":"投入係数!AO64*AO$119","v":0},{"$f":"投入係数!AP64*AP$119","v":0},{"$f":"投入係数!AQ64*AQ$119","v":0},{"$f":"投入係数!AR64*AR$119","v":0},{"$f":"投入係数!AS64*AS$119","v":0},{"$f":"投入係数!AT64*AT$119","v":0},{"$f":"投入係数!AU64*AU$119","v":0},{"$f":"投入係数!AV64*AV$119","v":0},{"$f":"投入係数!AW64*AW$119","v":0},{"$f":"投入係数!AX64*AX$119","v":0},{"$f":"投入係数!AY64*AY$119","v":0},{"$f":"投入係数!AZ64*AZ$119","v":0},{"$f":"投入係数!BA64*BA$119","v":0},{"$f":"投入係数!BB64*BB$119","v":0},{"$f":"投入係数!BC64*BC$119","v":0},{"$f":"投入係数!BD64*BD$119","v":0},{"$f":"投入係数!BE64*BE$119","v":0},{"$f":"投入係数!BF64*BF$119","v":0},{"$f":"投入係数!BG64*BG$119","v":0},{"$f":"投入係数!BH64*BH$119","v":0},{"$f":"投入係数!BI64*BI$119","v":0},{"$f":"投入係数!BJ64*BJ$119","v":0},{"$f":"投入係数!BK64*BK$119","v":0},{"$f":"投入係数!BL64*BL$119","v":0},{"$f":"投入係数!BM64*BM$119","v":0},{"$f":"投入係数!BN64*BN$119","v":0},{"$f":"投入係数!BO64*BO$119","v":0},{"$f":"投入係数!BP64*BP$119","v":0},{"$f":"投入係数!BQ64*BQ$119","v":0},{"$f":"投入係数!BR64*BR$119","v":0},{"$f":"投入係数!BS64*BS$119","v":0},{"$f":"投入係数!BT64*BT$119","v":0},{"$f":"投入係数!BU64*BU$119","v":0},{"$f":"投入係数!BV64*BV$119","v":0},{"$f":"投入係数!BW64*BW$119","v":0},{"$f":"投入係数!BX64*BX$119","v":0},{"$f":"投入係数!BY64*BY$119","v":0},{"$f":"投入係数!BZ64*BZ$119","v":0},{"$f":"投入係数!CA64*CA$119","v":0},{"$f":"投入係数!CB64*CB$119","v":0},{"$f":"投入係数!CC64*CC$119","v":0},{"$f":"投入係数!CD64*CD$119","v":0},{"$f":"投入係数!CE64*CE$119","v":0},{"$f":"投入係数!CF64*CF$119","v":0},{"$f":"投入係数!CG64*CG$119","v":0},{"$f":"投入係数!CH64*CH$119","v":0},{"$f":"投入係数!CI64*CI$119","v":0},{"$f":"投入係数!CJ64*CJ$119","v":0},{"$f":"投入係数!CK64*CK$119","v":0},{"$f":"投入係数!CL64*CL$119","v":0},{"$f":"投入係数!CM64*CM$119","v":0},{"$f":"投入係数!CN64*CN$119","v":0},{"$f":"投入係数!CO64*CO$119","v":0},{"$f":"投入係数!CP64*CP$119","v":0},{"$f":"投入係数!CQ64*CQ$119","v":0},{"$f":"投入係数!CR64*CR$119","v":0},{"$f":"投入係数!CS64*CS$119","v":0},{"$f":"投入係数!CT64*CT$119","v":0},{"$f":"投入係数!CU64*CU$119","v":0},{"$f":"投入係数!CV64*CV$119","v":0},{"$f":"投入係数!CW64*CW$119","v":0},{"$f":"投入係数!CX64*CX$119","v":0},{"$f":"投入係数!CY64*CY$119","v":0},{"$f":"投入係数!CZ64*CZ$119","v":0},{"$f":"投入係数!DA64*DA$119","v":0},{"$f":"投入係数!DB64*DB$119","v":0},{"$f":"投入係数!DC64*DC$119","v":0},{"$f":"投入係数!DD64*DD$119","v":0},{"$f":"投入係数!DE64*DE$119","v":0},{"$f":"投入係数!DF64*DF$119","v":0},{"$f":"投入係数!DG64*DG$119","v":0},{"$f":"投入係数!DH64*DH$119","v":0},0]
[null,"353","自動車部品・同附属品",{"$f":"投入係数!D65*D$119","v":0},{"$f":"投入係数!E65*E$119","v":0},{"$f":"投入係数!F65*F$119","v":0},{"$f":"投入係数!G65*G$119","v":0},{"$f":"投入係数!H65*H$119","v":0},{"$f":"投入係数!I65*I$119","v":0},{"$f":"投入係数!J65*J$119","v":0},{"$f":"投入係数!K65*K$119","v":0},{"$f":"投入係数!L65*L$119","v":0},{"$f":"投入係数!M65*M$119","v":0},{"$f":"投入係数!N65*N$119","v":0},{"$f":"投入係数!O65*O$119","v":0},{"$f":"投入係数!P65*P$119","v":0},{"$f":"投入係数!Q65*Q$119","v":0},{"$f":"投入係数!R65*R$119","v":0},{"$f":"投入係数!S65*S$119","v":0},{"$f":"投入係数!T65*T$119","v":0},{"$f":"投入係数!U65*U$119","v":0},{"$f":"投入係数!V65*V$119","v":0},{"$f":"投入係数!W65*W$119","v":0},{"$f":"投入係数!X65*X$119","v":0},{"$f":"投入係数!Y65*Y$119","v":0},{"$f":"投入係数!Z65*Z$119","v":0},{"$f":"投入係数!AA65*AA$119","v":0},{"$f":"投入係数!AB65*AB$119","v":0},{"$f":"投入係数!AC65*AC$119","v":0},{"$f":"投入係数!AD65*AD$119","v":0},{"$f":"投入係数!AE65*AE$119","v":0},{"$f":"投入係数!AF65*AF$119","v":0},{"$f":"投入係数!AG65*AG$119","v":0},{"$f":"投入係数!AH65*AH$119","v":0},{"$f":"投入係数!AI65*AI$119","v":0},{"$f":"投入係数!AJ65*AJ$119","v":0},{"$f":"投入係数!AK65*AK$119","v":0},{"$f":"投入係数!AL65*AL$119","v":0},{"$f":"投入係数!AM65*AM$119","v":0},{"$f":"投入係数!AN65*AN$119","v":0},{"$f":"投入係数!AO65*AO$119","v":0},{"$f":"投入係数!AP65*AP$119","v":0},{"$f":"投入係数!AQ65*AQ$119","v":0},{"$f":"投入係数!AR65*AR$119","v":0},{"$f":"投入係数!AS65*AS$119","v":0},{"$f":"投入係数!AT65*AT$119","v":0},{"$f":"投入係数!AU65*AU$119","v":0},{"$f":"投入係数!AV65*AV$119","v":0},{"$f":"投入係数!AW65*AW$119","v":0},{"$f":"投入係数!AX65*AX$119","v":0},{"$f":"投入係数!AY65*AY$119","v":0},{"$f":"投入係数!AZ65*AZ$119","v":0},{"$f":"投入係数!BA65*BA$119","v":0},{"$f":"投入係数!BB65*BB$119","v":0},{"$f":"投入係数!BC65*BC$119","v":0},{"$f":"投入係数!BD65*BD$119","v":0},{"$f":"投入係数!BE65*BE$119","v":0},{"$f":"投入係数!BF65*BF$119","v":0},{"$f":"投入係数!BG65*BG$119","v":0},{"$f":"投入係数!BH65*BH$119","v":0},{"$f":"投入係数!BI65*BI$119","v":0},{"$f":"投入係数!BJ65*BJ$119","v":0},{"$f":"投入係数!BK65*BK$119","v":0},{"$f":"投入係数!BL65*BL$119","v":0},{"$f":"投入係数!BM65*BM$119","v":0},{"$f":"投入係数!BN65*BN$119","v":0},{"$f":"投入係数!BO65*BO$119","v":0},{"$f":"投入係数!BP65*BP$119","v":0},{"$f":"投入係数!BQ65*BQ$119","v":0},{"$f":"投入係数!BR65*BR$119","v":0},{"$f":"投入係数!BS65*BS$119","v":0},{"$f":"投入係数!BT65*BT$119","v":0},{"$f":"投入係数!BU65*BU$119","v":0},{"$f":"投入係数!BV65*BV$119","v":0},{"$f":"投入係数!BW65*BW$119","v":0},{"$f":"投入係数!BX65*BX$119","v":0},{"$f":"投入係数!BY65*BY$119","v":0},{"$f":"投入係数!BZ65*BZ$119","v":0},{"$f":"投入係数!CA65*CA$119","v":0},{"$f":"投入係数!CB65*CB$119","v":0},{"$f":"投入係数!CC65*CC$119","v":0},{"$f":"投入係数!CD65*CD$119","v":0},{"$f":"投入係数!CE65*CE$119","v":0},{"$f":"投入係数!CF65*CF$119","v":0},{"$f":"投入係数!CG65*CG$119","v":0},{"$f":"投入係数!CH65*CH$119","v":0},{"$f":"投入係数!CI65*CI$119","v":0},{"$f":"投入係数!CJ65*CJ$119","v":0},{"$f":"投入係数!CK65*CK$119","v":0},{"$f":"投入係数!CL65*CL$119","v":0},{"$f":"投入係数!CM65*CM$119","v":0},{"$f":"投入係数!CN65*CN$119","v":0},{"$f":"投入係数!CO65*CO$119","v":0},{"$f":"投入係数!CP65*CP$119","v":0},{"$f":"投入係数!CQ65*CQ$119","v":0},{"$f":"投入係数!CR65*CR$119","v":0},{"$f":"投入係数!CS65*CS$119","v":0},{"$f":"投入係数!CT65*CT$119","v":0},{"$f":"投入係数!CU65*CU$119","v":0},{"$f":"投入係数!CV65*CV$119","v":0},{"$f":"投入係数!CW65*CW$119","v":0},{"$f":"投入係数!CX65*CX$119","v":0},{"$f":"投入係数!CY65*CY$119","v":0},{"$f":"投入係数!CZ65*CZ$119","v":0},{"$f":"投入係数!DA65*DA$119","v":0},{"$f":"投入係数!DB65*DB$119","v":0},{"$f":"投入係数!DC65*DC$119","v":0},{"$f":"投入係数!DD65*DD$119","v":0},{"$f":"投入係数!DE65*DE$119","v":0},{"$f":"投入係数!DF65*DF$119","v":0},{"$f":"投入係数!DG65*DG$119","v":0},{"$f":"投入係数!DH65*DH$119","v":0},0]
[null,"354","船舶・同修理",{"$f":"投入係数!D66*D$119","v":0},{"$f":"投入係数!E66*E$119","v":0},{"$f":"投入係数!F66*F$119","v":0},{"$f":"投入係数!G66*G$119","v":0},{"$f":"投入係数!H66*H$119","v":0},{"$f":"投入係数!I66*I$119","v":0},{"$f":"投入係数!J66*J$119","v":0},{"$f":"投入係数!K66*K$119","v":0},{"$f":"投入係数!L66*L$119","v":0},{"$f":"投入係数!M66*M$119","v":0},{"$f":"投入係数!N66*N$119","v":0},{"$f":"投入係数!O66*O$119","v":0},{"$f":"投入係数!P66*P$119","v":0},{"$f":"投入係数!Q66*Q$119","v":0},{"$f":"投入係数!R66*R$119","v":0},{"$f":"投入係数!S66*S$119","v":0},{"$f":"投入係数!T66*T$119","v":0},{"$f":"投入係数!U66*U$119","v":0},{"$f":"投入係数!V66*V$119","v":0},{"$f":"投入係数!W66*W$119","v":0},{"$f":"投入係数!X66*X$119","v":0},{"$f":"投入係数!Y66*Y$119","v":0},{"$f":"投入係数!Z66*Z$119","v":0},{"$f":"投入係数!AA66*AA$119","v":0},{"$f":"投入係数!AB66*AB$119","v":0},{"$f":"投入係数!AC66*AC$119","v":0},{"$f":"投入係数!AD66*AD$119","v":0},{"$f":"投入係数!AE66*AE$119","v":0},{"$f":"投入係数!AF66*AF$119","v":0},{"$f":"投入係数!AG66*AG$119","v":0},{"$f":"投入係数!AH66*AH$119","v":0},{"$f":"投入係数!AI66*AI$119","v":0},{"$f":"投入係数!AJ66*AJ$119","v":0},{"$f":"投入係数!AK66*AK$119","v":0},{"$f":"投入係数!AL66*AL$119","v":0},{"$f":"投入係数!AM66*AM$119","v":0},{"$f":"投入係数!AN66*AN$119","v":0},{"$f":"投入係数!AO66*AO$119","v":0},{"$f":"投入係数!AP66*AP$119","v":0},{"$f":"投入係数!AQ66*AQ$119","v":0},{"$f":"投入係数!AR66*AR$119","v":0},{"$f":"投入係数!AS66*AS$119","v":0},{"$f":"投入係数!AT66*AT$119","v":0},{"$f":"投入係数!AU66*AU$119","v":0},{"$f":"投入係数!AV66*AV$119","v":0},{"$f":"投入係数!AW66*AW$119","v":0},{"$f":"投入係数!AX66*AX$119","v":0},{"$f":"投入係数!AY66*AY$119","v":0},{"$f":"投入係数!AZ66*AZ$119","v":0},{"$f":"投入係数!BA66*BA$119","v":0},{"$f":"投入係数!BB66*BB$119","v":0},{"$f":"投入係数!BC66*BC$119","v":0},{"$f":"投入係数!BD66*BD$119","v":0},{"$f":"投入係数!BE66*BE$119","v":0},{"$f":"投入係数!BF66*BF$119","v":0},{"$f":"投入係数!BG66*BG$119","v":0},{"$f":"投入係数!BH66*BH$119","v":0},{"$f":"投入係数!BI66*BI$119","v":0},{"$f":"投入係数!BJ66*BJ$119","v":0},{"$f":"投入係数!BK66*BK$119","v":0},{"$f":"投入係数!BL66*BL$119","v":0},{"$f":"投入係数!BM66*BM$119","v":0},{"$f":"投入係数!BN66*BN$119","v":0},{"$f":"投入係数!BO66*BO$119","v":0},{"$f":"投入係数!BP66*BP$119","v":0},{"$f":"投入係数!BQ66*BQ$119","v":0},{"$f":"投入係数!BR66*BR$119","v":0},{"$f":"投入係数!BS66*BS$119","v":0},{"$f":"投入係数!BT66*BT$119","v":0},{"$f":"投入係数!BU66*BU$119","v":0},{"$f":"投入係数!BV66*BV$119","v":0},{"$f":"投入係数!BW66*BW$119","v":0},{"$f":"投入係数!BX66*BX$119","v":0},{"$f":"投入係数!BY66*BY$119","v":0},{"$f":"投入係数!BZ66*BZ$119","v":0},{"$f":"投入係数!CA66*CA$119","v":0},{"$f":"投入係数!CB66*CB$119","v":0},{"$f":"投入係数!CC66*CC$119","v":0},{"$f":"投入係数!CD66*CD$119","v":0},{"$f":"投入係数!CE66*CE$119","v":0},{"$f":"投入係数!CF66*CF$119","v":0},{"$f":"投入係数!CG66*CG$119","v":0},{"$f":"投入係数!CH66*CH$119","v":0},{"$f":"投入係数!CI66*CI$119","v":0},{"$f":"投入係数!CJ66*CJ$119","v":0},{"$f":"投入係数!CK66*CK$119","v":0},{"$f":"投入係数!CL66*CL$119","v":0},{"$f":"投入係数!CM66*CM$119","v":0},{"$f":"投入係数!CN66*CN$119","v":0},{"$f":"投入係数!CO66*CO$119","v":0},{"$f":"投入係数!CP66*CP$119","v":0},{"$f":"投入係数!CQ66*CQ$119","v":0},{"$f":"投入係数!CR66*CR$119","v":0},{"$f":"投入係数!CS66*CS$119","v":0},{"$f":"投入係数!CT66*CT$119","v":0},{"$f":"投入係数!CU66*CU$119","v":0},{"$f":"投入係数!CV66*CV$119","v":0},{"$f":"投入係数!CW66*CW$119","v":0},{"$f":"投入係数!CX66*CX$119","v":0},{"$f":"投入係数!CY66*CY$119","v":0},{"$f":"投入係数!CZ66*CZ$119","v":0},{"$f":"投入係数!DA66*DA$119","v":0},{"$f":"投入係数!DB66*DB$119","v":0},{"$f":"投入係数!DC66*DC$119","v":0},{"$f":"投入係数!DD66*DD$119","v":0},{"$f":"投入係数!DE66*DE$119","v":0},{"$f":"投入係数!DF66*DF$119","v":0},{"$f":"投入係数!DG66*DG$119","v":0},{"$f":"投入係数!DH66*DH$119","v":0},0]
[null,"359","その他の輸送機械・同修理",{"$f":"投入係数!D67*D$119","v":0},{"$f":"投入係数!E67*E$119","v":0},{"$f":"投入係数!F67*F$119","v":0},{"$f":"投入係数!G67*G$119","v":0},{"$f":"投入係数!H67*H$119","v":0},{"$f":"投入係数!I67*I$119","v":0},{"$f":"投入係数!J67*J$119","v":0},{"$f":"投入係数!K67*K$119","v":0},{"$f":"投入係数!L67*L$119","v":0},{"$f":"投入係数!M67*M$119","v":0},{"$f":"投入係数!N67*N$119","v":0},{"$f":"投入係数!O67*O$119","v":0},{"$f":"投入係数!P67*P$119","v":0},{"$f":"投入係数!Q67*Q$119","v":0},{"$f":"投入係数!R67*R$119","v":0},{"$f":"投入係数!S67*S$119","v":0},{"$f":"投入係数!T67*T$119","v":0},{"$f":"投入係数!U67*U$119","v":0},{"$f":"投入係数!V67*V$119","v":0},{"$f":"投入係数!W67*W$119","v":0},{"$f":"投入係数!X67*X$119","v":0},{"$f":"投入係数!Y67*Y$119","v":0},{"$f":"投入係数!Z67*Z$119","v":0},{"$f":"投入係数!AA67*AA$119","v":0},{"$f":"投入係数!AB67*AB$119","v":0},{"$f":"投入係数!AC67*AC$119","v":0},{"$f":"投入係数!AD67*AD$119","v":0},{"$f":"投入係数!AE67*AE$119","v":0},{"$f":"投入係数!AF67*AF$119","v":0},{"$f":"投入係数!AG67*AG$119","v":0},{"$f":"投入係数!AH67*AH$119","v":0},{"$f":"投入係数!AI67*AI$119","v":0},{"$f":"投入係数!AJ67*AJ$119","v":0},{"$f":"投入係数!AK67*AK$119","v":0},{"$f":"投入係数!AL67*AL$119","v":0},{"$f":"投入係数!AM67*AM$119","v":0},{"$f":"投入係数!AN67*AN$119","v":0},{"$f":"投入係数!AO67*AO$119","v":0},{"$f":"投入係数!AP67*AP$119","v":0},{"$f":"投入係数!AQ67*AQ$119","v":0},{"$f":"投入係数!AR67*AR$119","v":0},{"$f":"投入係数!AS67*AS$119","v":0},{"$f":"投入係数!AT67*AT$119","v":0},{"$f":"投入係数!AU67*AU$119","v":0},{"$f":"投入係数!AV67*AV$119","v":0},{"$f":"投入係数!AW67*AW$119","v":0},{"$f":"投入係数!AX67*AX$119","v":0},{"$f":"投入係数!AY67*AY$119","v":0},{"$f":"投入係数!AZ67*AZ$119","v":0},{"$f":"投入係数!BA67*BA$119","v":0},{"$f":"投入係数!BB67*BB$119","v":0},{"$f":"投入係数!BC67*BC$119","v":0},{"$f":"投入係数!BD67*BD$119","v":0},{"$f":"投入係数!BE67*BE$119","v":0},{"$f":"投入係数!BF67*BF$119","v":0},{"$f":"投入係数!BG67*BG$119","v":0},{"$f":"投入係数!BH67*BH$119","v":0},{"$f":"投入係数!BI67*BI$119","v":0},{"$f":"投入係数!BJ67*BJ$119","v":0},{"$f":"投入係数!BK67*BK$119","v":0},{"$f":"投入係数!BL67*BL$119","v":0},{"$f":"投入係数!BM67*BM$119","v":0},{"$f":"投入係数!BN67*BN$119","v":0},{"$f":"投入係数!BO67*BO$119","v":0},{"$f":"投入係数!BP67*BP$119","v":0},{"$f":"投入係数!BQ67*BQ$119","v":0},{"$f":"投入係数!BR67*BR$119","v":0},{"$f":"投入係数!BS67*BS$119","v":0},{"$f":"投入係数!BT67*BT$119","v":0},{"$f":"投入係数!BU67*BU$119","v":0},{"$f":"投入係数!BV67*BV$119","v":0},{"$f":"投入係数!BW67*BW$119","v":0},{"$f":"投入係数!BX67*BX$119","v":0},{"$f":"投入係数!BY67*BY$119","v":0},{"$f":"投入係数!BZ67*BZ$119","v":0},{"$f":"投入係数!CA67*CA$119","v":0},{"$f":"投入係数!CB67*CB$119","v":0},{"$f":"投入係数!CC67*CC$119","v":0},{"$f":"投入係数!CD67*CD$119","v":0},{"$f":"投入係数!CE67*CE$119","v":0},{"$f":"投入係数!CF67*CF$119","v":0},{"$f":"投入係数!CG67*CG$119","v":0},{"$f":"投入係数!CH67*CH$119","v":0},{"$f":"投入係数!CI67*CI$119","v":0},{"$f":"投入係数!CJ67*CJ$119","v":0},{"$f":"投入係数!CK67*CK$119","v":0},{"$f":"投入係数!CL67*CL$119","v":0},{"$f":"投入係数!CM67*CM$119","v":0},{"$f":"投入係数!CN67*CN$119","v":0},{"$f":"投入係数!CO67*CO$119","v":0},{"$f":"投入係数!CP67*CP$119","v":0},{"$f":"投入係数!CQ67*CQ$119","v":0},{"$f":"投入係数!CR67*CR$119","v":0},{"$f":"投入係数!CS67*CS$119","v":0},{"$f":"投入係数!CT67*CT$119","v":0},{"$f":"投入係数!CU67*CU$119","v":0},{"$f":"投入係数!CV67*CV$119","v":0},{"$f":"投入係数!CW67*CW$119","v":0},{"$f":"投入係数!CX67*CX$119","v":0},{"$f":"投入係数!CY67*CY$119","v":0},{"$f":"投入係数!CZ67*CZ$119","v":0},{"$f":"投入係数!DA67*DA$119","v":0},{"$f":"投入係数!DB67*DB$119","v":0},{"$f":"投入係数!DC67*DC$119","v":0},{"$f":"投入係数!DD67*DD$119","v":0},{"$f":"投入係数!DE67*DE$119","v":0},{"$f":"投入係数!DF67*DF$119","v":0},{"$f":"投入係数!DG67*DG$119","v":0},{"$f":"投入係数!DH67*DH$119","v":0},0]
[null,"391","その他の製造工業製品",{"$f":"投入係数!D68*D$119","v":0},{"$f":"投入係数!E68*E$119","v":0},{"$f":"投入係数!F68*F$119","v":0},{"$f":"投入係数!G68*G$119","v":0},{"$f":"投入係数!H68*H$119","v":0},{"$f":"投入係数!I68*I$119","v":0},{"$f":"投入係数!J68*J$119","v":0},{"$f":"投入係数!K68*K$119","v":0},{"$f":"投入係数!L68*L$119","v":0},{"$f":"投入係数!M68*M$119","v":0},{"$f":"投入係数!N68*N$119","v":0},{"$f":"投入係数!O68*O$119","v":0},{"$f":"投入係数!P68*P$119","v":0},{"$f":"投入係数!Q68*Q$119","v":0},{"$f":"投入係数!R68*R$119","v":0},{"$f":"投入係数!S68*S$119","v":0},{"$f":"投入係数!T68*T$119","v":0},{"$f":"投入係数!U68*U$119","v":0},{"$f":"投入係数!V68*V$119","v":0},{"$f":"投入係数!W68*W$119","v":0},{"$f":"投入係数!X68*X$119","v":0},{"$f":"投入係数!Y68*Y$119","v":0},{"$f":"投入係数!Z68*Z$119","v":0},{"$f":"投入係数!AA68*AA$119","v":0},{"$f":"投入係数!AB68*AB$119","v":0},{"$f":"投入係数!AC68*AC$119","v":0},{"$f":"投入係数!AD68*AD$119","v":0},{"$f":"投入係数!AE68*AE$119","v":0},{"$f":"投入係数!AF68*AF$119","v":0},{"$f":"投入係数!AG68*AG$119","v":0},{"$f":"投入係数!AH68*AH$119","v":0},{"$f":"投入係数!AI68*AI$119","v":0},{"$f":"投入係数!AJ68*AJ$119","v":0},{"$f":"投入係数!AK68*AK$119","v":0},{"$f":"投入係数!AL68*AL$119","v":0},{"$f":"投入係数!AM68*AM$119","v":0},{"$f":"投入係数!AN68*AN$119","v":0},{"$f":"投入係数!AO68*AO$119","v":0},{"$f":"投入係数!AP68*AP$119","v":0},{"$f":"投入係数!AQ68*AQ$119","v":0},{"$f":"投入係数!AR68*AR$119","v":0},{"$f":"投入係数!AS68*AS$119","v":0},{"$f":"投入係数!AT68*AT$119","v":0},{"$f":"投入係数!AU68*AU$119","v":0},{"$f":"投入係数!AV68*AV$119","v":0},{"$f":"投入係数!AW68*AW$119","v":0},{"$f":"投入係数!AX68*AX$119","v":0},{"$f":"投入係数!AY68*AY$119","v":0},{"$f":"投入係数!AZ68*AZ$119","v":0},{"$f":"投入係数!BA68*BA$119","v":0},{"$f":"投入係数!BB68*BB$119","v":0},{"$f":"投入係数!BC68*BC$119","v":0},{"$f":"投入係数!BD68*BD$119","v":0},{"$f":"投入係数!BE68*BE$119","v":0},{"$f":"投入係数!BF68*BF$119","v":0},{"$f":"投入係数!BG68*BG$119","v":0},{"$f":"投入係数!BH68*BH$119","v":0},{"$f":"投入係数!BI68*BI$119","v":0},{"$f":"投入係数!BJ68*BJ$119","v":0},{"$f":"投入係数!BK68*BK$119","v":0},{"$f":"投入係数!BL68*BL$119","v":0},{"$f":"投入係数!BM68*BM$119","v":0},{"$f":"投入係数!BN68*BN$119","v":0},{"$f":"投入係数!BO68*BO$119","v":0},{"$f":"投入係数!BP68*BP$119","v":0},{"$f":"投入係数!BQ68*BQ$119","v":0},{"$f":"投入係数!BR68*BR$119","v":0},{"$f":"投入係数!BS68*BS$119","v":0},{"$f":"投入係数!BT68*BT$119","v":0},{"$f":"投入係数!BU68*BU$119","v":0},{"$f":"投入係数!BV68*BV$119","v":0},{"$f":"投入係数!BW68*BW$119","v":0},{"$f":"投入係数!BX68*BX$119","v":0},{"$f":"投入係数!BY68*BY$119","v":0},{"$f":"投入係数!BZ68*BZ$119","v":0},{"$f":"投入係数!CA68*CA$119","v":0},{"$f":"投入係数!CB68*CB$119","v":0},{"$f":"投入係数!CC68*CC$119","v":0},{"$f":"投入係数!CD68*CD$119","v":0},{"$f":"投入係数!CE68*CE$119","v":0},{"$f":"投入係数!CF68*CF$119","v":0},{"$f":"投入係数!CG68*CG$119","v":0},{"$f":"投入係数!CH68*CH$119","v":0},{"$f":"投入係数!CI68*CI$119","v":0},{"$f":"投入係数!CJ68*CJ$119","v":0},{"$f":"投入係数!CK68*CK$119","v":0},{"$f":"投入係数!CL68*CL$119","v":0},{"$f":"投入係数!CM68*CM$119","v":0},{"$f":"投入係数!CN68*CN$119","v":0},{"$f":"投入係数!CO68*CO$119","v":0},{"$f":"投入係数!CP68*CP$119","v":0},{"$f":"投入係数!CQ68*CQ$119","v":0},{"$f":"投入係数!CR68*CR$119","v":0},{"$f":"投入係数!CS68*CS$119","v":0},{"$f":"投入係数!CT68*CT$119","v":0},{"$f":"投入係数!CU68*CU$119","v":0},{"$f":"投入係数!CV68*CV$119","v":0},{"$f":"投入係数!CW68*CW$119","v":0},{"$f":"投入係数!CX68*CX$119","v":0},{"$f":"投入係数!CY68*CY$119","v":0},{"$f":"投入係数!CZ68*CZ$119","v":0},{"$f":"投入係数!DA68*DA$119","v":0},{"$f":"投入係数!DB68*DB$119","v":0},{"$f":"投入係数!DC68*DC$119","v":0},{"$f":"投入係数!DD68*DD$119","v":0},{"$f":"投入係数!DE68*DE$119","v":0},{"$f":"投入係数!DF68*DF$119","v":0},{"$f":"投入係数!DG68*DG$119","v":0},{"$f":"投入係数!DH68*DH$119","v":0},0]
[null,"392","再生資源回収・加工処理",{"$f":"投入係数!D69*D$119","v":0},{"$f":"投入係数!E69*E$119","v":0},{"$f":"投入係数!F69*F$119","v":0},{"$f":"投入係数!G69*G$119","v":0},{"$f":"投入係数!H69*H$119","v":0},{"$f":"投入係数!I69*I$119","v":0},{"$f":"投入係数!J69*J$119","v":0},{"$f":"投入係数!K69*K$119","v":0},{"$f":"投入係数!L69*L$119","v":0},{"$f":"投入係数!M69*M$119","v":0},{"$f":"投入係数!N69*N$119","v":0},{"$f":"投入係数!O69*O$119","v":0},{"$f":"投入係数!P69*P$119","v":0},{"$f":"投入係数!Q69*Q$119","v":0},{"$f":"投入係数!R69*R$119","v":0},{"$f":"投入係数!S69*S$119","v":0},{"$f":"投入係数!T69*T$119","v":0},{"$f":"投入係数!U69*U$119","v":0},{"$f":"投入係数!V69*V$119","v":0},{"$f":"投入係数!W69*W$119","v":0},{"$f":"投入係数!X69*X$119","v":0},{"$f":"投入係数!Y69*Y$119","v":0},{"$f":"投入係数!Z69*Z$119","v":0},{"$f":"投入係数!AA69*AA$119","v":0},{"$f":"投入係数!AB69*AB$119","v":0},{"$f":"投入係数!AC69*AC$119","v":0},{"$f":"投入係数!AD69*AD$119","v":0},{"$f":"投入係数!AE69*AE$119","v":0},{"$f":"投入係数!AF69*AF$119","v":0},{"$f":"投入係数!AG69*AG$119","v":0},{"$f":"投入係数!AH69*AH$119","v":0},{"$f":"投入係数!AI69*AI$119","v":0},{"$f":"投入係数!AJ69*AJ$119","v":0},{"$f":"投入係数!AK69*AK$119","v":0},{"$f":"投入係数!AL69*AL$119","v":0},{"$f":"投入係数!AM69*AM$119","v":0},{"$f":"投入係数!AN69*AN$119","v":0},{"$f":"投入係数!AO69*AO$119","v":0},{"$f":"投入係数!AP69*AP$119","v":0},{"$f":"投入係数!AQ69*AQ$119","v":0},{"$f":"投入係数!AR69*AR$119","v":0},{"$f":"投入係数!AS69*AS$119","v":0},{"$f":"投入係数!AT69*AT$119","v":0},{"$f":"投入係数!AU69*AU$119","v":0},{"$f":"投入係数!AV69*AV$119","v":0},{"$f":"投入係数!AW69*AW$119","v":0},{"$f":"投入係数!AX69*AX$119","v":0},{"$f":"投入係数!AY69*AY$119","v":0},{"$f":"投入係数!AZ69*AZ$119","v":0},{"$f":"投入係数!BA69*BA$119","v":0},{"$f":"投入係数!BB69*BB$119","v":0},{"$f":"投入係数!BC69*BC$119","v":0},{"$f":"投入係数!BD69*BD$119","v":0},{"$f":"投入係数!BE69*BE$119","v":0},{"$f":"投入係数!BF69*BF$119","v":0},{"$f":"投入係数!BG69*BG$119","v":0},{"$f":"投入係数!BH69*BH$119","v":0},{"$f":"投入係数!BI69*BI$119","v":0},{"$f":"投入係数!BJ69*BJ$119","v":0},{"$f":"投入係数!BK69*BK$119","v":0},{"$f":"投入係数!BL69*BL$119","v":0},{"$f":"投入係数!BM69*BM$119","v":0},{"$f":"投入係数!BN69*BN$119","v":0},{"$f":"投入係数!BO69*BO$119","v":0},{"$f":"投入係数!BP69*BP$119","v":0},{"$f":"投入係数!BQ69*BQ$119","v":0},{"$f":"投入係数!BR69*BR$119","v":0},{"$f":"投入係数!BS69*BS$119","v":0},{"$f":"投入係数!BT69*BT$119","v":0},{"$f":"投入係数!BU69*BU$119","v":0},{"$f":"投入係数!BV69*BV$119","v":0},{"$f":"投入係数!BW69*BW$119","v":0},{"$f":"投入係数!BX69*BX$119","v":0},{"$f":"投入係数!BY69*BY$119","v":0},{"$f":"投入係数!BZ69*BZ$119","v":0},{"$f":"投入係数!CA69*CA$119","v":0},{"$f":"投入係数!CB69*CB$119","v":0},{"$f":"投入係数!CC69*CC$119","v":0},{"$f":"投入係数!CD69*CD$119","v":0},{"$f":"投入係数!CE69*CE$119","v":0},{"$f":"投入係数!CF69*CF$119","v":0},{"$f":"投入係数!CG69*CG$119","v":0},{"$f":"投入係数!CH69*CH$119","v":0},{"$f":"投入係数!CI69*CI$119","v":0},{"$f":"投入係数!CJ69*CJ$119","v":0},{"$f":"投入係数!CK69*CK$119","v":0},{"$f":"投入係数!CL69*CL$119","v":0},{"$f":"投入係数!CM69*CM$119","v":0},{"$f":"投入係数!CN69*CN$119","v":0},{"$f":"投入係数!CO69*CO$119","v":0},{"$f":"投入係数!CP69*CP$119","v":0},{"$f":"投入係数!CQ69*CQ$119","v":0},{"$f":"投入係数!CR69*CR$119","v":0},{"$f":"投入係数!CS69*CS$119","v":0},{"$f":"投入係数!CT69*CT$119","v":0},{"$f":"投入係数!CU69*CU$119","v":0},{"$f":"投入係数!CV69*CV$119","v":0},{"$f":"投入係数!CW69*CW$119","v":0},{"$f":"投入係数!CX69*CX$119","v":0},{"$f":"投入係数!CY69*CY$119","v":0},{"$f":"投入係数!CZ69*CZ$119","v":0},{"$f":"投入係数!DA69*DA$119","v":0},{"$f":"投入係数!DB69*DB$119","v":0},{"$f":"投入係数!DC69*DC$119","v":0},{"$f":"投入係数!DD69*DD$119","v":0},{"$f":"投入係数!DE69*DE$119","v":0},{"$f":"投入係数!DF69*DF$119","v":0},{"$f":"投入係数!DG69*DG$119","v":0},{"$f":"投入係数!DH69*DH$119","v":0},0]
[null,"411","建築",{"$f":"投入係数!D70*D$119","v":0},{"$f":"投入係数!E70*E$119","v":0},{"$f":"投入係数!F70*F$119","v":0},{"$f":"投入係数!G70*G$119","v":0},{"$f":"投入係数!H70*H$119","v":0},{"$f":"投入係数!I70*I$119","v":0},{"$f":"投入係数!J70*J$119","v":0},{"$f":"投入係数!K70*K$119","v":0},{"$f":"投入係数!L70*L$119","v":0},{"$f":"投入係数!M70*M$119","v":0},{"$f":"投入係数!N70*N$119","v":0},{"$f":"投入係数!O70*O$119","v":0},{"$f":"投入係数!P70*P$119","v":0},{"$f":"投入係数!Q70*Q$119","v":0},{"$f":"投入係数!R70*R$119","v":0},{"$f":"投入係数!S70*S$119","v":0},{"$f":"投入係数!T70*T$119","v":0},{"$f":"投入係数!U70*U$119","v":0},{"$f":"投入係数!V70*V$119","v":0},{"$f":"投入係数!W70*W$119","v":0},{"$f":"投入係数!X70*X$119","v":0},{"$f":"投入係数!Y70*Y$119","v":0},{"$f":"投入係数!Z70*Z$119","v":0},{"$f":"投入係数!AA70*AA$119","v":0},{"$f":"投入係数!AB70*AB$119","v":0},{"$f":"投入係数!AC70*AC$119","v":0},{"$f":"投入係数!AD70*AD$119","v":0},{"$f":"投入係数!AE70*AE$119","v":0},{"$f":"投入係数!AF70*AF$119","v":0},{"$f":"投入係数!AG70*AG$119","v":0},{"$f":"投入係数!AH70*AH$119","v":0},{"$f":"投入係数!AI70*AI$119","v":0},{"$f":"投入係数!AJ70*AJ$119","v":0},{"$f":"投入係数!AK70*AK$119","v":0},{"$f":"投入係数!AL70*AL$119","v":0},{"$f":"投入係数!AM70*AM$119","v":0},{"$f":"投入係数!AN70*AN$119","v":0},{"$f":"投入係数!AO70*AO$119","v":0},{"$f":"投入係数!AP70*AP$119","v":0},{"$f":"投入係数!AQ70*AQ$119","v":0},{"$f":"投入係数!AR70*AR$119","v":0},{"$f":"投入係数!AS70*AS$119","v":0},{"$f":"投入係数!AT70*AT$119","v":0},{"$f":"投入係数!AU70*AU$119","v":0},{"$f":"投入係数!AV70*AV$119","v":0},{"$f":"投入係数!AW70*AW$119","v":0},{"$f":"投入係数!AX70*AX$119","v":0},{"$f":"投入係数!AY70*AY$119","v":0},{"$f":"投入係数!AZ70*AZ$119","v":0},{"$f":"投入係数!BA70*BA$119","v":0},{"$f":"投入係数!BB70*BB$119","v":0},{"$f":"投入係数!BC70*BC$119","v":0},{"$f":"投入係数!BD70*BD$119","v":0},{"$f":"投入係数!BE70*BE$119","v":0},{"$f":"投入係数!BF70*BF$119","v":0},{"$f":"投入係数!BG70*BG$119","v":0},{"$f":"投入係数!BH70*BH$119","v":0},{"$f":"投入係数!BI70*BI$119","v":0},{"$f":"投入係数!BJ70*BJ$119","v":0},{"$f":"投入係数!BK70*BK$119","v":0},{"$f":"投入係数!BL70*BL$119","v":0},{"$f":"投入係数!BM70*BM$119","v":0},{"$f":"投入係数!BN70*BN$119","v":0},{"$f":"投入係数!BO70*BO$119","v":0},{"$f":"投入係数!BP70*BP$119","v":0},{"$f":"投入係数!BQ70*BQ$119","v":0},{"$f":"投入係数!BR70*BR$119","v":0},{"$f":"投入係数!BS70*BS$119","v":0},{"$f":"投入係数!BT70*BT$119","v":0},{"$f":"投入係数!BU70*BU$119","v":0},{"$f":"投入係数!BV70*BV$119","v":0},{"$f":"投入係数!BW70*BW$119","v":0},{"$f":"投入係数!BX70*BX$119","v":0},{"$f":"投入係数!BY70*BY$119","v":0},{"$f":"投入係数!BZ70*BZ$119","v":0},{"$f":"投入係数!CA70*CA$119","v":0},{"$f":"投入係数!CB70*CB$119","v":0},{"$f":"投入係数!CC70*CC$119","v":0},{"$f":"投入係数!CD70*CD$119","v":0},{"$f":"投入係数!CE70*CE$119","v":0},{"$f":"投入係数!CF70*CF$119","v":0},{"$f":"投入係数!CG70*CG$119","v":0},{"$f":"投入係数!CH70*CH$119","v":0},{"$f":"投入係数!CI70*CI$119","v":0},{"$f":"投入係数!CJ70*CJ$119","v":0},{"$f":"投入係数!CK70*CK$119","v":0},{"$f":"投入係数!CL70*CL$119","v":0},{"$f":"投入係数!CM70*CM$119","v":0},{"$f":"投入係数!CN70*CN$119","v":0},{"$f":"投入係数!CO70*CO$119","v":0},{"$f":"投入係数!CP70*CP$119","v":0},{"$f":"投入係数!CQ70*CQ$119","v":0},{"$f":"投入係数!CR70*CR$119","v":0},{"$f":"投入係数!CS70*CS$119","v":0},{"$f":"投入係数!CT70*CT$119","v":0},{"$f":"投入係数!CU70*CU$119","v":0},{"$f":"投入係数!CV70*CV$119","v":0},{"$f":"投入係数!CW70*CW$119","v":0},{"$f":"投入係数!CX70*CX$119","v":0},{"$f":"投入係数!CY70*CY$119","v":0},{"$f":"投入係数!CZ70*CZ$119","v":0},{"$f":"投入係数!DA70*DA$119","v":0},{"$f":"投入係数!DB70*DB$119","v":0},{"$f":"投入係数!DC70*DC$119","v":0},{"$f":"投入係数!DD70*DD$119","v":0},{"$f":"投入係数!DE70*DE$119","v":0},{"$f":"投入係数!DF70*DF$119","v":0},{"$f":"投入係数!DG70*DG$119","v":0},{"$f":"投入係数!DH70*DH$119","v":0},0]
[null,"412","建設補修",{"$f":"投入係数!D71*D$119","v":0},{"$f":"投入係数!E71*E$119","v":0},{"$f":"投入係数!F71*F$119","v":0},{"$f":"投入係数!G71*G$119","v":0},{"$f":"投入係数!H71*H$119","v":0},{"$f":"投入係数!I71*I$119","v":0},{"$f":"投入係数!J71*J$119","v":0},{"$f":"投入係数!K71*K$119","v":0},{"$f":"投入係数!L71*L$119","v":0},{"$f":"投入係数!M71*M$119","v":0},{"$f":"投入係数!N71*N$119","v":0},{"$f":"投入係数!O71*O$119","v":0},{"$f":"投入係数!P71*P$119","v":0},{"$f":"投入係数!Q71*Q$119","v":0},{"$f":"投入係数!R71*R$119","v":0},{"$f":"投入係数!S71*S$119","v":0},{"$f":"投入係数!T71*T$119","v":0},{"$f":"投入係数!U71*U$119","v":0},{"$f":"投入係数!V71*V$119","v":0},{"$f":"投入係数!W71*W$119","v":0},{"$f":"投入係数!X71*X$119","v":0},{"$f":"投入係数!Y71*Y$119","v":0},{"$f":"投入係数!Z71*Z$119","v":0},{"$f":"投入係数!AA71*AA$119","v":0},{"$f":"投入係数!AB71*AB$119","v":0},{"$f":"投入係数!AC71*AC$119","v":0},{"$f":"投入係数!AD71*AD$119","v":0},{"$f":"投入係数!AE71*AE$119","v":0},{"$f":"投入係数!AF71*AF$119","v":0},{"$f":"投入係数!AG71*AG$119","v":0},{"$f":"投入係数!AH71*AH$119","v":0},{"$f":"投入係数!AI71*AI$119","v":0},{"$f":"投入係数!AJ71*AJ$119","v":0},{"$f":"投入係数!AK71*AK$119","v":0},{"$f":"投入係数!AL71*AL$119","v":0},{"$f":"投入係数!AM71*AM$119","v":0},{"$f":"投入係数!AN71*AN$119","v":0},{"$f":"投入係数!AO71*AO$119","v":0},{"$f":"投入係数!AP71*AP$119","v":0},{"$f":"投入係数!AQ71*AQ$119","v":0},{"$f":"投入係数!AR71*AR$119","v":0},{"$f":"投入係数!AS71*AS$119","v":0},{"$f":"投入係数!AT71*AT$119","v":0},{"$f":"投入係数!AU71*AU$119","v":0},{"$f":"投入係数!AV71*AV$119","v":0},{"$f":"投入係数!AW71*AW$119","v":0},{"$f":"投入係数!AX71*AX$119","v":0},{"$f":"投入係数!AY71*AY$119","v":0},{"$f":"投入係数!AZ71*AZ$119","v":0},{"$f":"投入係数!BA71*BA$119","v":0},{"$f":"投入係数!BB71*BB$119","v":0},{"$f":"投入係数!BC71*BC$119","v":0},{"$f":"投入係数!BD71*BD$119","v":0},{"$f":"投入係数!BE71*BE$119","v":0},{"$f":"投入係数!BF71*BF$119","v":0},{"$f":"投入係数!BG71*BG$119","v":0},{"$f":"投入係数!BH71*BH$119","v":0},{"$f":"投入係数!BI71*BI$119","v":0},{"$f":"投入係数!BJ71*BJ$119","v":0},{"$f":"投入係数!BK71*BK$119","v":0},{"$f":"投入係数!BL71*BL$119","v":0},{"$f":"投入係数!BM71*BM$119","v":0},{"$f":"投入係数!BN71*BN$119","v":0},{"$f":"投入係数!BO71*BO$119","v":0},{"$f":"投入係数!BP71*BP$119","v":0},{"$f":"投入係数!BQ71*BQ$119","v":0},{"$f":"投入係数!BR71*BR$119","v":0},{"$f":"投入係数!BS71*BS$119","v":0},{"$f":"投入係数!BT71*BT$119","v":0},{"$f":"投入係数!BU71*BU$119","v":0},{"$f":"投入係数!BV71*BV$119","v":0},{"$f":"投入係数!BW71*BW$119","v":0},{"$f":"投入係数!BX71*BX$119","v":0},{"$f":"投入係数!BY71*BY$119","v":0},{"$f":"投入係数!BZ71*BZ$119","v":0},{"$f":"投入係数!CA71*CA$119","v":0},{"$f":"投入係数!CB71*CB$119","v":0},{"$f":"投入係数!CC71*CC$119","v":0},{"$f":"投入係数!CD71*CD$119","v":0},{"$f":"投入係数!CE71*CE$119","v":0},{"$f":"投入係数!CF71*CF$119","v":0},{"$f":"投入係数!CG71*CG$119","v":0},{"$f":"投入係数!CH71*CH$119","v":0},{"$f":"投入係数!CI71*CI$119","v":0},{"$f":"投入係数!CJ71*CJ$119","v":0},{"$f":"投入係数!CK71*CK$119","v":0},{"$f":"投入係数!CL71*CL$119","v":0},{"$f":"投入係数!CM71*CM$119","v":0},{"$f":"投入係数!CN71*CN$119","v":0},{"$f":"投入係数!CO71*CO$119","v":0},{"$f":"投入係数!CP71*CP$119","v":0},{"$f":"投入係数!CQ71*CQ$119","v":0},{"$f":"投入係数!CR71*CR$119","v":0},{"$f":"投入係数!CS71*CS$119","v":0},{"$f":"投入係数!CT71*CT$119","v":0},{"$f":"投入係数!CU71*CU$119","v":0},{"$f":"投入係数!CV71*CV$119","v":0},{"$f":"投入係数!CW71*CW$119","v":0},{"$f":"投入係数!CX71*CX$119","v":0},{"$f":"投入係数!CY71*CY$119","v":0},{"$f":"投入係数!CZ71*CZ$119","v":0},{"$f":"投入係数!DA71*DA$119","v":0},{"$f":"投入係数!DB71*DB$119","v":0},{"$f":"投入係数!DC71*DC$119","v":0},{"$f":"投入係数!DD71*DD$119","v":0},{"$f":"投入係数!DE71*DE$119","v":0},{"$f":"投入係数!DF71*DF$119","v":0},{"$f":"投入係数!DG71*DG$119","v":0},{"$f":"投入係数!DH71*DH$119","v":0},0]
[null,"413","公共事業",{"$f":"投入係数!D72*D$119","v":0},{"$f":"投入係数!E72*E$119","v":0},{"$f":"投入係数!F72*F$119","v":0},{"$f":"投入係数!G72*G$119","v":0},{"$f":"投入係数!H72*H$119","v":0},{"$f":"投入係数!I72*I$119","v":0},{"$f":"投入係数!J72*J$119","v":0},{"$f":"投入係数!K72*K$119","v":0},{"$f":"投入係数!L72*L$119","v":0},{"$f":"投入係数!M72*M$119","v":0},{"$f":"投入係数!N72*N$119","v":0},{"$f":"投入係数!O72*O$119","v":0},{"$f":"投入係数!P72*P$119","v":0},{"$f":"投入係数!Q72*Q$119","v":0},{"$f":"投入係数!R72*R$119","v":0},{"$f":"投入係数!S72*S$119","v":0},{"$f":"投入係数!T72*T$119","v":0},{"$f":"投入係数!U72*U$119","v":0},{"$f":"投入係数!V72*V$119","v":0},{"$f":"投入係数!W72*W$119","v":0},{"$f":"投入係数!X72*X$119","v":0},{"$f":"投入係数!Y72*Y$119","v":0},{"$f":"投入係数!Z72*Z$119","v":0},{"$f":"投入係数!AA72*AA$119","v":0},{"$f":"投入係数!AB72*AB$119","v":0},{"$f":"投入係数!AC72*AC$119","v":0},{"$f":"投入係数!AD72*AD$119","v":0},{"$f":"投入係数!AE72*AE$119","v":0},{"$f":"投入係数!AF72*AF$119","v":0},{"$f":"投入係数!AG72*AG$119","v":0},{"$f":"投入係数!AH72*AH$119","v":0},{"$f":"投入係数!AI72*AI$119","v":0},{"$f":"投入係数!AJ72*AJ$119","v":0},{"$f":"投入係数!AK72*AK$119","v":0},{"$f":"投入係数!AL72*AL$119","v":0},{"$f":"投入係数!AM72*AM$119","v":0},{"$f":"投入係数!AN72*AN$119","v":0},{"$f":"投入係数!AO72*AO$119","v":0},{"$f":"投入係数!AP72*AP$119","v":0},{"$f":"投入係数!AQ72*AQ$119","v":0},{"$f":"投入係数!AR72*AR$119","v":0},{"$f":"投入係数!AS72*AS$119","v":0},{"$f":"投入係数!AT72*AT$119","v":0},{"$f":"投入係数!AU72*AU$119","v":0},{"$f":"投入係数!AV72*AV$119","v":0},{"$f":"投入係数!AW72*AW$119","v":0},{"$f":"投入係数!AX72*AX$119","v":0},{"$f":"投入係数!AY72*AY$119","v":0},{"$f":"投入係数!AZ72*AZ$119","v":0},{"$f":"投入係数!BA72*BA$119","v":0},{"$f":"投入係数!BB72*BB$119","v":0},{"$f":"投入係数!BC72*BC$119","v":0},{"$f":"投入係数!BD72*BD$119","v":0},{"$f":"投入係数!BE72*BE$119","v":0},{"$f":"投入係数!BF72*BF$119","v":0},{"$f":"投入係数!BG72*BG$119","v":0},{"$f":"投入係数!BH72*BH$119","v":0},{"$f":"投入係数!BI72*BI$119","v":0},{"$f":"投入係数!BJ72*BJ$119","v":0},{"$f":"投入係数!BK72*BK$119","v":0},{"$f":"投入係数!BL72*BL$119","v":0},{"$f":"投入係数!BM72*BM$119","v":0},{"$f":"投入係数!BN72*BN$119","v":0},{"$f":"投入係数!BO72*BO$119","v":0},{"$f":"投入係数!BP72*BP$119","v":0},{"$f":"投入係数!BQ72*BQ$119","v":0},{"$f":"投入係数!BR72*BR$119","v":0},{"$f":"投入係数!BS72*BS$119","v":0},{"$f":"投入係数!BT72*BT$119","v":0},{"$f":"投入係数!BU72*BU$119","v":0},{"$f":"投入係数!BV72*BV$119","v":0},{"$f":"投入係数!BW72*BW$119","v":0},{"$f":"投入係数!BX72*BX$119","v":0},{"$f":"投入係数!BY72*BY$119","v":0},{"$f":"投入係数!BZ72*BZ$119","v":0},{"$f":"投入係数!CA72*CA$119","v":0},{"$f":"投入係数!CB72*CB$119","v":0},{"$f":"投入係数!CC72*CC$119","v":0},{"$f":"投入係数!CD72*CD$119","v":0},{"$f":"投入係数!CE72*CE$119","v":0},{"$f":"投入係数!CF72*CF$119","v":0},{"$f":"投入係数!CG72*CG$119","v":0},{"$f":"投入係数!CH72*CH$119","v":0},{"$f":"投入係数!CI72*CI$119","v":0},{"$f":"投入係数!CJ72*CJ$119","v":0},{"$f":"投入係数!CK72*CK$119","v":0},{"$f":"投入係数!CL72*CL$119","v":0},{"$f":"投入係数!CM72*CM$119","v":0},{"$f":"投入係数!CN72*CN$119","v":0},{"$f":"投入係数!CO72*CO$119","v":0},{"$f":"投入係数!CP72*CP$119","v":0},{"$f":"投入係数!CQ72*CQ$119","v":0},{"$f":"投入係数!CR72*CR$119","v":0},{"$f":"投入係数!CS72*CS$119","v":0},{"$f":"投入係数!CT72*CT$119","v":0},{"$f":"投入係数!CU72*CU$119","v":0},{"$f":"投入係数!CV72*CV$119","v":0},{"$f":"投入係数!CW72*CW$119","v":0},{"$f":"投入係数!CX72*CX$119","v":0},{"$f":"投入係数!CY72*CY$119","v":0},{"$f":"投入係数!CZ72*CZ$119","v":0},{"$f":"投入係数!DA72*DA$119","v":0},{"$f":"投入係数!DB72*DB$119","v":0},{"$f":"投入係数!DC72*DC$119","v":0},{"$f":"投入係数!DD72*DD$119","v":0},{"$f":"投入係数!DE72*DE$119","v":0},{"$f":"投入係数!DF72*DF$119","v":0},{"$f":"投入係数!DG72*DG$119","v":0},{"$f":"投入係数!DH72*DH$119","v":0},0]
[null,"419","その他の土木建設",{"$f":"投入係数!D73*D$119","v":0},{"$f":"投入係数!E73*E$119","v":0},{"$f":"投入係数!F73*F$119","v":0},{"$f":"投入係数!G73*G$119","v":0},{"$f":"投入係数!H73*H$119","v":0},{"$f":"投入係数!I73*I$119","v":0},{"$f":"投入係数!J73*J$119","v":0},{"$f":"投入係数!K73*K$119","v":0},{"$f":"投入係数!L73*L$119","v":0},{"$f":"投入係数!M73*M$119","v":0},{"$f":"投入係数!N73*N$119","v":0},{"$f":"投入係数!O73*O$119","v":0},{"$f":"投入係数!P73*P$119","v":0},{"$f":"投入係数!Q73*Q$119","v":0},{"$f":"投入係数!R73*R$119","v":0},{"$f":"投入係数!S73*S$119","v":0},{"$f":"投入係数!T73*T$119","v":0},{"$f":"投入係数!U73*U$119","v":0},{"$f":"投入係数!V73*V$119","v":0},{"$f":"投入係数!W73*W$119","v":0},{"$f":"投入係数!X73*X$119","v":0},{"$f":"投入係数!Y73*Y$119","v":0},{"$f":"投入係数!Z73*Z$119","v":0},{"$f":"投入係数!AA73*AA$119","v":0},{"$f":"投入係数!AB73*AB$119","v":0},{"$f":"投入係数!AC73*AC$119","v":0},{"$f":"投入係数!AD73*AD$119","v":0},{"$f":"投入係数!AE73*AE$119","v":0},{"$f":"投入係数!AF73*AF$119","v":0},{"$f":"投入係数!AG73*AG$119","v":0},{"$f":"投入係数!AH73*AH$119","v":0},{"$f":"投入係数!AI73*AI$119","v":0},{"$f":"投入係数!AJ73*AJ$119","v":0},{"$f":"投入係数!AK73*AK$119","v":0},{"$f":"投入係数!AL73*AL$119","v":0},{"$f":"投入係数!AM73*AM$119","v":0},{"$f":"投入係数!AN73*AN$119","v":0},{"$f":"投入係数!AO73*AO$119","v":0},{"$f":"投入係数!AP73*AP$119","v":0},{"$f":"投入係数!AQ73*AQ$119","v":0},{"$f":"投入係数!AR73*AR$119","v":0},{"$f":"投入係数!AS73*AS$119","v":0},{"$f":"投入係数!AT73*AT$119","v":0},{"$f":"投入係数!AU73*AU$119","v":0},{"$f":"投入係数!AV73*AV$119","v":0},{"$f":"投入係数!AW73*AW$119","v":0},{"$f":"投入係数!AX73*AX$119","v":0},{"$f":"投入係数!AY73*AY$119","v":0},{"$f":"投入係数!AZ73*AZ$119","v":0},{"$f":"投入係数!BA73*BA$119","v":0},{"$f":"投入係数!BB73*BB$119","v":0},{"$f":"投入係数!BC73*BC$119","v":0},{"$f":"投入係数!BD73*BD$119","v":0},{"$f":"投入係数!BE73*BE$119","v":0},{"$f":"投入係数!BF73*BF$119","v":0},{"$f":"投入係数!BG73*BG$119","v":0},{"$f":"投入係数!BH73*BH$119","v":0},{"$f":"投入係数!BI73*BI$119","v":0},{"$f":"投入係数!BJ73*BJ$119","v":0},{"$f":"投入係数!BK73*BK$119","v":0},{"$f":"投入係数!BL73*BL$119","v":0},{"$f":"投入係数!BM73*BM$119","v":0},{"$f":"投入係数!BN73*BN$119","v":0},{"$f":"投入係数!BO73*BO$119","v":0},{"$f":"投入係数!BP73*BP$119","v":0},{"$f":"投入係数!BQ73*BQ$119","v":0},{"$f":"投入係数!BR73*BR$119","v":0},{"$f":"投入係数!BS73*BS$119","v":0},{"$f":"投入係数!BT73*BT$119","v":0},{"$f":"投入係数!BU73*BU$119","v":0},{"$f":"投入係数!BV73*BV$119","v":0},{"$f":"投入係数!BW73*BW$119","v":0},{"$f":"投入係数!BX73*BX$119","v":0},{"$f":"投入係数!BY73*BY$119","v":0},{"$f":"投入係数!BZ73*BZ$119","v":0},{"$f":"投入係数!CA73*CA$119","v":0},{"$f":"投入係数!CB73*CB$119","v":0},{"$f":"投入係数!CC73*CC$119","v":0},{"$f":"投入係数!CD73*CD$119","v":0},{"$f":"投入係数!CE73*CE$119","v":0},{"$f":"投入係数!CF73*CF$119","v":0},{"$f":"投入係数!CG73*CG$119","v":0},{"$f":"投入係数!CH73*CH$119","v":0},{"$f":"投入係数!CI73*CI$119","v":0},{"$f":"投入係数!CJ73*CJ$119","v":0},{"$f":"投入係数!CK73*CK$119","v":0},{"$f":"投入係数!CL73*CL$119","v":0},{"$f":"投入係数!CM73*CM$119","v":0},{"$f":"投入係数!CN73*CN$119","v":0},{"$f":"投入係数!CO73*CO$119","v":0},{"$f":"投入係数!CP73*CP$119","v":0},{"$f":"投入係数!CQ73*CQ$119","v":0},{"$f":"投入係数!CR73*CR$119","v":0},{"$f":"投入係数!CS73*CS$119","v":0},{"$f":"投入係数!CT73*CT$119","v":0},{"$f":"投入係数!CU73*CU$119","v":0},{"$f":"投入係数!CV73*CV$119","v":0},{"$f":"投入係数!CW73*CW$119","v":0},{"$f":"投入係数!CX73*CX$119","v":0},{"$f":"投入係数!CY73*CY$119","v":0},{"$f":"投入係数!CZ73*CZ$119","v":0},{"$f":"投入係数!DA73*DA$119","v":0},{"$f":"投入係数!DB73*DB$119","v":0},{"$f":"投入係数!DC73*DC$119","v":0},{"$f":"投入係数!DD73*DD$119","v":0},{"$f":"投入係数!DE73*DE$119","v":0},{"$f":"投入係数!DF73*DF$119","v":0},{"$f":"投入係数!DG73*DG$119","v":0},{"$f":"投入係数!DH73*DH$119","v":0},0]
[null,"461","電気",{"$f":"投入係数!D74*D$119","v":0},{"$f":"投入係数!E74*E$119","v":0},{"$f":"投入係数!F74*F$119","v":0},{"$f":"投入係数!G74*G$119","v":0},{"$f":"投入係数!H74*H$119","v":0},{"$f":"投入係数!I74*I$119","v":0},{"$f":"投入係数!J74*J$119","v":0},{"$f":"投入係数!K74*K$119","v":0},{"$f":"投入係数!L74*L$119","v":0},{"$f":"投入係数!M74*M$119","v":0},{"$f":"投入係数!N74*N$119","v":0},{"$f":"投入係数!O74*O$119","v":0},{"$f":"投入係数!P74*P$119","v":0},{"$f":"投入係数!Q74*Q$119","v":0},{"$f":"投入係数!R74*R$119","v":0},{"$f":"投入係数!S74*S$119","v":0},{"$f":"投入係数!T74*T$119","v":0},{"$f":"投入係数!U74*U$119","v":0},{"$f":"投入係数!V74*V$119","v":0},{"$f":"投入係数!W74*W$119","v":0},{"$f":"投入係数!X74*X$119","v":0},{"$f":"投入係数!Y74*Y$119","v":0},{"$f":"投入係数!Z74*Z$119","v":0},{"$f":"投入係数!AA74*AA$119","v":0},{"$f":"投入係数!AB74*AB$119","v":0},{"$f":"投入係数!AC74*AC$119","v":0},{"$f":"投入係数!AD74*AD$119","v":0},{"$f":"投入係数!AE74*AE$119","v":0},{"$f":"投入係数!AF74*AF$119","v":0},{"$f":"投入係数!AG74*AG$119","v":0},{"$f":"投入係数!AH74*AH$119","v":0},{"$f":"投入係数!AI74*AI$119","v":0},{"$f":"投入係数!AJ74*AJ$119","v":0},{"$f":"投入係数!AK74*AK$119","v":0},{"$f":"投入係数!AL74*AL$119","v":0},{"$f":"投入係数!AM74*AM$119","v":0},{"$f":"投入係数!AN74*AN$119","v":0},{"$f":"投入係数!AO74*AO$119","v":0},{"$f":"投入係数!AP74*AP$119","v":0},{"$f":"投入係数!AQ74*AQ$119","v":0},{"$f":"投入係数!AR74*AR$119","v":0},{"$f":"投入係数!AS74*AS$119","v":0},{"$f":"投入係数!AT74*AT$119","v":0},{"$f":"投入係数!AU74*AU$119","v":0},{"$f":"投入係数!AV74*AV$119","v":0},{"$f":"投入係数!AW74*AW$119","v":0},{"$f":"投入係数!AX74*AX$119","v":0},{"$f":"投入係数!AY74*AY$119","v":0},{"$f":"投入係数!AZ74*AZ$119","v":0},{"$f":"投入係数!BA74*BA$119","v":0},{"$f":"投入係数!BB74*BB$119","v":0},{"$f":"投入係数!BC74*BC$119","v":0},{"$f":"投入係数!BD74*BD$119","v":0},{"$f":"投入係数!BE74*BE$119","v":0},{"$f":"投入係数!BF74*BF$119","v":0},{"$f":"投入係数!BG74*BG$119","v":0},{"$f":"投入係数!BH74*BH$119","v":0},{"$f":"投入係数!BI74*BI$119","v":0},{"$f":"投入係数!BJ74*BJ$119","v":0},{"$f":"投入係数!BK74*BK$119","v":0},{"$f":"投入係数!BL74*BL$119","v":0},{"$f":"投入係数!BM74*BM$119","v":0},{"$f":"投入係数!BN74*BN$119","v":0},{"$f":"投入係数!BO74*BO$119","v":0},{"$f":"投入係数!BP74*BP$119","v":0},{"$f":"投入係数!BQ74*BQ$119","v":0},{"$f":"投入係数!BR74*BR$119","v":0},{"$f":"投入係数!BS74*BS$119","v":0},{"$f":"投入係数!BT74*BT$119","v":0},{"$f":"投入係数!BU74*BU$119","v":0},{"$f":"投入係数!BV74*BV$119","v":0},{"$f":"投入係数!BW74*BW$119","v":0},{"$f":"投入係数!BX74*BX$119","v":0},{"$f":"投入係数!BY74*BY$119","v":0},{"$f":"投入係数!BZ74*BZ$119","v":0},{"$f":"投入係数!CA74*CA$119","v":0},{"$f":"投入係数!CB74*CB$119","v":0},{"$f":"投入係数!CC74*CC$119","v":0},{"$f":"投入係数!CD74*CD$119","v":0},{"$f":"投入係数!CE74*CE$119","v":0},{"$f":"投入係数!CF74*CF$119","v":0},{"$f":"投入係数!CG74*CG$119","v":0},{"$f":"投入係数!CH74*CH$119","v":0},{"$f":"投入係数!CI74*CI$119","v":0},{"$f":"投入係数!CJ74*CJ$119","v":0},{"$f":"投入係数!CK74*CK$119","v":0},{"$f":"投入係数!CL74*CL$119","v":0},{"$f":"投入係数!CM74*CM$119","v":0},{"$f":"投入係数!CN74*CN$119","v":0},{"$f":"投入係数!CO74*CO$119","v":0},{"$f":"投入係数!CP74*CP$119","v":0},{"$f":"投入係数!CQ74*CQ$119","v":0},{"$f":"投入係数!CR74*CR$119","v":0},{"$f":"投入係数!CS74*CS$119","v":0},{"$f":"投入係数!CT74*CT$119","v":0},{"$f":"投入係数!CU74*CU$119","v":0},{"$f":"投入係数!CV74*CV$119","v":0},{"$f":"投入係数!CW74*CW$119","v":0},{"$f":"投入係数!CX74*CX$119","v":0},{"$f":"投入係数!CY74*CY$119","v":0},{"$f":"投入係数!CZ74*CZ$119","v":0},{"$f":"投入係数!DA74*DA$119","v":0},{"$f":"投入係数!DB74*DB$119","v":0},{"$f":"投入係数!DC74*DC$119","v":0},{"$f":"投入係数!DD74*DD$119","v":0},{"$f":"投入係数!DE74*DE$119","v":0},{"$f":"投入係数!DF74*DF$119","v":0},{"$f":"投入係数!DG74*DG$119","v":0},{"$f":"投入係数!DH74*DH$119","v":0},0]
[null,"462","ガス・熱供給",{"$f":"投入係数!D75*D$119","v":0},{"$f":"投入係数!E75*E$119","v":0},{"$f":"投入係数!F75*F$119","v":0},{"$f":"投入係数!G75*G$119","v":0},{"$f":"投入係数!H75*H$119","v":0},{"$f":"投入係数!I75*I$119","v":0},{"$f":"投入係数!J75*J$119","v":0},{"$f":"投入係数!K75*K$119","v":0},{"$f":"投入係数!L75*L$119","v":0},{"$f":"投入係数!M75*M$119","v":0},{"$f":"投入係数!N75*N$119","v":0},{"$f":"投入係数!O75*O$119","v":0},{"$f":"投入係数!P75*P$119","v":0},{"$f":"投入係数!Q75*Q$119","v":0},{"$f":"投入係数!R75*R$119","v":0},{"$f":"投入係数!S75*S$119","v":0},{"$f":"投入係数!T75*T$119","v":0},{"$f":"投入係数!U75*U$119","v":0},{"$f":"投入係数!V75*V$119","v":0},{"$f":"投入係数!W75*W$119","v":0},{"$f":"投入係数!X75*X$119","v":0},{"$f":"投入係数!Y75*Y$119","v":0},{"$f":"投入係数!Z75*Z$119","v":0},{"$f":"投入係数!AA75*AA$119","v":0},{"$f":"投入係数!AB75*AB$119","v":0},{"$f":"投入係数!AC75*AC$119","v":0},{"$f":"投入係数!AD75*AD$119","v":0},{"$f":"投入係数!AE75*AE$119","v":0},{"$f":"投入係数!AF75*AF$119","v":0},{"$f":"投入係数!AG75*AG$119","v":0},{"$f":"投入係数!AH75*AH$119","v":0},{"$f":"投入係数!AI75*AI$119","v":0},{"$f":"投入係数!AJ75*AJ$119","v":0},{"$f":"投入係数!AK75*AK$119","v":0},{"$f":"投入係数!AL75*AL$119","v":0},{"$f":"投入係数!AM75*AM$119","v":0},{"$f":"投入係数!AN75*AN$119","v":0},{"$f":"投入係数!AO75*AO$119","v":0},{"$f":"投入係数!AP75*AP$119","v":0},{"$f":"投入係数!AQ75*AQ$119","v":0},{"$f":"投入係数!AR75*AR$119","v":0},{"$f":"投入係数!AS75*AS$119","v":0},{"$f":"投入係数!AT75*AT$119","v":0},{"$f":"投入係数!AU75*AU$119","v":0},{"$f":"投入係数!AV75*AV$119","v":0},{"$f":"投入係数!AW75*AW$119","v":0},{"$f":"投入係数!AX75*AX$119","v":0},{"$f":"投入係数!AY75*AY$119","v":0},{"$f":"投入係数!AZ75*AZ$119","v":0},{"$f":"投入係数!BA75*BA$119","v":0},{"$f":"投入係数!BB75*BB$119","v":0},{"$f":"投入係数!BC75*BC$119","v":0},{"$f":"投入係数!BD75*BD$119","v":0},{"$f":"投入係数!BE75*BE$119","v":0},{"$f":"投入係数!BF75*BF$119","v":0},{"$f":"投入係数!BG75*BG$119","v":0},{"$f":"投入係数!BH75*BH$119","v":0},{"$f":"投入係数!BI75*BI$119","v":0},{"$f":"投入係数!BJ75*BJ$119","v":0},{"$f":"投入係数!BK75*BK$119","v":0},{"$f":"投入係数!BL75*BL$119","v":0},{"$f":"投入係数!BM75*BM$119","v":0},{"$f":"投入係数!BN75*BN$119","v":0},{"$f":"投入係数!BO75*BO$119","v":0},{"$f":"投入係数!BP75*BP$119","v":0},{"$f":"投入係数!BQ75*BQ$119","v":0},{"$f":"投入係数!BR75*BR$119","v":0},{"$f":"投入係数!BS75*BS$119","v":0},{"$f":"投入係数!BT75*BT$119","v":0},{"$f":"投入係数!BU75*BU$119","v":0},{"$f":"投入係数!BV75*BV$119","v":0},{"$f":"投入係数!BW75*BW$119","v":0},{"$f":"投入係数!BX75*BX$119","v":0},{"$f":"投入係数!BY75*BY$119","v":0},{"$f":"投入係数!BZ75*BZ$119","v":0},{"$f":"投入係数!CA75*CA$119","v":0},{"$f":"投入係数!CB75*CB$119","v":0},{"$f":"投入係数!CC75*CC$119","v":0},{"$f":"投入係数!CD75*CD$119","v":0},{"$f":"投入係数!CE75*CE$119","v":0},{"$f":"投入係数!CF75*CF$119","v":0},{"$f":"投入係数!CG75*CG$119","v":0},{"$f":"投入係数!CH75*CH$119","v":0},{"$f":"投入係数!CI75*CI$119","v":0},{"$f":"投入係数!CJ75*CJ$119","v":0},{"$f":"投入係数!CK75*CK$119","v":0},{"$f":"投入係数!CL75*CL$119","v":0},{"$f":"投入係数!CM75*CM$119","v":0},{"$f":"投入係数!CN75*CN$119","v":0},{"$f":"投入係数!CO75*CO$119","v":0},{"$f":"投入係数!CP75*CP$119","v":0},{"$f":"投入係数!CQ75*CQ$119","v":0},{"$f":"投入係数!CR75*CR$119","v":0},{"$f":"投入係数!CS75*CS$119","v":0},{"$f":"投入係数!CT75*CT$119","v":0},{"$f":"投入係数!CU75*CU$119","v":0},{"$f":"投入係数!CV75*CV$119","v":0},{"$f":"投入係数!CW75*CW$119","v":0},{"$f":"投入係数!CX75*CX$119","v":0},{"$f":"投入係数!CY75*CY$119","v":0},{"$f":"投入係数!CZ75*CZ$119","v":0},{"$f":"投入係数!DA75*DA$119","v":0},{"$f":"投入係数!DB75*DB$119","v":0},{"$f":"投入係数!DC75*DC$119","v":0},{"$f":"投入係数!DD75*DD$119","v":0},{"$f":"投入係数!DE75*DE$119","v":0},{"$f":"投入係数!DF75*DF$119","v":0},{"$f":"投入係数!DG75*DG$119","v":0},{"$f":"投入係数!DH75*DH$119","v":0},0]
[null,"471","水道",{"$f":"投入係数!D76*D$119","v":0},{"$f":"投入係数!E76*E$119","v":0},{"$f":"投入係数!F76*F$119","v":0},{"$f":"投入係数!G76*G$119","v":0},{"$f":"投入係数!H76*H$119","v":0},{"$f":"投入係数!I76*I$119","v":0},{"$f":"投入係数!J76*J$119","v":0},{"$f":"投入係数!K76*K$119","v":0},{"$f":"投入係数!L76*L$119","v":0},{"$f":"投入係数!M76*M$119","v":0},{"$f":"投入係数!N76*N$119","v":0},{"$f":"投入係数!O76*O$119","v":0},{"$f":"投入係数!P76*P$119","v":0},{"$f":"投入係数!Q76*Q$119","v":0},{"$f":"投入係数!R76*R$119","v":0},{"$f":"投入係数!S76*S$119","v":0},{"$f":"投入係数!T76*T$119","v":0},{"$f":"投入係数!U76*U$119","v":0},{"$f":"投入係数!V76*V$119","v":0},{"$f":"投入係数!W76*W$119","v":0},{"$f":"投入係数!X76*X$119","v":0},{"$f":"投入係数!Y76*Y$119","v":0},{"$f":"投入係数!Z76*Z$119","v":0},{"$f":"投入係数!AA76*AA$119","v":0},{"$f":"投入係数!AB76*AB$119","v":0},{"$f":"投入係数!AC76*AC$119","v":0},{"$f":"投入係数!AD76*AD$119","v":0},{"$f":"投入係数!AE76*AE$119","v":0},{"$f":"投入係数!AF76*AF$119","v":0},{"$f":"投入係数!AG76*AG$119","v":0},{"$f":"投入係数!AH76*AH$119","v":0},{"$f":"投入係数!AI76*AI$119","v":0},{"$f":"投入係数!AJ76*AJ$119","v":0},{"$f":"投入係数!AK76*AK$119","v":0},{"$f":"投入係数!AL76*AL$119","v":0},{"$f":"投入係数!AM76*AM$119","v":0},{"$f":"投入係数!AN76*AN$119","v":0},{"$f":"投入係数!AO76*AO$119","v":0},{"$f":"投入係数!AP76*AP$119","v":0},{"$f":"投入係数!AQ76*AQ$119","v":0},{"$f":"投入係数!AR76*AR$119","v":0},{"$f":"投入係数!AS76*AS$119","v":0},{"$f":"投入係数!AT76*AT$119","v":0},{"$f":"投入係数!AU76*AU$119","v":0},{"$f":"投入係数!AV76*AV$119","v":0},{"$f":"投入係数!AW76*AW$119","v":0},{"$f":"投入係数!AX76*AX$119","v":0},{"$f":"投入係数!AY76*AY$119","v":0},{"$f":"投入係数!AZ76*AZ$119","v":0},{"$f":"投入係数!BA76*BA$119","v":0},{"$f":"投入係数!BB76*BB$119","v":0},{"$f":"投入係数!BC76*BC$119","v":0},{"$f":"投入係数!BD76*BD$119","v":0},{"$f":"投入係数!BE76*BE$119","v":0},{"$f":"投入係数!BF76*BF$119","v":0},{"$f":"投入係数!BG76*BG$119","v":0},{"$f":"投入係数!BH76*BH$119","v":0},{"$f":"投入係数!BI76*BI$119","v":0},{"$f":"投入係数!BJ76*BJ$119","v":0},{"$f":"投入係数!BK76*BK$119","v":0},{"$f":"投入係数!BL76*BL$119","v":0},{"$f":"投入係数!BM76*BM$119","v":0},{"$f":"投入係数!BN76*BN$119","v":0},{"$f":"投入係数!BO76*BO$119","v":0},{"$f":"投入係数!BP76*BP$119","v":0},{"$f":"投入係数!BQ76*BQ$119","v":0},{"$f":"投入係数!BR76*BR$119","v":0},{"$f":"投入係数!BS76*BS$119","v":0},{"$f":"投入係数!BT76*BT$119","v":0},{"$f":"投入係数!BU76*BU$119","v":0},{"$f":"投入係数!BV76*BV$119","v":0},{"$f":"投入係数!BW76*BW$119","v":0},{"$f":"投入係数!BX76*BX$119","v":0},{"$f":"投入係数!BY76*BY$119","v":0},{"$f":"投入係数!BZ76*BZ$119","v":0},{"$f":"投入係数!CA76*CA$119","v":0},{"$f":"投入係数!CB76*CB$119","v":0},{"$f":"投入係数!CC76*CC$119","v":0},{"$f":"投入係数!CD76*CD$119","v":0},{"$f":"投入係数!CE76*CE$119","v":0},{"$f":"投入係数!CF76*CF$119","v":0},{"$f":"投入係数!CG76*CG$119","v":0},{"$f":"投入係数!CH76*CH$119","v":0},{"$f":"投入係数!CI76*CI$119","v":0},{"$f":"投入係数!CJ76*CJ$119","v":0},{"$f":"投入係数!CK76*CK$119","v":0},{"$f":"投入係数!CL76*CL$119","v":0},{"$f":"投入係数!CM76*CM$119","v":0},{"$f":"投入係数!CN76*CN$119","v":0},{"$f":"投入係数!CO76*CO$119","v":0},{"$f":"投入係数!CP76*CP$119","v":0},{"$f":"投入係数!CQ76*CQ$119","v":0},{"$f":"投入係数!CR76*CR$119","v":0},{"$f":"投入係数!CS76*CS$119","v":0},{"$f":"投入係数!CT76*CT$119","v":0},{"$f":"投入係数!CU76*CU$119","v":0},{"$f":"投入係数!CV76*CV$119","v":0},{"$f":"投入係数!CW76*CW$119","v":0},{"$f":"投入係数!CX76*CX$119","v":0},{"$f":"投入係数!CY76*CY$119","v":0},{"$f":"投入係数!CZ76*CZ$119","v":0},{"$f":"投入係数!DA76*DA$119","v":0},{"$f":"投入係数!DB76*DB$119","v":0},{"$f":"投入係数!DC76*DC$119","v":0},{"$f":"投入係数!DD76*DD$119","v":0},{"$f":"投入係数!DE76*DE$119","v":0},{"$f":"投入係数!DF76*DF$119","v":0},{"$f":"投入係数!DG76*DG$119","v":0},{"$f":"投入係数!DH76*DH$119","v":0},0]
[null,"481","廃棄物処理",{"$f":"投入係数!D77*D$119","v":0},{"$f":"投入係数!E77*E$119","v":0},{"$f":"投入係数!F77*F$119","v":0},{"$f":"投入係数!G77*G$119","v":0},{"$f":"投入係数!H77*H$119","v":0},{"$f":"投入係数!I77*I$119","v":0},{"$f":"投入係数!J77*J$119","v":0},{"$f":"投入係数!K77*K$119","v":0},{"$f":"投入係数!L77*L$119","v":0},{"$f":"投入係数!M77*M$119","v":0},{"$f":"投入係数!N77*N$119","v":0},{"$f":"投入係数!O77*O$119","v":0},{"$f":"投入係数!P77*P$119","v":0},{"$f":"投入係数!Q77*Q$119","v":0},{"$f":"投入係数!R77*R$119","v":0},{"$f":"投入係数!S77*S$119","v":0},{"$f":"投入係数!T77*T$119","v":0},{"$f":"投入係数!U77*U$119","v":0},{"$f":"投入係数!V77*V$119","v":0},{"$f":"投入係数!W77*W$119","v":0},{"$f":"投入係数!X77*X$119","v":0},{"$f":"投入係数!Y77*Y$119","v":0},{"$f":"投入係数!Z77*Z$119","v":0},{"$f":"投入係数!AA77*AA$119","v":0},{"$f":"投入係数!AB77*AB$119","v":0},{"$f":"投入係数!AC77*AC$119","v":0},{"$f":"投入係数!AD77*AD$119","v":0},{"$f":"投入係数!AE77*AE$119","v":0},{"$f":"投入係数!AF77*AF$119","v":0},{"$f":"投入係数!AG77*AG$119","v":0},{"$f":"投入係数!AH77*AH$119","v":0},{"$f":"投入係数!AI77*AI$119","v":0},{"$f":"投入係数!AJ77*AJ$119","v":0},{"$f":"投入係数!AK77*AK$119","v":0},{"$f":"投入係数!AL77*AL$119","v":0},{"$f":"投入係数!AM77*AM$119","v":0},{"$f":"投入係数!AN77*AN$119","v":0},{"$f":"投入係数!AO77*AO$119","v":0},{"$f":"投入係数!AP77*AP$119","v":0},{"$f":"投入係数!AQ77*AQ$119","v":0},{"$f":"投入係数!AR77*AR$119","v":0},{"$f":"投入係数!AS77*AS$119","v":0},{"$f":"投入係数!AT77*AT$119","v":0},{"$f":"投入係数!AU77*AU$119","v":0},{"$f":"投入係数!AV77*AV$119","v":0},{"$f":"投入係数!AW77*AW$119","v":0},{"$f":"投入係数!AX77*AX$119","v":0},{"$f":"投入係数!AY77*AY$119","v":0},{"$f":"投入係数!AZ77*AZ$119","v":0},{"$f":"投入係数!BA77*BA$119","v":0},{"$f":"投入係数!BB77*BB$119","v":0},{"$f":"投入係数!BC77*BC$119","v":0},{"$f":"投入係数!BD77*BD$119","v":0},{"$f":"投入係数!BE77*BE$119","v":0},{"$f":"投入係数!BF77*BF$119","v":0},{"$f":"投入係数!BG77*BG$119","v":0},{"$f":"投入係数!BH77*BH$119","v":0},{"$f":"投入係数!BI77*BI$119","v":0},{"$f":"投入係数!BJ77*BJ$119","v":0},{"$f":"投入係数!BK77*BK$119","v":0},{"$f":"投入係数!BL77*BL$119","v":0},{"$f":"投入係数!BM77*BM$119","v":0},{"$f":"投入係数!BN77*BN$119","v":0},{"$f":"投入係数!BO77*BO$119","v":0},{"$f":"投入係数!BP77*BP$119","v":0},{"$f":"投入係数!BQ77*BQ$119","v":0},{"$f":"投入係数!BR77*BR$119","v":0},{"$f":"投入係数!BS77*BS$119","v":0},{"$f":"投入係数!BT77*BT$119","v":0},{"$f":"投入係数!BU77*BU$119","v":0},{"$f":"投入係数!BV77*BV$119","v":0},{"$f":"投入係数!BW77*BW$119","v":0},{"$f":"投入係数!BX77*BX$119","v":0},{"$f":"投入係数!BY77*BY$119","v":0},{"$f":"投入係数!BZ77*BZ$119","v":0},{"$f":"投入係数!CA77*CA$119","v":0},{"$f":"投入係数!CB77*CB$119","v":0},{"$f":"投入係数!CC77*CC$119","v":0},{"$f":"投入係数!CD77*CD$119","v":0},{"$f":"投入係数!CE77*CE$119","v":0},{"$f":"投入係数!CF77*CF$119","v":0},{"$f":"投入係数!CG77*CG$119","v":0},{"$f":"投入係数!CH77*CH$119","v":0},{"$f":"投入係数!CI77*CI$119","v":0},{"$f":"投入係数!CJ77*CJ$119","v":0},{"$f":"投入係数!CK77*CK$119","v":0},{"$f":"投入係数!CL77*CL$119","v":0},{"$f":"投入係数!CM77*CM$119","v":0},{"$f":"投入係数!CN77*CN$119","v":0},{"$f":"投入係数!CO77*CO$119","v":0},{"$f":"投入係数!CP77*CP$119","v":0},{"$f":"投入係数!CQ77*CQ$119","v":0},{"$f":"投入係数!CR77*CR$119","v":0},{"$f":"投入係数!CS77*CS$119","v":0},{"$f":"投入係数!CT77*CT$119","v":0},{"$f":"投入係数!CU77*CU$119","v":0},{"$f":"投入係数!CV77*CV$119","v":0},{"$f":"投入係数!CW77*CW$119","v":0},{"$f":"投入係数!CX77*CX$119","v":0},{"$f":"投入係数!CY77*CY$119","v":0},{"$f":"投入係数!CZ77*CZ$119","v":0},{"$f":"投入係数!DA77*DA$119","v":0},{"$f":"投入係数!DB77*DB$119","v":0},{"$f":"投入係数!DC77*DC$119","v":0},{"$f":"投入係数!DD77*DD$119","v":0},{"$f":"投入係数!DE77*DE$119","v":0},{"$f":"投入係数!DF77*DF$119","v":0},{"$f":"投入係数!DG77*DG$119","v":0},{"$f":"投入係数!DH77*DH$119","v":0},0]
[null,"511","商業",{"$f":"投入係数!D78*D$119","v":0},{"$f":"投入係数!E78*E$119","v":0},{"$f":"投入係数!F78*F$119","v":0},{"$f":"投入係数!G78*G$119","v":0},{"$f":"投入係数!H78*H$119","v":0},{"$f":"投入係数!I78*I$119","v":0},{"$f":"投入係数!J78*J$119","v":0},{"$f":"投入係数!K78*K$119","v":0},{"$f":"投入係数!L78*L$119","v":0},{"$f":"投入係数!M78*M$119","v":0},{"$f":"投入係数!N78*N$119","v":0},{"$f":"投入係数!O78*O$119","v":0},{"$f":"投入係数!P78*P$119","v":0},{"$f":"投入係数!Q78*Q$119","v":0},{"$f":"投入係数!R78*R$119","v":0},{"$f":"投入係数!S78*S$119","v":0},{"$f":"投入係数!T78*T$119","v":0},{"$f":"投入係数!U78*U$119","v":0},{"$f":"投入係数!V78*V$119","v":0},{"$f":"投入係数!W78*W$119","v":0},{"$f":"投入係数!X78*X$119","v":0},{"$f":"投入係数!Y78*Y$119","v":0},{"$f":"投入係数!Z78*Z$119","v":0},{"$f":"投入係数!AA78*AA$119","v":0},{"$f":"投入係数!AB78*AB$119","v":0},{"$f":"投入係数!AC78*AC$119","v":0},{"$f":"投入係数!AD78*AD$119","v":0},{"$f":"投入係数!AE78*AE$119","v":0},{"$f":"投入係数!AF78*AF$119","v":0},{"$f":"投入係数!AG78*AG$119","v":0},{"$f":"投入係数!AH78*AH$119","v":0},{"$f":"投入係数!AI78*AI$119","v":0},{"$f":"投入係数!AJ78*AJ$119","v":0},{"$f":"投入係数!AK78*AK$119","v":0},{"$f":"投入係数!AL78*AL$119","v":0},{"$f":"投入係数!AM78*AM$119","v":0},{"$f":"投入係数!AN78*AN$119","v":0},{"$f":"投入係数!AO78*AO$119","v":0},{"$f":"投入係数!AP78*AP$119","v":0},{"$f":"投入係数!AQ78*AQ$119","v":0},{"$f":"投入係数!AR78*AR$119","v":0},{"$f":"投入係数!AS78*AS$119","v":0},{"$f":"投入係数!AT78*AT$119","v":0},{"$f":"投入係数!AU78*AU$119","v":0},{"$f":"投入係数!AV78*AV$119","v":0},{"$f":"投入係数!AW78*AW$119","v":0},{"$f":"投入係数!AX78*AX$119","v":0},{"$f":"投入係数!AY78*AY$119","v":0},{"$f":"投入係数!AZ78*AZ$119","v":0},{"$f":"投入係数!BA78*BA$119","v":0},{"$f":"投入係数!BB78*BB$119","v":0},{"$f":"投入係数!BC78*BC$119","v":0},{"$f":"投入係数!BD78*BD$119","v":0},{"$f":"投入係数!BE78*BE$119","v":0},{"$f":"投入係数!BF78*BF$119","v":0},{"$f":"投入係数!BG78*BG$119","v":0},{"$f":"投入係数!BH78*BH$119","v":0},{"$f":"投入係数!BI78*BI$119","v":0},{"$f":"投入係数!BJ78*BJ$119","v":0},{"$f":"投入係数!BK78*BK$119","v":0},{"$f":"投入係数!BL78*BL$119","v":0},{"$f":"投入係数!BM78*BM$119","v":0},{"$f":"投入係数!BN78*BN$119","v":0},{"$f":"投入係数!BO78*BO$119","v":0},{"$f":"投入係数!BP78*BP$119","v":0},{"$f":"投入係数!BQ78*BQ$119","v":0},{"$f":"投入係数!BR78*BR$119","v":0},{"$f":"投入係数!BS78*BS$119","v":0},{"$f":"投入係数!BT78*BT$119","v":0},{"$f":"投入係数!BU78*BU$119","v":0},{"$f":"投入係数!BV78*BV$119","v":0},{"$f":"投入係数!BW78*BW$119","v":0},{"$f":"投入係数!BX78*BX$119","v":0},{"$f":"投入係数!BY78*BY$119","v":0},{"$f":"投入係数!BZ78*BZ$119","v":0},{"$f":"投入係数!CA78*CA$119","v":0},{"$f":"投入係数!CB78*CB$119","v":0},{"$f":"投入係数!CC78*CC$119","v":0},{"$f":"投入係数!CD78*CD$119","v":0},{"$f":"投入係数!CE78*CE$119","v":0},{"$f":"投入係数!CF78*CF$119","v":0},{"$f":"投入係数!CG78*CG$119","v":0},{"$f":"投入係数!CH78*CH$119","v":0},{"$f":"投入係数!CI78*CI$119","v":0},{"$f":"投入係数!CJ78*CJ$119","v":0},{"$f":"投入係数!CK78*CK$119","v":0},{"$f":"投入係数!CL78*CL$119","v":0},{"$f":"投入係数!CM78*CM$119","v":0},{"$f":"投入係数!CN78*CN$119","v":0},{"$f":"投入係数!CO78*CO$119","v":0},{"$f":"投入係数!CP78*CP$119","v":0},{"$f":"投入係数!CQ78*CQ$119","v":0},{"$f":"投入係数!CR78*CR$119","v":0},{"$f":"投入係数!CS78*CS$119","v":0},{"$f":"投入係数!CT78*CT$119","v":0},{"$f":"投入係数!CU78*CU$119","v":0},{"$f":"投入係数!CV78*CV$119","v":0},{"$f":"投入係数!CW78*CW$119","v":0},{"$f":"投入係数!CX78*CX$119","v":0},{"$f":"投入係数!CY78*CY$119","v":0},{"$f":"投入係数!CZ78*CZ$119","v":0},{"$f":"投入係数!DA78*DA$119","v":0},{"$f":"投入係数!DB78*DB$119","v":0},{"$f":"投入係数!DC78*DC$119","v":0},{"$f":"投入係数!DD78*DD$119","v":0},{"$f":"投入係数!DE78*DE$119","v":0},{"$f":"投入係数!DF78*DF$119","v":0},{"$f":"投入係数!DG78*DG$119","v":0},{"$f":"投入係数!DH78*DH$119","v":0},0]
[null,"531","金融・保険",{"$f":"投入係数!D79*D$119","v":0},{"$f":"投入係数!E79*E$119","v":0},{"$f":"投入係数!F79*F$119","v":0},{"$f":"投入係数!G79*G$119","v":0},{"$f":"投入係数!H79*H$119","v":0},{"$f":"投入係数!I79*I$119","v":0},{"$f":"投入係数!J79*J$119","v":0},{"$f":"投入係数!K79*K$119","v":0},{"$f":"投入係数!L79*L$119","v":0},{"$f":"投入係数!M79*M$119","v":0},{"$f":"投入係数!N79*N$119","v":0},{"$f":"投入係数!O79*O$119","v":0},{"$f":"投入係数!P79*P$119","v":0},{"$f":"投入係数!Q79*Q$119","v":0},{"$f":"投入係数!R79*R$119","v":0},{"$f":"投入係数!S79*S$119","v":0},{"$f":"投入係数!T79*T$119","v":0},{"$f":"投入係数!U79*U$119","v":0},{"$f":"投入係数!V79*V$119","v":0},{"$f":"投入係数!W79*W$119","v":0},{"$f":"投入係数!X79*X$119","v":0},{"$f":"投入係数!Y79*Y$119","v":0},{"$f":"投入係数!Z79*Z$119","v":0},{"$f":"投入係数!AA79*AA$119","v":0},{"$f":"投入係数!AB79*AB$119","v":0},{"$f":"投入係数!AC79*AC$119","v":0},{"$f":"投入係数!AD79*AD$119","v":0},{"$f":"投入係数!AE79*AE$119","v":0},{"$f":"投入係数!AF79*AF$119","v":0},{"$f":"投入係数!AG79*AG$119","v":0},{"$f":"投入係数!AH79*AH$119","v":0},{"$f":"投入係数!AI79*AI$119","v":0},{"$f":"投入係数!AJ79*AJ$119","v":0},{"$f":"投入係数!AK79*AK$119","v":0},{"$f":"投入係数!AL79*AL$119","v":0},{"$f":"投入係数!AM79*AM$119","v":0},{"$f":"投入係数!AN79*AN$119","v":0},{"$f":"投入係数!AO79*AO$119","v":0},{"$f":"投入係数!AP79*AP$119","v":0},{"$f":"投入係数!AQ79*AQ$119","v":0},{"$f":"投入係数!AR79*AR$119","v":0},{"$f":"投入係数!AS79*AS$119","v":0},{"$f":"投入係数!AT79*AT$119","v":0},{"$f":"投入係数!AU79*AU$119","v":0},{"$f":"投入係数!AV79*AV$119","v":0},{"$f":"投入係数!AW79*AW$119","v":0},{"$f":"投入係数!AX79*AX$119","v":0},{"$f":"投入係数!AY79*AY$119","v":0},{"$f":"投入係数!AZ79*AZ$119","v":0},{"$f":"投入係数!BA79*BA$119","v":0},{"$f":"投入係数!BB79*BB$119","v":0},{"$f":"投入係数!BC79*BC$119","v":0},{"$f":"投入係数!BD79*BD$119","v":0},{"$f":"投入係数!BE79*BE$119","v":0},{"$f":"投入係数!BF79*BF$119","v":0},{"$f":"投入係数!BG79*BG$119","v":0},{"$f":"投入係数!BH79*BH$119","v":0},{"$f":"投入係数!BI79*BI$119","v":0},{"$f":"投入係数!BJ79*BJ$119","v":0},{"$f":"投入係数!BK79*BK$119","v":0},{"$f":"投入係数!BL79*BL$119","v":0},{"$f":"投入係数!BM79*BM$119","v":0},{"$f":"投入係数!BN79*BN$119","v":0},{"$f":"投入係数!BO79*BO$119","v":0},{"$f":"投入係数!BP79*BP$119","v":0},{"$f":"投入係数!BQ79*BQ$119","v":0},{"$f":"投入係数!BR79*BR$119","v":0},{"$f":"投入係数!BS79*BS$119","v":0},{"$f":"投入係数!BT79*BT$119","v":0},{"$f":"投入係数!BU79*BU$119","v":0},{"$f":"投入係数!BV79*BV$119","v":0},{"$f":"投入係数!BW79*BW$119","v":0},{"$f":"投入係数!BX79*BX$119","v":0},{"$f":"投入係数!BY79*BY$119","v":0},{"$f":"投入係数!BZ79*BZ$119","v":0},{"$f":"投入係数!CA79*CA$119","v":0},{"$f":"投入係数!CB79*CB$119","v":0},{"$f":"投入係数!CC79*CC$119","v":0},{"$f":"投入係数!CD79*CD$119","v":0},{"$f":"投入係数!CE79*CE$119","v":0},{"$f":"投入係数!CF79*CF$119","v":0},{"$f":"投入係数!CG79*CG$119","v":0},{"$f":"投入係数!CH79*CH$119","v":0},{"$f":"投入係数!CI79*CI$119","v":0},{"$f":"投入係数!CJ79*CJ$119","v":0},{"$f":"投入係数!CK79*CK$119","v":0},{"$f":"投入係数!CL79*CL$119","v":0},{"$f":"投入係数!CM79*CM$119","v":0},{"$f":"投入係数!CN79*CN$119","v":0},{"$f":"投入係数!CO79*CO$119","v":0},{"$f":"投入係数!CP79*CP$119","v":0},{"$f":"投入係数!CQ79*CQ$119","v":0},{"$f":"投入係数!CR79*CR$119","v":0},{"$f":"投入係数!CS79*CS$119","v":0},{"$f":"投入係数!CT79*CT$119","v":0},{"$f":"投入係数!CU79*CU$119","v":0},{"$f":"投入係数!CV79*CV$119","v":0},{"$f":"投入係数!CW79*CW$119","v":0},{"$f":"投入係数!CX79*CX$119","v":0},{"$f":"投入係数!CY79*CY$119","v":0},{"$f":"投入係数!CZ79*CZ$119","v":0},{"$f":"投入係数!DA79*DA$119","v":0},{"$f":"投入係数!DB79*DB$119","v":0},{"$f":"投入係数!DC79*DC$119","v":0},{"$f":"投入係数!DD79*DD$119","v":0},{"$f":"投入係数!DE79*DE$119","v":0},{"$f":"投入係数!DF79*DF$119","v":0},{"$f":"投入係数!DG79*DG$119","v":0},{"$f":"投入係数!DH79*DH$119","v":0},0]
[null,"551","不動産仲介及び賃貸",{"$f":"投入係数!D80*D$119","v":0},{"$f":"投入係数!E80*E$119","v":0},{"$f":"投入係数!F80*F$119","v":0},{"$f":"投入係数!G80*G$119","v":0},{"$f":"投入係数!H80*H$119","v":0},{"$f":"投入係数!I80*I$119","v":0},{"$f":"投入係数!J80*J$119","v":0},{"$f":"投入係数!K80*K$119","v":0},{"$f":"投入係数!L80*L$119","v":0},{"$f":"投入係数!M80*M$119","v":0},{"$f":"投入係数!N80*N$119","v":0},{"$f":"投入係数!O80*O$119","v":0},{"$f":"投入係数!P80*P$119","v":0},{"$f":"投入係数!Q80*Q$119","v":0},{"$f":"投入係数!R80*R$119","v":0},{"$f":"投入係数!S80*S$119","v":0},{"$f":"投入係数!T80*T$119","v":0},{"$f":"投入係数!U80*U$119","v":0},{"$f":"投入係数!V80*V$119","v":0},{"$f":"投入係数!W80*W$119","v":0},{"$f":"投入係数!X80*X$119","v":0},{"$f":"投入係数!Y80*Y$119","v":0},{"$f":"投入係数!Z80*Z$119","v":0},{"$f":"投入係数!AA80*AA$119","v":0},{"$f":"投入係数!AB80*AB$119","v":0},{"$f":"投入係数!AC80*AC$119","v":0},{"$f":"投入係数!AD80*AD$119","v":0},{"$f":"投入係数!AE80*AE$119","v":0},{"$f":"投入係数!AF80*AF$119","v":0},{"$f":"投入係数!AG80*AG$119","v":0},{"$f":"投入係数!AH80*AH$119","v":0},{"$f":"投入係数!AI80*AI$119","v":0},{"$f":"投入係数!AJ80*AJ$119","v":0},{"$f":"投入係数!AK80*AK$119","v":0},{"$f":"投入係数!AL80*AL$119","v":0},{"$f":"投入係数!AM80*AM$119","v":0},{"$f":"投入係数!AN80*AN$119","v":0},{"$f":"投入係数!AO80*AO$119","v":0},{"$f":"投入係数!AP80*AP$119","v":0},{"$f":"投入係数!AQ80*AQ$119","v":0},{"$f":"投入係数!AR80*AR$119","v":0},{"$f":"投入係数!AS80*AS$119","v":0},{"$f":"投入係数!AT80*AT$119","v":0},{"$f":"投入係数!AU80*AU$119","v":0},{"$f":"投入係数!AV80*AV$119","v":0},{"$f":"投入係数!AW80*AW$119","v":0},{"$f":"投入係数!AX80*AX$119","v":0},{"$f":"投入係数!AY80*AY$119","v":0},{"$f":"投入係数!AZ80*AZ$119","v":0},{"$f":"投入係数!BA80*BA$119","v":0},{"$f":"投入係数!BB80*BB$119","v":0},{"$f":"投入係数!BC80*BC$119","v":0},{"$f":"投入係数!BD80*BD$119","v":0},{"$f":"投入係数!BE80*BE$119","v":0},{"$f":"投入係数!BF80*BF$119","v":0},{"$f":"投入係数!BG80*BG$119","v":0},{"$f":"投入係数!BH80*BH$119","v":0},{"$f":"投入係数!BI80*BI$119","v":0},{"$f":"投入係数!BJ80*BJ$119","v":0},{"$f":"投入係数!BK80*BK$119","v":0},{"$f":"投入係数!BL80*BL$119","v":0},{"$f":"投入係数!BM80*BM$119","v":0},{"$f":"投入係数!BN80*BN$119","v":0},{"$f":"投入係数!BO80*BO$119","v":0},{"$f":"投入係数!BP80*BP$119","v":0},{"$f":"投入係数!BQ80*BQ$119","v":0},{"$f":"投入係数!BR80*BR$119","v":0},{"$f":"投入係数!BS80*BS$119","v":0},{"$f":"投入係数!BT80*BT$119","v":0},{"$f":"投入係数!BU80*BU$119","v":0},{"$f":"投入係数!BV80*BV$119","v":0},{"$f":"投入係数!BW80*BW$119","v":0},{"$f":"投入係数!BX80*BX$119","v":0},{"$f":"投入係数!BY80*BY$119","v":0},{"$f":"投入係数!BZ80*BZ$119","v":0},{"$f":"投入係数!CA80*CA$119","v":0},{"$f":"投入係数!CB80*CB$119","v":0},{"$f":"投入係数!CC80*CC$119","v":0},{"$f":"投入係数!CD80*CD$119","v":0},{"$f":"投入係数!CE80*CE$119","v":0},{"$f":"投入係数!CF80*CF$119","v":0},{"$f":"投入係数!CG80*CG$119","v":0},{"$f":"投入係数!CH80*CH$119","v":0},{"$f":"投入係数!CI80*CI$119","v":0},{"$f":"投入係数!CJ80*CJ$119","v":0},{"$f":"投入係数!CK80*CK$119","v":0},{"$f":"投入係数!CL80*CL$119","v":0},{"$f":"投入係数!CM80*CM$119","v":0},{"$f":"投入係数!CN80*CN$119","v":0},{"$f":"投入係数!CO80*CO$119","v":0},{"$f":"投入係数!CP80*CP$119","v":0},{"$f":"投入係数!CQ80*CQ$119","v":0},{"$f":"投入係数!CR80*CR$119","v":0},{"$f":"投入係数!CS80*CS$119","v":0},{"$f":"投入係数!CT80*CT$119","v":0},{"$f":"投入係数!CU80*CU$119","v":0},{"$f":"投入係数!CV80*CV$119","v":0},{"$f":"投入係数!CW80*CW$119","v":0},{"$f":"投入係数!CX80*CX$119","v":0},{"$f":"投入係数!CY80*CY$119","v":0},{"$f":"投入係数!CZ80*CZ$119","v":0},{"$f":"投入係数!DA80*DA$119","v":0},{"$f":"投入係数!DB80*DB$119","v":0},{"$f":"投入係数!DC80*DC$119","v":0},{"$f":"投入係数!DD80*DD$119","v":0},{"$f":"投入係数!DE80*DE$119","v":0},{"$f":"投入係数!DF80*DF$119","v":0},{"$f":"投入係数!DG80*DG$119","v":0},{"$f":"投入係数!DH80*DH$119","v":0},0]
[null,"552","住宅賃貸料",{"$f":"投入係数!D81*D$119","v":0},{"$f":"投入係数!E81*E$119","v":0},{"$f":"投入係数!F81*F$119","v":0},{"$f":"投入係数!G81*G$119","v":0},{"$f":"投入係数!H81*H$119","v":0},{"$f":"投入係数!I81*I$119","v":0},{"$f":"投入係数!J81*J$119","v":0},{"$f":"投入係数!K81*K$119","v":0},{"$f":"投入係数!L81*L$119","v":0},{"$f":"投入係数!M81*M$119","v":0},{"$f":"投入係数!N81*N$119","v":0},{"$f":"投入係数!O81*O$119","v":0},{"$f":"投入係数!P81*P$119","v":0},{"$f":"投入係数!Q81*Q$119","v":0},{"$f":"投入係数!R81*R$119","v":0},{"$f":"投入係数!S81*S$119","v":0},{"$f":"投入係数!T81*T$119","v":0},{"$f":"投入係数!U81*U$119","v":0},{"$f":"投入係数!V81*V$119","v":0},{"$f":"投入係数!W81*W$119","v":0},{"$f":"投入係数!X81*X$119","v":0},{"$f":"投入係数!Y81*Y$119","v":0},{"$f":"投入係数!Z81*Z$119","v":0},{"$f":"投入係数!AA81*AA$119","v":0},{"$f":"投入係数!AB81*AB$119","v":0},{"$f":"投入係数!AC81*AC$119","v":0},{"$f":"投入係数!AD81*AD$119","v":0},{"$f":"投入係数!AE81*AE$119","v":0},{"$f":"投入係数!AF81*AF$119","v":0},{"$f":"投入係数!AG81*AG$119","v":0},{"$f":"投入係数!AH81*AH$119","v":0},{"$f":"投入係数!AI81*AI$119","v":0},{"$f":"投入係数!AJ81*AJ$119","v":0},{"$f":"投入係数!AK81*AK$119","v":0},{"$f":"投入係数!AL81*AL$119","v":0},{"$f":"投入係数!AM81*AM$119","v":0},{"$f":"投入係数!AN81*AN$119","v":0},{"$f":"投入係数!AO81*AO$119","v":0},{"$f":"投入係数!AP81*AP$119","v":0},{"$f":"投入係数!AQ81*AQ$119","v":0},{"$f":"投入係数!AR81*AR$119","v":0},{"$f":"投入係数!AS81*AS$119","v":0},{"$f":"投入係数!AT81*AT$119","v":0},{"$f":"投入係数!AU81*AU$119","v":0},{"$f":"投入係数!AV81*AV$119","v":0},{"$f":"投入係数!AW81*AW$119","v":0},{"$f":"投入係数!AX81*AX$119","v":0},{"$f":"投入係数!AY81*AY$119","v":0},{"$f":"投入係数!AZ81*AZ$119","v":0},{"$f":"投入係数!BA81*BA$119","v":0},{"$f":"投入係数!BB81*BB$119","v":0},{"$f":"投入係数!BC81*BC$119","v":0},{"$f":"投入係数!BD81*BD$119","v":0},{"$f":"投入係数!BE81*BE$119","v":0},{"$f":"投入係数!BF81*BF$119","v":0},{"$f":"投入係数!BG81*BG$119","v":0},{"$f":"投入係数!BH81*BH$119","v":0},{"$f":"投入係数!BI81*BI$119","v":0},{"$f":"投入係数!BJ81*BJ$119","v":0},{"$f":"投入係数!BK81*BK$119","v":0},{"$f":"投入係数!BL81*BL$119","v":0},{"$f":"投入係数!BM81*BM$119","v":0},{"$f":"投入係数!BN81*BN$119","v":0},{"$f":"投入係数!BO81*BO$119","v":0},{"$f":"投入係数!BP81*BP$119","v":0},{"$f":"投入係数!BQ81*BQ$119","v":0},{"$f":"投入係数!BR81*BR$119","v":0},{"$f":"投入係数!BS81*BS$119","v":0},{"$f":"投入係数!BT81*BT$119","v":0},{"$f":"投入係数!BU81*BU$119","v":0},{"$f":"投入係数!BV81*BV$119","v":0},{"$f":"投入係数!BW81*BW$119","v":0},{"$f":"投入係数!BX81*BX$119","v":0},{"$f":"投入係数!BY81*BY$119","v":0},{"$f":"投入係数!BZ81*BZ$119","v":0},{"$f":"投入係数!CA81*CA$119","v":0},{"$f":"投入係数!CB81*CB$119","v":0},{"$f":"投入係数!CC81*CC$119","v":0},{"$f":"投入係数!CD81*CD$119","v":0},{"$f":"投入係数!CE81*CE$119","v":0},{"$f":"投入係数!CF81*CF$119","v":0},{"$f":"投入係数!CG81*CG$119","v":0},{"$f":"投入係数!CH81*CH$119","v":0},{"$f":"投入係数!CI81*CI$119","v":0},{"$f":"投入係数!CJ81*CJ$119","v":0},{"$f":"投入係数!CK81*CK$119","v":0},{"$f":"投入係数!CL81*CL$119","v":0},{"$f":"投入係数!CM81*CM$119","v":0},{"$f":"投入係数!CN81*CN$119","v":0},{"$f":"投入係数!CO81*CO$119","v":0},{"$f":"投入係数!CP81*CP$119","v":0},{"$f":"投入係数!CQ81*CQ$119","v":0},{"$f":"投入係数!CR81*CR$119","v":0},{"$f":"投入係数!CS81*CS$119","v":0},{"$f":"投入係数!CT81*CT$119","v":0},{"$f":"投入係数!CU81*CU$119","v":0},{"$f":"投入係数!CV81*CV$119","v":0},{"$f":"投入係数!CW81*CW$119","v":0},{"$f":"投入係数!CX81*CX$119","v":0},{"$f":"投入係数!CY81*CY$119","v":0},{"$f":"投入係数!CZ81*CZ$119","v":0},{"$f":"投入係数!DA81*DA$119","v":0},{"$f":"投入係数!DB81*DB$119","v":0},{"$f":"投入係数!DC81*DC$119","v":0},{"$f":"投入係数!DD81*DD$119","v":0},{"$f":"投入係数!DE81*DE$119","v":0},{"$f":"投入係数!DF81*DF$119","v":0},{"$f":"投入係数!DG81*DG$119","v":0},{"$f":"投入係数!DH81*DH$119","v":0},0]
[null,"553","住宅賃貸料（帰属家賃）",{"$f":"投入係数!D82*D$119","v":0},{"$f":"投入係数!E82*E$119","v":0},{"$f":"投入係数!F82*F$119","v":0},{"$f":"投入係数!G82*G$119","v":0},{"$f":"投入係数!H82*H$119","v":0},{"$f":"投入係数!I82*I$119","v":0},{"$f":"投入係数!J82*J$119","v":0},{"$f":"投入係数!K82*K$119","v":0},{"$f":"投入係数!L82*L$119","v":0},{"$f":"投入係数!M82*M$119","v":0},{"$f":"投入係数!N82*N$119","v":0},{"$f":"投入係数!O82*O$119","v":0},{"$f":"投入係数!P82*P$119","v":0},{"$f":"投入係数!Q82*Q$119","v":0},{"$f":"投入係数!R82*R$119","v":0},{"$f":"投入係数!S82*S$119","v":0},{"$f":"投入係数!T82*T$119","v":0},{"$f":"投入係数!U82*U$119","v":0},{"$f":"投入係数!V82*V$119","v":0},{"$f":"投入係数!W82*W$119","v":0},{"$f":"投入係数!X82*X$119","v":0},{"$f":"投入係数!Y82*Y$119","v":0},{"$f":"投入係数!Z82*Z$119","v":0},{"$f":"投入係数!AA82*AA$119","v":0},{"$f":"投入係数!AB82*AB$119","v":0},{"$f":"投入係数!AC82*AC$119","v":0},{"$f":"投入係数!AD82*AD$119","v":0},{"$f":"投入係数!AE82*AE$119","v":0},{"$f":"投入係数!AF82*AF$119","v":0},{"$f":"投入係数!AG82*AG$119","v":0},{"$f":"投入係数!AH82*AH$119","v":0},{"$f":"投入係数!AI82*AI$119","v":0},{"$f":"投入係数!AJ82*AJ$119","v":0},{"$f":"投入係数!AK82*AK$119","v":0},{"$f":"投入係数!AL82*AL$119","v":0},{"$f":"投入係数!AM82*AM$119","v":0},{"$f":"投入係数!AN82*AN$119","v":0},{"$f":"投入係数!AO82*AO$119","v":0},{"$f":"投入係数!AP82*AP$119","v":0},{"$f":"投入係数!AQ82*AQ$119","v":0},{"$f":"投入係数!AR82*AR$119","v":0},{"$f":"投入係数!AS82*AS$119","v":0},{"$f":"投入係数!AT82*AT$119","v":0},{"$f":"投入係数!AU82*AU$119","v":0},{"$f":"投入係数!AV82*AV$119","v":0},{"$f":"投入係数!AW82*AW$119","v":0},{"$f":"投入係数!AX82*AX$119","v":0},{"$f":"投入係数!AY82*AY$119","v":0},{"$f":"投入係数!AZ82*AZ$119","v":0},{"$f":"投入係数!BA82*BA$119","v":0},{"$f":"投入係数!BB82*BB$119","v":0},{"$f":"投入係数!BC82*BC$119","v":0},{"$f":"投入係数!BD82*BD$119","v":0},{"$f":"投入係数!BE82*BE$119","v":0},{"$f":"投入係数!BF82*BF$119","v":0},{"$f":"投入係数!BG82*BG$119","v":0},{"$f":"投入係数!BH82*BH$119","v":0},{"$f":"投入係数!BI82*BI$119","v":0},{"$f":"投入係数!BJ82*BJ$119","v":0},{"$f":"投入係数!BK82*BK$119","v":0},{"$f":"投入係数!BL82*BL$119","v":0},{"$f":"投入係数!BM82*BM$119","v":0},{"$f":"投入係数!BN82*BN$119","v":0},{"$f":"投入係数!BO82*BO$119","v":0},{"$f":"投入係数!BP82*BP$119","v":0},{"$f":"投入係数!BQ82*BQ$119","v":0},{"$f":"投入係数!BR82*BR$119","v":0},{"$f":"投入係数!BS82*BS$119","v":0},{"$f":"投入係数!BT82*BT$119","v":0},{"$f":"投入係数!BU82*BU$119","v":0},{"$f":"投入係数!BV82*BV$119","v":0},{"$f":"投入係数!BW82*BW$119","v":0},{"$f":"投入係数!BX82*BX$119","v":0},{"$f":"投入係数!BY82*BY$119","v":0},{"$f":"投入係数!BZ82*BZ$119","v":0},{"$f":"投入係数!CA82*CA$119","v":0},{"$f":"投入係数!CB82*CB$119","v":0},{"$f":"投入係数!CC82*CC$119","v":0},{"$f":"投入係数!CD82*CD$119","v":0},{"$f":"投入係数!CE82*CE$119","v":0},{"$f":"投入係数!CF82*CF$119","v":0},{"$f":"投入係数!CG82*CG$119","v":0},{"$f":"投入係数!CH82*CH$119","v":0},{"$f":"投入係数!CI82*CI$119","v":0},{"$f":"投入係数!CJ82*CJ$119","v":0},{"$f":"投入係数!CK82*CK$119","v":0},{"$f":"投入係数!CL82*CL$119","v":0},{"$f":"投入係数!CM82*CM$119","v":0},{"$f":"投入係数!CN82*CN$119","v":0},{"$f":"投入係数!CO82*CO$119","v":0},{"$f":"投入係数!CP82*CP$119","v":0},{"$f":"投入係数!CQ82*CQ$119","v":0},{"$f":"投入係数!CR82*CR$119","v":0},{"$f":"投入係数!CS82*CS$119","v":0},{"$f":"投入係数!CT82*CT$119","v":0},{"$f":"投入係数!CU82*CU$119","v":0},{"$f":"投入係数!CV82*CV$119","v":0},{"$f":"投入係数!CW82*CW$119","v":0},{"$f":"投入係数!CX82*CX$119","v":0},{"$f":"投入係数!CY82*CY$119","v":0},{"$f":"投入係数!CZ82*CZ$119","v":0},{"$f":"投入係数!DA82*DA$119","v":0},{"$f":"投入係数!DB82*DB$119","v":0},{"$f":"投入係数!DC82*DC$119","v":0},{"$f":"投入係数!DD82*DD$119","v":0},{"$f":"投入係数!DE82*DE$119","v":0},{"$f":"投入係数!DF82*DF$119","v":0},{"$f":"投入係数!DG82*DG$119","v":0},{"$f":"投入係数!DH82*DH$119","v":0},0]
[null,"571","鉄道輸送",{"$f":"投入係数!D83*D$119","v":0},{"$f":"投入係数!E83*E$119","v":0},{"$f":"投入係数!F83*F$119","v":0},{"$f":"投入係数!G83*G$119","v":0},{"$f":"投入係数!H83*H$119","v":0},{"$f":"投入係数!I83*I$119","v":0},{"$f":"投入係数!J83*J$119","v":0},{"$f":"投入係数!K83*K$119","v":0},{"$f":"投入係数!L83*L$119","v":0},{"$f":"投入係数!M83*M$119","v":0},{"$f":"投入係数!N83*N$119","v":0},{"$f":"投入係数!O83*O$119","v":0},{"$f":"投入係数!P83*P$119","v":0},{"$f":"投入係数!Q83*Q$119","v":0},{"$f":"投入係数!R83*R$119","v":0},{"$f":"投入係数!S83*S$119","v":0},{"$f":"投入係数!T83*T$119","v":0},{"$f":"投入係数!U83*U$119","v":0},{"$f":"投入係数!V83*V$119","v":0},{"$f":"投入係数!W83*W$119","v":0},{"$f":"投入係数!X83*X$119","v":0},{"$f":"投入係数!Y83*Y$119","v":0},{"$f":"投入係数!Z83*Z$119","v":0},{"$f":"投入係数!AA83*AA$119","v":0},{"$f":"投入係数!AB83*AB$119","v":0},{"$f":"投入係数!AC83*AC$119","v":0},{"$f":"投入係数!AD83*AD$119","v":0},{"$f":"投入係数!AE83*AE$119","v":0},{"$f":"投入係数!AF83*AF$119","v":0},{"$f":"投入係数!AG83*AG$119","v":0},{"$f":"投入係数!AH83*AH$119","v":0},{"$f":"投入係数!AI83*AI$119","v":0},{"$f":"投入係数!AJ83*AJ$119","v":0},{"$f":"投入係数!AK83*AK$119","v":0},{"$f":"投入係数!AL83*AL$119","v":0},{"$f":"投入係数!AM83*AM$119","v":0},{"$f":"投入係数!AN83*AN$119","v":0},{"$f":"投入係数!AO83*AO$119","v":0},{"$f":"投入係数!AP83*AP$119","v":0},{"$f":"投入係数!AQ83*AQ$119","v":0},{"$f":"投入係数!AR83*AR$119","v":0},{"$f":"投入係数!AS83*AS$119","v":0},{"$f":"投入係数!AT83*AT$119","v":0},{"$f":"投入係数!AU83*AU$119","v":0},{"$f":"投入係数!AV83*AV$119","v":0},{"$f":"投入係数!AW83*AW$119","v":0},{"$f":"投入係数!AX83*AX$119","v":0},{"$f":"投入係数!AY83*AY$119","v":0},{"$f":"投入係数!AZ83*AZ$119","v":0},{"$f":"投入係数!BA83*BA$119","v":0},{"$f":"投入係数!BB83*BB$119","v":0},{"$f":"投入係数!BC83*BC$119","v":0},{"$f":"投入係数!BD83*BD$119","v":0},{"$f":"投入係数!BE83*BE$119","v":0},{"$f":"投入係数!BF83*BF$119","v":0},{"$f":"投入係数!BG83*BG$119","v":0},{"$f":"投入係数!BH83*BH$119","v":0},{"$f":"投入係数!BI83*BI$119","v":0},{"$f":"投入係数!BJ83*BJ$119","v":0},{"$f":"投入係数!BK83*BK$119","v":0},{"$f":"投入係数!BL83*BL$119","v":0},{"$f":"投入係数!BM83*BM$119","v":0},{"$f":"投入係数!BN83*BN$119","v":0},{"$f":"投入係数!BO83*BO$119","v":0},{"$f":"投入係数!BP83*BP$119","v":0},{"$f":"投入係数!BQ83*BQ$119","v":0},{"$f":"投入係数!BR83*BR$119","v":0},{"$f":"投入係数!BS83*BS$119","v":0},{"$f":"投入係数!BT83*BT$119","v":0},{"$f":"投入係数!BU83*BU$119","v":0},{"$f":"投入係数!BV83*BV$119","v":0},{"$f":"投入係数!BW83*BW$119","v":0},{"$f":"投入係数!BX83*BX$119","v":0},{"$f":"投入係数!BY83*BY$119","v":0},{"$f":"投入係数!BZ83*BZ$119","v":0},{"$f":"投入係数!CA83*CA$119","v":0},{"$f":"投入係数!CB83*CB$119","v":0},{"$f":"投入係数!CC83*CC$119","v":0},{"$f":"投入係数!CD83*CD$119","v":0},{"$f":"投入係数!CE83*CE$119","v":0},{"$f":"投入係数!CF83*CF$119","v":0},{"$f":"投入係数!CG83*CG$119","v":0},{"$f":"投入係数!CH83*CH$119","v":0},{"$f":"投入係数!CI83*CI$119","v":0},{"$f":"投入係数!CJ83*CJ$119","v":0},{"$f":"投入係数!CK83*CK$119","v":0},{"$f":"投入係数!CL83*CL$119","v":0},{"$f":"投入係数!CM83*CM$119","v":0},{"$f":"投入係数!CN83*CN$119","v":0},{"$f":"投入係数!CO83*CO$119","v":0},{"$f":"投入係数!CP83*CP$119","v":0},{"$f":"投入係数!CQ83*CQ$119","v":0},{"$f":"投入係数!CR83*CR$119","v":0},{"$f":"投入係数!CS83*CS$119","v":0},{"$f":"投入係数!CT83*CT$119","v":0},{"$f":"投入係数!CU83*CU$119","v":0},{"$f":"投入係数!CV83*CV$119","v":0},{"$f":"投入係数!CW83*CW$119","v":0},{"$f":"投入係数!CX83*CX$119","v":0},{"$f":"投入係数!CY83*CY$119","v":0},{"$f":"投入係数!CZ83*CZ$119","v":0},{"$f":"投入係数!DA83*DA$119","v":0},{"$f":"投入係数!DB83*DB$119","v":0},{"$f":"投入係数!DC83*DC$119","v":0},{"$f":"投入係数!DD83*DD$119","v":0},{"$f":"投入係数!DE83*DE$119","v":0},{"$f":"投入係数!DF83*DF$119","v":0},{"$f":"投入係数!DG83*DG$119","v":0},{"$f":"投入係数!DH83*DH$119","v":0},0]
[null,"572","道路輸送（自家輸送を除く。）",{"$f":"投入係数!D84*D$119","v":0},{"$f":"投入係数!E84*E$119","v":0},{"$f":"投入係数!F84*F$119","v":0},{"$f":"投入係数!G84*G$119","v":0},{"$f":"投入係数!H84*H$119","v":0},{"$f":"投入係数!I84*I$119","v":0},{"$f":"投入係数!J84*J$119","v":0},{"$f":"投入係数!K84*K$119","v":0},{"$f":"投入係数!L84*L$119","v":0},{"$f":"投入係数!M84*M$119","v":0},{"$f":"投入係数!N84*N$119","v":0},{"$f":"投入係数!O84*O$119","v":0},{"$f":"投入係数!P84*P$119","v":0},{"$f":"投入係数!Q84*Q$119","v":0},{"$f":"投入係数!R84*R$119","v":0},{"$f":"投入係数!S84*S$119","v":0},{"$f":"投入係数!T84*T$119","v":0},{"$f":"投入係数!U84*U$119","v":0},{"$f":"投入係数!V84*V$119","v":0},{"$f":"投入係数!W84*W$119","v":0},{"$f":"投入係数!X84*X$119","v":0},{"$f":"投入係数!Y84*Y$119","v":0},{"$f":"投入係数!Z84*Z$119","v":0},{"$f":"投入係数!AA84*AA$119","v":0},{"$f":"投入係数!AB84*AB$119","v":0},{"$f":"投入係数!AC84*AC$119","v":0},{"$f":"投入係数!AD84*AD$119","v":0},{"$f":"投入係数!AE84*AE$119","v":0},{"$f":"投入係数!AF84*AF$119","v":0},{"$f":"投入係数!AG84*AG$119","v":0},{"$f":"投入係数!AH84*AH$119","v":0},{"$f":"投入係数!AI84*AI$119","v":0},{"$f":"投入係数!AJ84*AJ$119","v":0},{"$f":"投入係数!AK84*AK$119","v":0},{"$f":"投入係数!AL84*AL$119","v":0},{"$f":"投入係数!AM84*AM$119","v":0},{"$f":"投入係数!AN84*AN$119","v":0},{"$f":"投入係数!AO84*AO$119","v":0},{"$f":"投入係数!AP84*AP$119","v":0},{"$f":"投入係数!AQ84*AQ$119","v":0},{"$f":"投入係数!AR84*AR$119","v":0},{"$f":"投入係数!AS84*AS$119","v":0},{"$f":"投入係数!AT84*AT$119","v":0},{"$f":"投入係数!AU84*AU$119","v":0},{"$f":"投入係数!AV84*AV$119","v":0},{"$f":"投入係数!AW84*AW$119","v":0},{"$f":"投入係数!AX84*AX$119","v":0},{"$f":"投入係数!AY84*AY$119","v":0},{"$f":"投入係数!AZ84*AZ$119","v":0},{"$f":"投入係数!BA84*BA$119","v":0},{"$f":"投入係数!BB84*BB$119","v":0},{"$f":"投入係数!BC84*BC$119","v":0},{"$f":"投入係数!BD84*BD$119","v":0},{"$f":"投入係数!BE84*BE$119","v":0},{"$f":"投入係数!BF84*BF$119","v":0},{"$f":"投入係数!BG84*BG$119","v":0},{"$f":"投入係数!BH84*BH$119","v":0},{"$f":"投入係数!BI84*BI$119","v":0},{"$f":"投入係数!BJ84*BJ$119","v":0},{"$f":"投入係数!BK84*BK$119","v":0},{"$f":"投入係数!BL84*BL$119","v":0},{"$f":"投入係数!BM84*BM$119","v":0},{"$f":"投入係数!BN84*BN$119","v":0},{"$f":"投入係数!BO84*BO$119","v":0},{"$f":"投入係数!BP84*BP$119","v":0},{"$f":"投入係数!BQ84*BQ$119","v":0},{"$f":"投入係数!BR84*BR$119","v":0},{"$f":"投入係数!BS84*BS$119","v":0},{"$f":"投入係数!BT84*BT$119","v":0},{"$f":"投入係数!BU84*BU$119","v":0},{"$f":"投入係数!BV84*BV$119","v":0},{"$f":"投入係数!BW84*BW$119","v":0},{"$f":"投入係数!BX84*BX$119","v":0},{"$f":"投入係数!BY84*BY$119","v":0},{"$f":"投入係数!BZ84*BZ$119","v":0},{"$f":"投入係数!CA84*CA$119","v":0},{"$f":"投入係数!CB84*CB$119","v":0},{"$f":"投入係数!CC84*CC$119","v":0},{"$f":"投入係数!CD84*CD$119","v":0},{"$f":"投入係数!CE84*CE$119","v":0},{"$f":"投入係数!CF84*CF$119","v":0},{"$f":"投入係数!CG84*CG$119","v":0},{"$f":"投入係数!CH84*CH$119","v":0},{"$f":"投入係数!CI84*CI$119","v":0},{"$f":"投入係数!CJ84*CJ$119","v":0},{"$f":"投入係数!CK84*CK$119","v":0},{"$f":"投入係数!CL84*CL$119","v":0},{"$f":"投入係数!CM84*CM$119","v":0},{"$f":"投入係数!CN84*CN$119","v":0},{"$f":"投入係数!CO84*CO$119","v":0},{"$f":"投入係数!CP84*CP$119","v":0},{"$f":"投入係数!CQ84*CQ$119","v":0},{"$f":"投入係数!CR84*CR$119","v":0},{"$f":"投入係数!CS84*CS$119","v":0},{"$f":"投入係数!CT84*CT$119","v":0},{"$f":"投入係数!CU84*CU$119","v":0},{"$f":"投入係数!CV84*CV$119","v":0},{"$f":"投入係数!CW84*CW$119","v":0},{"$f":"投入係数!CX84*CX$119","v":0},{"$f":"投入係数!CY84*CY$119","v":0},{"$f":"投入係数!CZ84*CZ$119","v":0},{"$f":"投入係数!DA84*DA$119","v":0},{"$f":"投入係数!DB84*DB$119","v":0},{"$f":"投入係数!DC84*DC$119","v":0},{"$f":"投入係数!DD84*DD$119","v":0},{"$f":"投入係数!DE84*DE$119","v":0},{"$f":"投入係数!DF84*DF$119","v":0},{"$f":"投入係数!DG84*DG$119","v":0},{"$f":"投入係数!DH84*DH$119","v":0},0]
[null,"573","自家輸送",{"$f":"投入係数!D85*D$119","v":0},{"$f":"投入係数!E85*E$119","v":0},{"$f":"投入係数!F85*F$119","v":0},{"$f":"投入係数!G85*G$119","v":0},{"$f":"投入係数!H85*H$119","v":0},{"$f":"投入係数!I85*I$119","v":0},{"$f":"投入係数!J85*J$119","v":0},{"$f":"投入係数!K85*K$119","v":0},{"$f":"投入係数!L85*L$119","v":0},{"$f":"投入係数!M85*M$119","v":0},{"$f":"投入係数!N85*N$119","v":0},{"$f":"投入係数!O85*O$119","v":0},{"$f":"投入係数!P85*P$119","v":0},{"$f":"投入係数!Q85*Q$119","v":0},{"$f":"投入係数!R85*R$119","v":0},{"$f":"投入係数!S85*S$119","v":0},{"$f":"投入係数!T85*T$119","v":0},{"$f":"投入係数!U85*U$119","v":0},{"$f":"投入係数!V85*V$119","v":0},{"$f":"投入係数!W85*W$119","v":0},{"$f":"投入係数!X85*X$119","v":0},{"$f":"投入係数!Y85*Y$119","v":0},{"$f":"投入係数!Z85*Z$119","v":0},{"$f":"投入係数!AA85*AA$119","v":0},{"$f":"投入係数!AB85*AB$119","v":0},{"$f":"投入係数!AC85*AC$119","v":0},{"$f":"投入係数!AD85*AD$119","v":0},{"$f":"投入係数!AE85*AE$119","v":0},{"$f":"投入係数!AF85*AF$119","v":0},{"$f":"投入係数!AG85*AG$119","v":0},{"$f":"投入係数!AH85*AH$119","v":0},{"$f":"投入係数!AI85*AI$119","v":0},{"$f":"投入係数!AJ85*AJ$119","v":0},{"$f":"投入係数!AK85*AK$119","v":0},{"$f":"投入係数!AL85*AL$119","v":0},{"$f":"投入係数!AM85*AM$119","v":0},{"$f":"投入係数!AN85*AN$119","v":0},{"$f":"投入係数!AO85*AO$119","v":0},{"$f":"投入係数!AP85*AP$119","v":0},{"$f":"投入係数!AQ85*AQ$119","v":0},{"$f":"投入係数!AR85*AR$119","v":0},{"$f":"投入係数!AS85*AS$119","v":0},{"$f":"投入係数!AT85*AT$119","v":0},{"$f":"投入係数!AU85*AU$119","v":0},{"$f":"投入係数!AV85*AV$119","v":0},{"$f":"投入係数!AW85*AW$119","v":0},{"$f":"投入係数!AX85*AX$119","v":0},{"$f":"投入係数!AY85*AY$119","v":0},{"$f":"投入係数!AZ85*AZ$119","v":0},{"$f":"投入係数!BA85*BA$119","v":0},{"$f":"投入係数!BB85*BB$119","v":0},{"$f":"投入係数!BC85*BC$119","v":0},{"$f":"投入係数!BD85*BD$119","v":0},{"$f":"投入係数!BE85*BE$119","v":0},{"$f":"投入係数!BF85*BF$119","v":0},{"$f":"投入係数!BG85*BG$119","v":0},{"$f":"投入係数!BH85*BH$119","v":0},{"$f":"投入係数!BI85*BI$119","v":0},{"$f":"投入係数!BJ85*BJ$119","v":0},{"$f":"投入係数!BK85*BK$119","v":0},{"$f":"投入係数!BL85*BL$119","v":0},{"$f":"投入係数!BM85*BM$119","v":0},{"$f":"投入係数!BN85*BN$119","v":0},{"$f":"投入係数!BO85*BO$119","v":0},{"$f":"投入係数!BP85*BP$119","v":0},{"$f":"投入係数!BQ85*BQ$119","v":0},{"$f":"投入係数!BR85*BR$119","v":0},{"$f":"投入係数!BS85*BS$119","v":0},{"$f":"投入係数!BT85*BT$119","v":0},{"$f":"投入係数!BU85*BU$119","v":0},{"$f":"投入係数!BV85*BV$119","v":0},{"$f":"投入係数!BW85*BW$119","v":0},{"$f":"投入係数!BX85*BX$119","v":0},{"$f":"投入係数!BY85*BY$119","v":0},{"$f":"投入係数!BZ85*BZ$119","v":0},{"$f":"投入係数!CA85*CA$119","v":0},{"$f":"投入係数!CB85*CB$119","v":0},{"$f":"投入係数!CC85*CC$119","v":0},{"$f":"投入係数!CD85*CD$119","v":0},{"$f":"投入係数!CE85*CE$119","v":0},{"$f":"投入係数!CF85*CF$119","v":0},{"$f":"投入係数!CG85*CG$119","v":0},{"$f":"投入係数!CH85*CH$119","v":0},{"$f":"投入係数!CI85*CI$119","v":0},{"$f":"投入係数!CJ85*CJ$119","v":0},{"$f":"投入係数!CK85*CK$119","v":0},{"$f":"投入係数!CL85*CL$119","v":0},{"$f":"投入係数!CM85*CM$119","v":0},{"$f":"投入係数!CN85*CN$119","v":0},{"$f":"投入係数!CO85*CO$119","v":0},{"$f":"投入係数!CP85*CP$119","v":0},{"$f":"投入係数!CQ85*CQ$119","v":0},{"$f":"投入係数!CR85*CR$119","v":0},{"$f":"投入係数!CS85*CS$119","v":0},{"$f":"投入係数!CT85*CT$119","v":0},{"$f":"投入係数!CU85*CU$119","v":0},{"$f":"投入係数!CV85*CV$119","v":0},{"$f":"投入係数!CW85*CW$119","v":0},{"$f":"投入係数!CX85*CX$119","v":0},{"$f":"投入係数!CY85*CY$119","v":0},{"$f":"投入係数!CZ85*CZ$119","v":0},{"$f":"投入係数!DA85*DA$119","v":0},{"$f":"投入係数!DB85*DB$119","v":0},{"$f":"投入係数!DC85*DC$119","v":0},{"$f":"投入係数!DD85*DD$119","v":0},{"$f":"投入係数!DE85*DE$119","v":0},{"$f":"投入係数!DF85*DF$119","v":0},{"$f":"投入係数!DG85*DG$119","v":0},{"$f":"投入係数!DH85*DH$119","v":0},0]
[null,"574","水運",{"$f":"投入係数!D86*D$119","v":0},{"$f":"投入係数!E86*E$119","v":0},{"$f":"投入係数!F86*F$119","v":0},{"$f":"投入係数!G86*G$119","v":0},{"$f":"投入係数!H86*H$119","v":0},{"$f":"投入係数!I86*I$119","v":0},{"$f":"投入係数!J86*J$119","v":0},{"$f":"投入係数!K86*K$119","v":0},{"$f":"投入係数!L86*L$119","v":0},{"$f":"投入係数!M86*M$119","v":0},{"$f":"投入係数!N86*N$119","v":0},{"$f":"投入係数!O86*O$119","v":0},{"$f":"投入係数!P86*P$119","v":0},{"$f":"投入係数!Q86*Q$119","v":0},{"$f":"投入係数!R86*R$119","v":0},{"$f":"投入係数!S86*S$119","v":0},{"$f":"投入係数!T86*T$119","v":0},{"$f":"投入係数!U86*U$119","v":0},{"$f":"投入係数!V86*V$119","v":0},{"$f":"投入係数!W86*W$119","v":0},{"$f":"投入係数!X86*X$119","v":0},{"$f":"投入係数!Y86*Y$119","v":0},{"$f":"投入係数!Z86*Z$119","v":0},{"$f":"投入係数!AA86*AA$119","v":0},{"$f":"投入係数!AB86*AB$119","v":0},{"$f":"投入係数!AC86*AC$119","v":0},{"$f":"投入係数!AD86*AD$119","v":0},{"$f":"投入係数!AE86*AE$119","v":0},{"$f":"投入係数!AF86*AF$119","v":0},{"$f":"投入係数!AG86*AG$119","v":0},{"$f":"投入係数!AH86*AH$119","v":0},{"$f":"投入係数!AI86*AI$119","v":0},{"$f":"投入係数!AJ86*AJ$119","v":0},{"$f":"投入係数!AK86*AK$119","v":0},{"$f":"投入係数!AL86*AL$119","v":0},{"$f":"投入係数!AM86*AM$119","v":0},{"$f":"投入係数!AN86*AN$119","v":0},{"$f":"投入係数!AO86*AO$119","v":0},{"$f":"投入係数!AP86*AP$119","v":0},{"$f":"投入係数!AQ86*AQ$119","v":0},{"$f":"投入係数!AR86*AR$119","v":0},{"$f":"投入係数!AS86*AS$119","v":0},{"$f":"投入係数!AT86*AT$119","v":0},{"$f":"投入係数!AU86*AU$119","v":0},{"$f":"投入係数!AV86*AV$119","v":0},{"$f":"投入係数!AW86*AW$119","v":0},{"$f":"投入係数!AX86*AX$119","v":0},{"$f":"投入係数!AY86*AY$119","v":0},{"$f":"投入係数!AZ86*AZ$119","v":0},{"$f":"投入係数!BA86*BA$119","v":0},{"$f":"投入係数!BB86*BB$119","v":0},{"$f":"投入係数!BC86*BC$119","v":0},{"$f":"投入係数!BD86*BD$119","v":0},{"$f":"投入係数!BE86*BE$119","v":0},{"$f":"投入係数!BF86*BF$119","v":0},{"$f":"投入係数!BG86*BG$119","v":0},{"$f":"投入係数!BH86*BH$119","v":0},{"$f":"投入係数!BI86*BI$119","v":0},{"$f":"投入係数!BJ86*BJ$119","v":0},{"$f":"投入係数!BK86*BK$119","v":0},{"$f":"投入係数!BL86*BL$119","v":0},{"$f":"投入係数!BM86*BM$119","v":0},{"$f":"投入係数!BN86*BN$119","v":0},{"$f":"投入係数!BO86*BO$119","v":0},{"$f":"投入係数!BP86*BP$119","v":0},{"$f":"投入係数!BQ86*BQ$119","v":0},{"$f":"投入係数!BR86*BR$119","v":0},{"$f":"投入係数!BS86*BS$119","v":0},{"$f":"投入係数!BT86*BT$119","v":0},{"$f":"投入係数!BU86*BU$119","v":0},{"$f":"投入係数!BV86*BV$119","v":0},{"$f":"投入係数!BW86*BW$119","v":0},{"$f":"投入係数!BX86*BX$119","v":0},{"$f":"投入係数!BY86*BY$119","v":0},{"$f":"投入係数!BZ86*BZ$119","v":0},{"$f":"投入係数!CA86*CA$119","v":0},{"$f":"投入係数!CB86*CB$119","v":0},{"$f":"投入係数!CC86*CC$119","v":0},{"$f":"投入係数!CD86*CD$119","v":0},{"$f":"投入係数!CE86*CE$119","v":0},{"$f":"投入係数!CF86*CF$119","v":0},{"$f":"投入係数!CG86*CG$119","v":0},{"$f":"投入係数!CH86*CH$119","v":0},{"$f":"投入係数!CI86*CI$119","v":0},{"$f":"投入係数!CJ86*CJ$119","v":0},{"$f":"投入係数!CK86*CK$119","v":0},{"$f":"投入係数!CL86*CL$119","v":0},{"$f":"投入係数!CM86*CM$119","v":0},{"$f":"投入係数!CN86*CN$119","v":0},{"$f":"投入係数!CO86*CO$119","v":0},{"$f":"投入係数!CP86*CP$119","v":0},{"$f":"投入係数!CQ86*CQ$119","v":0},{"$f":"投入係数!CR86*CR$119","v":0},{"$f":"投入係数!CS86*CS$119","v":0},{"$f":"投入係数!CT86*CT$119","v":0},{"$f":"投入係数!CU86*CU$119","v":0},{"$f":"投入係数!CV86*CV$119","v":0},{"$f":"投入係数!CW86*CW$119","v":0},{"$f":"投入係数!CX86*CX$119","v":0},{"$f":"投入係数!CY86*CY$119","v":0},{"$f":"投入係数!CZ86*CZ$119","v":0},{"$f":"投入係数!DA86*DA$119","v":0},{"$f":"投入係数!DB86*DB$119","v":0},{"$f":"投入係数!DC86*DC$119","v":0},{"$f":"投入係数!DD86*DD$119","v":0},{"$f":"投入係数!DE86*DE$119","v":0},{"$f":"投入係数!DF86*DF$119","v":0},{"$f":"投入係数!DG86*DG$119","v":0},{"$f":"投入係数!DH86*DH$119","v":0},0]
[null,"575","航空輸送",{"$f":"投入係数!D87*D$119","v":0},{"$f":"投入係数!E87*E$119","v":0},{"$f":"投入係数!F87*F$119","v":0},{"$f":"投入係数!G87*G$119","v":0},{"$f":"投入係数!H87*H$119","v":0},{"$f":"投入係数!I87*I$119","v":0},{"$f":"投入係数!J87*J$119","v":0},{"$f":"投入係数!K87*K$119","v":0},{"$f":"投入係数!L87*L$119","v":0},{"$f":"投入係数!M87*M$119","v":0},{"$f":"投入係数!N87*N$119","v":0},{"$f":"投入係数!O87*O$119","v":0},{"$f":"投入係数!P87*P$119","v":0},{"$f":"投入係数!Q87*Q$119","v":0},{"$f":"投入係数!R87*R$119","v":0},{"$f":"投入係数!S87*S$119","v":0},{"$f":"投入係数!T87*T$119","v":0},{"$f":"投入係数!U87*U$119","v":0},{"$f":"投入係数!V87*V$119","v":0},{"$f":"投入係数!W87*W$119","v":0},{"$f":"投入係数!X87*X$119","v":0},{"$f":"投入係数!Y87*Y$119","v":0},{"$f":"投入係数!Z87*Z$119","v":0},{"$f":"投入係数!AA87*AA$119","v":0},{"$f":"投入係数!AB87*AB$119","v":0},{"$f":"投入係数!AC87*AC$119","v":0},{"$f":"投入係数!AD87*AD$119","v":0},{"$f":"投入係数!AE87*AE$119","v":0},{"$f":"投入係数!AF87*AF$119","v":0},{"$f":"投入係数!AG87*AG$119","v":0},{"$f":"投入係数!AH87*AH$119","v":0},{"$f":"投入係数!AI87*AI$119","v":0},{"$f":"投入係数!AJ87*AJ$119","v":0},{"$f":"投入係数!AK87*AK$119","v":0},{"$f":"投入係数!AL87*AL$119","v":0},{"$f":"投入係数!AM87*AM$119","v":0},{"$f":"投入係数!AN87*AN$119","v":0},{"$f":"投入係数!AO87*AO$119","v":0},{"$f":"投入係数!AP87*AP$119","v":0},{"$f":"投入係数!AQ87*AQ$119","v":0},{"$f":"投入係数!AR87*AR$119","v":0},{"$f":"投入係数!AS87*AS$119","v":0},{"$f":"投入係数!AT87*AT$119","v":0},{"$f":"投入係数!AU87*AU$119","v":0},{"$f":"投入係数!AV87*AV$119","v":0},{"$f":"投入係数!AW87*AW$119","v":0},{"$f":"投入係数!AX87*AX$119","v":0},{"$f":"投入係数!AY87*AY$119","v":0},{"$f":"投入係数!AZ87*AZ$119","v":0},{"$f":"投入係数!BA87*BA$119","v":0},{"$f":"投入係数!BB87*BB$119","v":0},{"$f":"投入係数!BC87*BC$119","v":0},{"$f":"投入係数!BD87*BD$119","v":0},{"$f":"投入係数!BE87*BE$119","v":0},{"$f":"投入係数!BF87*BF$119","v":0},{"$f":"投入係数!BG87*BG$119","v":0},{"$f":"投入係数!BH87*BH$119","v":0},{"$f":"投入係数!BI87*BI$119","v":0},{"$f":"投入係数!BJ87*BJ$119","v":0},{"$f":"投入係数!BK87*BK$119","v":0},{"$f":"投入係数!BL87*BL$119","v":0},{"$f":"投入係数!BM87*BM$119","v":0},{"$f":"投入係数!BN87*BN$119","v":0},{"$f":"投入係数!BO87*BO$119","v":0},{"$f":"投入係数!BP87*BP$119","v":0},{"$f":"投入係数!BQ87*BQ$119","v":0},{"$f":"投入係数!BR87*BR$119","v":0},{"$f":"投入係数!BS87*BS$119","v":0},{"$f":"投入係数!BT87*BT$119","v":0},{"$f":"投入係数!BU87*BU$119","v":0},{"$f":"投入係数!BV87*BV$119","v":0},{"$f":"投入係数!BW87*BW$119","v":0},{"$f":"投入係数!BX87*BX$119","v":0},{"$f":"投入係数!BY87*BY$119","v":0},{"$f":"投入係数!BZ87*BZ$119","v":0},{"$f":"投入係数!CA87*CA$119","v":0},{"$f":"投入係数!CB87*CB$119","v":0},{"$f":"投入係数!CC87*CC$119","v":0},{"$f":"投入係数!CD87*CD$119","v":0},{"$f":"投入係数!CE87*CE$119","v":0},{"$f":"投入係数!CF87*CF$119","v":0},{"$f":"投入係数!CG87*CG$119","v":0},{"$f":"投入係数!CH87*CH$119","v":0},{"$f":"投入係数!CI87*CI$119","v":0},{"$f":"投入係数!CJ87*CJ$119","v":0},{"$f":"投入係数!CK87*CK$119","v":0},{"$f":"投入係数!CL87*CL$119","v":0},{"$f":"投入係数!CM87*CM$119","v":0},{"$f":"投入係数!CN87*CN$119","v":0},{"$f":"投入係数!CO87*CO$119","v":0},{"$f":"投入係数!CP87*CP$119","v":0},{"$f":"投入係数!CQ87*CQ$119","v":0},{"$f":"投入係数!CR87*CR$119","v":0},{"$f":"投入係数!CS87*CS$119","v":0},{"$f":"投入係数!CT87*CT$119","v":0},{"$f":"投入係数!CU87*CU$119","v":0},{"$f":"投入係数!CV87*CV$119","v":0},{"$f":"投入係数!CW87*CW$119","v":0},{"$f":"投入係数!CX87*CX$119","v":0},{"$f":"投入係数!CY87*CY$119","v":0},{"$f":"投入係数!CZ87*CZ$119","v":0},{"$f":"投入係数!DA87*DA$119","v":0},{"$f":"投入係数!DB87*DB$119","v":0},{"$f":"投入係数!DC87*DC$119","v":0},{"$f":"投入係数!DD87*DD$119","v":0},{"$f":"投入係数!DE87*DE$119","v":0},{"$f":"投入係数!DF87*DF$119","v":0},{"$f":"投入係数!DG87*DG$119","v":0},{"$f":"投入係数!DH87*DH$119","v":0},0]
[null,"576","貨物利用運送",{"$f":"投入係数!D88*D$119","v":0},{"$f":"投入係数!E88*E$119","v":0},{"$f":"投入係数!F88*F$119","v":0},{"$f":"投入係数!G88*G$119","v":0},{"$f":"投入係数!H88*H$119","v":0},{"$f":"投入係数!I88*I$119","v":0},{"$f":"投入係数!J88*J$119","v":0},{"$f":"投入係数!K88*K$119","v":0},{"$f":"投入係数!L88*L$119","v":0},{"$f":"投入係数!M88*M$119","v":0},{"$f":"投入係数!N88*N$119","v":0},{"$f":"投入係数!O88*O$119","v":0},{"$f":"投入係数!P88*P$119","v":0},{"$f":"投入係数!Q88*Q$119","v":0},{"$f":"投入係数!R88*R$119","v":0},{"$f":"投入係数!S88*S$119","v":0},{"$f":"投入係数!T88*T$119","v":0},{"$f":"投入係数!U88*U$119","v":0},{"$f":"投入係数!V88*V$119","v":0},{"$f":"投入係数!W88*W$119","v":0},{"$f":"投入係数!X88*X$119","v":0},{"$f":"投入係数!Y88*Y$119","v":0},{"$f":"投入係数!Z88*Z$119","v":0},{"$f":"投入係数!AA88*AA$119","v":0},{"$f":"投入係数!AB88*AB$119","v":0},{"$f":"投入係数!AC88*AC$119","v":0},{"$f":"投入係数!AD88*AD$119","v":0},{"$f":"投入係数!AE88*AE$119","v":0},{"$f":"投入係数!AF88*AF$119","v":0},{"$f":"投入係数!AG88*AG$119","v":0},{"$f":"投入係数!AH88*AH$119","v":0},{"$f":"投入係数!AI88*AI$119","v":0},{"$f":"投入係数!AJ88*AJ$119","v":0},{"$f":"投入係数!AK88*AK$119","v":0},{"$f":"投入係数!AL88*AL$119","v":0},{"$f":"投入係数!AM88*AM$119","v":0},{"$f":"投入係数!AN88*AN$119","v":0},{"$f":"投入係数!AO88*AO$119","v":0},{"$f":"投入係数!AP88*AP$119","v":0},{"$f":"投入係数!AQ88*AQ$119","v":0},{"$f":"投入係数!AR88*AR$119","v":0},{"$f":"投入係数!AS88*AS$119","v":0},{"$f":"投入係数!AT88*AT$119","v":0},{"$f":"投入係数!AU88*AU$119","v":0},{"$f":"投入係数!AV88*AV$119","v":0},{"$f":"投入係数!AW88*AW$119","v":0},{"$f":"投入係数!AX88*AX$119","v":0},{"$f":"投入係数!AY88*AY$119","v":0},{"$f":"投入係数!AZ88*AZ$119","v":0},{"$f":"投入係数!BA88*BA$119","v":0},{"$f":"投入係数!BB88*BB$119","v":0},{"$f":"投入係数!BC88*BC$119","v":0},{"$f":"投入係数!BD88*BD$119","v":0},{"$f":"投入係数!BE88*BE$119","v":0},{"$f":"投入係数!BF88*BF$119","v":0},{"$f":"投入係数!BG88*BG$119","v":0},{"$f":"投入係数!BH88*BH$119","v":0},{"$f":"投入係数!BI88*BI$119","v":0},{"$f":"投入係数!BJ88*BJ$119","v":0},{"$f":"投入係数!BK88*BK$119","v":0},{"$f":"投入係数!BL88*BL$119","v":0},{"$f":"投入係数!BM88*BM$119","v":0},{"$f":"投入係数!BN88*BN$119","v":0},{"$f":"投入係数!BO88*BO$119","v":0},{"$f":"投入係数!BP88*BP$119","v":0},{"$f":"投入係数!BQ88*BQ$119","v":0},{"$f":"投入係数!BR88*BR$119","v":0},{"$f":"投入係数!BS88*BS$119","v":0},{"$f":"投入係数!BT88*BT$119","v":0},{"$f":"投入係数!BU88*BU$119","v":0},{"$f":"投入係数!BV88*BV$119","v":0},{"$f":"投入係数!BW88*BW$119","v":0},{"$f":"投入係数!BX88*BX$119","v":0},{"$f":"投入係数!BY88*BY$119","v":0},{"$f":"投入係数!BZ88*BZ$119","v":0},{"$f":"投入係数!CA88*CA$119","v":0},{"$f":"投入係数!CB88*CB$119","v":0},{"$f":"投入係数!CC88*CC$119","v":0},{"$f":"投入係数!CD88*CD$119","v":0},{"$f":"投入係数!CE88*CE$119","v":0},{"$f":"投入係数!CF88*CF$119","v":0},{"$f":"投入係数!CG88*CG$119","v":0},{"$f":"投入係数!CH88*CH$119","v":0},{"$f":"投入係数!CI88*CI$119","v":0},{"$f":"投入係数!CJ88*CJ$119","v":0},{"$f":"投入係数!CK88*CK$119","v":0},{"$f":"投入係数!CL88*CL$119","v":0},{"$f":"投入係数!CM88*CM$119","v":0},{"$f":"投入係数!CN88*CN$119","v":0},{"$f":"投入係数!CO88*CO$119","v":0},{"$f":"投入係数!CP88*CP$119","v":0},{"$f":"投入係数!CQ88*CQ$119","v":0},{"$f":"投入係数!CR88*CR$119","v":0},{"$f":"投入係数!CS88*CS$119","v":0},{"$f":"投入係数!CT88*CT$119","v":0},{"$f":"投入係数!CU88*CU$119","v":0},{"$f":"投入係数!CV88*CV$119","v":0},{"$f":"投入係数!CW88*CW$119","v":0},{"$f":"投入係数!CX88*CX$119","v":0},{"$f":"投入係数!CY88*CY$119","v":0},{"$f":"投入係数!CZ88*CZ$119","v":0},{"$f":"投入係数!DA88*DA$119","v":0},{"$f":"投入係数!DB88*DB$119","v":0},{"$f":"投入係数!DC88*DC$119","v":0},{"$f":"投入係数!DD88*DD$119","v":0},{"$f":"投入係数!DE88*DE$119","v":0},{"$f":"投入係数!DF88*DF$119","v":0},{"$f":"投入係数!DG88*DG$119","v":0},{"$f":"投入係数!DH88*DH$119","v":0},0]
[null,"577","倉庫",{"$f":"投入係数!D89*D$119","v":0},{"$f":"投入係数!E89*E$119","v":0},{"$f":"投入係数!F89*F$119","v":0},{"$f":"投入係数!G89*G$119","v":0},{"$f":"投入係数!H89*H$119","v":0},{"$f":"投入係数!I89*I$119","v":0},{"$f":"投入係数!J89*J$119","v":0},{"$f":"投入係数!K89*K$119","v":0},{"$f":"投入係数!L89*L$119","v":0},{"$f":"投入係数!M89*M$119","v":0},{"$f":"投入係数!N89*N$119","v":0},{"$f":"投入係数!O89*O$119","v":0},{"$f":"投入係数!P89*P$119","v":0},{"$f":"投入係数!Q89*Q$119","v":0},{"$f":"投入係数!R89*R$119","v":0},{"$f":"投入係数!S89*S$119","v":0},{"$f":"投入係数!T89*T$119","v":0},{"$f":"投入係数!U89*U$119","v":0},{"$f":"投入係数!V89*V$119","v":0},{"$f":"投入係数!W89*W$119","v":0},{"$f":"投入係数!X89*X$119","v":0},{"$f":"投入係数!Y89*Y$119","v":0},{"$f":"投入係数!Z89*Z$119","v":0},{"$f":"投入係数!AA89*AA$119","v":0},{"$f":"投入係数!AB89*AB$119","v":0},{"$f":"投入係数!AC89*AC$119","v":0},{"$f":"投入係数!AD89*AD$119","v":0},{"$f":"投入係数!AE89*AE$119","v":0},{"$f":"投入係数!AF89*AF$119","v":0},{"$f":"投入係数!AG89*AG$119","v":0},{"$f":"投入係数!AH89*AH$119","v":0},{"$f":"投入係数!AI89*AI$119","v":0},{"$f":"投入係数!AJ89*AJ$119","v":0},{"$f":"投入係数!AK89*AK$119","v":0},{"$f":"投入係数!AL89*AL$119","v":0},{"$f":"投入係数!AM89*AM$119","v":0},{"$f":"投入係数!AN89*AN$119","v":0},{"$f":"投入係数!AO89*AO$119","v":0},{"$f":"投入係数!AP89*AP$119","v":0},{"$f":"投入係数!AQ89*AQ$119","v":0},{"$f":"投入係数!AR89*AR$119","v":0},{"$f":"投入係数!AS89*AS$119","v":0},{"$f":"投入係数!AT89*AT$119","v":0},{"$f":"投入係数!AU89*AU$119","v":0},{"$f":"投入係数!AV89*AV$119","v":0},{"$f":"投入係数!AW89*AW$119","v":0},{"$f":"投入係数!AX89*AX$119","v":0},{"$f":"投入係数!AY89*AY$119","v":0},{"$f":"投入係数!AZ89*AZ$119","v":0},{"$f":"投入係数!BA89*BA$119","v":0},{"$f":"投入係数!BB89*BB$119","v":0},{"$f":"投入係数!BC89*BC$119","v":0},{"$f":"投入係数!BD89*BD$119","v":0},{"$f":"投入係数!BE89*BE$119","v":0},{"$f":"投入係数!BF89*BF$119","v":0},{"$f":"投入係数!BG89*BG$119","v":0},{"$f":"投入係数!BH89*BH$119","v":0},{"$f":"投入係数!BI89*BI$119","v":0},{"$f":"投入係数!BJ89*BJ$119","v":0},{"$f":"投入係数!BK89*BK$119","v":0},{"$f":"投入係数!BL89*BL$119","v":0},{"$f":"投入係数!BM89*BM$119","v":0},{"$f":"投入係数!BN89*BN$119","v":0},{"$f":"投入係数!BO89*BO$119","v":0},{"$f":"投入係数!BP89*BP$119","v":0},{"$f":"投入係数!BQ89*BQ$119","v":0},{"$f":"投入係数!BR89*BR$119","v":0},{"$f":"投入係数!BS89*BS$119","v":0},{"$f":"投入係数!BT89*BT$119","v":0},{"$f":"投入係数!BU89*BU$119","v":0},{"$f":"投入係数!BV89*BV$119","v":0},{"$f":"投入係数!BW89*BW$119","v":0},{"$f":"投入係数!BX89*BX$119","v":0},{"$f":"投入係数!BY89*BY$119","v":0},{"$f":"投入係数!BZ89*BZ$119","v":0},{"$f":"投入係数!CA89*CA$119","v":0},{"$f":"投入係数!CB89*CB$119","v":0},{"$f":"投入係数!CC89*CC$119","v":0},{"$f":"投入係数!CD89*CD$119","v":0},{"$f":"投入係数!CE89*CE$119","v":0},{"$f":"投入係数!CF89*CF$119","v":0},{"$f":"投入係数!CG89*CG$119","v":0},{"$f":"投入係数!CH89*CH$119","v":0},{"$f":"投入係数!CI89*CI$119","v":0},{"$f":"投入係数!CJ89*CJ$119","v":0},{"$f":"投入係数!CK89*CK$119","v":0},{"$f":"投入係数!CL89*CL$119","v":0},{"$f":"投入係数!CM89*CM$119","v":0},{"$f":"投入係数!CN89*CN$119","v":0},{"$f":"投入係数!CO89*CO$119","v":0},{"$f":"投入係数!CP89*CP$119","v":0},{"$f":"投入係数!CQ89*CQ$119","v":0},{"$f":"投入係数!CR89*CR$119","v":0},{"$f":"投入係数!CS89*CS$119","v":0},{"$f":"投入係数!CT89*CT$119","v":0},{"$f":"投入係数!CU89*CU$119","v":0},{"$f":"投入係数!CV89*CV$119","v":0},{"$f":"投入係数!CW89*CW$119","v":0},{"$f":"投入係数!CX89*CX$119","v":0},{"$f":"投入係数!CY89*CY$119","v":0},{"$f":"投入係数!CZ89*CZ$119","v":0},{"$f":"投入係数!DA89*DA$119","v":0},{"$f":"投入係数!DB89*DB$119","v":0},{"$f":"投入係数!DC89*DC$119","v":0},{"$f":"投入係数!DD89*DD$119","v":0},{"$f":"投入係数!DE89*DE$119","v":0},{"$f":"投入係数!DF89*DF$119","v":0},{"$f":"投入係数!DG89*DG$119","v":0},{"$f":"投入係数!DH89*DH$119","v":0},0]
[null,"578","運輸附帯サービス",{"$f":"投入係数!D90*D$119","v":0},{"$f":"投入係数!E90*E$119","v":0},{"$f":"投入係数!F90*F$119","v":0},{"$f":"投入係数!G90*G$119","v":0},{"$f":"投入係数!H90*H$119","v":0},{"$f":"投入係数!I90*I$119","v":0},{"$f":"投入係数!J90*J$119","v":0},{"$f":"投入係数!K90*K$119","v":0},{"$f":"投入係数!L90*L$119","v":0},{"$f":"投入係数!M90*M$119","v":0},{"$f":"投入係数!N90*N$119","v":0},{"$f":"投入係数!O90*O$119","v":0},{"$f":"投入係数!P90*P$119","v":0},{"$f":"投入係数!Q90*Q$119","v":0},{"$f":"投入係数!R90*R$119","v":0},{"$f":"投入係数!S90*S$119","v":0},{"$f":"投入係数!T90*T$119","v":0},{"$f":"投入係数!U90*U$119","v":0},{"$f":"投入係数!V90*V$119","v":0},{"$f":"投入係数!W90*W$119","v":0},{"$f":"投入係数!X90*X$119","v":0},{"$f":"投入係数!Y90*Y$119","v":0},{"$f":"投入係数!Z90*Z$119","v":0},{"$f":"投入係数!AA90*AA$119","v":0},{"$f":"投入係数!AB90*AB$119","v":0},{"$f":"投入係数!AC90*AC$119","v":0},{"$f":"投入係数!AD90*AD$119","v":0},{"$f":"投入係数!AE90*AE$119","v":0},{"$f":"投入係数!AF90*AF$119","v":0},{"$f":"投入係数!AG90*AG$119","v":0},{"$f":"投入係数!AH90*AH$119","v":0},{"$f":"投入係数!AI90*AI$119","v":0},{"$f":"投入係数!AJ90*AJ$119","v":0},{"$f":"投入係数!AK90*AK$119","v":0},{"$f":"投入係数!AL90*AL$119","v":0},{"$f":"投入係数!AM90*AM$119","v":0},{"$f":"投入係数!AN90*AN$119","v":0},{"$f":"投入係数!AO90*AO$119","v":0},{"$f":"投入係数!AP90*AP$119","v":0},{"$f":"投入係数!AQ90*AQ$119","v":0},{"$f":"投入係数!AR90*AR$119","v":0},{"$f":"投入係数!AS90*AS$119","v":0},{"$f":"投入係数!AT90*AT$119","v":0},{"$f":"投入係数!AU90*AU$119","v":0},{"$f":"投入係数!AV90*AV$119","v":0},{"$f":"投入係数!AW90*AW$119","v":0},{"$f":"投入係数!AX90*AX$119","v":0},{"$f":"投入係数!AY90*AY$119","v":0},{"$f":"投入係数!AZ90*AZ$119","v":0},{"$f":"投入係数!BA90*BA$119","v":0},{"$f":"投入係数!BB90*BB$119","v":0},{"$f":"投入係数!BC90*BC$119","v":0},{"$f":"投入係数!BD90*BD$119","v":0},{"$f":"投入係数!BE90*BE$119","v":0},{"$f":"投入係数!BF90*BF$119","v":0},{"$f":"投入係数!BG90*BG$119","v":0},{"$f":"投入係数!BH90*BH$119","v":0},{"$f":"投入係数!BI90*BI$119","v":0},{"$f":"投入係数!BJ90*BJ$119","v":0},{"$f":"投入係数!BK90*BK$119","v":0},{"$f":"投入係数!BL90*BL$119","v":0},{"$f":"投入係数!BM90*BM$119","v":0},{"$f":"投入係数!BN90*BN$119","v":0},{"$f":"投入係数!BO90*BO$119","v":0},{"$f":"投入係数!BP90*BP$119","v":0},{"$f":"投入係数!BQ90*BQ$119","v":0},{"$f":"投入係数!BR90*BR$119","v":0},{"$f":"投入係数!BS90*BS$119","v":0},{"$f":"投入係数!BT90*BT$119","v":0},{"$f":"投入係数!BU90*BU$119","v":0},{"$f":"投入係数!BV90*BV$119","v":0},{"$f":"投入係数!BW90*BW$119","v":0},{"$f":"投入係数!BX90*BX$119","v":0},{"$f":"投入係数!BY90*BY$119","v":0},{"$f":"投入係数!BZ90*BZ$119","v":0},{"$f":"投入係数!CA90*CA$119","v":0},{"$f":"投入係数!CB90*CB$119","v":0},{"$f":"投入係数!CC90*CC$119","v":0},{"$f":"投入係数!CD90*CD$119","v":0},{"$f":"投入係数!CE90*CE$119","v":0},{"$f":"投入係数!CF90*CF$119","v":0},{"$f":"投入係数!CG90*CG$119","v":0},{"$f":"投入係数!CH90*CH$119","v":0},{"$f":"投入係数!CI90*CI$119","v":0},{"$f":"投入係数!CJ90*CJ$119","v":0},{"$f":"投入係数!CK90*CK$119","v":0},{"$f":"投入係数!CL90*CL$119","v":0},{"$f":"投入係数!CM90*CM$119","v":0},{"$f":"投入係数!CN90*CN$119","v":0},{"$f":"投入係数!CO90*CO$119","v":0},{"$f":"投入係数!CP90*CP$119","v":0},{"$f":"投入係数!CQ90*CQ$119","v":0},{"$f":"投入係数!CR90*CR$119","v":0},{"$f":"投入係数!CS90*CS$119","v":0},{"$f":"投入係数!CT90*CT$119","v":0},{"$f":"投入係数!CU90*CU$119","v":0},{"$f":"投入係数!CV90*CV$119","v":0},{"$f":"投入係数!CW90*CW$119","v":0},{"$f":"投入係数!CX90*CX$119","v":0},{"$f":"投入係数!CY90*CY$119","v":0},{"$f":"投入係数!CZ90*CZ$119","v":0},{"$f":"投入係数!DA90*DA$119","v":0},{"$f":"投入係数!DB90*DB$119","v":0},{"$f":"投入係数!DC90*DC$119","v":0},{"$f":"投入係数!DD90*DD$119","v":0},{"$f":"投入係数!DE90*DE$119","v":0},{"$f":"投入係数!DF90*DF$119","v":0},{"$f":"投入係数!DG90*DG$119","v":0},{"$f":"投入係数!DH90*DH$119","v":0},0]
[null,"579","郵便・信書便",{"$f":"投入係数!D91*D$119","v":0},{"$f":"投入係数!E91*E$119","v":0},{"$f":"投入係数!F91*F$119","v":0},{"$f":"投入係数!G91*G$119","v":0},{"$f":"投入係数!H91*H$119","v":0},{"$f":"投入係数!I91*I$119","v":0},{"$f":"投入係数!J91*J$119","v":0},{"$f":"投入係数!K91*K$119","v":0},{"$f":"投入係数!L91*L$119","v":0},{"$f":"投入係数!M91*M$119","v":0},{"$f":"投入係数!N91*N$119","v":0},{"$f":"投入係数!O91*O$119","v":0},{"$f":"投入係数!P91*P$119","v":0},{"$f":"投入係数!Q91*Q$119","v":0},{"$f":"投入係数!R91*R$119","v":0},{"$f":"投入係数!S91*S$119","v":0},{"$f":"投入係数!T91*T$119","v":0},{"$f":"投入係数!U91*U$119","v":0},{"$f":"投入係数!V91*V$119","v":0},{"$f":"投入係数!W91*W$119","v":0},{"$f":"投入係数!X91*X$119","v":0},{"$f":"投入係数!Y91*Y$119","v":0},{"$f":"投入係数!Z91*Z$119","v":0},{"$f":"投入係数!AA91*AA$119","v":0},{"$f":"投入係数!AB91*AB$119","v":0},{"$f":"投入係数!AC91*AC$119","v":0},{"$f":"投入係数!AD91*AD$119","v":0},{"$f":"投入係数!AE91*AE$119","v":0},{"$f":"投入係数!AF91*AF$119","v":0},{"$f":"投入係数!AG91*AG$119","v":0},{"$f":"投入係数!AH91*AH$119","v":0},{"$f":"投入係数!AI91*AI$119","v":0},{"$f":"投入係数!AJ91*AJ$119","v":0},{"$f":"投入係数!AK91*AK$119","v":0},{"$f":"投入係数!AL91*AL$119","v":0},{"$f":"投入係数!AM91*AM$119","v":0},{"$f":"投入係数!AN91*AN$119","v":0},{"$f":"投入係数!AO91*AO$119","v":0},{"$f":"投入係数!AP91*AP$119","v":0},{"$f":"投入係数!AQ91*AQ$119","v":0},{"$f":"投入係数!AR91*AR$119","v":0},{"$f":"投入係数!AS91*AS$119","v":0},{"$f":"投入係数!AT91*AT$119","v":0},{"$f":"投入係数!AU91*AU$119","v":0},{"$f":"投入係数!AV91*AV$119","v":0},{"$f":"投入係数!AW91*AW$119","v":0},{"$f":"投入係数!AX91*AX$119","v":0},{"$f":"投入係数!AY91*AY$119","v":0},{"$f":"投入係数!AZ91*AZ$119","v":0},{"$f":"投入係数!BA91*BA$119","v":0},{"$f":"投入係数!BB91*BB$119","v":0},{"$f":"投入係数!BC91*BC$119","v":0},{"$f":"投入係数!BD91*BD$119","v":0},{"$f":"投入係数!BE91*BE$119","v":0},{"$f":"投入係数!BF91*BF$119","v":0},{"$f":"投入係数!BG91*BG$119","v":0},{"$f":"投入係数!BH91*BH$119","v":0},{"$f":"投入係数!BI91*BI$119","v":0},{"$f":"投入係数!BJ91*BJ$119","v":0},{"$f":"投入係数!BK91*BK$119","v":0},{"$f":"投入係数!BL91*BL$119","v":0},{"$f":"投入係数!BM91*BM$119","v":0},{"$f":"投入係数!BN91*BN$119","v":0},{"$f":"投入係数!BO91*BO$119","v":0},{"$f":"投入係数!BP91*BP$119","v":0},{"$f":"投入係数!BQ91*BQ$119","v":0},{"$f":"投入係数!BR91*BR$119","v":0},{"$f":"投入係数!BS91*BS$119","v":0},{"$f":"投入係数!BT91*BT$119","v":0},{"$f":"投入係数!BU91*BU$119","v":0},{"$f":"投入係数!BV91*BV$119","v":0},{"$f":"投入係数!BW91*BW$119","v":0},{"$f":"投入係数!BX91*BX$119","v":0},{"$f":"投入係数!BY91*BY$119","v":0},{"$f":"投入係数!BZ91*BZ$119","v":0},{"$f":"投入係数!CA91*CA$119","v":0},{"$f":"投入係数!CB91*CB$119","v":0},{"$f":"投入係数!CC91*CC$119","v":0},{"$f":"投入係数!CD91*CD$119","v":0},{"$f":"投入係数!CE91*CE$119","v":0},{"$f":"投入係数!CF91*CF$119","v":0},{"$f":"投入係数!CG91*CG$119","v":0},{"$f":"投入係数!CH91*CH$119","v":0},{"$f":"投入係数!CI91*CI$119","v":0},{"$f":"投入係数!CJ91*CJ$119","v":0},{"$f":"投入係数!CK91*CK$119","v":0},{"$f":"投入係数!CL91*CL$119","v":0},{"$f":"投入係数!CM91*CM$119","v":0},{"$f":"投入係数!CN91*CN$119","v":0},{"$f":"投入係数!CO91*CO$119","v":0},{"$f":"投入係数!CP91*CP$119","v":0},{"$f":"投入係数!CQ91*CQ$119","v":0},{"$f":"投入係数!CR91*CR$119","v":0},{"$f":"投入係数!CS91*CS$119","v":0},{"$f":"投入係数!CT91*CT$119","v":0},{"$f":"投入係数!CU91*CU$119","v":0},{"$f":"投入係数!CV91*CV$119","v":0},{"$f":"投入係数!CW91*CW$119","v":0},{"$f":"投入係数!CX91*CX$119","v":0},{"$f":"投入係数!CY91*CY$119","v":0},{"$f":"投入係数!CZ91*CZ$119","v":0},{"$f":"投入係数!DA91*DA$119","v":0},{"$f":"投入係数!DB91*DB$119","v":0},{"$f":"投入係数!DC91*DC$119","v":0},{"$f":"投入係数!DD91*DD$119","v":0},{"$f":"投入係数!DE91*DE$119","v":0},{"$f":"投入係数!DF91*DF$119","v":0},{"$f":"投入係数!DG91*DG$119","v":0},{"$f":"投入係数!DH91*DH$119","v":0},0]
[null,"591","通信",{"$f":"投入係数!D92*D$119","v":0},{"$f":"投入係数!E92*E$119","v":0},{"$f":"投入係数!F92*F$119","v":0},{"$f":"投入係数!G92*G$119","v":0},{"$f":"投入係数!H92*H$119","v":0},{"$f":"投入係数!I92*I$119","v":0},{"$f":"投入係数!J92*J$119","v":0},{"$f":"投入係数!K92*K$119","v":0},{"$f":"投入係数!L92*L$119","v":0},{"$f":"投入係数!M92*M$119","v":0},{"$f":"投入係数!N92*N$119","v":0},{"$f":"投入係数!O92*O$119","v":0},{"$f":"投入係数!P92*P$119","v":0},{"$f":"投入係数!Q92*Q$119","v":0},{"$f":"投入係数!R92*R$119","v":0},{"$f":"投入係数!S92*S$119","v":0},{"$f":"投入係数!T92*T$119","v":0},{"$f":"投入係数!U92*U$119","v":0},{"$f":"投入係数!V92*V$119","v":0},{"$f":"投入係数!W92*W$119","v":0},{"$f":"投入係数!X92*X$119","v":0},{"$f":"投入係数!Y92*Y$119","v":0},{"$f":"投入係数!Z92*Z$119","v":0},{"$f":"投入係数!AA92*AA$119","v":0},{"$f":"投入係数!AB92*AB$119","v":0},{"$f":"投入係数!AC92*AC$119","v":0},{"$f":"投入係数!AD92*AD$119","v":0},{"$f":"投入係数!AE92*AE$119","v":0},{"$f":"投入係数!AF92*AF$119","v":0},{"$f":"投入係数!AG92*AG$119","v":0},{"$f":"投入係数!AH92*AH$119","v":0},{"$f":"投入係数!AI92*AI$119","v":0},{"$f":"投入係数!AJ92*AJ$119","v":0},{"$f":"投入係数!AK92*AK$119","v":0},{"$f":"投入係数!AL92*AL$119","v":0},{"$f":"投入係数!AM92*AM$119","v":0},{"$f":"投入係数!AN92*AN$119","v":0},{"$f":"投入係数!AO92*AO$119","v":0},{"$f":"投入係数!AP92*AP$119","v":0},{"$f":"投入係数!AQ92*AQ$119","v":0},{"$f":"投入係数!AR92*AR$119","v":0},{"$f":"投入係数!AS92*AS$119","v":0},{"$f":"投入係数!AT92*AT$119","v":0},{"$f":"投入係数!AU92*AU$119","v":0},{"$f":"投入係数!AV92*AV$119","v":0},{"$f":"投入係数!AW92*AW$119","v":0},{"$f":"投入係数!AX92*AX$119","v":0},{"$f":"投入係数!AY92*AY$119","v":0},{"$f":"投入係数!AZ92*AZ$119","v":0},{"$f":"投入係数!BA92*BA$119","v":0},{"$f":"投入係数!BB92*BB$119","v":0},{"$f":"投入係数!BC92*BC$119","v":0},{"$f":"投入係数!BD92*BD$119","v":0},{"$f":"投入係数!BE92*BE$119","v":0},{"$f":"投入係数!BF92*BF$119","v":0},{"$f":"投入係数!BG92*BG$119","v":0},{"$f":"投入係数!BH92*BH$119","v":0},{"$f":"投入係数!BI92*BI$119","v":0},{"$f":"投入係数!BJ92*BJ$119","v":0},{"$f":"投入係数!BK92*BK$119","v":0},{"$f":"投入係数!BL92*BL$119","v":0},{"$f":"投入係数!BM92*BM$119","v":0},{"$f":"投入係数!BN92*BN$119","v":0},{"$f":"投入係数!BO92*BO$119","v":0},{"$f":"投入係数!BP92*BP$119","v":0},{"$f":"投入係数!BQ92*BQ$119","v":0},{"$f":"投入係数!BR92*BR$119","v":0},{"$f":"投入係数!BS92*BS$119","v":0},{"$f":"投入係数!BT92*BT$119","v":0},{"$f":"投入係数!BU92*BU$119","v":0},{"$f":"投入係数!BV92*BV$119","v":0},{"$f":"投入係数!BW92*BW$119","v":0},{"$f":"投入係数!BX92*BX$119","v":0},{"$f":"投入係数!BY92*BY$119","v":0},{"$f":"投入係数!BZ92*BZ$119","v":0},{"$f":"投入係数!CA92*CA$119","v":0},{"$f":"投入係数!CB92*CB$119","v":0},{"$f":"投入係数!CC92*CC$119","v":0},{"$f":"投入係数!CD92*CD$119","v":0},{"$f":"投入係数!CE92*CE$119","v":0},{"$f":"投入係数!CF92*CF$119","v":0},{"$f":"投入係数!CG92*CG$119","v":0},{"$f":"投入係数!CH92*CH$119","v":0},{"$f":"投入係数!CI92*CI$119","v":0},{"$f":"投入係数!CJ92*CJ$119","v":0},{"$f":"投入係数!CK92*CK$119","v":0},{"$f":"投入係数!CL92*CL$119","v":0},{"$f":"投入係数!CM92*CM$119","v":0},{"$f":"投入係数!CN92*CN$119","v":0},{"$f":"投入係数!CO92*CO$119","v":0},{"$f":"投入係数!CP92*CP$119","v":0},{"$f":"投入係数!CQ92*CQ$119","v":0},{"$f":"投入係数!CR92*CR$119","v":0},{"$f":"投入係数!CS92*CS$119","v":0},{"$f":"投入係数!CT92*CT$119","v":0},{"$f":"投入係数!CU92*CU$119","v":0},{"$f":"投入係数!CV92*CV$119","v":0},{"$f":"投入係数!CW92*CW$119","v":0},{"$f":"投入係数!CX92*CX$119","v":0},{"$f":"投入係数!CY92*CY$119","v":0},{"$f":"投入係数!CZ92*CZ$119","v":0},{"$f":"投入係数!DA92*DA$119","v":0},{"$f":"投入係数!DB92*DB$119","v":0},{"$f":"投入係数!DC92*DC$119","v":0},{"$f":"投入係数!DD92*DD$119","v":0},{"$f":"投入係数!DE92*DE$119","v":0},{"$f":"投入係数!DF92*DF$119","v":0},{"$f":"投入係数!DG92*DG$119","v":0},{"$f":"投入係数!DH92*DH$119","v":0},0]
[null,"592","放送",{"$f":"投入係数!D93*D$119","v":0},{"$f":"投入係数!E93*E$119","v":0},{"$f":"投入係数!F93*F$119","v":0},{"$f":"投入係数!G93*G$119","v":0},{"$f":"投入係数!H93*H$119","v":0},{"$f":"投入係数!I93*I$119","v":0},{"$f":"投入係数!J93*J$119","v":0},{"$f":"投入係数!K93*K$119","v":0},{"$f":"投入係数!L93*L$119","v":0},{"$f":"投入係数!M93*M$119","v":0},{"$f":"投入係数!N93*N$119","v":0},{"$f":"投入係数!O93*O$119","v":0},{"$f":"投入係数!P93*P$119","v":0},{"$f":"投入係数!Q93*Q$119","v":0},{"$f":"投入係数!R93*R$119","v":0},{"$f":"投入係数!S93*S$119","v":0},{"$f":"投入係数!T93*T$119","v":0},{"$f":"投入係数!U93*U$119","v":0},{"$f":"投入係数!V93*V$119","v":0},{"$f":"投入係数!W93*W$119","v":0},{"$f":"投入係数!X93*X$119","v":0},{"$f":"投入係数!Y93*Y$119","v":0},{"$f":"投入係数!Z93*Z$119","v":0},{"$f":"投入係数!AA93*AA$119","v":0},{"$f":"投入係数!AB93*AB$119","v":0},{"$f":"投入係数!AC93*AC$119","v":0},{"$f":"投入係数!AD93*AD$119","v":0},{"$f":"投入係数!AE93*AE$119","v":0},{"$f":"投入係数!AF93*AF$119","v":0},{"$f":"投入係数!AG93*AG$119","v":0},{"$f":"投入係数!AH93*AH$119","v":0},{"$f":"投入係数!AI93*AI$119","v":0},{"$f":"投入係数!AJ93*AJ$119","v":0},{"$f":"投入係数!AK93*AK$119","v":0},{"$f":"投入係数!AL93*AL$119","v":0},{"$f":"投入係数!AM93*AM$119","v":0},{"$f":"投入係数!AN93*AN$119","v":0},{"$f":"投入係数!AO93*AO$119","v":0},{"$f":"投入係数!AP93*AP$119","v":0},{"$f":"投入係数!AQ93*AQ$119","v":0},{"$f":"投入係数!AR93*AR$119","v":0},{"$f":"投入係数!AS93*AS$119","v":0},{"$f":"投入係数!AT93*AT$119","v":0},{"$f":"投入係数!AU93*AU$119","v":0},{"$f":"投入係数!AV93*AV$119","v":0},{"$f":"投入係数!AW93*AW$119","v":0},{"$f":"投入係数!AX93*AX$119","v":0},{"$f":"投入係数!AY93*AY$119","v":0},{"$f":"投入係数!AZ93*AZ$119","v":0},{"$f":"投入係数!BA93*BA$119","v":0},{"$f":"投入係数!BB93*BB$119","v":0},{"$f":"投入係数!BC93*BC$119","v":0},{"$f":"投入係数!BD93*BD$119","v":0},{"$f":"投入係数!BE93*BE$119","v":0},{"$f":"投入係数!BF93*BF$119","v":0},{"$f":"投入係数!BG93*BG$119","v":0},{"$f":"投入係数!BH93*BH$119","v":0},{"$f":"投入係数!BI93*BI$119","v":0},{"$f":"投入係数!BJ93*BJ$119","v":0},{"$f":"投入係数!BK93*BK$119","v":0},{"$f":"投入係数!BL93*BL$119","v":0},{"$f":"投入係数!BM93*BM$119","v":0},{"$f":"投入係数!BN93*BN$119","v":0},{"$f":"投入係数!BO93*BO$119","v":0},{"$f":"投入係数!BP93*BP$119","v":0},{"$f":"投入係数!BQ93*BQ$119","v":0},{"$f":"投入係数!BR93*BR$119","v":0},{"$f":"投入係数!BS93*BS$119","v":0},{"$f":"投入係数!BT93*BT$119","v":0},{"$f":"投入係数!BU93*BU$119","v":0},{"$f":"投入係数!BV93*BV$119","v":0},{"$f":"投入係数!BW93*BW$119","v":0},{"$f":"投入係数!BX93*BX$119","v":0},{"$f":"投入係数!BY93*BY$119","v":0},{"$f":"投入係数!BZ93*BZ$119","v":0},{"$f":"投入係数!CA93*CA$119","v":0},{"$f":"投入係数!CB93*CB$119","v":0},{"$f":"投入係数!CC93*CC$119","v":0},{"$f":"投入係数!CD93*CD$119","v":0},{"$f":"投入係数!CE93*CE$119","v":0},{"$f":"投入係数!CF93*CF$119","v":0},{"$f":"投入係数!CG93*CG$119","v":0},{"$f":"投入係数!CH93*CH$119","v":0},{"$f":"投入係数!CI93*CI$119","v":0},{"$f":"投入係数!CJ93*CJ$119","v":0},{"$f":"投入係数!CK93*CK$119","v":0},{"$f":"投入係数!CL93*CL$119","v":0},{"$f":"投入係数!CM93*CM$119","v":0},{"$f":"投入係数!CN93*CN$119","v":0},{"$f":"投入係数!CO93*CO$119","v":0},{"$f":"投入係数!CP93*CP$119","v":0},{"$f":"投入係数!CQ93*CQ$119","v":0},{"$f":"投入係数!CR93*CR$119","v":0},{"$f":"投入係数!CS93*CS$119","v":0},{"$f":"投入係数!CT93*CT$119","v":0},{"$f":"投入係数!CU93*CU$119","v":0},{"$f":"投入係数!CV93*CV$119","v":0},{"$f":"投入係数!CW93*CW$119","v":0},{"$f":"投入係数!CX93*CX$119","v":0},{"$f":"投入係数!CY93*CY$119","v":0},{"$f":"投入係数!CZ93*CZ$119","v":0},{"$f":"投入係数!DA93*DA$119","v":0},{"$f":"投入係数!DB93*DB$119","v":0},{"$f":"投入係数!DC93*DC$119","v":0},{"$f":"投入係数!DD93*DD$119","v":0},{"$f":"投入係数!DE93*DE$119","v":0},{"$f":"投入係数!DF93*DF$119","v":0},{"$f":"投入係数!DG93*DG$119","v":0},{"$f":"投入係数!DH93*DH$119","v":0},0]
[null,"593","情報サービス",{"$f":"投入係数!D94*D$119","v":0},{"$f":"投入係数!E94*E$119","v":0},{"$f":"投入係数!F94*F$119","v":0},{"$f":"投入係数!G94*G$119","v":0},{"$f":"投入係数!H94*H$119","v":0},{"$f":"投入係数!I94*I$119","v":0},{"$f":"投入係数!J94*J$119","v":0},{"$f":"投入係数!K94*K$119","v":0},{"$f":"投入係数!L94*L$119","v":0},{"$f":"投入係数!M94*M$119","v":0},{"$f":"投入係数!N94*N$119","v":0},{"$f":"投入係数!O94*O$119","v":0},{"$f":"投入係数!P94*P$119","v":0},{"$f":"投入係数!Q94*Q$119","v":0},{"$f":"投入係数!R94*R$119","v":0},{"$f":"投入係数!S94*S$119","v":0},{"$f":"投入係数!T94*T$119","v":0},{"$f":"投入係数!U94*U$119","v":0},{"$f":"投入係数!V94*V$119","v":0},{"$f":"投入係数!W94*W$119","v":0},{"$f":"投入係数!X94*X$119","v":0},{"$f":"投入係数!Y94*Y$119","v":0},{"$f":"投入係数!Z94*Z$119","v":0},{"$f":"投入係数!AA94*AA$119","v":0},{"$f":"投入係数!AB94*AB$119","v":0},{"$f":"投入係数!AC94*AC$119","v":0},{"$f":"投入係数!AD94*AD$119","v":0},{"$f":"投入係数!AE94*AE$119","v":0},{"$f":"投入係数!AF94*AF$119","v":0},{"$f":"投入係数!AG94*AG$119","v":0},{"$f":"投入係数!AH94*AH$119","v":0},{"$f":"投入係数!AI94*AI$119","v":0},{"$f":"投入係数!AJ94*AJ$119","v":0},{"$f":"投入係数!AK94*AK$119","v":0},{"$f":"投入係数!AL94*AL$119","v":0},{"$f":"投入係数!AM94*AM$119","v":0},{"$f":"投入係数!AN94*AN$119","v":0},{"$f":"投入係数!AO94*AO$119","v":0},{"$f":"投入係数!AP94*AP$119","v":0},{"$f":"投入係数!AQ94*AQ$119","v":0},{"$f":"投入係数!AR94*AR$119","v":0},{"$f":"投入係数!AS94*AS$119","v":0},{"$f":"投入係数!AT94*AT$119","v":0},{"$f":"投入係数!AU94*AU$119","v":0},{"$f":"投入係数!AV94*AV$119","v":0},{"$f":"投入係数!AW94*AW$119","v":0},{"$f":"投入係数!AX94*AX$119","v":0},{"$f":"投入係数!AY94*AY$119","v":0},{"$f":"投入係数!AZ94*AZ$119","v":0},{"$f":"投入係数!BA94*BA$119","v":0},{"$f":"投入係数!BB94*BB$119","v":0},{"$f":"投入係数!BC94*BC$119","v":0},{"$f":"投入係数!BD94*BD$119","v":0},{"$f":"投入係数!BE94*BE$119","v":0},{"$f":"投入係数!BF94*BF$119","v":0},{"$f":"投入係数!BG94*BG$119","v":0},{"$f":"投入係数!BH94*BH$119","v":0},{"$f":"投入係数!BI94*BI$119","v":0},{"$f":"投入係数!BJ94*BJ$119","v":0},{"$f":"投入係数!BK94*BK$119","v":0},{"$f":"投入係数!BL94*BL$119","v":0},{"$f":"投入係数!BM94*BM$119","v":0},{"$f":"投入係数!BN94*BN$119","v":0},{"$f":"投入係数!BO94*BO$119","v":0},{"$f":"投入係数!BP94*BP$119","v":0},{"$f":"投入係数!BQ94*BQ$119","v":0},{"$f":"投入係数!BR94*BR$119","v":0},{"$f":"投入係数!BS94*BS$119","v":0},{"$f":"投入係数!BT94*BT$119","v":0},{"$f":"投入係数!BU94*BU$119","v":0},{"$f":"投入係数!BV94*BV$119","v":0},{"$f":"投入係数!BW94*BW$119","v":0},{"$f":"投入係数!BX94*BX$119","v":0},{"$f":"投入係数!BY94*BY$119","v":0},{"$f":"投入係数!BZ94*BZ$119","v":0},{"$f":"投入係数!CA94*CA$119","v":0},{"$f":"投入係数!CB94*CB$119","v":0},{"$f":"投入係数!CC94*CC$119","v":0},{"$f":"投入係数!CD94*CD$119","v":0},{"$f":"投入係数!CE94*CE$119","v":0},{"$f":"投入係数!CF94*CF$119","v":0},{"$f":"投入係数!CG94*CG$119","v":0},{"$f":"投入係数!CH94*CH$119","v":0},{"$f":"投入係数!CI94*CI$119","v":0},{"$f":"投入係数!CJ94*CJ$119","v":0},{"$f":"投入係数!CK94*CK$119","v":0},{"$f":"投入係数!CL94*CL$119","v":0},{"$f":"投入係数!CM94*CM$119","v":0},{"$f":"投入係数!CN94*CN$119","v":0},{"$f":"投入係数!CO94*CO$119","v":0},{"$f":"投入係数!CP94*CP$119","v":0},{"$f":"投入係数!CQ94*CQ$119","v":0},{"$f":"投入係数!CR94*CR$119","v":0},{"$f":"投入係数!CS94*CS$119","v":0},{"$f":"投入係数!CT94*CT$119","v":0},{"$f":"投入係数!CU94*CU$119","v":0},{"$f":"投入係数!CV94*CV$119","v":0},{"$f":"投入係数!CW94*CW$119","v":0},{"$f":"投入係数!CX94*CX$119","v":0},{"$f":"投入係数!CY94*CY$119","v":0},{"$f":"投入係数!CZ94*CZ$119","v":0},{"$f":"投入係数!DA94*DA$119","v":0},{"$f":"投入係数!DB94*DB$119","v":0},{"$f":"投入係数!DC94*DC$119","v":0},{"$f":"投入係数!DD94*DD$119","v":0},{"$f":"投入係数!DE94*DE$119","v":0},{"$f":"投入係数!DF94*DF$119","v":0},{"$f":"投入係数!DG94*DG$119","v":0},{"$f":"投入係数!DH94*DH$119","v":0},0]
[null,"594","インターネット附随サービス",{"$f":"投入係数!D95*D$119","v":0},{"$f":"投入係数!E95*E$119","v":0},{"$f":"投入係数!F95*F$119","v":0},{"$f":"投入係数!G95*G$119","v":0},{"$f":"投入係数!H95*H$119","v":0},{"$f":"投入係数!I95*I$119","v":0},{"$f":"投入係数!J95*J$119","v":0},{"$f":"投入係数!K95*K$119","v":0},{"$f":"投入係数!L95*L$119","v":0},{"$f":"投入係数!M95*M$119","v":0},{"$f":"投入係数!N95*N$119","v":0},{"$f":"投入係数!O95*O$119","v":0},{"$f":"投入係数!P95*P$119","v":0},{"$f":"投入係数!Q95*Q$119","v":0},{"$f":"投入係数!R95*R$119","v":0},{"$f":"投入係数!S95*S$119","v":0},{"$f":"投入係数!T95*T$119","v":0},{"$f":"投入係数!U95*U$119","v":0},{"$f":"投入係数!V95*V$119","v":0},{"$f":"投入係数!W95*W$119","v":0},{"$f":"投入係数!X95*X$119","v":0},{"$f":"投入係数!Y95*Y$119","v":0},{"$f":"投入係数!Z95*Z$119","v":0},{"$f":"投入係数!AA95*AA$119","v":0},{"$f":"投入係数!AB95*AB$119","v":0},{"$f":"投入係数!AC95*AC$119","v":0},{"$f":"投入係数!AD95*AD$119","v":0},{"$f":"投入係数!AE95*AE$119","v":0},{"$f":"投入係数!AF95*AF$119","v":0},{"$f":"投入係数!AG95*AG$119","v":0},{"$f":"投入係数!AH95*AH$119","v":0},{"$f":"投入係数!AI95*AI$119","v":0},{"$f":"投入係数!AJ95*AJ$119","v":0},{"$f":"投入係数!AK95*AK$119","v":0},{"$f":"投入係数!AL95*AL$119","v":0},{"$f":"投入係数!AM95*AM$119","v":0},{"$f":"投入係数!AN95*AN$119","v":0},{"$f":"投入係数!AO95*AO$119","v":0},{"$f":"投入係数!AP95*AP$119","v":0},{"$f":"投入係数!AQ95*AQ$119","v":0},{"$f":"投入係数!AR95*AR$119","v":0},{"$f":"投入係数!AS95*AS$119","v":0},{"$f":"投入係数!AT95*AT$119","v":0},{"$f":"投入係数!AU95*AU$119","v":0},{"$f":"投入係数!AV95*AV$119","v":0},{"$f":"投入係数!AW95*AW$119","v":0},{"$f":"投入係数!AX95*AX$119","v":0},{"$f":"投入係数!AY95*AY$119","v":0},{"$f":"投入係数!AZ95*AZ$119","v":0},{"$f":"投入係数!BA95*BA$119","v":0},{"$f":"投入係数!BB95*BB$119","v":0},{"$f":"投入係数!BC95*BC$119","v":0},{"$f":"投入係数!BD95*BD$119","v":0},{"$f":"投入係数!BE95*BE$119","v":0},{"$f":"投入係数!BF95*BF$119","v":0},{"$f":"投入係数!BG95*BG$119","v":0},{"$f":"投入係数!BH95*BH$119","v":0},{"$f":"投入係数!BI95*BI$119","v":0},{"$f":"投入係数!BJ95*BJ$119","v":0},{"$f":"投入係数!BK95*BK$119","v":0},{"$f":"投入係数!BL95*BL$119","v":0},{"$f":"投入係数!BM95*BM$119","v":0},{"$f":"投入係数!BN95*BN$119","v":0},{"$f":"投入係数!BO95*BO$119","v":0},{"$f":"投入係数!BP95*BP$119","v":0},{"$f":"投入係数!BQ95*BQ$119","v":0},{"$f":"投入係数!BR95*BR$119","v":0},{"$f":"投入係数!BS95*BS$119","v":0},{"$f":"投入係数!BT95*BT$119","v":0},{"$f":"投入係数!BU95*BU$119","v":0},{"$f":"投入係数!BV95*BV$119","v":0},{"$f":"投入係数!BW95*BW$119","v":0},{"$f":"投入係数!BX95*BX$119","v":0},{"$f":"投入係数!BY95*BY$119","v":0},{"$f":"投入係数!BZ95*BZ$119","v":0},{"$f":"投入係数!CA95*CA$119","v":0},{"$f":"投入係数!CB95*CB$119","v":0},{"$f":"投入係数!CC95*CC$119","v":0},{"$f":"投入係数!CD95*CD$119","v":0},{"$f":"投入係数!CE95*CE$119","v":0},{"$f":"投入係数!CF95*CF$119","v":0},{"$f":"投入係数!CG95*CG$119","v":0},{"$f":"投入係数!CH95*CH$119","v":0},{"$f":"投入係数!CI95*CI$119","v":0},{"$f":"投入係数!CJ95*CJ$119","v":0},{"$f":"投入係数!CK95*CK$119","v":0},{"$f":"投入係数!CL95*CL$119","v":0},{"$f":"投入係数!CM95*CM$119","v":0},{"$f":"投入係数!CN95*CN$119","v":0},{"$f":"投入係数!CO95*CO$119","v":0},{"$f":"投入係数!CP95*CP$119","v":0},{"$f":"投入係数!CQ95*CQ$119","v":0},{"$f":"投入係数!CR95*CR$119","v":0},{"$f":"投入係数!CS95*CS$119","v":0},{"$f":"投入係数!CT95*CT$119","v":0},{"$f":"投入係数!CU95*CU$119","v":0},{"$f":"投入係数!CV95*CV$119","v":0},{"$f":"投入係数!CW95*CW$119","v":0},{"$f":"投入係数!CX95*CX$119","v":0},{"$f":"投入係数!CY95*CY$119","v":0},{"$f":"投入係数!CZ95*CZ$119","v":0},{"$f":"投入係数!DA95*DA$119","v":0},{"$f":"投入係数!DB95*DB$119","v":0},{"$f":"投入係数!DC95*DC$119","v":0},{"$f":"投入係数!DD95*DD$119","v":0},{"$f":"投入係数!DE95*DE$119","v":0},{"$f":"投入係数!DF95*DF$119","v":0},{"$f":"投入係数!DG95*DG$119","v":0},{"$f":"投入係数!DH95*DH$119","v":0},0]
[null,"595","映像・音声・文字情報制作",{"$f":"投入係数!D96*D$119","v":0},{"$f":"投入係数!E96*E$119","v":0},{"$f":"投入係数!F96*F$119","v":0},{"$f":"投入係数!G96*G$119","v":0},{"$f":"投入係数!H96*H$119","v":0},{"$f":"投入係数!I96*I$119","v":0},{"$f":"投入係数!J96*J$119","v":0},{"$f":"投入係数!K96*K$119","v":0},{"$f":"投入係数!L96*L$119","v":0},{"$f":"投入係数!M96*M$119","v":0},{"$f":"投入係数!N96*N$119","v":0},{"$f":"投入係数!O96*O$119","v":0},{"$f":"投入係数!P96*P$119","v":0},{"$f":"投入係数!Q96*Q$119","v":0},{"$f":"投入係数!R96*R$119","v":0},{"$f":"投入係数!S96*S$119","v":0},{"$f":"投入係数!T96*T$119","v":0},{"$f":"投入係数!U96*U$119","v":0},{"$f":"投入係数!V96*V$119","v":0},{"$f":"投入係数!W96*W$119","v":0},{"$f":"投入係数!X96*X$119","v":0},{"$f":"投入係数!Y96*Y$119","v":0},{"$f":"投入係数!Z96*Z$119","v":0},{"$f":"投入係数!AA96*AA$119","v":0},{"$f":"投入係数!AB96*AB$119","v":0},{"$f":"投入係数!AC96*AC$119","v":0},{"$f":"投入係数!AD96*AD$119","v":0},{"$f":"投入係数!AE96*AE$119","v":0},{"$f":"投入係数!AF96*AF$119","v":0},{"$f":"投入係数!AG96*AG$119","v":0},{"$f":"投入係数!AH96*AH$119","v":0},{"$f":"投入係数!AI96*AI$119","v":0},{"$f":"投入係数!AJ96*AJ$119","v":0},{"$f":"投入係数!AK96*AK$119","v":0},{"$f":"投入係数!AL96*AL$119","v":0},{"$f":"投入係数!AM96*AM$119","v":0},{"$f":"投入係数!AN96*AN$119","v":0},{"$f":"投入係数!AO96*AO$119","v":0},{"$f":"投入係数!AP96*AP$119","v":0},{"$f":"投入係数!AQ96*AQ$119","v":0},{"$f":"投入係数!AR96*AR$119","v":0},{"$f":"投入係数!AS96*AS$119","v":0},{"$f":"投入係数!AT96*AT$119","v":0},{"$f":"投入係数!AU96*AU$119","v":0},{"$f":"投入係数!AV96*AV$119","v":0},{"$f":"投入係数!AW96*AW$119","v":0},{"$f":"投入係数!AX96*AX$119","v":0},{"$f":"投入係数!AY96*AY$119","v":0},{"$f":"投入係数!AZ96*AZ$119","v":0},{"$f":"投入係数!BA96*BA$119","v":0},{"$f":"投入係数!BB96*BB$119","v":0},{"$f":"投入係数!BC96*BC$119","v":0},{"$f":"投入係数!BD96*BD$119","v":0},{"$f":"投入係数!BE96*BE$119","v":0},{"$f":"投入係数!BF96*BF$119","v":0},{"$f":"投入係数!BG96*BG$119","v":0},{"$f":"投入係数!BH96*BH$119","v":0},{"$f":"投入係数!BI96*BI$119","v":0},{"$f":"投入係数!BJ96*BJ$119","v":0},{"$f":"投入係数!BK96*BK$119","v":0},{"$f":"投入係数!BL96*BL$119","v":0},{"$f":"投入係数!BM96*BM$119","v":0},{"$f":"投入係数!BN96*BN$119","v":0},{"$f":"投入係数!BO96*BO$119","v":0},{"$f":"投入係数!BP96*BP$119","v":0},{"$f":"投入係数!BQ96*BQ$119","v":0},{"$f":"投入係数!BR96*BR$119","v":0},{"$f":"投入係数!BS96*BS$119","v":0},{"$f":"投入係数!BT96*BT$119","v":0},{"$f":"投入係数!BU96*BU$119","v":0},{"$f":"投入係数!BV96*BV$119","v":0},{"$f":"投入係数!BW96*BW$119","v":0},{"$f":"投入係数!BX96*BX$119","v":0},{"$f":"投入係数!BY96*BY$119","v":0},{"$f":"投入係数!BZ96*BZ$119","v":0},{"$f":"投入係数!CA96*CA$119","v":0},{"$f":"投入係数!CB96*CB$119","v":0},{"$f":"投入係数!CC96*CC$119","v":0},{"$f":"投入係数!CD96*CD$119","v":0},{"$f":"投入係数!CE96*CE$119","v":0},{"$f":"投入係数!CF96*CF$119","v":0},{"$f":"投入係数!CG96*CG$119","v":0},{"$f":"投入係数!CH96*CH$119","v":0},{"$f":"投入係数!CI96*CI$119","v":0},{"$f":"投入係数!CJ96*CJ$119","v":0},{"$f":"投入係数!CK96*CK$119","v":0},{"$f":"投入係数!CL96*CL$119","v":0},{"$f":"投入係数!CM96*CM$119","v":0},{"$f":"投入係数!CN96*CN$119","v":0},{"$f":"投入係数!CO96*CO$119","v":0},{"$f":"投入係数!CP96*CP$119","v":0},{"$f":"投入係数!CQ96*CQ$119","v":0},{"$f":"投入係数!CR96*CR$119","v":0},{"$f":"投入係数!CS96*CS$119","v":0},{"$f":"投入係数!CT96*CT$119","v":0},{"$f":"投入係数!CU96*CU$119","v":0},{"$f":"投入係数!CV96*CV$119","v":0},{"$f":"投入係数!CW96*CW$119","v":0},{"$f":"投入係数!CX96*CX$119","v":0},{"$f":"投入係数!CY96*CY$119","v":0},{"$f":"投入係数!CZ96*CZ$119","v":0},{"$f":"投入係数!DA96*DA$119","v":0},{"$f":"投入係数!DB96*DB$119","v":0},{"$f":"投入係数!DC96*DC$119","v":0},{"$f":"投入係数!DD96*DD$119","v":0},{"$f":"投入係数!DE96*DE$119","v":0},{"$f":"投入係数!DF96*DF$119","v":0},{"$f":"投入係数!DG96*DG$119","v":0},{"$f":"投入係数!DH96*DH$119","v":0},0]
[null,"611","公務",{"$f":"投入係数!D97*D$119","v":0},{"$f":"投入係数!E97*E$119","v":0},{"$f":"投入係数!F97*F$119","v":0},{"$f":"投入係数!G97*G$119","v":0},{"$f":"投入係数!H97*H$119","v":0},{"$f":"投入係数!I97*I$119","v":0},{"$f":"投入係数!J97*J$119","v":0},{"$f":"投入係数!K97*K$119","v":0},{"$f":"投入係数!L97*L$119","v":0},{"$f":"投入係数!M97*M$119","v":0},{"$f":"投入係数!N97*N$119","v":0},{"$f":"投入係数!O97*O$119","v":0},{"$f":"投入係数!P97*P$119","v":0},{"$f":"投入係数!Q97*Q$119","v":0},{"$f":"投入係数!R97*R$119","v":0},{"$f":"投入係数!S97*S$119","v":0},{"$f":"投入係数!T97*T$119","v":0},{"$f":"投入係数!U97*U$119","v":0},{"$f":"投入係数!V97*V$119","v":0},{"$f":"投入係数!W97*W$119","v":0},{"$f":"投入係数!X97*X$119","v":0},{"$f":"投入係数!Y97*Y$119","v":0},{"$f":"投入係数!Z97*Z$119","v":0},{"$f":"投入係数!AA97*AA$119","v":0},{"$f":"投入係数!AB97*AB$119","v":0},{"$f":"投入係数!AC97*AC$119","v":0},{"$f":"投入係数!AD97*AD$119","v":0},{"$f":"投入係数!AE97*AE$119","v":0},{"$f":"投入係数!AF97*AF$119","v":0},{"$f":"投入係数!AG97*AG$119","v":0},{"$f":"投入係数!AH97*AH$119","v":0},{"$f":"投入係数!AI97*AI$119","v":0},{"$f":"投入係数!AJ97*AJ$119","v":0},{"$f":"投入係数!AK97*AK$119","v":0},{"$f":"投入係数!AL97*AL$119","v":0},{"$f":"投入係数!AM97*AM$119","v":0},{"$f":"投入係数!AN97*AN$119","v":0},{"$f":"投入係数!AO97*AO$119","v":0},{"$f":"投入係数!AP97*AP$119","v":0},{"$f":"投入係数!AQ97*AQ$119","v":0},{"$f":"投入係数!AR97*AR$119","v":0},{"$f":"投入係数!AS97*AS$119","v":0},{"$f":"投入係数!AT97*AT$119","v":0},{"$f":"投入係数!AU97*AU$119","v":0},{"$f":"投入係数!AV97*AV$119","v":0},{"$f":"投入係数!AW97*AW$119","v":0},{"$f":"投入係数!AX97*AX$119","v":0},{"$f":"投入係数!AY97*AY$119","v":0},{"$f":"投入係数!AZ97*AZ$119","v":0},{"$f":"投入係数!BA97*BA$119","v":0},{"$f":"投入係数!BB97*BB$119","v":0},{"$f":"投入係数!BC97*BC$119","v":0},{"$f":"投入係数!BD97*BD$119","v":0},{"$f":"投入係数!BE97*BE$119","v":0},{"$f":"投入係数!BF97*BF$119","v":0},{"$f":"投入係数!BG97*BG$119","v":0},{"$f":"投入係数!BH97*BH$119","v":0},{"$f":"投入係数!BI97*BI$119","v":0},{"$f":"投入係数!BJ97*BJ$119","v":0},{"$f":"投入係数!BK97*BK$119","v":0},{"$f":"投入係数!BL97*BL$119","v":0},{"$f":"投入係数!BM97*BM$119","v":0},{"$f":"投入係数!BN97*BN$119","v":0},{"$f":"投入係数!BO97*BO$119","v":0},{"$f":"投入係数!BP97*BP$119","v":0},{"$f":"投入係数!BQ97*BQ$119","v":0},{"$f":"投入係数!BR97*BR$119","v":0},{"$f":"投入係数!BS97*BS$119","v":0},{"$f":"投入係数!BT97*BT$119","v":0},{"$f":"投入係数!BU97*BU$119","v":0},{"$f":"投入係数!BV97*BV$119","v":0},{"$f":"投入係数!BW97*BW$119","v":0},{"$f":"投入係数!BX97*BX$119","v":0},{"$f":"投入係数!BY97*BY$119","v":0},{"$f":"投入係数!BZ97*BZ$119","v":0},{"$f":"投入係数!CA97*CA$119","v":0},{"$f":"投入係数!CB97*CB$119","v":0},{"$f":"投入係数!CC97*CC$119","v":0},{"$f":"投入係数!CD97*CD$119","v":0},{"$f":"投入係数!CE97*CE$119","v":0},{"$f":"投入係数!CF97*CF$119","v":0},{"$f":"投入係数!CG97*CG$119","v":0},{"$f":"投入係数!CH97*CH$119","v":0},{"$f":"投入係数!CI97*CI$119","v":0},{"$f":"投入係数!CJ97*CJ$119","v":0},{"$f":"投入係数!CK97*CK$119","v":0},{"$f":"投入係数!CL97*CL$119","v":0},{"$f":"投入係数!CM97*CM$119","v":0},{"$f":"投入係数!CN97*CN$119","v":0},{"$f":"投入係数!CO97*CO$119","v":0},{"$f":"投入係数!CP97*CP$119","v":0},{"$f":"投入係数!CQ97*CQ$119","v":0},{"$f":"投入係数!CR97*CR$119","v":0},{"$f":"投入係数!CS97*CS$119","v":0},{"$f":"投入係数!CT97*CT$119","v":0},{"$f":"投入係数!CU97*CU$119","v":0},{"$f":"投入係数!CV97*CV$119","v":0},{"$f":"投入係数!CW97*CW$119","v":0},{"$f":"投入係数!CX97*CX$119","v":0},{"$f":"投入係数!CY97*CY$119","v":0},{"$f":"投入係数!CZ97*CZ$119","v":0},{"$f":"投入係数!DA97*DA$119","v":0},{"$f":"投入係数!DB97*DB$119","v":0},{"$f":"投入係数!DC97*DC$119","v":0},{"$f":"投入係数!DD97*DD$119","v":0},{"$f":"投入係数!DE97*DE$119","v":0},{"$f":"投入係数!DF97*DF$119","v":0},{"$f":"投入係数!DG97*DG$119","v":0},{"$f":"投入係数!DH97*DH$119","v":0},0]
[null,"631","教育",{"$f":"投入係数!D98*D$119","v":0},{"$f":"投入係数!E98*E$119","v":0},{"$f":"投入係数!F98*F$119","v":0},{"$f":"投入係数!G98*G$119","v":0},{"$f":"投入係数!H98*H$119","v":0},{"$f":"投入係数!I98*I$119","v":0},{"$f":"投入係数!J98*J$119","v":0},{"$f":"投入係数!K98*K$119","v":0},{"$f":"投入係数!L98*L$119","v":0},{"$f":"投入係数!M98*M$119","v":0},{"$f":"投入係数!N98*N$119","v":0},{"$f":"投入係数!O98*O$119","v":0},{"$f":"投入係数!P98*P$119","v":0},{"$f":"投入係数!Q98*Q$119","v":0},{"$f":"投入係数!R98*R$119","v":0},{"$f":"投入係数!S98*S$119","v":0},{"$f":"投入係数!T98*T$119","v":0},{"$f":"投入係数!U98*U$119","v":0},{"$f":"投入係数!V98*V$119","v":0},{"$f":"投入係数!W98*W$119","v":0},{"$f":"投入係数!X98*X$119","v":0},{"$f":"投入係数!Y98*Y$119","v":0},{"$f":"投入係数!Z98*Z$119","v":0},{"$f":"投入係数!AA98*AA$119","v":0},{"$f":"投入係数!AB98*AB$119","v":0},{"$f":"投入係数!AC98*AC$119","v":0},{"$f":"投入係数!AD98*AD$119","v":0},{"$f":"投入係数!AE98*AE$119","v":0},{"$f":"投入係数!AF98*AF$119","v":0},{"$f":"投入係数!AG98*AG$119","v":0},{"$f":"投入係数!AH98*AH$119","v":0},{"$f":"投入係数!AI98*AI$119","v":0},{"$f":"投入係数!AJ98*AJ$119","v":0},{"$f":"投入係数!AK98*AK$119","v":0},{"$f":"投入係数!AL98*AL$119","v":0},{"$f":"投入係数!AM98*AM$119","v":0},{"$f":"投入係数!AN98*AN$119","v":0},{"$f":"投入係数!AO98*AO$119","v":0},{"$f":"投入係数!AP98*AP$119","v":0},{"$f":"投入係数!AQ98*AQ$119","v":0},{"$f":"投入係数!AR98*AR$119","v":0},{"$f":"投入係数!AS98*AS$119","v":0},{"$f":"投入係数!AT98*AT$119","v":0},{"$f":"投入係数!AU98*AU$119","v":0},{"$f":"投入係数!AV98*AV$119","v":0},{"$f":"投入係数!AW98*AW$119","v":0},{"$f":"投入係数!AX98*AX$119","v":0},{"$f":"投入係数!AY98*AY$119","v":0},{"$f":"投入係数!AZ98*AZ$119","v":0},{"$f":"投入係数!BA98*BA$119","v":0},{"$f":"投入係数!BB98*BB$119","v":0},{"$f":"投入係数!BC98*BC$119","v":0},{"$f":"投入係数!BD98*BD$119","v":0},{"$f":"投入係数!BE98*BE$119","v":0},{"$f":"投入係数!BF98*BF$119","v":0},{"$f":"投入係数!BG98*BG$119","v":0},{"$f":"投入係数!BH98*BH$119","v":0},{"$f":"投入係数!BI98*BI$119","v":0},{"$f":"投入係数!BJ98*BJ$119","v":0},{"$f":"投入係数!BK98*BK$119","v":0},{"$f":"投入係数!BL98*BL$119","v":0},{"$f":"投入係数!BM98*BM$119","v":0},{"$f":"投入係数!BN98*BN$119","v":0},{"$f":"投入係数!BO98*BO$119","v":0},{"$f":"投入係数!BP98*BP$119","v":0},{"$f":"投入係数!BQ98*BQ$119","v":0},{"$f":"投入係数!BR98*BR$119","v":0},{"$f":"投入係数!BS98*BS$119","v":0},{"$f":"投入係数!BT98*BT$119","v":0},{"$f":"投入係数!BU98*BU$119","v":0},{"$f":"投入係数!BV98*BV$119","v":0},{"$f":"投入係数!BW98*BW$119","v":0},{"$f":"投入係数!BX98*BX$119","v":0},{"$f":"投入係数!BY98*BY$119","v":0},{"$f":"投入係数!BZ98*BZ$119","v":0},{"$f":"投入係数!CA98*CA$119","v":0},{"$f":"投入係数!CB98*CB$119","v":0},{"$f":"投入係数!CC98*CC$119","v":0},{"$f":"投入係数!CD98*CD$119","v":0},{"$f":"投入係数!CE98*CE$119","v":0},{"$f":"投入係数!CF98*CF$119","v":0},{"$f":"投入係数!CG98*CG$119","v":0},{"$f":"投入係数!CH98*CH$119","v":0},{"$f":"投入係数!CI98*CI$119","v":0},{"$f":"投入係数!CJ98*CJ$119","v":0},{"$f":"投入係数!CK98*CK$119","v":0},{"$f":"投入係数!CL98*CL$119","v":0},{"$f":"投入係数!CM98*CM$119","v":0},{"$f":"投入係数!CN98*CN$119","v":0},{"$f":"投入係数!CO98*CO$119","v":0},{"$f":"投入係数!CP98*CP$119","v":0},{"$f":"投入係数!CQ98*CQ$119","v":0},{"$f":"投入係数!CR98*CR$119","v":0},{"$f":"投入係数!CS98*CS$119","v":0},{"$f":"投入係数!CT98*CT$119","v":0},{"$f":"投入係数!CU98*CU$119","v":0},{"$f":"投入係数!CV98*CV$119","v":0},{"$f":"投入係数!CW98*CW$119","v":0},{"$f":"投入係数!CX98*CX$119","v":0},{"$f":"投入係数!CY98*CY$119","v":0},{"$f":"投入係数!CZ98*CZ$119","v":0},{"$f":"投入係数!DA98*DA$119","v":0},{"$f":"投入係数!DB98*DB$119","v":0},{"$f":"投入係数!DC98*DC$119","v":0},{"$f":"投入係数!DD98*DD$119","v":0},{"$f":"投入係数!DE98*DE$119","v":0},{"$f":"投入係数!DF98*DF$119","v":0},{"$f":"投入係数!DG98*DG$119","v":0},{"$f":"投入係数!DH98*DH$119","v":0},0]
[null,"632","研究",{"$f":"投入係数!D99*D$119","v":0},{"$f":"投入係数!E99*E$119","v":0},{"$f":"投入係数!F99*F$119","v":0},{"$f":"投入係数!G99*G$119","v":0},{"$f":"投入係数!H99*H$119","v":0},{"$f":"投入係数!I99*I$119","v":0},{"$f":"投入係数!J99*J$119","v":0},{"$f":"投入係数!K99*K$119","v":0},{"$f":"投入係数!L99*L$119","v":0},{"$f":"投入係数!M99*M$119","v":0},{"$f":"投入係数!N99*N$119","v":0},{"$f":"投入係数!O99*O$119","v":0},{"$f":"投入係数!P99*P$119","v":0},{"$f":"投入係数!Q99*Q$119","v":0},{"$f":"投入係数!R99*R$119","v":0},{"$f":"投入係数!S99*S$119","v":0},{"$f":"投入係数!T99*T$119","v":0},{"$f":"投入係数!U99*U$119","v":0},{"$f":"投入係数!V99*V$119","v":0},{"$f":"投入係数!W99*W$119","v":0},{"$f":"投入係数!X99*X$119","v":0},{"$f":"投入係数!Y99*Y$119","v":0},{"$f":"投入係数!Z99*Z$119","v":0},{"$f":"投入係数!AA99*AA$119","v":0},{"$f":"投入係数!AB99*AB$119","v":0},{"$f":"投入係数!AC99*AC$119","v":0},{"$f":"投入係数!AD99*AD$119","v":0},{"$f":"投入係数!AE99*AE$119","v":0},{"$f":"投入係数!AF99*AF$119","v":0},{"$f":"投入係数!AG99*AG$119","v":0},{"$f":"投入係数!AH99*AH$119","v":0},{"$f":"投入係数!AI99*AI$119","v":0},{"$f":"投入係数!AJ99*AJ$119","v":0},{"$f":"投入係数!AK99*AK$119","v":0},{"$f":"投入係数!AL99*AL$119","v":0},{"$f":"投入係数!AM99*AM$119","v":0},{"$f":"投入係数!AN99*AN$119","v":0},{"$f":"投入係数!AO99*AO$119","v":0},{"$f":"投入係数!AP99*AP$119","v":0},{"$f":"投入係数!AQ99*AQ$119","v":0},{"$f":"投入係数!AR99*AR$119","v":0},{"$f":"投入係数!AS99*AS$119","v":0},{"$f":"投入係数!AT99*AT$119","v":0},{"$f":"投入係数!AU99*AU$119","v":0},{"$f":"投入係数!AV99*AV$119","v":0},{"$f":"投入係数!AW99*AW$119","v":0},{"$f":"投入係数!AX99*AX$119","v":0},{"$f":"投入係数!AY99*AY$119","v":0},{"$f":"投入係数!AZ99*AZ$119","v":0},{"$f":"投入係数!BA99*BA$119","v":0},{"$f":"投入係数!BB99*BB$119","v":0},{"$f":"投入係数!BC99*BC$119","v":0},{"$f":"投入係数!BD99*BD$119","v":0},{"$f":"投入係数!BE99*BE$119","v":0},{"$f":"投入係数!BF99*BF$119","v":0},{"$f":"投入係数!BG99*BG$119","v":0},{"$f":"投入係数!BH99*BH$119","v":0},{"$f":"投入係数!BI99*BI$119","v":0},{"$f":"投入係数!BJ99*BJ$119","v":0},{"$f":"投入係数!BK99*BK$119","v":0},{"$f":"投入係数!BL99*BL$119","v":0},{"$f":"投入係数!BM99*BM$119","v":0},{"$f":"投入係数!BN99*BN$119","v":0},{"$f":"投入係数!BO99*BO$119","v":0},{"$f":"投入係数!BP99*BP$119","v":0},{"$f":"投入係数!BQ99*BQ$119","v":0},{"$f":"投入係数!BR99*BR$119","v":0},{"$f":"投入係数!BS99*BS$119","v":0},{"$f":"投入係数!BT99*BT$119","v":0},{"$f":"投入係数!BU99*BU$119","v":0},{"$f":"投入係数!BV99*BV$119","v":0},{"$f":"投入係数!BW99*BW$119","v":0},{"$f":"投入係数!BX99*BX$119","v":0},{"$f":"投入係数!BY99*BY$119","v":0},{"$f":"投入係数!BZ99*BZ$119","v":0},{"$f":"投入係数!CA99*CA$119","v":0},{"$f":"投入係数!CB99*CB$119","v":0},{"$f":"投入係数!CC99*CC$119","v":0},{"$f":"投入係数!CD99*CD$119","v":0},{"$f":"投入係数!CE99*CE$119","v":0},{"$f":"投入係数!CF99*CF$119","v":0},{"$f":"投入係数!CG99*CG$119","v":0},{"$f":"投入係数!CH99*CH$119","v":0},{"$f":"投入係数!CI99*CI$119","v":0},{"$f":"投入係数!CJ99*CJ$119","v":0},{"$f":"投入係数!CK99*CK$119","v":0},{"$f":"投入係数!CL99*CL$119","v":0},{"$f":"投入係数!CM99*CM$119","v":0},{"$f":"投入係数!CN99*CN$119","v":0},{"$f":"投入係数!CO99*CO$119","v":0},{"$f":"投入係数!CP99*CP$119","v":0},{"$f":"投入係数!CQ99*CQ$119","v":0},{"$f":"投入係数!CR99*CR$119","v":0},{"$f":"投入係数!CS99*CS$119","v":0},{"$f":"投入係数!CT99*CT$119","v":0},{"$f":"投入係数!CU99*CU$119","v":0},{"$f":"投入係数!CV99*CV$119","v":0},{"$f":"投入係数!CW99*CW$119","v":0},{"$f":"投入係数!CX99*CX$119","v":0},{"$f":"投入係数!CY99*CY$119","v":0},{"$f":"投入係数!CZ99*CZ$119","v":0},{"$f":"投入係数!DA99*DA$119","v":0},{"$f":"投入係数!DB99*DB$119","v":0},{"$f":"投入係数!DC99*DC$119","v":0},{"$f":"投入係数!DD99*DD$119","v":0},{"$f":"投入係数!DE99*DE$119","v":0},{"$f":"投入係数!DF99*DF$119","v":0},{"$f":"投入係数!DG99*DG$119","v":0},{"$f":"投入係数!DH99*DH$119","v":0},0]
[null,"641","医療",{"$f":"投入係数!D100*D$119","v":0},{"$f":"投入係数!E100*E$119","v":0},{"$f":"投入係数!F100*F$119","v":0},{"$f":"投入係数!G100*G$119","v":0},{"$f":"投入係数!H100*H$119","v":0},{"$f":"投入係数!I100*I$119","v":0},{"$f":"投入係数!J100*J$119","v":0},{"$f":"投入係数!K100*K$119","v":0},{"$f":"投入係数!L100*L$119","v":0},{"$f":"投入係数!M100*M$119","v":0},{"$f":"投入係数!N100*N$119","v":0},{"$f":"投入係数!O100*O$119","v":0},{"$f":"投入係数!P100*P$119","v":0},{"$f":"投入係数!Q100*Q$119","v":0},{"$f":"投入係数!R100*R$119","v":0},{"$f":"投入係数!S100*S$119","v":0},{"$f":"投入係数!T100*T$119","v":0},{"$f":"投入係数!U100*U$119","v":0},{"$f":"投入係数!V100*V$119","v":0},{"$f":"投入係数!W100*W$119","v":0},{"$f":"投入係数!X100*X$119","v":0},{"$f":"投入係数!Y100*Y$119","v":0},{"$f":"投入係数!Z100*Z$119","v":0},{"$f":"投入係数!AA100*AA$119","v":0},{"$f":"投入係数!AB100*AB$119","v":0},{"$f":"投入係数!AC100*AC$119","v":0},{"$f":"投入係数!AD100*AD$119","v":0},{"$f":"投入係数!AE100*AE$119","v":0},{"$f":"投入係数!AF100*AF$119","v":0},{"$f":"投入係数!AG100*AG$119","v":0},{"$f":"投入係数!AH100*AH$119","v":0},{"$f":"投入係数!AI100*AI$119","v":0},{"$f":"投入係数!AJ100*AJ$119","v":0},{"$f":"投入係数!AK100*AK$119","v":0},{"$f":"投入係数!AL100*AL$119","v":0},{"$f":"投入係数!AM100*AM$119","v":0},{"$f":"投入係数!AN100*AN$119","v":0},{"$f":"投入係数!AO100*AO$119","v":0},{"$f":"投入係数!AP100*AP$119","v":0},{"$f":"投入係数!AQ100*AQ$119","v":0},{"$f":"投入係数!AR100*AR$119","v":0},{"$f":"投入係数!AS100*AS$119","v":0},{"$f":"投入係数!AT100*AT$119","v":0},{"$f":"投入係数!AU100*AU$119","v":0},{"$f":"投入係数!AV100*AV$119","v":0},{"$f":"投入係数!AW100*AW$119","v":0},{"$f":"投入係数!AX100*AX$119","v":0},{"$f":"投入係数!AY100*AY$119","v":0},{"$f":"投入係数!AZ100*AZ$119","v":0},{"$f":"投入係数!BA100*BA$119","v":0},{"$f":"投入係数!BB100*BB$119","v":0},{"$f":"投入係数!BC100*BC$119","v":0},{"$f":"投入係数!BD100*BD$119","v":0},{"$f":"投入係数!BE100*BE$119","v":0},{"$f":"投入係数!BF100*BF$119","v":0},{"$f":"投入係数!BG100*BG$119","v":0},{"$f":"投入係数!BH100*BH$119","v":0},{"$f":"投入係数!BI100*BI$119","v":0},{"$f":"投入係数!BJ100*BJ$119","v":0},{"$f":"投入係数!BK100*BK$119","v":0},{"$f":"投入係数!BL100*BL$119","v":0},{"$f":"投入係数!BM100*BM$119","v":0},{"$f":"投入係数!BN100*BN$119","v":0},{"$f":"投入係数!BO100*BO$119","v":0},{"$f":"投入係数!BP100*BP$119","v":0},{"$f":"投入係数!BQ100*BQ$119","v":0},{"$f":"投入係数!BR100*BR$119","v":0},{"$f":"投入係数!BS100*BS$119","v":0},{"$f":"投入係数!BT100*BT$119","v":0},{"$f":"投入係数!BU100*BU$119","v":0},{"$f":"投入係数!BV100*BV$119","v":0},{"$f":"投入係数!BW100*BW$119","v":0},{"$f":"投入係数!BX100*BX$119","v":0},{"$f":"投入係数!BY100*BY$119","v":0},{"$f":"投入係数!BZ100*BZ$119","v":0},{"$f":"投入係数!CA100*CA$119","v":0},{"$f":"投入係数!CB100*CB$119","v":0},{"$f":"投入係数!CC100*CC$119","v":0},{"$f":"投入係数!CD100*CD$119","v":0},{"$f":"投入係数!CE100*CE$119","v":0},{"$f":"投入係数!CF100*CF$119","v":0},{"$f":"投入係数!CG100*CG$119","v":0},{"$f":"投入係数!CH100*CH$119","v":0},{"$f":"投入係数!CI100*CI$119","v":0},{"$f":"投入係数!CJ100*CJ$119","v":0},{"$f":"投入係数!CK100*CK$119","v":0},{"$f":"投入係数!CL100*CL$119","v":0},{"$f":"投入係数!CM100*CM$119","v":0},{"$f":"投入係数!CN100*CN$119","v":0},{"$f":"投入係数!CO100*CO$119","v":0},{"$f":"投入係数!CP100*CP$119","v":0},{"$f":"投入係数!CQ100*CQ$119","v":0},{"$f":"投入係数!CR100*CR$119","v":0},{"$f":"投入係数!CS100*CS$119","v":0},{"$f":"投入係数!CT100*CT$119","v":0},{"$f":"投入係数!CU100*CU$119","v":0},{"$f":"投入係数!CV100*CV$119","v":0},{"$f":"投入係数!CW100*CW$119","v":0},{"$f":"投入係数!CX100*CX$119","v":0},{"$f":"投入係数!CY100*CY$119","v":0},{"$f":"投入係数!CZ100*CZ$119","v":0},{"$f":"投入係数!DA100*DA$119","v":0},{"$f":"投入係数!DB100*DB$119","v":0},{"$f":"投入係数!DC100*DC$119","v":0},{"$f":"投入係数!DD100*DD$119","v":0},{"$f":"投入係数!DE100*DE$119","v":0},{"$f":"投入係数!DF100*DF$119","v":0},{"$f":"投入係数!DG100*DG$119","v":0},{"$f":"投入係数!DH100*DH$119","v":0},0]
[null,"642","保健衛生",{"$f":"投入係数!D101*D$119","v":0},{"$f":"投入係数!E101*E$119","v":0},{"$f":"投入係数!F101*F$119","v":0},{"$f":"投入係数!G101*G$119","v":0},{"$f":"投入係数!H101*H$119","v":0},{"$f":"投入係数!I101*I$119","v":0},{"$f":"投入係数!J101*J$119","v":0},{"$f":"投入係数!K101*K$119","v":0},{"$f":"投入係数!L101*L$119","v":0},{"$f":"投入係数!M101*M$119","v":0},{"$f":"投入係数!N101*N$119","v":0},{"$f":"投入係数!O101*O$119","v":0},{"$f":"投入係数!P101*P$119","v":0},{"$f":"投入係数!Q101*Q$119","v":0},{"$f":"投入係数!R101*R$119","v":0},{"$f":"投入係数!S101*S$119","v":0},{"$f":"投入係数!T101*T$119","v":0},{"$f":"投入係数!U101*U$119","v":0},{"$f":"投入係数!V101*V$119","v":0},{"$f":"投入係数!W101*W$119","v":0},{"$f":"投入係数!X101*X$119","v":0},{"$f":"投入係数!Y101*Y$119","v":0},{"$f":"投入係数!Z101*Z$119","v":0},{"$f":"投入係数!AA101*AA$119","v":0},{"$f":"投入係数!AB101*AB$119","v":0},{"$f":"投入係数!AC101*AC$119","v":0},{"$f":"投入係数!AD101*AD$119","v":0},{"$f":"投入係数!AE101*AE$119","v":0},{"$f":"投入係数!AF101*AF$119","v":0},{"$f":"投入係数!AG101*AG$119","v":0},{"$f":"投入係数!AH101*AH$119","v":0},{"$f":"投入係数!AI101*AI$119","v":0},{"$f":"投入係数!AJ101*AJ$119","v":0},{"$f":"投入係数!AK101*AK$119","v":0},{"$f":"投入係数!AL101*AL$119","v":0},{"$f":"投入係数!AM101*AM$119","v":0},{"$f":"投入係数!AN101*AN$119","v":0},{"$f":"投入係数!AO101*AO$119","v":0},{"$f":"投入係数!AP101*AP$119","v":0},{"$f":"投入係数!AQ101*AQ$119","v":0},{"$f":"投入係数!AR101*AR$119","v":0},{"$f":"投入係数!AS101*AS$119","v":0},{"$f":"投入係数!AT101*AT$119","v":0},{"$f":"投入係数!AU101*AU$119","v":0},{"$f":"投入係数!AV101*AV$119","v":0},{"$f":"投入係数!AW101*AW$119","v":0},{"$f":"投入係数!AX101*AX$119","v":0},{"$f":"投入係数!AY101*AY$119","v":0},{"$f":"投入係数!AZ101*AZ$119","v":0},{"$f":"投入係数!BA101*BA$119","v":0},{"$f":"投入係数!BB101*BB$119","v":0},{"$f":"投入係数!BC101*BC$119","v":0},{"$f":"投入係数!BD101*BD$119","v":0},{"$f":"投入係数!BE101*BE$119","v":0},{"$f":"投入係数!BF101*BF$119","v":0},{"$f":"投入係数!BG101*BG$119","v":0},{"$f":"投入係数!BH101*BH$119","v":0},{"$f":"投入係数!BI101*BI$119","v":0},{"$f":"投入係数!BJ101*BJ$119","v":0},{"$f":"投入係数!BK101*BK$119","v":0},{"$f":"投入係数!BL101*BL$119","v":0},{"$f":"投入係数!BM101*BM$119","v":0},{"$f":"投入係数!BN101*BN$119","v":0},{"$f":"投入係数!BO101*BO$119","v":0},{"$f":"投入係数!BP101*BP$119","v":0},{"$f":"投入係数!BQ101*BQ$119","v":0},{"$f":"投入係数!BR101*BR$119","v":0},{"$f":"投入係数!BS101*BS$119","v":0},{"$f":"投入係数!BT101*BT$119","v":0},{"$f":"投入係数!BU101*BU$119","v":0},{"$f":"投入係数!BV101*BV$119","v":0},{"$f":"投入係数!BW101*BW$119","v":0},{"$f":"投入係数!BX101*BX$119","v":0},{"$f":"投入係数!BY101*BY$119","v":0},{"$f":"投入係数!BZ101*BZ$119","v":0},{"$f":"投入係数!CA101*CA$119","v":0},{"$f":"投入係数!CB101*CB$119","v":0},{"$f":"投入係数!CC101*CC$119","v":0},{"$f":"投入係数!CD101*CD$119","v":0},{"$f":"投入係数!CE101*CE$119","v":0},{"$f":"投入係数!CF101*CF$119","v":0},{"$f":"投入係数!CG101*CG$119","v":0},{"$f":"投入係数!CH101*CH$119","v":0},{"$f":"投入係数!CI101*CI$119","v":0},{"$f":"投入係数!CJ101*CJ$119","v":0},{"$f":"投入係数!CK101*CK$119","v":0},{"$f":"投入係数!CL101*CL$119","v":0},{"$f":"投入係数!CM101*CM$119","v":0},{"$f":"投入係数!CN101*CN$119","v":0},{"$f":"投入係数!CO101*CO$119","v":0},{"$f":"投入係数!CP101*CP$119","v":0},{"$f":"投入係数!CQ101*CQ$119","v":0},{"$f":"投入係数!CR101*CR$119","v":0},{"$f":"投入係数!CS101*CS$119","v":0},{"$f":"投入係数!CT101*CT$119","v":0},{"$f":"投入係数!CU101*CU$119","v":0},{"$f":"投入係数!CV101*CV$119","v":0},{"$f":"投入係数!CW101*CW$119","v":0},{"$f":"投入係数!CX101*CX$119","v":0},{"$f":"投入係数!CY101*CY$119","v":0},{"$f":"投入係数!CZ101*CZ$119","v":0},{"$f":"投入係数!DA101*DA$119","v":0},{"$f":"投入係数!DB101*DB$119","v":0},{"$f":"投入係数!DC101*DC$119","v":0},{"$f":"投入係数!DD101*DD$119","v":0},{"$f":"投入係数!DE101*DE$119","v":0},{"$f":"投入係数!DF101*DF$119","v":0},{"$f":"投入係数!DG101*DG$119","v":0},{"$f":"投入係数!DH101*DH$119","v":0},0]
[null,"643","社会保険・社会福祉",{"$f":"投入係数!D102*D$119","v":0},{"$f":"投入係数!E102*E$119","v":0},{"$f":"投入係数!F102*F$119","v":0},{"$f":"投入係数!G102*G$119","v":0},{"$f":"投入係数!H102*H$119","v":0},{"$f":"投入係数!I102*I$119","v":0},{"$f":"投入係数!J102*J$119","v":0},{"$f":"投入係数!K102*K$119","v":0},{"$f":"投入係数!L102*L$119","v":0},{"$f":"投入係数!M102*M$119","v":0},{"$f":"投入係数!N102*N$119","v":0},{"$f":"投入係数!O102*O$119","v":0},{"$f":"投入係数!P102*P$119","v":0},{"$f":"投入係数!Q102*Q$119","v":0},{"$f":"投入係数!R102*R$119","v":0},{"$f":"投入係数!S102*S$119","v":0},{"$f":"投入係数!T102*T$119","v":0},{"$f":"投入係数!U102*U$119","v":0},{"$f":"投入係数!V102*V$119","v":0},{"$f":"投入係数!W102*W$119","v":0},{"$f":"投入係数!X102*X$119","v":0},{"$f":"投入係数!Y102*Y$119","v":0},{"$f":"投入係数!Z102*Z$119","v":0},{"$f":"投入係数!AA102*AA$119","v":0},{"$f":"投入係数!AB102*AB$119","v":0},{"$f":"投入係数!AC102*AC$119","v":0},{"$f":"投入係数!AD102*AD$119","v":0},{"$f":"投入係数!AE102*AE$119","v":0},{"$f":"投入係数!AF102*AF$119","v":0},{"$f":"投入係数!AG102*AG$119","v":0},{"$f":"投入係数!AH102*AH$119","v":0},{"$f":"投入係数!AI102*AI$119","v":0},{"$f":"投入係数!AJ102*AJ$119","v":0},{"$f":"投入係数!AK102*AK$119","v":0},{"$f":"投入係数!AL102*AL$119","v":0},{"$f":"投入係数!AM102*AM$119","v":0},{"$f":"投入係数!AN102*AN$119","v":0},{"$f":"投入係数!AO102*AO$119","v":0},{"$f":"投入係数!AP102*AP$119","v":0},{"$f":"投入係数!AQ102*AQ$119","v":0},{"$f":"投入係数!AR102*AR$119","v":0},{"$f":"投入係数!AS102*AS$119","v":0},{"$f":"投入係数!AT102*AT$119","v":0},{"$f":"投入係数!AU102*AU$119","v":0},{"$f":"投入係数!AV102*AV$119","v":0},{"$f":"投入係数!AW102*AW$119","v":0},{"$f":"投入係数!AX102*AX$119","v":0},{"$f":"投入係数!AY102*AY$119","v":0},{"$f":"投入係数!AZ102*AZ$119","v":0},{"$f":"投入係数!BA102*BA$119","v":0},{"$f":"投入係数!BB102*BB$119","v":0},{"$f":"投入係数!BC102*BC$119","v":0},{"$f":"投入係数!BD102*BD$119","v":0},{"$f":"投入係数!BE102*BE$119","v":0},{"$f":"投入係数!BF102*BF$119","v":0},{"$f":"投入係数!BG102*BG$119","v":0},{"$f":"投入係数!BH102*BH$119","v":0},{"$f":"投入係数!BI102*BI$119","v":0},{"$f":"投入係数!BJ102*BJ$119","v":0},{"$f":"投入係数!BK102*BK$119","v":0},{"$f":"投入係数!BL102*BL$119","v":0},{"$f":"投入係数!BM102*BM$119","v":0},{"$f":"投入係数!BN102*BN$119","v":0},{"$f":"投入係数!BO102*BO$119","v":0},{"$f":"投入係数!BP102*BP$119","v":0},{"$f":"投入係数!BQ102*BQ$119","v":0},{"$f":"投入係数!BR102*BR$119","v":0},{"$f":"投入係数!BS102*BS$119","v":0},{"$f":"投入係数!BT102*BT$119","v":0},{"$f":"投入係数!BU102*BU$119","v":0},{"$f":"投入係数!BV102*BV$119","v":0},{"$f":"投入係数!BW102*BW$119","v":0},{"$f":"投入係数!BX102*BX$119","v":0},{"$f":"投入係数!BY102*BY$119","v":0},{"$f":"投入係数!BZ102*BZ$119","v":0},{"$f":"投入係数!CA102*CA$119","v":0},{"$f":"投入係数!CB102*CB$119","v":0},{"$f":"投入係数!CC102*CC$119","v":0},{"$f":"投入係数!CD102*CD$119","v":0},{"$f":"投入係数!CE102*CE$119","v":0},{"$f":"投入係数!CF102*CF$119","v":0},{"$f":"投入係数!CG102*CG$119","v":0},{"$f":"投入係数!CH102*CH$119","v":0},{"$f":"投入係数!CI102*CI$119","v":0},{"$f":"投入係数!CJ102*CJ$119","v":0},{"$f":"投入係数!CK102*CK$119","v":0},{"$f":"投入係数!CL102*CL$119","v":0},{"$f":"投入係数!CM102*CM$119","v":0},{"$f":"投入係数!CN102*CN$119","v":0},{"$f":"投入係数!CO102*CO$119","v":0},{"$f":"投入係数!CP102*CP$119","v":0},{"$f":"投入係数!CQ102*CQ$119","v":0},{"$f":"投入係数!CR102*CR$119","v":0},{"$f":"投入係数!CS102*CS$119","v":0},{"$f":"投入係数!CT102*CT$119","v":0},{"$f":"投入係数!CU102*CU$119","v":0},{"$f":"投入係数!CV102*CV$119","v":0},{"$f":"投入係数!CW102*CW$119","v":0},{"$f":"投入係数!CX102*CX$119","v":0},{"$f":"投入係数!CY102*CY$119","v":0},{"$f":"投入係数!CZ102*CZ$119","v":0},{"$f":"投入係数!DA102*DA$119","v":0},{"$f":"投入係数!DB102*DB$119","v":0},{"$f":"投入係数!DC102*DC$119","v":0},{"$f":"投入係数!DD102*DD$119","v":0},{"$f":"投入係数!DE102*DE$119","v":0},{"$f":"投入係数!DF102*DF$119","v":0},{"$f":"投入係数!DG102*DG$119","v":0},{"$f":"投入係数!DH102*DH$119","v":0},0]
[null,"644","介護",{"$f":"投入係数!D103*D$119","v":0},{"$f":"投入係数!E103*E$119","v":0},{"$f":"投入係数!F103*F$119","v":0},{"$f":"投入係数!G103*G$119","v":0},{"$f":"投入係数!H103*H$119","v":0},{"$f":"投入係数!I103*I$119","v":0},{"$f":"投入係数!J103*J$119","v":0},{"$f":"投入係数!K103*K$119","v":0},{"$f":"投入係数!L103*L$119","v":0},{"$f":"投入係数!M103*M$119","v":0},{"$f":"投入係数!N103*N$119","v":0},{"$f":"投入係数!O103*O$119","v":0},{"$f":"投入係数!P103*P$119","v":0},{"$f":"投入係数!Q103*Q$119","v":0},{"$f":"投入係数!R103*R$119","v":0},{"$f":"投入係数!S103*S$119","v":0},{"$f":"投入係数!T103*T$119","v":0},{"$f":"投入係数!U103*U$119","v":0},{"$f":"投入係数!V103*V$119","v":0},{"$f":"投入係数!W103*W$119","v":0},{"$f":"投入係数!X103*X$119","v":0},{"$f":"投入係数!Y103*Y$119","v":0},{"$f":"投入係数!Z103*Z$119","v":0},{"$f":"投入係数!AA103*AA$119","v":0},{"$f":"投入係数!AB103*AB$119","v":0},{"$f":"投入係数!AC103*AC$119","v":0},{"$f":"投入係数!AD103*AD$119","v":0},{"$f":"投入係数!AE103*AE$119","v":0},{"$f":"投入係数!AF103*AF$119","v":0},{"$f":"投入係数!AG103*AG$119","v":0},{"$f":"投入係数!AH103*AH$119","v":0},{"$f":"投入係数!AI103*AI$119","v":0},{"$f":"投入係数!AJ103*AJ$119","v":0},{"$f":"投入係数!AK103*AK$119","v":0},{"$f":"投入係数!AL103*AL$119","v":0},{"$f":"投入係数!AM103*AM$119","v":0},{"$f":"投入係数!AN103*AN$119","v":0},{"$f":"投入係数!AO103*AO$119","v":0},{"$f":"投入係数!AP103*AP$119","v":0},{"$f":"投入係数!AQ103*AQ$119","v":0},{"$f":"投入係数!AR103*AR$119","v":0},{"$f":"投入係数!AS103*AS$119","v":0},{"$f":"投入係数!AT103*AT$119","v":0},{"$f":"投入係数!AU103*AU$119","v":0},{"$f":"投入係数!AV103*AV$119","v":0},{"$f":"投入係数!AW103*AW$119","v":0},{"$f":"投入係数!AX103*AX$119","v":0},{"$f":"投入係数!AY103*AY$119","v":0},{"$f":"投入係数!AZ103*AZ$119","v":0},{"$f":"投入係数!BA103*BA$119","v":0},{"$f":"投入係数!BB103*BB$119","v":0},{"$f":"投入係数!BC103*BC$119","v":0},{"$f":"投入係数!BD103*BD$119","v":0},{"$f":"投入係数!BE103*BE$119","v":0},{"$f":"投入係数!BF103*BF$119","v":0},{"$f":"投入係数!BG103*BG$119","v":0},{"$f":"投入係数!BH103*BH$119","v":0},{"$f":"投入係数!BI103*BI$119","v":0},{"$f":"投入係数!BJ103*BJ$119","v":0},{"$f":"投入係数!BK103*BK$119","v":0},{"$f":"投入係数!BL103*BL$119","v":0},{"$f":"投入係数!BM103*BM$119","v":0},{"$f":"投入係数!BN103*BN$119","v":0},{"$f":"投入係数!BO103*BO$119","v":0},{"$f":"投入係数!BP103*BP$119","v":0},{"$f":"投入係数!BQ103*BQ$119","v":0},{"$f":"投入係数!BR103*BR$119","v":0},{"$f":"投入係数!BS103*BS$119","v":0},{"$f":"投入係数!BT103*BT$119","v":0},{"$f":"投入係数!BU103*BU$119","v":0},{"$f":"投入係数!BV103*BV$119","v":0},{"$f":"投入係数!BW103*BW$119","v":0},{"$f":"投入係数!BX103*BX$119","v":0},{"$f":"投入係数!BY103*BY$119","v":0},{"$f":"投入係数!BZ103*BZ$119","v":0},{"$f":"投入係数!CA103*CA$119","v":0},{"$f":"投入係数!CB103*CB$119","v":0},{"$f":"投入係数!CC103*CC$119","v":0},{"$f":"投入係数!CD103*CD$119","v":0},{"$f":"投入係数!CE103*CE$119","v":0},{"$f":"投入係数!CF103*CF$119","v":0},{"$f":"投入係数!CG103*CG$119","v":0},{"$f":"投入係数!CH103*CH$119","v":0},{"$f":"投入係数!CI103*CI$119","v":0},{"$f":"投入係数!CJ103*CJ$119","v":0},{"$f":"投入係数!CK103*CK$119","v":0},{"$f":"投入係数!CL103*CL$119","v":0},{"$f":"投入係数!CM103*CM$119","v":0},{"$f":"投入係数!CN103*CN$119","v":0},{"$f":"投入係数!CO103*CO$119","v":0},{"$f":"投入係数!CP103*CP$119","v":0},{"$f":"投入係数!CQ103*CQ$119","v":0},{"$f":"投入係数!CR103*CR$119","v":0},{"$f":"投入係数!CS103*CS$119","v":0},{"$f":"投入係数!CT103*CT$119","v":0},{"$f":"投入係数!CU103*CU$119","v":0},{"$f":"投入係数!CV103*CV$119","v":0},{"$f":"投入係数!CW103*CW$119","v":0},{"$f":"投入係数!CX103*CX$119","v":0},{"$f":"投入係数!CY103*CY$119","v":0},{"$f":"投入係数!CZ103*CZ$119","v":0},{"$f":"投入係数!DA103*DA$119","v":0},{"$f":"投入係数!DB103*DB$119","v":0},{"$f":"投入係数!DC103*DC$119","v":0},{"$f":"投入係数!DD103*DD$119","v":0},{"$f":"投入係数!DE103*DE$119","v":0},{"$f":"投入係数!DF103*DF$119","v":0},{"$f":"投入係数!DG103*DG$119","v":0},{"$f":"投入係数!DH103*DH$119","v":0},0]
[null,"659","他に分類されない会員制団体",{"$f":"投入係数!D104*D$119","v":0},{"$f":"投入係数!E104*E$119","v":0},{"$f":"投入係数!F104*F$119","v":0},{"$f":"投入係数!G104*G$119","v":0},{"$f":"投入係数!H104*H$119","v":0},{"$f":"投入係数!I104*I$119","v":0},{"$f":"投入係数!J104*J$119","v":0},{"$f":"投入係数!K104*K$119","v":0},{"$f":"投入係数!L104*L$119","v":0},{"$f":"投入係数!M104*M$119","v":0},{"$f":"投入係数!N104*N$119","v":0},{"$f":"投入係数!O104*O$119","v":0},{"$f":"投入係数!P104*P$119","v":0},{"$f":"投入係数!Q104*Q$119","v":0},{"$f":"投入係数!R104*R$119","v":0},{"$f":"投入係数!S104*S$119","v":0},{"$f":"投入係数!T104*T$119","v":0},{"$f":"投入係数!U104*U$119","v":0},{"$f":"投入係数!V104*V$119","v":0},{"$f":"投入係数!W104*W$119","v":0},{"$f":"投入係数!X104*X$119","v":0},{"$f":"投入係数!Y104*Y$119","v":0},{"$f":"投入係数!Z104*Z$119","v":0},{"$f":"投入係数!AA104*AA$119","v":0},{"$f":"投入係数!AB104*AB$119","v":0},{"$f":"投入係数!AC104*AC$119","v":0},{"$f":"投入係数!AD104*AD$119","v":0},{"$f":"投入係数!AE104*AE$119","v":0},{"$f":"投入係数!AF104*AF$119","v":0},{"$f":"投入係数!AG104*AG$119","v":0},{"$f":"投入係数!AH104*AH$119","v":0},{"$f":"投入係数!AI104*AI$119","v":0},{"$f":"投入係数!AJ104*AJ$119","v":0},{"$f":"投入係数!AK104*AK$119","v":0},{"$f":"投入係数!AL104*AL$119","v":0},{"$f":"投入係数!AM104*AM$119","v":0},{"$f":"投入係数!AN104*AN$119","v":0},{"$f":"投入係数!AO104*AO$119","v":0},{"$f":"投入係数!AP104*AP$119","v":0},{"$f":"投入係数!AQ104*AQ$119","v":0},{"$f":"投入係数!AR104*AR$119","v":0},{"$f":"投入係数!AS104*AS$119","v":0},{"$f":"投入係数!AT104*AT$119","v":0},{"$f":"投入係数!AU104*AU$119","v":0},{"$f":"投入係数!AV104*AV$119","v":0},{"$f":"投入係数!AW104*AW$119","v":0},{"$f":"投入係数!AX104*AX$119","v":0},{"$f":"投入係数!AY104*AY$119","v":0},{"$f":"投入係数!AZ104*AZ$119","v":0},{"$f":"投入係数!BA104*BA$119","v":0},{"$f":"投入係数!BB104*BB$119","v":0},{"$f":"投入係数!BC104*BC$119","v":0},{"$f":"投入係数!BD104*BD$119","v":0},{"$f":"投入係数!BE104*BE$119","v":0},{"$f":"投入係数!BF104*BF$119","v":0},{"$f":"投入係数!BG104*BG$119","v":0},{"$f":"投入係数!BH104*BH$119","v":0},{"$f":"投入係数!BI104*BI$119","v":0},{"$f":"投入係数!BJ104*BJ$119","v":0},{"$f":"投入係数!BK104*BK$119","v":0},{"$f":"投入係数!BL104*BL$119","v":0},{"$f":"投入係数!BM104*BM$119","v":0},{"$f":"投入係数!BN104*BN$119","v":0},{"$f":"投入係数!BO104*BO$119","v":0},{"$f":"投入係数!BP104*BP$119","v":0},{"$f":"投入係数!BQ104*BQ$119","v":0},{"$f":"投入係数!BR104*BR$119","v":0},{"$f":"投入係数!BS104*BS$119","v":0},{"$f":"投入係数!BT104*BT$119","v":0},{"$f":"投入係数!BU104*BU$119","v":0},{"$f":"投入係数!BV104*BV$119","v":0},{"$f":"投入係数!BW104*BW$119","v":0},{"$f":"投入係数!BX104*BX$119","v":0},{"$f":"投入係数!BY104*BY$119","v":0},{"$f":"投入係数!BZ104*BZ$119","v":0},{"$f":"投入係数!CA104*CA$119","v":0},{"$f":"投入係数!CB104*CB$119","v":0},{"$f":"投入係数!CC104*CC$119","v":0},{"$f":"投入係数!CD104*CD$119","v":0},{"$f":"投入係数!CE104*CE$119","v":0},{"$f":"投入係数!CF104*CF$119","v":0},{"$f":"投入係数!CG104*CG$119","v":0},{"$f":"投入係数!CH104*CH$119","v":0},{"$f":"投入係数!CI104*CI$119","v":0},{"$f":"投入係数!CJ104*CJ$119","v":0},{"$f":"投入係数!CK104*CK$119","v":0},{"$f":"投入係数!CL104*CL$119","v":0},{"$f":"投入係数!CM104*CM$119","v":0},{"$f":"投入係数!CN104*CN$119","v":0},{"$f":"投入係数!CO104*CO$119","v":0},{"$f":"投入係数!CP104*CP$119","v":0},{"$f":"投入係数!CQ104*CQ$119","v":0},{"$f":"投入係数!CR104*CR$119","v":0},{"$f":"投入係数!CS104*CS$119","v":0},{"$f":"投入係数!CT104*CT$119","v":0},{"$f":"投入係数!CU104*CU$119","v":0},{"$f":"投入係数!CV104*CV$119","v":0},{"$f":"投入係数!CW104*CW$119","v":0},{"$f":"投入係数!CX104*CX$119","v":0},{"$f":"投入係数!CY104*CY$119","v":0},{"$f":"投入係数!CZ104*CZ$119","v":0},{"$f":"投入係数!DA104*DA$119","v":0},{"$f":"投入係数!DB104*DB$119","v":0},{"$f":"投入係数!DC104*DC$119","v":0},{"$f":"投入係数!DD104*DD$119","v":0},{"$f":"投入係数!DE104*DE$119","v":0},{"$f":"投入係数!DF104*DF$119","v":0},{"$f":"投入係数!DG104*DG$119","v":0},{"$f":"投入係数!DH104*DH$119","v":0},0]
[null,"661","物品賃貸サービス",{"$f":"投入係数!D105*D$119","v":0},{"$f":"投入係数!E105*E$119","v":0},{"$f":"投入係数!F105*F$119","v":0},{"$f":"投入係数!G105*G$119","v":0},{"$f":"投入係数!H105*H$119","v":0},{"$f":"投入係数!I105*I$119","v":0},{"$f":"投入係数!J105*J$119","v":0},{"$f":"投入係数!K105*K$119","v":0},{"$f":"投入係数!L105*L$119","v":0},{"$f":"投入係数!M105*M$119","v":0},{"$f":"投入係数!N105*N$119","v":0},{"$f":"投入係数!O105*O$119","v":0},{"$f":"投入係数!P105*P$119","v":0},{"$f":"投入係数!Q105*Q$119","v":0},{"$f":"投入係数!R105*R$119","v":0},{"$f":"投入係数!S105*S$119","v":0},{"$f":"投入係数!T105*T$119","v":0},{"$f":"投入係数!U105*U$119","v":0},{"$f":"投入係数!V105*V$119","v":0},{"$f":"投入係数!W105*W$119","v":0},{"$f":"投入係数!X105*X$119","v":0},{"$f":"投入係数!Y105*Y$119","v":0},{"$f":"投入係数!Z105*Z$119","v":0},{"$f":"投入係数!AA105*AA$119","v":0},{"$f":"投入係数!AB105*AB$119","v":0},{"$f":"投入係数!AC105*AC$119","v":0},{"$f":"投入係数!AD105*AD$119","v":0},{"$f":"投入係数!AE105*AE$119","v":0},{"$f":"投入係数!AF105*AF$119","v":0},{"$f":"投入係数!AG105*AG$119","v":0},{"$f":"投入係数!AH105*AH$119","v":0},{"$f":"投入係数!AI105*AI$119","v":0},{"$f":"投入係数!AJ105*AJ$119","v":0},{"$f":"投入係数!AK105*AK$119","v":0},{"$f":"投入係数!AL105*AL$119","v":0},{"$f":"投入係数!AM105*AM$119","v":0},{"$f":"投入係数!AN105*AN$119","v":0},{"$f":"投入係数!AO105*AO$119","v":0},{"$f":"投入係数!AP105*AP$119","v":0},{"$f":"投入係数!AQ105*AQ$119","v":0},{"$f":"投入係数!AR105*AR$119","v":0},{"$f":"投入係数!AS105*AS$119","v":0},{"$f":"投入係数!AT105*AT$119","v":0},{"$f":"投入係数!AU105*AU$119","v":0},{"$f":"投入係数!AV105*AV$119","v":0},{"$f":"投入係数!AW105*AW$119","v":0},{"$f":"投入係数!AX105*AX$119","v":0},{"$f":"投入係数!AY105*AY$119","v":0},{"$f":"投入係数!AZ105*AZ$119","v":0},{"$f":"投入係数!BA105*BA$119","v":0},{"$f":"投入係数!BB105*BB$119","v":0},{"$f":"投入係数!BC105*BC$119","v":0},{"$f":"投入係数!BD105*BD$119","v":0},{"$f":"投入係数!BE105*BE$119","v":0},{"$f":"投入係数!BF105*BF$119","v":0},{"$f":"投入係数!BG105*BG$119","v":0},{"$f":"投入係数!BH105*BH$119","v":0},{"$f":"投入係数!BI105*BI$119","v":0},{"$f":"投入係数!BJ105*BJ$119","v":0},{"$f":"投入係数!BK105*BK$119","v":0},{"$f":"投入係数!BL105*BL$119","v":0},{"$f":"投入係数!BM105*BM$119","v":0},{"$f":"投入係数!BN105*BN$119","v":0},{"$f":"投入係数!BO105*BO$119","v":0},{"$f":"投入係数!BP105*BP$119","v":0},{"$f":"投入係数!BQ105*BQ$119","v":0},{"$f":"投入係数!BR105*BR$119","v":0},{"$f":"投入係数!BS105*BS$119","v":0},{"$f":"投入係数!BT105*BT$119","v":0},{"$f":"投入係数!BU105*BU$119","v":0},{"$f":"投入係数!BV105*BV$119","v":0},{"$f":"投入係数!BW105*BW$119","v":0},{"$f":"投入係数!BX105*BX$119","v":0},{"$f":"投入係数!BY105*BY$119","v":0},{"$f":"投入係数!BZ105*BZ$119","v":0},{"$f":"投入係数!CA105*CA$119","v":0},{"$f":"投入係数!CB105*CB$119","v":0},{"$f":"投入係数!CC105*CC$119","v":0},{"$f":"投入係数!CD105*CD$119","v":0},{"$f":"投入係数!CE105*CE$119","v":0},{"$f":"投入係数!CF105*CF$119","v":0},{"$f":"投入係数!CG105*CG$119","v":0},{"$f":"投入係数!CH105*CH$119","v":0},{"$f":"投入係数!CI105*CI$119","v":0},{"$f":"投入係数!CJ105*CJ$119","v":0},{"$f":"投入係数!CK105*CK$119","v":0},{"$f":"投入係数!CL105*CL$119","v":0},{"$f":"投入係数!CM105*CM$119","v":0},{"$f":"投入係数!CN105*CN$119","v":0},{"$f":"投入係数!CO105*CO$119","v":0},{"$f":"投入係数!CP105*CP$119","v":0},{"$f":"投入係数!CQ105*CQ$119","v":0},{"$f":"投入係数!CR105*CR$119","v":0},{"$f":"投入係数!CS105*CS$119","v":0},{"$f":"投入係数!CT105*CT$119","v":0},{"$f":"投入係数!CU105*CU$119","v":0},{"$f":"投入係数!CV105*CV$119","v":0},{"$f":"投入係数!CW105*CW$119","v":0},{"$f":"投入係数!CX105*CX$119","v":0},{"$f":"投入係数!CY105*CY$119","v":0},{"$f":"投入係数!CZ105*CZ$119","v":0},{"$f":"投入係数!DA105*DA$119","v":0},{"$f":"投入係数!DB105*DB$119","v":0},{"$f":"投入係数!DC105*DC$119","v":0},{"$f":"投入係数!DD105*DD$119","v":0},{"$f":"投入係数!DE105*DE$119","v":0},{"$f":"投入係数!DF105*DF$119","v":0},{"$f":"投入係数!DG105*DG$119","v":0},{"$f":"投入係数!DH105*DH$119","v":0},0]
[null,"662","広告",{"$f":"投入係数!D106*D$119","v":0},{"$f":"投入係数!E106*E$119","v":0},{"$f":"投入係数!F106*F$119","v":0},{"$f":"投入係数!G106*G$119","v":0},{"$f":"投入係数!H106*H$119","v":0},{"$f":"投入係数!I106*I$119","v":0},{"$f":"投入係数!J106*J$119","v":0},{"$f":"投入係数!K106*K$119","v":0},{"$f":"投入係数!L106*L$119","v":0},{"$f":"投入係数!M106*M$119","v":0},{"$f":"投入係数!N106*N$119","v":0},{"$f":"投入係数!O106*O$119","v":0},{"$f":"投入係数!P106*P$119","v":0},{"$f":"投入係数!Q106*Q$119","v":0},{"$f":"投入係数!R106*R$119","v":0},{"$f":"投入係数!S106*S$119","v":0},{"$f":"投入係数!T106*T$119","v":0},{"$f":"投入係数!U106*U$119","v":0},{"$f":"投入係数!V106*V$119","v":0},{"$f":"投入係数!W106*W$119","v":0},{"$f":"投入係数!X106*X$119","v":0},{"$f":"投入係数!Y106*Y$119","v":0},{"$f":"投入係数!Z106*Z$119","v":0},{"$f":"投入係数!AA106*AA$119","v":0},{"$f":"投入係数!AB106*AB$119","v":0},{"$f":"投入係数!AC106*AC$119","v":0},{"$f":"投入係数!AD106*AD$119","v":0},{"$f":"投入係数!AE106*AE$119","v":0},{"$f":"投入係数!AF106*AF$119","v":0},{"$f":"投入係数!AG106*AG$119","v":0},{"$f":"投入係数!AH106*AH$119","v":0},{"$f":"投入係数!AI106*AI$119","v":0},{"$f":"投入係数!AJ106*AJ$119","v":0},{"$f":"投入係数!AK106*AK$119","v":0},{"$f":"投入係数!AL106*AL$119","v":0},{"$f":"投入係数!AM106*AM$119","v":0},{"$f":"投入係数!AN106*AN$119","v":0},{"$f":"投入係数!AO106*AO$119","v":0},{"$f":"投入係数!AP106*AP$119","v":0},{"$f":"投入係数!AQ106*AQ$119","v":0},{"$f":"投入係数!AR106*AR$119","v":0},{"$f":"投入係数!AS106*AS$119","v":0},{"$f":"投入係数!AT106*AT$119","v":0},{"$f":"投入係数!AU106*AU$119","v":0},{"$f":"投入係数!AV106*AV$119","v":0},{"$f":"投入係数!AW106*AW$119","v":0},{"$f":"投入係数!AX106*AX$119","v":0},{"$f":"投入係数!AY106*AY$119","v":0},{"$f":"投入係数!AZ106*AZ$119","v":0},{"$f":"投入係数!BA106*BA$119","v":0},{"$f":"投入係数!BB106*BB$119","v":0},{"$f":"投入係数!BC106*BC$119","v":0},{"$f":"投入係数!BD106*BD$119","v":0},{"$f":"投入係数!BE106*BE$119","v":0},{"$f":"投入係数!BF106*BF$119","v":0},{"$f":"投入係数!BG106*BG$119","v":0},{"$f":"投入係数!BH106*BH$119","v":0},{"$f":"投入係数!BI106*BI$119","v":0},{"$f":"投入係数!BJ106*BJ$119","v":0},{"$f":"投入係数!BK106*BK$119","v":0},{"$f":"投入係数!BL106*BL$119","v":0},{"$f":"投入係数!BM106*BM$119","v":0},{"$f":"投入係数!BN106*BN$119","v":0},{"$f":"投入係数!BO106*BO$119","v":0},{"$f":"投入係数!BP106*BP$119","v":0},{"$f":"投入係数!BQ106*BQ$119","v":0},{"$f":"投入係数!BR106*BR$119","v":0},{"$f":"投入係数!BS106*BS$119","v":0},{"$f":"投入係数!BT106*BT$119","v":0},{"$f":"投入係数!BU106*BU$119","v":0},{"$f":"投入係数!BV106*BV$119","v":0},{"$f":"投入係数!BW106*BW$119","v":0},{"$f":"投入係数!BX106*BX$119","v":0},{"$f":"投入係数!BY106*BY$119","v":0},{"$f":"投入係数!BZ106*BZ$119","v":0},{"$f":"投入係数!CA106*CA$119","v":0},{"$f":"投入係数!CB106*CB$119","v":0},{"$f":"投入係数!CC106*CC$119","v":0},{"$f":"投入係数!CD106*CD$119","v":0},{"$f":"投入係数!CE106*CE$119","v":0},{"$f":"投入係数!CF106*CF$119","v":0},{"$f":"投入係数!CG106*CG$119","v":0},{"$f":"投入係数!CH106*CH$119","v":0},{"$f":"投入係数!CI106*CI$119","v":0},{"$f":"投入係数!CJ106*CJ$119","v":0},{"$f":"投入係数!CK106*CK$119","v":0},{"$f":"投入係数!CL106*CL$119","v":0},{"$f":"投入係数!CM106*CM$119","v":0},{"$f":"投入係数!CN106*CN$119","v":0},{"$f":"投入係数!CO106*CO$119","v":0},{"$f":"投入係数!CP106*CP$119","v":0},{"$f":"投入係数!CQ106*CQ$119","v":0},{"$f":"投入係数!CR106*CR$119","v":0},{"$f":"投入係数!CS106*CS$119","v":0},{"$f":"投入係数!CT106*CT$119","v":0},{"$f":"投入係数!CU106*CU$119","v":0},{"$f":"投入係数!CV106*CV$119","v":0},{"$f":"投入係数!CW106*CW$119","v":0},{"$f":"投入係数!CX106*CX$119","v":0},{"$f":"投入係数!CY106*CY$119","v":0},{"$f":"投入係数!CZ106*CZ$119","v":0},{"$f":"投入係数!DA106*DA$119","v":0},{"$f":"投入係数!DB106*DB$119","v":0},{"$f":"投入係数!DC106*DC$119","v":0},{"$f":"投入係数!DD106*DD$119","v":0},{"$f":"投入係数!DE106*DE$119","v":0},{"$f":"投入係数!DF106*DF$119","v":0},{"$f":"投入係数!DG106*DG$119","v":0},{"$f":"投入係数!DH106*DH$119","v":0},0]
[null,"663","自動車整備・機械修理",{"$f":"投入係数!D107*D$119","v":0},{"$f":"投入係数!E107*E$119","v":0},{"$f":"投入係数!F107*F$119","v":0},{"$f":"投入係数!G107*G$119","v":0},{"$f":"投入係数!H107*H$119","v":0},{"$f":"投入係数!I107*I$119","v":0},{"$f":"投入係数!J107*J$119","v":0},{"$f":"投入係数!K107*K$119","v":0},{"$f":"投入係数!L107*L$119","v":0},{"$f":"投入係数!M107*M$119","v":0},{"$f":"投入係数!N107*N$119","v":0},{"$f":"投入係数!O107*O$119","v":0},{"$f":"投入係数!P107*P$119","v":0},{"$f":"投入係数!Q107*Q$119","v":0},{"$f":"投入係数!R107*R$119","v":0},{"$f":"投入係数!S107*S$119","v":0},{"$f":"投入係数!T107*T$119","v":0},{"$f":"投入係数!U107*U$119","v":0},{"$f":"投入係数!V107*V$119","v":0},{"$f":"投入係数!W107*W$119","v":0},{"$f":"投入係数!X107*X$119","v":0},{"$f":"投入係数!Y107*Y$119","v":0},{"$f":"投入係数!Z107*Z$119","v":0},{"$f":"投入係数!AA107*AA$119","v":0},{"$f":"投入係数!AB107*AB$119","v":0},{"$f":"投入係数!AC107*AC$119","v":0},{"$f":"投入係数!AD107*AD$119","v":0},{"$f":"投入係数!AE107*AE$119","v":0},{"$f":"投入係数!AF107*AF$119","v":0},{"$f":"投入係数!AG107*AG$119","v":0},{"$f":"投入係数!AH107*AH$119","v":0},{"$f":"投入係数!AI107*AI$119","v":0},{"$f":"投入係数!AJ107*AJ$119","v":0},{"$f":"投入係数!AK107*AK$119","v":0},{"$f":"投入係数!AL107*AL$119","v":0},{"$f":"投入係数!AM107*AM$119","v":0},{"$f":"投入係数!AN107*AN$119","v":0},{"$f":"投入係数!AO107*AO$119","v":0},{"$f":"投入係数!AP107*AP$119","v":0},{"$f":"投入係数!AQ107*AQ$119","v":0},{"$f":"投入係数!AR107*AR$119","v":0},{"$f":"投入係数!AS107*AS$119","v":0},{"$f":"投入係数!AT107*AT$119","v":0},{"$f":"投入係数!AU107*AU$119","v":0},{"$f":"投入係数!AV107*AV$119","v":0},{"$f":"投入係数!AW107*AW$119","v":0},{"$f":"投入係数!AX107*AX$119","v":0},{"$f":"投入係数!AY107*AY$119","v":0},{"$f":"投入係数!AZ107*AZ$119","v":0},{"$f":"投入係数!BA107*BA$119","v":0},{"$f":"投入係数!BB107*BB$119","v":0},{"$f":"投入係数!BC107*BC$119","v":0},{"$f":"投入係数!BD107*BD$119","v":0},{"$f":"投入係数!BE107*BE$119","v":0},{"$f":"投入係数!BF107*BF$119","v":0},{"$f":"投入係数!BG107*BG$119","v":0},{"$f":"投入係数!BH107*BH$119","v":0},{"$f":"投入係数!BI107*BI$119","v":0},{"$f":"投入係数!BJ107*BJ$119","v":0},{"$f":"投入係数!BK107*BK$119","v":0},{"$f":"投入係数!BL107*BL$119","v":0},{"$f":"投入係数!BM107*BM$119","v":0},{"$f":"投入係数!BN107*BN$119","v":0},{"$f":"投入係数!BO107*BO$119","v":0},{"$f":"投入係数!BP107*BP$119","v":0},{"$f":"投入係数!BQ107*BQ$119","v":0},{"$f":"投入係数!BR107*BR$119","v":0},{"$f":"投入係数!BS107*BS$119","v":0},{"$f":"投入係数!BT107*BT$119","v":0},{"$f":"投入係数!BU107*BU$119","v":0},{"$f":"投入係数!BV107*BV$119","v":0},{"$f":"投入係数!BW107*BW$119","v":0},{"$f":"投入係数!BX107*BX$119","v":0},{"$f":"投入係数!BY107*BY$119","v":0},{"$f":"投入係数!BZ107*BZ$119","v":0},{"$f":"投入係数!CA107*CA$119","v":0},{"$f":"投入係数!CB107*CB$119","v":0},{"$f":"投入係数!CC107*CC$119","v":0},{"$f":"投入係数!CD107*CD$119","v":0},{"$f":"投入係数!CE107*CE$119","v":0},{"$f":"投入係数!CF107*CF$119","v":0},{"$f":"投入係数!CG107*CG$119","v":0},{"$f":"投入係数!CH107*CH$119","v":0},{"$f":"投入係数!CI107*CI$119","v":0},{"$f":"投入係数!CJ107*CJ$119","v":0},{"$f":"投入係数!CK107*CK$119","v":0},{"$f":"投入係数!CL107*CL$119","v":0},{"$f":"投入係数!CM107*CM$119","v":0},{"$f":"投入係数!CN107*CN$119","v":0},{"$f":"投入係数!CO107*CO$119","v":0},{"$f":"投入係数!CP107*CP$119","v":0},{"$f":"投入係数!CQ107*CQ$119","v":0},{"$f":"投入係数!CR107*CR$119","v":0},{"$f":"投入係数!CS107*CS$119","v":0},{"$f":"投入係数!CT107*CT$119","v":0},{"$f":"投入係数!CU107*CU$119","v":0},{"$f":"投入係数!CV107*CV$119","v":0},{"$f":"投入係数!CW107*CW$119","v":0},{"$f":"投入係数!CX107*CX$119","v":0},{"$f":"投入係数!CY107*CY$119","v":0},{"$f":"投入係数!CZ107*CZ$119","v":0},{"$f":"投入係数!DA107*DA$119","v":0},{"$f":"投入係数!DB107*DB$119","v":0},{"$f":"投入係数!DC107*DC$119","v":0},{"$f":"投入係数!DD107*DD$119","v":0},{"$f":"投入係数!DE107*DE$119","v":0},{"$f":"投入係数!DF107*DF$119","v":0},{"$f":"投入係数!DG107*DG$119","v":0},{"$f":"投入係数!DH107*DH$119","v":0},0]
[null,"669","その他の対事業所サービス",{"$f":"投入係数!D108*D$119","v":0},{"$f":"投入係数!E108*E$119","v":0},{"$f":"投入係数!F108*F$119","v":0},{"$f":"投入係数!G108*G$119","v":0},{"$f":"投入係数!H108*H$119","v":0},{"$f":"投入係数!I108*I$119","v":0},{"$f":"投入係数!J108*J$119","v":0},{"$f":"投入係数!K108*K$119","v":0},{"$f":"投入係数!L108*L$119","v":0},{"$f":"投入係数!M108*M$119","v":0},{"$f":"投入係数!N108*N$119","v":0},{"$f":"投入係数!O108*O$119","v":0},{"$f":"投入係数!P108*P$119","v":0},{"$f":"投入係数!Q108*Q$119","v":0},{"$f":"投入係数!R108*R$119","v":0},{"$f":"投入係数!S108*S$119","v":0},{"$f":"投入係数!T108*T$119","v":0},{"$f":"投入係数!U108*U$119","v":0},{"$f":"投入係数!V108*V$119","v":0},{"$f":"投入係数!W108*W$119","v":0},{"$f":"投入係数!X108*X$119","v":0},{"$f":"投入係数!Y108*Y$119","v":0},{"$f":"投入係数!Z108*Z$119","v":0},{"$f":"投入係数!AA108*AA$119","v":0},{"$f":"投入係数!AB108*AB$119","v":0},{"$f":"投入係数!AC108*AC$119","v":0},{"$f":"投入係数!AD108*AD$119","v":0},{"$f":"投入係数!AE108*AE$119","v":0},{"$f":"投入係数!AF108*AF$119","v":0},{"$f":"投入係数!AG108*AG$119","v":0},{"$f":"投入係数!AH108*AH$119","v":0},{"$f":"投入係数!AI108*AI$119","v":0},{"$f":"投入係数!AJ108*AJ$119","v":0},{"$f":"投入係数!AK108*AK$119","v":0},{"$f":"投入係数!AL108*AL$119","v":0},{"$f":"投入係数!AM108*AM$119","v":0},{"$f":"投入係数!AN108*AN$119","v":0},{"$f":"投入係数!AO108*AO$119","v":0},{"$f":"投入係数!AP108*AP$119","v":0},{"$f":"投入係数!AQ108*AQ$119","v":0},{"$f":"投入係数!AR108*AR$119","v":0},{"$f":"投入係数!AS108*AS$119","v":0},{"$f":"投入係数!AT108*AT$119","v":0},{"$f":"投入係数!AU108*AU$119","v":0},{"$f":"投入係数!AV108*AV$119","v":0},{"$f":"投入係数!AW108*AW$119","v":0},{"$f":"投入係数!AX108*AX$119","v":0},{"$f":"投入係数!AY108*AY$119","v":0},{"$f":"投入係数!AZ108*AZ$119","v":0},{"$f":"投入係数!BA108*BA$119","v":0},{"$f":"投入係数!BB108*BB$119","v":0},{"$f":"投入係数!BC108*BC$119","v":0},{"$f":"投入係数!BD108*BD$119","v":0},{"$f":"投入係数!BE108*BE$119","v":0},{"$f":"投入係数!BF108*BF$119","v":0},{"$f":"投入係数!BG108*BG$119","v":0},{"$f":"投入係数!BH108*BH$119","v":0},{"$f":"投入係数!BI108*BI$119","v":0},{"$f":"投入係数!BJ108*BJ$119","v":0},{"$f":"投入係数!BK108*BK$119","v":0},{"$f":"投入係数!BL108*BL$119","v":0},{"$f":"投入係数!BM108*BM$119","v":0},{"$f":"投入係数!BN108*BN$119","v":0},{"$f":"投入係数!BO108*BO$119","v":0},{"$f":"投入係数!BP108*BP$119","v":0},{"$f":"投入係数!BQ108*BQ$119","v":0},{"$f":"投入係数!BR108*BR$119","v":0},{"$f":"投入係数!BS108*BS$119","v":0},{"$f":"投入係数!BT108*BT$119","v":0},{"$f":"投入係数!BU108*BU$119","v":0},{"$f":"投入係数!BV108*BV$119","v":0},{"$f":"投入係数!BW108*BW$119","v":0},{"$f":"投入係数!BX108*BX$119","v":0},{"$f":"投入係数!BY108*BY$119","v":0},{"$f":"投入係数!BZ108*BZ$119","v":0},{"$f":"投入係数!CA108*CA$119","v":0},{"$f":"投入係数!CB108*CB$119","v":0},{"$f":"投入係数!CC108*CC$119","v":0},{"$f":"投入係数!CD108*CD$119","v":0},{"$f":"投入係数!CE108*CE$119","v":0},{"$f":"投入係数!CF108*CF$119","v":0},{"$f":"投入係数!CG108*CG$119","v":0},{"$f":"投入係数!CH108*CH$119","v":0},{"$f":"投入係数!CI108*CI$119","v":0},{"$f":"投入係数!CJ108*CJ$119","v":0},{"$f":"投入係数!CK108*CK$119","v":0},{"$f":"投入係数!CL108*CL$119","v":0},{"$f":"投入係数!CM108*CM$119","v":0},{"$f":"投入係数!CN108*CN$119","v":0},{"$f":"投入係数!CO108*CO$119","v":0},{"$f":"投入係数!CP108*CP$119","v":0},{"$f":"投入係数!CQ108*CQ$119","v":0},{"$f":"投入係数!CR108*CR$119","v":0},{"$f":"投入係数!CS108*CS$119","v":0},{"$f":"投入係数!CT108*CT$119","v":0},{"$f":"投入係数!CU108*CU$119","v":0},{"$f":"投入係数!CV108*CV$119","v":0},{"$f":"投入係数!CW108*CW$119","v":0},{"$f":"投入係数!CX108*CX$119","v":0},{"$f":"投入係数!CY108*CY$119","v":0},{"$f":"投入係数!CZ108*CZ$119","v":0},{"$f":"投入係数!DA108*DA$119","v":0},{"$f":"投入係数!DB108*DB$119","v":0},{"$f":"投入係数!DC108*DC$119","v":0},{"$f":"投入係数!DD108*DD$119","v":0},{"$f":"投入係数!DE108*DE$119","v":0},{"$f":"投入係数!DF108*DF$119","v":0},{"$f":"投入係数!DG108*DG$119","v":0},{"$f":"投入係数!DH108*DH$119","v":0},0]
[null,"671","宿泊業",{"$f":"投入係数!D109*D$119","v":0},{"$f":"投入係数!E109*E$119","v":0},{"$f":"投入係数!F109*F$119","v":0},{"$f":"投入係数!G109*G$119","v":0},{"$f":"投入係数!H109*H$119","v":0},{"$f":"投入係数!I109*I$119","v":0},{"$f":"投入係数!J109*J$119","v":0},{"$f":"投入係数!K109*K$119","v":0},{"$f":"投入係数!L109*L$119","v":0},{"$f":"投入係数!M109*M$119","v":0},{"$f":"投入係数!N109*N$119","v":0},{"$f":"投入係数!O109*O$119","v":0},{"$f":"投入係数!P109*P$119","v":0},{"$f":"投入係数!Q109*Q$119","v":0},{"$f":"投入係数!R109*R$119","v":0},{"$f":"投入係数!S109*S$119","v":0},{"$f":"投入係数!T109*T$119","v":0},{"$f":"投入係数!U109*U$119","v":0},{"$f":"投入係数!V109*V$119","v":0},{"$f":"投入係数!W109*W$119","v":0},{"$f":"投入係数!X109*X$119","v":0},{"$f":"投入係数!Y109*Y$119","v":0},{"$f":"投入係数!Z109*Z$119","v":0},{"$f":"投入係数!AA109*AA$119","v":0},{"$f":"投入係数!AB109*AB$119","v":0},{"$f":"投入係数!AC109*AC$119","v":0},{"$f":"投入係数!AD109*AD$119","v":0},{"$f":"投入係数!AE109*AE$119","v":0},{"$f":"投入係数!AF109*AF$119","v":0},{"$f":"投入係数!AG109*AG$119","v":0},{"$f":"投入係数!AH109*AH$119","v":0},{"$f":"投入係数!AI109*AI$119","v":0},{"$f":"投入係数!AJ109*AJ$119","v":0},{"$f":"投入係数!AK109*AK$119","v":0},{"$f":"投入係数!AL109*AL$119","v":0},{"$f":"投入係数!AM109*AM$119","v":0},{"$f":"投入係数!AN109*AN$119","v":0},{"$f":"投入係数!AO109*AO$119","v":0},{"$f":"投入係数!AP109*AP$119","v":0},{"$f":"投入係数!AQ109*AQ$119","v":0},{"$f":"投入係数!AR109*AR$119","v":0},{"$f":"投入係数!AS109*AS$119","v":0},{"$f":"投入係数!AT109*AT$119","v":0},{"$f":"投入係数!AU109*AU$119","v":0},{"$f":"投入係数!AV109*AV$119","v":0},{"$f":"投入係数!AW109*AW$119","v":0},{"$f":"投入係数!AX109*AX$119","v":0},{"$f":"投入係数!AY109*AY$119","v":0},{"$f":"投入係数!AZ109*AZ$119","v":0},{"$f":"投入係数!BA109*BA$119","v":0},{"$f":"投入係数!BB109*BB$119","v":0},{"$f":"投入係数!BC109*BC$119","v":0},{"$f":"投入係数!BD109*BD$119","v":0},{"$f":"投入係数!BE109*BE$119","v":0},{"$f":"投入係数!BF109*BF$119","v":0},{"$f":"投入係数!BG109*BG$119","v":0},{"$f":"投入係数!BH109*BH$119","v":0},{"$f":"投入係数!BI109*BI$119","v":0},{"$f":"投入係数!BJ109*BJ$119","v":0},{"$f":"投入係数!BK109*BK$119","v":0},{"$f":"投入係数!BL109*BL$119","v":0},{"$f":"投入係数!BM109*BM$119","v":0},{"$f":"投入係数!BN109*BN$119","v":0},{"$f":"投入係数!BO109*BO$119","v":0},{"$f":"投入係数!BP109*BP$119","v":0},{"$f":"投入係数!BQ109*BQ$119","v":0},{"$f":"投入係数!BR109*BR$119","v":0},{"$f":"投入係数!BS109*BS$119","v":0},{"$f":"投入係数!BT109*BT$119","v":0},{"$f":"投入係数!BU109*BU$119","v":0},{"$f":"投入係数!BV109*BV$119","v":0},{"$f":"投入係数!BW109*BW$119","v":0},{"$f":"投入係数!BX109*BX$119","v":0},{"$f":"投入係数!BY109*BY$119","v":0},{"$f":"投入係数!BZ109*BZ$119","v":0},{"$f":"投入係数!CA109*CA$119","v":0},{"$f":"投入係数!CB109*CB$119","v":0},{"$f":"投入係数!CC109*CC$119","v":0},{"$f":"投入係数!CD109*CD$119","v":0},{"$f":"投入係数!CE109*CE$119","v":0},{"$f":"投入係数!CF109*CF$119","v":0},{"$f":"投入係数!CG109*CG$119","v":0},{"$f":"投入係数!CH109*CH$119","v":0},{"$f":"投入係数!CI109*CI$119","v":0},{"$f":"投入係数!CJ109*CJ$119","v":0},{"$f":"投入係数!CK109*CK$119","v":0},{"$f":"投入係数!CL109*CL$119","v":0},{"$f":"投入係数!CM109*CM$119","v":0},{"$f":"投入係数!CN109*CN$119","v":0},{"$f":"投入係数!CO109*CO$119","v":0},{"$f":"投入係数!CP109*CP$119","v":0},{"$f":"投入係数!CQ109*CQ$119","v":0},{"$f":"投入係数!CR109*CR$119","v":0},{"$f":"投入係数!CS109*CS$119","v":0},{"$f":"投入係数!CT109*CT$119","v":0},{"$f":"投入係数!CU109*CU$119","v":0},{"$f":"投入係数!CV109*CV$119","v":0},{"$f":"投入係数!CW109*CW$119","v":0},{"$f":"投入係数!CX109*CX$119","v":0},{"$f":"投入係数!CY109*CY$119","v":0},{"$f":"投入係数!CZ109*CZ$119","v":0},{"$f":"投入係数!DA109*DA$119","v":0},{"$f":"投入係数!DB109*DB$119","v":0},{"$f":"投入係数!DC109*DC$119","v":0},{"$f":"投入係数!DD109*DD$119","v":0},{"$f":"投入係数!DE109*DE$119","v":0},{"$f":"投入係数!DF109*DF$119","v":0},{"$f":"投入係数!DG109*DG$119","v":0},{"$f":"投入係数!DH109*DH$119","v":0},0]
[null,"672","飲食サービス",{"$f":"投入係数!D110*D$119","v":0},{"$f":"投入係数!E110*E$119","v":0},{"$f":"投入係数!F110*F$119","v":0},{"$f":"投入係数!G110*G$119","v":0},{"$f":"投入係数!H110*H$119","v":0},{"$f":"投入係数!I110*I$119","v":0},{"$f":"投入係数!J110*J$119","v":0},{"$f":"投入係数!K110*K$119","v":0},{"$f":"投入係数!L110*L$119","v":0},{"$f":"投入係数!M110*M$119","v":0},{"$f":"投入係数!N110*N$119","v":0},{"$f":"投入係数!O110*O$119","v":0},{"$f":"投入係数!P110*P$119","v":0},{"$f":"投入係数!Q110*Q$119","v":0},{"$f":"投入係数!R110*R$119","v":0},{"$f":"投入係数!S110*S$119","v":0},{"$f":"投入係数!T110*T$119","v":0},{"$f":"投入係数!U110*U$119","v":0},{"$f":"投入係数!V110*V$119","v":0},{"$f":"投入係数!W110*W$119","v":0},{"$f":"投入係数!X110*X$119","v":0},{"$f":"投入係数!Y110*Y$119","v":0},{"$f":"投入係数!Z110*Z$119","v":0},{"$f":"投入係数!AA110*AA$119","v":0},{"$f":"投入係数!AB110*AB$119","v":0},{"$f":"投入係数!AC110*AC$119","v":0},{"$f":"投入係数!AD110*AD$119","v":0},{"$f":"投入係数!AE110*AE$119","v":0},{"$f":"投入係数!AF110*AF$119","v":0},{"$f":"投入係数!AG110*AG$119","v":0},{"$f":"投入係数!AH110*AH$119","v":0},{"$f":"投入係数!AI110*AI$119","v":0},{"$f":"投入係数!AJ110*AJ$119","v":0},{"$f":"投入係数!AK110*AK$119","v":0},{"$f":"投入係数!AL110*AL$119","v":0},{"$f":"投入係数!AM110*AM$119","v":0},{"$f":"投入係数!AN110*AN$119","v":0},{"$f":"投入係数!AO110*AO$119","v":0},{"$f":"投入係数!AP110*AP$119","v":0},{"$f":"投入係数!AQ110*AQ$119","v":0},{"$f":"投入係数!AR110*AR$119","v":0},{"$f":"投入係数!AS110*AS$119","v":0},{"$f":"投入係数!AT110*AT$119","v":0},{"$f":"投入係数!AU110*AU$119","v":0},{"$f":"投入係数!AV110*AV$119","v":0},{"$f":"投入係数!AW110*AW$119","v":0},{"$f":"投入係数!AX110*AX$119","v":0},{"$f":"投入係数!AY110*AY$119","v":0},{"$f":"投入係数!AZ110*AZ$119","v":0},{"$f":"投入係数!BA110*BA$119","v":0},{"$f":"投入係数!BB110*BB$119","v":0},{"$f":"投入係数!BC110*BC$119","v":0},{"$f":"投入係数!BD110*BD$119","v":0},{"$f":"投入係数!BE110*BE$119","v":0},{"$f":"投入係数!BF110*BF$119","v":0},{"$f":"投入係数!BG110*BG$119","v":0},{"$f":"投入係数!BH110*BH$119","v":0},{"$f":"投入係数!BI110*BI$119","v":0},{"$f":"投入係数!BJ110*BJ$119","v":0},{"$f":"投入係数!BK110*BK$119","v":0},{"$f":"投入係数!BL110*BL$119","v":0},{"$f":"投入係数!BM110*BM$119","v":0},{"$f":"投入係数!BN110*BN$119","v":0},{"$f":"投入係数!BO110*BO$119","v":0},{"$f":"投入係数!BP110*BP$119","v":0},{"$f":"投入係数!BQ110*BQ$119","v":0},{"$f":"投入係数!BR110*BR$119","v":0},{"$f":"投入係数!BS110*BS$119","v":0},{"$f":"投入係数!BT110*BT$119","v":0},{"$f":"投入係数!BU110*BU$119","v":0},{"$f":"投入係数!BV110*BV$119","v":0},{"$f":"投入係数!BW110*BW$119","v":0},{"$f":"投入係数!BX110*BX$119","v":0},{"$f":"投入係数!BY110*BY$119","v":0},{"$f":"投入係数!BZ110*BZ$119","v":0},{"$f":"投入係数!CA110*CA$119","v":0},{"$f":"投入係数!CB110*CB$119","v":0},{"$f":"投入係数!CC110*CC$119","v":0},{"$f":"投入係数!CD110*CD$119","v":0},{"$f":"投入係数!CE110*CE$119","v":0},{"$f":"投入係数!CF110*CF$119","v":0},{"$f":"投入係数!CG110*CG$119","v":0},{"$f":"投入係数!CH110*CH$119","v":0},{"$f":"投入係数!CI110*CI$119","v":0},{"$f":"投入係数!CJ110*CJ$119","v":0},{"$f":"投入係数!CK110*CK$119","v":0},{"$f":"投入係数!CL110*CL$119","v":0},{"$f":"投入係数!CM110*CM$119","v":0},{"$f":"投入係数!CN110*CN$119","v":0},{"$f":"投入係数!CO110*CO$119","v":0},{"$f":"投入係数!CP110*CP$119","v":0},{"$f":"投入係数!CQ110*CQ$119","v":0},{"$f":"投入係数!CR110*CR$119","v":0},{"$f":"投入係数!CS110*CS$119","v":0},{"$f":"投入係数!CT110*CT$119","v":0},{"$f":"投入係数!CU110*CU$119","v":0},{"$f":"投入係数!CV110*CV$119","v":0},{"$f":"投入係数!CW110*CW$119","v":0},{"$f":"投入係数!CX110*CX$119","v":0},{"$f":"投入係数!CY110*CY$119","v":0},{"$f":"投入係数!CZ110*CZ$119","v":0},{"$f":"投入係数!DA110*DA$119","v":0},{"$f":"投入係数!DB110*DB$119","v":0},{"$f":"投入係数!DC110*DC$119","v":0},{"$f":"投入係数!DD110*DD$119","v":0},{"$f":"投入係数!DE110*DE$119","v":0},{"$f":"投入係数!DF110*DF$119","v":0},{"$f":"投入係数!DG110*DG$119","v":0},{"$f":"投入係数!DH110*DH$119","v":0},0]
[null,"673","洗濯・理容・美容・浴場業",{"$f":"投入係数!D111*D$119","v":0},{"$f":"投入係数!E111*E$119","v":0},{"$f":"投入係数!F111*F$119","v":0},{"$f":"投入係数!G111*G$119","v":0},{"$f":"投入係数!H111*H$119","v":0},{"$f":"投入係数!I111*I$119","v":0},{"$f":"投入係数!J111*J$119","v":0},{"$f":"投入係数!K111*K$119","v":0},{"$f":"投入係数!L111*L$119","v":0},{"$f":"投入係数!M111*M$119","v":0},{"$f":"投入係数!N111*N$119","v":0},{"$f":"投入係数!O111*O$119","v":0},{"$f":"投入係数!P111*P$119","v":0},{"$f":"投入係数!Q111*Q$119","v":0},{"$f":"投入係数!R111*R$119","v":0},{"$f":"投入係数!S111*S$119","v":0},{"$f":"投入係数!T111*T$119","v":0},{"$f":"投入係数!U111*U$119","v":0},{"$f":"投入係数!V111*V$119","v":0},{"$f":"投入係数!W111*W$119","v":0},{"$f":"投入係数!X111*X$119","v":0},{"$f":"投入係数!Y111*Y$119","v":0},{"$f":"投入係数!Z111*Z$119","v":0},{"$f":"投入係数!AA111*AA$119","v":0},{"$f":"投入係数!AB111*AB$119","v":0},{"$f":"投入係数!AC111*AC$119","v":0},{"$f":"投入係数!AD111*AD$119","v":0},{"$f":"投入係数!AE111*AE$119","v":0},{"$f":"投入係数!AF111*AF$119","v":0},{"$f":"投入係数!AG111*AG$119","v":0},{"$f":"投入係数!AH111*AH$119","v":0},{"$f":"投入係数!AI111*AI$119","v":0},{"$f":"投入係数!AJ111*AJ$119","v":0},{"$f":"投入係数!AK111*AK$119","v":0},{"$f":"投入係数!AL111*AL$119","v":0},{"$f":"投入係数!AM111*AM$119","v":0},{"$f":"投入係数!AN111*AN$119","v":0},{"$f":"投入係数!AO111*AO$119","v":0},{"$f":"投入係数!AP111*AP$119","v":0},{"$f":"投入係数!AQ111*AQ$119","v":0},{"$f":"投入係数!AR111*AR$119","v":0},{"$f":"投入係数!AS111*AS$119","v":0},{"$f":"投入係数!AT111*AT$119","v":0},{"$f":"投入係数!AU111*AU$119","v":0},{"$f":"投入係数!AV111*AV$119","v":0},{"$f":"投入係数!AW111*AW$119","v":0},{"$f":"投入係数!AX111*AX$119","v":0},{"$f":"投入係数!AY111*AY$119","v":0},{"$f":"投入係数!AZ111*AZ$119","v":0},{"$f":"投入係数!BA111*BA$119","v":0},{"$f":"投入係数!BB111*BB$119","v":0},{"$f":"投入係数!BC111*BC$119","v":0},{"$f":"投入係数!BD111*BD$119","v":0},{"$f":"投入係数!BE111*BE$119","v":0},{"$f":"投入係数!BF111*BF$119","v":0},{"$f":"投入係数!BG111*BG$119","v":0},{"$f":"投入係数!BH111*BH$119","v":0},{"$f":"投入係数!BI111*BI$119","v":0},{"$f":"投入係数!BJ111*BJ$119","v":0},{"$f":"投入係数!BK111*BK$119","v":0},{"$f":"投入係数!BL111*BL$119","v":0},{"$f":"投入係数!BM111*BM$119","v":0},{"$f":"投入係数!BN111*BN$119","v":0},{"$f":"投入係数!BO111*BO$119","v":0},{"$f":"投入係数!BP111*BP$119","v":0},{"$f":"投入係数!BQ111*BQ$119","v":0},{"$f":"投入係数!BR111*BR$119","v":0},{"$f":"投入係数!BS111*BS$119","v":0},{"$f":"投入係数!BT111*BT$119","v":0},{"$f":"投入係数!BU111*BU$119","v":0},{"$f":"投入係数!BV111*BV$119","v":0},{"$f":"投入係数!BW111*BW$119","v":0},{"$f":"投入係数!BX111*BX$119","v":0},{"$f":"投入係数!BY111*BY$119","v":0},{"$f":"投入係数!BZ111*BZ$119","v":0},{"$f":"投入係数!CA111*CA$119","v":0},{"$f":"投入係数!CB111*CB$119","v":0},{"$f":"投入係数!CC111*CC$119","v":0},{"$f":"投入係数!CD111*CD$119","v":0},{"$f":"投入係数!CE111*CE$119","v":0},{"$f":"投入係数!CF111*CF$119","v":0},{"$f":"投入係数!CG111*CG$119","v":0},{"$f":"投入係数!CH111*CH$119","v":0},{"$f":"投入係数!CI111*CI$119","v":0},{"$f":"投入係数!CJ111*CJ$119","v":0},{"$f":"投入係数!CK111*CK$119","v":0},{"$f":"投入係数!CL111*CL$119","v":0},{"$f":"投入係数!CM111*CM$119","v":0},{"$f":"投入係数!CN111*CN$119","v":0},{"$f":"投入係数!CO111*CO$119","v":0},{"$f":"投入係数!CP111*CP$119","v":0},{"$f":"投入係数!CQ111*CQ$119","v":0},{"$f":"投入係数!CR111*CR$119","v":0},{"$f":"投入係数!CS111*CS$119","v":0},{"$f":"投入係数!CT111*CT$119","v":0},{"$f":"投入係数!CU111*CU$119","v":0},{"$f":"投入係数!CV111*CV$119","v":0},{"$f":"投入係数!CW111*CW$119","v":0},{"$f":"投入係数!CX111*CX$119","v":0},{"$f":"投入係数!CY111*CY$119","v":0},{"$f":"投入係数!CZ111*CZ$119","v":0},{"$f":"投入係数!DA111*DA$119","v":0},{"$f":"投入係数!DB111*DB$119","v":0},{"$f":"投入係数!DC111*DC$119","v":0},{"$f":"投入係数!DD111*DD$119","v":0},{"$f":"投入係数!DE111*DE$119","v":0},{"$f":"投入係数!DF111*DF$119","v":0},{"$f":"投入係数!DG111*DG$119","v":0},{"$f":"投入係数!DH111*DH$119","v":0},0]
[null,"674","娯楽サービス",{"$f":"投入係数!D112*D$119","v":0},{"$f":"投入係数!E112*E$119","v":0},{"$f":"投入係数!F112*F$119","v":0},{"$f":"投入係数!G112*G$119","v":0},{"$f":"投入係数!H112*H$119","v":0},{"$f":"投入係数!I112*I$119","v":0},{"$f":"投入係数!J112*J$119","v":0},{"$f":"投入係数!K112*K$119","v":0},{"$f":"投入係数!L112*L$119","v":0},{"$f":"投入係数!M112*M$119","v":0},{"$f":"投入係数!N112*N$119","v":0},{"$f":"投入係数!O112*O$119","v":0},{"$f":"投入係数!P112*P$119","v":0},{"$f":"投入係数!Q112*Q$119","v":0},{"$f":"投入係数!R112*R$119","v":0},{"$f":"投入係数!S112*S$119","v":0},{"$f":"投入係数!T112*T$119","v":0},{"$f":"投入係数!U112*U$119","v":0},{"$f":"投入係数!V112*V$119","v":0},{"$f":"投入係数!W112*W$119","v":0},{"$f":"投入係数!X112*X$119","v":0},{"$f":"投入係数!Y112*Y$119","v":0},{"$f":"投入係数!Z112*Z$119","v":0},{"$f":"投入係数!AA112*AA$119","v":0},{"$f":"投入係数!AB112*AB$119","v":0},{"$f":"投入係数!AC112*AC$119","v":0},{"$f":"投入係数!AD112*AD$119","v":0},{"$f":"投入係数!AE112*AE$119","v":0},{"$f":"投入係数!AF112*AF$119","v":0},{"$f":"投入係数!AG112*AG$119","v":0},{"$f":"投入係数!AH112*AH$119","v":0},{"$f":"投入係数!AI112*AI$119","v":0},{"$f":"投入係数!AJ112*AJ$119","v":0},{"$f":"投入係数!AK112*AK$119","v":0},{"$f":"投入係数!AL112*AL$119","v":0},{"$f":"投入係数!AM112*AM$119","v":0},{"$f":"投入係数!AN112*AN$119","v":0},{"$f":"投入係数!AO112*AO$119","v":0},{"$f":"投入係数!AP112*AP$119","v":0},{"$f":"投入係数!AQ112*AQ$119","v":0},{"$f":"投入係数!AR112*AR$119","v":0},{"$f":"投入係数!AS112*AS$119","v":0},{"$f":"投入係数!AT112*AT$119","v":0},{"$f":"投入係数!AU112*AU$119","v":0},{"$f":"投入係数!AV112*AV$119","v":0},{"$f":"投入係数!AW112*AW$119","v":0},{"$f":"投入係数!AX112*AX$119","v":0},{"$f":"投入係数!AY112*AY$119","v":0},{"$f":"投入係数!AZ112*AZ$119","v":0},{"$f":"投入係数!BA112*BA$119","v":0},{"$f":"投入係数!BB112*BB$119","v":0},{"$f":"投入係数!BC112*BC$119","v":0},{"$f":"投入係数!BD112*BD$119","v":0},{"$f":"投入係数!BE112*BE$119","v":0},{"$f":"投入係数!BF112*BF$119","v":0},{"$f":"投入係数!BG112*BG$119","v":0},{"$f":"投入係数!BH112*BH$119","v":0},{"$f":"投入係数!BI112*BI$119","v":0},{"$f":"投入係数!BJ112*BJ$119","v":0},{"$f":"投入係数!BK112*BK$119","v":0},{"$f":"投入係数!BL112*BL$119","v":0},{"$f":"投入係数!BM112*BM$119","v":0},{"$f":"投入係数!BN112*BN$119","v":0},{"$f":"投入係数!BO112*BO$119","v":0},{"$f":"投入係数!BP112*BP$119","v":0},{"$f":"投入係数!BQ112*BQ$119","v":0},{"$f":"投入係数!BR112*BR$119","v":0},{"$f":"投入係数!BS112*BS$119","v":0},{"$f":"投入係数!BT112*BT$119","v":0},{"$f":"投入係数!BU112*BU$119","v":0},{"$f":"投入係数!BV112*BV$119","v":0},{"$f":"投入係数!BW112*BW$119","v":0},{"$f":"投入係数!BX112*BX$119","v":0},{"$f":"投入係数!BY112*BY$119","v":0},{"$f":"投入係数!BZ112*BZ$119","v":0},{"$f":"投入係数!CA112*CA$119","v":0},{"$f":"投入係数!CB112*CB$119","v":0},{"$f":"投入係数!CC112*CC$119","v":0},{"$f":"投入係数!CD112*CD$119","v":0},{"$f":"投入係数!CE112*CE$119","v":0},{"$f":"投入係数!CF112*CF$119","v":0},{"$f":"投入係数!CG112*CG$119","v":0},{"$f":"投入係数!CH112*CH$119","v":0},{"$f":"投入係数!CI112*CI$119","v":0},{"$f":"投入係数!CJ112*CJ$119","v":0},{"$f":"投入係数!CK112*CK$119","v":0},{"$f":"投入係数!CL112*CL$119","v":0},{"$f":"投入係数!CM112*CM$119","v":0},{"$f":"投入係数!CN112*CN$119","v":0},{"$f":"投入係数!CO112*CO$119","v":0},{"$f":"投入係数!CP112*CP$119","v":0},{"$f":"投入係数!CQ112*CQ$119","v":0},{"$f":"投入係数!CR112*CR$119","v":0},{"$f":"投入係数!CS112*CS$119","v":0},{"$f":"投入係数!CT112*CT$119","v":0},{"$f":"投入係数!CU112*CU$119","v":0},{"$f":"投入係数!CV112*CV$119","v":0},{"$f":"投入係数!CW112*CW$119","v":0},{"$f":"投入係数!CX112*CX$119","v":0},{"$f":"投入係数!CY112*CY$119","v":0},{"$f":"投入係数!CZ112*CZ$119","v":0},{"$f":"投入係数!DA112*DA$119","v":0},{"$f":"投入係数!DB112*DB$119","v":0},{"$f":"投入係数!DC112*DC$119","v":0},{"$f":"投入係数!DD112*DD$119","v":0},{"$f":"投入係数!DE112*DE$119","v":0},{"$f":"投入係数!DF112*DF$119","v":0},{"$f":"投入係数!DG112*DG$119","v":0},{"$f":"投入係数!DH112*DH$119","v":0},0]
[null,"675","獣医業",{"$f":"投入係数!D113*D$119","v":0},{"$f":"投入係数!E113*E$119","v":0},{"$f":"投入係数!F113*F$119","v":0},{"$f":"投入係数!G113*G$119","v":0},{"$f":"投入係数!H113*H$119","v":0},{"$f":"投入係数!I113*I$119","v":0},{"$f":"投入係数!J113*J$119","v":0},{"$f":"投入係数!K113*K$119","v":0},{"$f":"投入係数!L113*L$119","v":0},{"$f":"投入係数!M113*M$119","v":0},{"$f":"投入係数!N113*N$119","v":0},{"$f":"投入係数!O113*O$119","v":0},{"$f":"投入係数!P113*P$119","v":0},{"$f":"投入係数!Q113*Q$119","v":0},{"$f":"投入係数!R113*R$119","v":0},{"$f":"投入係数!S113*S$119","v":0},{"$f":"投入係数!T113*T$119","v":0},{"$f":"投入係数!U113*U$119","v":0},{"$f":"投入係数!V113*V$119","v":0},{"$f":"投入係数!W113*W$119","v":0},{"$f":"投入係数!X113*X$119","v":0},{"$f":"投入係数!Y113*Y$119","v":0},{"$f":"投入係数!Z113*Z$119","v":0},{"$f":"投入係数!AA113*AA$119","v":0},{"$f":"投入係数!AB113*AB$119","v":0},{"$f":"投入係数!AC113*AC$119","v":0},{"$f":"投入係数!AD113*AD$119","v":0},{"$f":"投入係数!AE113*AE$119","v":0},{"$f":"投入係数!AF113*AF$119","v":0},{"$f":"投入係数!AG113*AG$119","v":0},{"$f":"投入係数!AH113*AH$119","v":0},{"$f":"投入係数!AI113*AI$119","v":0},{"$f":"投入係数!AJ113*AJ$119","v":0},{"$f":"投入係数!AK113*AK$119","v":0},{"$f":"投入係数!AL113*AL$119","v":0},{"$f":"投入係数!AM113*AM$119","v":0},{"$f":"投入係数!AN113*AN$119","v":0},{"$f":"投入係数!AO113*AO$119","v":0},{"$f":"投入係数!AP113*AP$119","v":0},{"$f":"投入係数!AQ113*AQ$119","v":0},{"$f":"投入係数!AR113*AR$119","v":0},{"$f":"投入係数!AS113*AS$119","v":0},{"$f":"投入係数!AT113*AT$119","v":0},{"$f":"投入係数!AU113*AU$119","v":0},{"$f":"投入係数!AV113*AV$119","v":0},{"$f":"投入係数!AW113*AW$119","v":0},{"$f":"投入係数!AX113*AX$119","v":0},{"$f":"投入係数!AY113*AY$119","v":0},{"$f":"投入係数!AZ113*AZ$119","v":0},{"$f":"投入係数!BA113*BA$119","v":0},{"$f":"投入係数!BB113*BB$119","v":0},{"$f":"投入係数!BC113*BC$119","v":0},{"$f":"投入係数!BD113*BD$119","v":0},{"$f":"投入係数!BE113*BE$119","v":0},{"$f":"投入係数!BF113*BF$119","v":0},{"$f":"投入係数!BG113*BG$119","v":0},{"$f":"投入係数!BH113*BH$119","v":0},{"$f":"投入係数!BI113*BI$119","v":0},{"$f":"投入係数!BJ113*BJ$119","v":0},{"$f":"投入係数!BK113*BK$119","v":0},{"$f":"投入係数!BL113*BL$119","v":0},{"$f":"投入係数!BM113*BM$119","v":0},{"$f":"投入係数!BN113*BN$119","v":0},{"$f":"投入係数!BO113*BO$119","v":0},{"$f":"投入係数!BP113*BP$119","v":0},{"$f":"投入係数!BQ113*BQ$119","v":0},{"$f":"投入係数!BR113*BR$119","v":0},{"$f":"投入係数!BS113*BS$119","v":0},{"$f":"投入係数!BT113*BT$119","v":0},{"$f":"投入係数!BU113*BU$119","v":0},{"$f":"投入係数!BV113*BV$119","v":0},{"$f":"投入係数!BW113*BW$119","v":0},{"$f":"投入係数!BX113*BX$119","v":0},{"$f":"投入係数!BY113*BY$119","v":0},{"$f":"投入係数!BZ113*BZ$119","v":0},{"$f":"投入係数!CA113*CA$119","v":0},{"$f":"投入係数!CB113*CB$119","v":0},{"$f":"投入係数!CC113*CC$119","v":0},{"$f":"投入係数!CD113*CD$119","v":0},{"$f":"投入係数!CE113*CE$119","v":0},{"$f":"投入係数!CF113*CF$119","v":0},{"$f":"投入係数!CG113*CG$119","v":0},{"$f":"投入係数!CH113*CH$119","v":0},{"$f":"投入係数!CI113*CI$119","v":0},{"$f":"投入係数!CJ113*CJ$119","v":0},{"$f":"投入係数!CK113*CK$119","v":0},{"$f":"投入係数!CL113*CL$119","v":0},{"$f":"投入係数!CM113*CM$119","v":0},{"$f":"投入係数!CN113*CN$119","v":0},{"$f":"投入係数!CO113*CO$119","v":0},{"$f":"投入係数!CP113*CP$119","v":0},{"$f":"投入係数!CQ113*CQ$119","v":0},{"$f":"投入係数!CR113*CR$119","v":0},{"$f":"投入係数!CS113*CS$119","v":0},{"$f":"投入係数!CT113*CT$119","v":0},{"$f":"投入係数!CU113*CU$119","v":0},{"$f":"投入係数!CV113*CV$119","v":0},{"$f":"投入係数!CW113*CW$119","v":0},{"$f":"投入係数!CX113*CX$119","v":0},{"$f":"投入係数!CY113*CY$119","v":0},{"$f":"投入係数!CZ113*CZ$119","v":0},{"$f":"投入係数!DA113*DA$119","v":0},{"$f":"投入係数!DB113*DB$119","v":0},{"$f":"投入係数!DC113*DC$119","v":0},{"$f":"投入係数!DD113*DD$119","v":0},{"$f":"投入係数!DE113*DE$119","v":0},{"$f":"投入係数!DF113*DF$119","v":0},{"$f":"投入係数!DG113*DG$119","v":0},{"$f":"投入係数!DH113*DH$119","v":0},0]
[null,"679","その他の対個人サービス",{"$f":"投入係数!D114*D$119","v":0},{"$f":"投入係数!E114*E$119","v":0},{"$f":"投入係数!F114*F$119","v":0},{"$f":"投入係数!G114*G$119","v":0},{"$f":"投入係数!H114*H$119","v":0},{"$f":"投入係数!I114*I$119","v":0},{"$f":"投入係数!J114*J$119","v":0},{"$f":"投入係数!K114*K$119","v":0},{"$f":"投入係数!L114*L$119","v":0},{"$f":"投入係数!M114*M$119","v":0},{"$f":"投入係数!N114*N$119","v":0},{"$f":"投入係数!O114*O$119","v":0},{"$f":"投入係数!P114*P$119","v":0},{"$f":"投入係数!Q114*Q$119","v":0},{"$f":"投入係数!R114*R$119","v":0},{"$f":"投入係数!S114*S$119","v":0},{"$f":"投入係数!T114*T$119","v":0},{"$f":"投入係数!U114*U$119","v":0},{"$f":"投入係数!V114*V$119","v":0},{"$f":"投入係数!W114*W$119","v":0},{"$f":"投入係数!X114*X$119","v":0},{"$f":"投入係数!Y114*Y$119","v":0},{"$f":"投入係数!Z114*Z$119","v":0},{"$f":"投入係数!AA114*AA$119","v":0},{"$f":"投入係数!AB114*AB$119","v":0},{"$f":"投入係数!AC114*AC$119","v":0},{"$f":"投入係数!AD114*AD$119","v":0},{"$f":"投入係数!AE114*AE$119","v":0},{"$f":"投入係数!AF114*AF$119","v":0},{"$f":"投入係数!AG114*AG$119","v":0},{"$f":"投入係数!AH114*AH$119","v":0},{"$f":"投入係数!AI114*AI$119","v":0},{"$f":"投入係数!AJ114*AJ$119","v":0},{"$f":"投入係数!AK114*AK$119","v":0},{"$f":"投入係数!AL114*AL$119","v":0},{"$f":"投入係数!AM114*AM$119","v":0},{"$f":"投入係数!AN114*AN$119","v":0},{"$f":"投入係数!AO114*AO$119","v":0},{"$f":"投入係数!AP114*AP$119","v":0},{"$f":"投入係数!AQ114*AQ$119","v":0},{"$f":"投入係数!AR114*AR$119","v":0},{"$f":"投入係数!AS114*AS$119","v":0},{"$f":"投入係数!AT114*AT$119","v":0},{"$f":"投入係数!AU114*AU$119","v":0},{"$f":"投入係数!AV114*AV$119","v":0},{"$f":"投入係数!AW114*AW$119","v":0},{"$f":"投入係数!AX114*AX$119","v":0},{"$f":"投入係数!AY114*AY$119","v":0},{"$f":"投入係数!AZ114*AZ$119","v":0},{"$f":"投入係数!BA114*BA$119","v":0},{"$f":"投入係数!BB114*BB$119","v":0},{"$f":"投入係数!BC114*BC$119","v":0},{"$f":"投入係数!BD114*BD$119","v":0},{"$f":"投入係数!BE114*BE$119","v":0},{"$f":"投入係数!BF114*BF$119","v":0},{"$f":"投入係数!BG114*BG$119","v":0},{"$f":"投入係数!BH114*BH$119","v":0},{"$f":"投入係数!BI114*BI$119","v":0},{"$f":"投入係数!BJ114*BJ$119","v":0},{"$f":"投入係数!BK114*BK$119","v":0},{"$f":"投入係数!BL114*BL$119","v":0},{"$f":"投入係数!BM114*BM$119","v":0},{"$f":"投入係数!BN114*BN$119","v":0},{"$f":"投入係数!BO114*BO$119","v":0},{"$f":"投入係数!BP114*BP$119","v":0},{"$f":"投入係数!BQ114*BQ$119","v":0},{"$f":"投入係数!BR114*BR$119","v":0},{"$f":"投入係数!BS114*BS$119","v":0},{"$f":"投入係数!BT114*BT$119","v":0},{"$f":"投入係数!BU114*BU$119","v":0},{"$f":"投入係数!BV114*BV$119","v":0},{"$f":"投入係数!BW114*BW$119","v":0},{"$f":"投入係数!BX114*BX$119","v":0},{"$f":"投入係数!BY114*BY$119","v":0},{"$f":"投入係数!BZ114*BZ$119","v":0},{"$f":"投入係数!CA114*CA$119","v":0},{"$f":"投入係数!CB114*CB$119","v":0},{"$f":"投入係数!CC114*CC$119","v":0},{"$f":"投入係数!CD114*CD$119","v":0},{"$f":"投入係数!CE114*CE$119","v":0},{"$f":"投入係数!CF114*CF$119","v":0},{"$f":"投入係数!CG114*CG$119","v":0},{"$f":"投入係数!CH114*CH$119","v":0},{"$f":"投入係数!CI114*CI$119","v":0},{"$f":"投入係数!CJ114*CJ$119","v":0},{"$f":"投入係数!CK114*CK$119","v":0},{"$f":"投入係数!CL114*CL$119","v":0},{"$f":"投入係数!CM114*CM$119","v":0},{"$f":"投入係数!CN114*CN$119","v":0},{"$f":"投入係数!CO114*CO$119","v":0},{"$f":"投入係数!CP114*CP$119","v":0},{"$f":"投入係数!CQ114*CQ$119","v":0},{"$f":"投入係数!CR114*CR$119","v":0},{"$f":"投入係数!CS114*CS$119","v":0},{"$f":"投入係数!CT114*CT$119","v":0},{"$f":"投入係数!CU114*CU$119","v":0},{"$f":"投入係数!CV114*CV$119","v":0},{"$f":"投入係数!CW114*CW$119","v":0},{"$f":"投入係数!CX114*CX$119","v":0},{"$f":"投入係数!CY114*CY$119","v":0},{"$f":"投入係数!CZ114*CZ$119","v":0},{"$f":"投入係数!DA114*DA$119","v":0},{"$f":"投入係数!DB114*DB$119","v":0},{"$f":"投入係数!DC114*DC$119","v":0},{"$f":"投入係数!DD114*DD$119","v":0},{"$f":"投入係数!DE114*DE$119","v":0},{"$f":"投入係数!DF114*DF$119","v":0},{"$f":"投入係数!DG114*DG$119","v":0},{"$f":"投入係数!DH114*DH$119","v":0},0]
[null,"681","事務用品",{"$f":"投入係数!D115*D$119","v":0},{"$f":"投入係数!E115*E$119","v":0},{"$f":"投入係数!F115*F$119","v":0},{"$f":"投入係数!G115*G$119","v":0},{"$f":"投入係数!H115*H$119","v":0},{"$f":"投入係数!I115*I$119","v":0},{"$f":"投入係数!J115*J$119","v":0},{"$f":"投入係数!K115*K$119","v":0},{"$f":"投入係数!L115*L$119","v":0},{"$f":"投入係数!M115*M$119","v":0},{"$f":"投入係数!N115*N$119","v":0},{"$f":"投入係数!O115*O$119","v":0},{"$f":"投入係数!P115*P$119","v":0},{"$f":"投入係数!Q115*Q$119","v":0},{"$f":"投入係数!R115*R$119","v":0},{"$f":"投入係数!S115*S$119","v":0},{"$f":"投入係数!T115*T$119","v":0},{"$f":"投入係数!U115*U$119","v":0},{"$f":"投入係数!V115*V$119","v":0},{"$f":"投入係数!W115*W$119","v":0},{"$f":"投入係数!X115*X$119","v":0},{"$f":"投入係数!Y115*Y$119","v":0},{"$f":"投入係数!Z115*Z$119","v":0},{"$f":"投入係数!AA115*AA$119","v":0},{"$f":"投入係数!AB115*AB$119","v":0},{"$f":"投入係数!AC115*AC$119","v":0},{"$f":"投入係数!AD115*AD$119","v":0},{"$f":"投入係数!AE115*AE$119","v":0},{"$f":"投入係数!AF115*AF$119","v":0},{"$f":"投入係数!AG115*AG$119","v":0},{"$f":"投入係数!AH115*AH$119","v":0},{"$f":"投入係数!AI115*AI$119","v":0},{"$f":"投入係数!AJ115*AJ$119","v":0},{"$f":"投入係数!AK115*AK$119","v":0},{"$f":"投入係数!AL115*AL$119","v":0},{"$f":"投入係数!AM115*AM$119","v":0},{"$f":"投入係数!AN115*AN$119","v":0},{"$f":"投入係数!AO115*AO$119","v":0},{"$f":"投入係数!AP115*AP$119","v":0},{"$f":"投入係数!AQ115*AQ$119","v":0},{"$f":"投入係数!AR115*AR$119","v":0},{"$f":"投入係数!AS115*AS$119","v":0},{"$f":"投入係数!AT115*AT$119","v":0},{"$f":"投入係数!AU115*AU$119","v":0},{"$f":"投入係数!AV115*AV$119","v":0},{"$f":"投入係数!AW115*AW$119","v":0},{"$f":"投入係数!AX115*AX$119","v":0},{"$f":"投入係数!AY115*AY$119","v":0},{"$f":"投入係数!AZ115*AZ$119","v":0},{"$f":"投入係数!BA115*BA$119","v":0},{"$f":"投入係数!BB115*BB$119","v":0},{"$f":"投入係数!BC115*BC$119","v":0},{"$f":"投入係数!BD115*BD$119","v":0},{"$f":"投入係数!BE115*BE$119","v":0},{"$f":"投入係数!BF115*BF$119","v":0},{"$f":"投入係数!BG115*BG$119","v":0},{"$f":"投入係数!BH115*BH$119","v":0},{"$f":"投入係数!BI115*BI$119","v":0},{"$f":"投入係数!BJ115*BJ$119","v":0},{"$f":"投入係数!BK115*BK$119","v":0},{"$f":"投入係数!BL115*BL$119","v":0},{"$f":"投入係数!BM115*BM$119","v":0},{"$f":"投入係数!BN115*BN$119","v":0},{"$f":"投入係数!BO115*BO$119","v":0},{"$f":"投入係数!BP115*BP$119","v":0},{"$f":"投入係数!BQ115*BQ$119","v":0},{"$f":"投入係数!BR115*BR$119","v":0},{"$f":"投入係数!BS115*BS$119","v":0},{"$f":"投入係数!BT115*BT$119","v":0},{"$f":"投入係数!BU115*BU$119","v":0},{"$f":"投入係数!BV115*BV$119","v":0},{"$f":"投入係数!BW115*BW$119","v":0},{"$f":"投入係数!BX115*BX$119","v":0},{"$f":"投入係数!BY115*BY$119","v":0},{"$f":"投入係数!BZ115*BZ$119","v":0},{"$f":"投入係数!CA115*CA$119","v":0},{"$f":"投入係数!CB115*CB$119","v":0},{"$f":"投入係数!CC115*CC$119","v":0},{"$f":"投入係数!CD115*CD$119","v":0},{"$f":"投入係数!CE115*CE$119","v":0},{"$f":"投入係数!CF115*CF$119","v":0},{"$f":"投入係数!CG115*CG$119","v":0},{"$f":"投入係数!CH115*CH$119","v":0},{"$f":"投入係数!CI115*CI$119","v":0},{"$f":"投入係数!CJ115*CJ$119","v":0},{"$f":"投入係数!CK115*CK$119","v":0},{"$f":"投入係数!CL115*CL$119","v":0},{"$f":"投入係数!CM115*CM$119","v":0},{"$f":"投入係数!CN115*CN$119","v":0},{"$f":"投入係数!CO115*CO$119","v":0},{"$f":"投入係数!CP115*CP$119","v":0},{"$f":"投入係数!CQ115*CQ$119","v":0},{"$f":"投入係数!CR115*CR$119","v":0},{"$f":"投入係数!CS115*CS$119","v":0},{"$f":"投入係数!CT115*CT$119","v":0},{"$f":"投入係数!CU115*CU$119","v":0},{"$f":"投入係数!CV115*CV$119","v":0},{"$f":"投入係数!CW115*CW$119","v":0},{"$f":"投入係数!CX115*CX$119","v":0},{"$f":"投入係数!CY115*CY$119","v":0},{"$f":"投入係数!CZ115*CZ$119","v":0},{"$f":"投入係数!DA115*DA$119","v":0},{"$f":"投入係数!DB115*DB$119","v":0},{"$f":"投入係数!DC115*DC$119","v":0},{"$f":"投入係数!DD115*DD$119","v":0},{"$f":"投入係数!DE115*DE$119","v":0},{"$f":"投入係数!DF115*DF$119","v":0},{"$f":"投入係数!DG115*DG$119","v":0},{"$f":"投入係数!DH115*DH$119","v":0},0]
[null,"691","分類不明",{"$f":"投入係数!D116*D$119","v":0},{"$f":"投入係数!E116*E$119","v":0},{"$f":"投入係数!F116*F$119","v":0},{"$f":"投入係数!G116*G$119","v":0},{"$f":"投入係数!H116*H$119","v":0},{"$f":"投入係数!I116*I$119","v":0},{"$f":"投入係数!J116*J$119","v":0},{"$f":"投入係数!K116*K$119","v":0},{"$f":"投入係数!L116*L$119","v":0},{"$f":"投入係数!M116*M$119","v":0},{"$f":"投入係数!N116*N$119","v":0},{"$f":"投入係数!O116*O$119","v":0},{"$f":"投入係数!P116*P$119","v":0},{"$f":"投入係数!Q116*Q$119","v":0},{"$f":"投入係数!R116*R$119","v":0},{"$f":"投入係数!S116*S$119","v":0},{"$f":"投入係数!T116*T$119","v":0},{"$f":"投入係数!U116*U$119","v":0},{"$f":"投入係数!V116*V$119","v":0},{"$f":"投入係数!W116*W$119","v":0},{"$f":"投入係数!X116*X$119","v":0},{"$f":"投入係数!Y116*Y$119","v":0},{"$f":"投入係数!Z116*Z$119","v":0},{"$f":"投入係数!AA116*AA$119","v":0},{"$f":"投入係数!AB116*AB$119","v":0},{"$f":"投入係数!AC116*AC$119","v":0},{"$f":"投入係数!AD116*AD$119","v":0},{"$f":"投入係数!AE116*AE$119","v":0},{"$f":"投入係数!AF116*AF$119","v":0},{"$f":"投入係数!AG116*AG$119","v":0},{"$f":"投入係数!AH116*AH$119","v":0},{"$f":"投入係数!AI116*AI$119","v":0},{"$f":"投入係数!AJ116*AJ$119","v":0},{"$f":"投入係数!AK116*AK$119","v":0},{"$f":"投入係数!AL116*AL$119","v":0},{"$f":"投入係数!AM116*AM$119","v":0},{"$f":"投入係数!AN116*AN$119","v":0},{"$f":"投入係数!AO116*AO$119","v":0},{"$f":"投入係数!AP116*AP$119","v":0},{"$f":"投入係数!AQ116*AQ$119","v":0},{"$f":"投入係数!AR116*AR$119","v":0},{"$f":"投入係数!AS116*AS$119","v":0},{"$f":"投入係数!AT116*AT$119","v":0},{"$f":"投入係数!AU116*AU$119","v":0},{"$f":"投入係数!AV116*AV$119","v":0},{"$f":"投入係数!AW116*AW$119","v":0},{"$f":"投入係数!AX116*AX$119","v":0},{"$f":"投入係数!AY116*AY$119","v":0},{"$f":"投入係数!AZ116*AZ$119","v":0},{"$f":"投入係数!BA116*BA$119","v":0},{"$f":"投入係数!BB116*BB$119","v":0},{"$f":"投入係数!BC116*BC$119","v":0},{"$f":"投入係数!BD116*BD$119","v":0},{"$f":"投入係数!BE116*BE$119","v":0},{"$f":"投入係数!BF116*BF$119","v":0},{"$f":"投入係数!BG116*BG$119","v":0},{"$f":"投入係数!BH116*BH$119","v":0},{"$f":"投入係数!BI116*BI$119","v":0},{"$f":"投入係数!BJ116*BJ$119","v":0},{"$f":"投入係数!BK116*BK$119","v":0},{"$f":"投入係数!BL116*BL$119","v":0},{"$f":"投入係数!BM116*BM$119","v":0},{"$f":"投入係数!BN116*BN$119","v":0},{"$f":"投入係数!BO116*BO$119","v":0},{"$f":"投入係数!BP116*BP$119","v":0},{"$f":"投入係数!BQ116*BQ$119","v":0},{"$f":"投入係数!BR116*BR$119","v":0},{"$f":"投入係数!BS116*BS$119","v":0},{"$f":"投入係数!BT116*BT$119","v":0},{"$f":"投入係数!BU116*BU$119","v":0},{"$f":"投入係数!BV116*BV$119","v":0},{"$f":"投入係数!BW116*BW$119","v":0},{"$f":"投入係数!BX116*BX$119","v":0},{"$f":"投入係数!BY116*BY$119","v":0},{"$f":"投入係数!BZ116*BZ$119","v":0},{"$f":"投入係数!CA116*CA$119","v":0},{"$f":"投入係数!CB116*CB$119","v":0},{"$f":"投入係数!CC116*CC$119","v":0},{"$f":"投入係数!CD116*CD$119","v":0},{"$f":"投入係数!CE116*CE$119","v":0},{"$f":"投入係数!CF116*CF$119","v":0},{"$f":"投入係数!CG116*CG$119","v":0},{"$f":"投入係数!CH116*CH$119","v":0},{"$f":"投入係数!CI116*CI$119","v":0},{"$f":"投入係数!CJ116*CJ$119","v":0},{"$f":"投入係数!CK116*CK$119","v":0},{"$f":"投入係数!CL116*CL$119","v":0},{"$f":"投入係数!CM116*CM$119","v":0},{"$f":"投入係数!CN116*CN$119","v":0},{"$f":"投入係数!CO116*CO$119","v":0},{"$f":"投入係数!CP116*CP$119","v":0},{"$f":"投入係数!CQ116*CQ$119","v":0},{"$f":"投入係数!CR116*CR$119","v":0},{"$f":"投入係数!CS116*CS$119","v":0},{"$f":"投入係数!CT116*CT$119","v":0},{"$f":"投入係数!CU116*CU$119","v":0},{"$f":"投入係数!CV116*CV$119","v":0},{"$f":"投入係数!CW116*CW$119","v":0},{"$f":"投入係数!CX116*CX$119","v":0},{"$f":"投入係数!CY116*CY$119","v":0},{"$f":"投入係数!CZ116*CZ$119","v":0},{"$f":"投入係数!DA116*DA$119","v":0},{"$f":"投入係数!DB116*DB$119","v":0},{"$f":"投入係数!DC116*DC$119","v":0},{"$f":"投入係数!DD116*DD$119","v":0},{"$f":"投入係数!DE116*DE$119","v":0},{"$f":"投入係数!DF116*DF$119","v":0},{"$f":"投入係数!DG116*DG$119","v":0},{"$f":"投入係数!DH116*DH$119","v":0},0]
[null,null,"合計",{"$f":"SUM(D8:D116)","v":0},0,0,0,0,0,0,0,0,0,0,0,0,0,0,0,0,0,0,0,0,0,0,0,0,0,0,{"$f":"SUM(AE8:AE116)","v":0},0,0,0,0,0,0,0,0,{"$f":"SUM(AN8:AN116)","v":0},0,0,0,0,0,0,0,0,0,0,0,0,0,0,0,0,0,0,0,0,0,0,0,0,0,0,0,0,0,0,0,0,0,0,0,0,0,0,0,0,0,0,0,0,0,0,0,0,0,0,0,0,0,0,0,0,0,0,0,0,0,0,0,{"$f":"SUM(CZ8:CZ116)","v":0},0,0,0,0,0,0,0,0,{"$f":"SUM(DI8:DI116)","v":0}]
[]
[null,null,{"$f":"間接1次!Y5","v":"直接効果"},{"$f":"間接1次!$Y8","v":0},{"$f":"間接1次!$Y9","v":0},{"$f":"間接1次!$Y10","v":0},{"$f":"間接1次!$Y11","v":0},{"$f":"間接1次!$Y12","v":0},{"$f":"間接1次!$Y13","v":0},{"$f":"間接1次!$Y14","v":0},{"$f":"間接1次!$Y15","v":0},{"$f":"間接1次!$Y16","v":0},{"$f":"間接1次!$Y17","v":0},{"$f":"間接1次!$Y18","v":0},{"$f":"間接1次!$Y19","v":0},{"$f":"間接1次!$Y20","v":0},{"$f":"間接1次!$Y21","v":0},{"$f":"間接1次!$Y22","v":0},{"$f":"間接1次!$Y23","v":0},{"$f":"間接1次!$Y24","v":0},{"$f":"間接1次!$Y25","v":0},{"$f":"間接1次!$Y26","v":0},{"$f":"間接1次!$Y27","v":0},{"$f":"間接1次!$Y28","v":0},{"$f":"間接1次!$Y29","v":0},{"$f":"間接1次!$Y30","v":0},{"$f":"間接1次!$Y31","v":0},{"$f":"間接1次!$Y32","v":0},{"$f":"間接1次!$Y33","v":0},{"$f":"間接1次!$Y34","v":0},{"$f":"間接1次!$Y35","v":0},{"$f":"間接1次!$Y36","v":0},{"$f":"間接1次!$Y37","v":0},{"$f":"間接1次!$Y38","v":0},{"$f":"間接1次!$Y39","v":0},{"$f":"間接1次!$Y40","v":0},{"$f":"間接1次!$Y41","v":0},{"$f":"間接1次!$Y42","v":0},{"$f":"間接1次!$Y43","v":0},{"$f":"間接1次!$Y44","v":0},{"$f":"間接1次!$Y45","v":0},{"$f":"間接1次!$Y46","v":0},{"$f":"間接1次!$Y47","v":0},{"$f":"間接1次!$Y48","v":0},{"$f":"間接1次!$Y49","v":0},{"$f":"間接1次!$Y50","v":0},{"$f":"間接1次!$Y51","v":0},{"$f":"間接1次!$Y52","v":0},{"$f":"間接1次!$Y53","v":0},{"$f":"間接1次!$Y54","v":0},{"$f":"間接1次!$Y55","v":0},{"$f":"間接1次!$Y56","v":0},{"$f":"間接1次!$Y57","v":0},{"$f":"間接1次!$Y58","v":0},{"$f":"間接1次!$Y59","v":0},{"$f":"間接1次!$Y60","v":0},{"$f":"間接1次!$Y61","v":0},{"$f":"間接1次!$Y62","v":0},{"$f":"間接1次!$Y63","v":0},{"$f":"間接1次!$Y64","v":0},{"$f":"間接1次!$Y65","v":0},{"$f":"間接1次!$Y66","v":0},{"$f":"間接1次!$Y67","v":0},{"$f":"間接1次!$Y68","v":0},{"$f":"間接1次!$Y69","v":0},{"$f":"間接1次!$Y70","v":0},{"$f":"間接1次!$Y71","v":0},{"$f":"間接1次!$Y72","v":0},{"$f":"間接1次!$Y73","v":0},{"$f":"間接1次!$Y74","v":0},{"$f":"間接1次!$Y75","v":0},{"$f":"間接1次!$Y76","v":0},{"$f":"間接1次!$Y77","v":0},{"$f":"間接1次!$Y78","v":0},{"$f":"間接1次!$Y79","v":0},{"$f":"間接1次!$Y80","v":0},{"$f":"間接1次!$Y81","v":0},{"$f":"間接1次!$Y82","v":0},{"$f":"間接1次!$Y83","v":0},{"$f":"間接1次!$Y84","v":0},{"$f":"間接1次!$Y85","v":0},{"$f":"間接1次!$Y86","v":0},{"$f":"間接1次!$Y87","v":0},{"$f":"間接1次!$Y88","v":0},{"$f":"間接1次!$Y89","v":0},{"$f":"間接1次!$Y90","v":0},{"$f":"間接1次!$Y91","v":0},{"$f":"間接1次!$Y92","v":0},{"$f":"間接1次!$Y93","v":0},{"$f":"間接1次!$Y94","v":0},{"$f":"間接1次!$Y95","v":0},{"$f":"間接1次!$Y96","v":0},{"$f":"間接1次!$Y97","v":0},{"$f":"間接1次!$Y98","v":0},{"$f":"間接1次!$Y99","v":0},{"$f":"間接1次!$Y100","v":0},{"$f":"間接1次!$Y101","v":0},{"$f":"間接1次!$Y102","v":0},{"$f":"間接1次!$Y103","v":0},{"$f":"間接1次!$Y104","v":0},{"$f":"間接1次!$Y105","v":0},{"$f":"間接1次!$Y106","v":0},{"$f":"間接1次!$Y107","v":0},{"$f":"間接1次!$Y108","v":0},{"$f":"間接1次!$Y109","v":0},{"$f":"間接1次!$Y110","v":0},{"$f":"間接1次!$Y111","v":0},{"$f":"間接1次!$Y112","v":0},{"$f":"間接1次!$Y113","v":0},{"$f":"間接1次!$Y114","v":0},{"$f":"間接1次!$Y115","v":0},{"$f":"間接1次!$Y116","v":0},{"$f":"SUM(D119:DH119)","v":0}]